{"text_format":"1","workbook":"xlsx","n_sheets":25,"sheets":["Resultats","Saisiegroupes","Aide Saisie","evalbac","Archresultats1","Archresultats2","Archresultats3","Archresultats4","Archresultats5","Archresultats6","Archresultats7","Archresultats8","Best1","Best2","Best3","Best4","Best5","Best6","Best7","Best8","Interet aide générale","Aide Arch","Aide Best","Aide chrono 1","Aide chrono 2"],"not_rendered":{"charts":0,"images":9,"macros":1,"external_links":1,"defined_names":11,"comments":0,"pivot_tables":0},"unopened":[],"bounds":{"document_bytes":16777216,"sheet_cells":100000,"rows_first":2000,"rows_last":500,"rows_between":2000,"halvings":0,"cell_chars":16384,"cell_head_chars":4096},"cells_cut":0,"cells_raw":0,"read":"whole","date_system":"1900"}

{"sheet":"Resultats","index":0,"n_rows":55,"n_cols":33,"rows_kept":55,"cut":false,"hidden":false,"merged":[[1,1,1,6],[1,7,1,14],[3,6,3,8],[4,6,4,8]]}
[null,null,null,null,50,1.5625E-2,1.05859375,{"$f":"ROUND(G1,2)","v":1.06},1.5625E-2,4.1875,{"$f":"ROUND(J1,2)","v":4.1900000000000004},{"$f":"ROUND((E1/H1)*3.6,1)","v":169.8},{"$f":"ROUND((E1/K1)*3.6,1)","v":43},null,null,null,null,null,null,null,null,null,null,null,null,null,null,null,null,null,null,null," "]
[null,"Accueil  ",null,null,null,null,null,"\"Le RELAIS à 4\""]
[null,null,"1,25",144]
[null,null,null,null,null,null,"créé par Laurent Bourdin"]
[null,null,null,null,null,null,"version MAJ 15/11/13"]
[null,null,null,null,null,null,null,null,null,null,null,null,null,null,null,null,null,null,null,null,null,null,"vendredi  8 novembre 2013"]
[null,null,null,null,null,null,null,null,null,null,null,null,null,null,null,null,"Equipe 1",null,"ABCD",200,"ABCD",null,"Equipe 1"]
[null,null,null,null,null,null,null,null,null,null,null,null,null,null,null,null,"Equipe 2",null,"DABC",30,"ABDC",null,"Equipe 2"]
[null,null,null,null,null,null,null,null,null,null,null,null,null,null,null,null,"Equipe 3",null,null,{"$f":"T7/4","v":50},"ACBD",null,50]
[null,null,null,null,null,null,null,null,null,null,null,null,null,null,null,null,"Equipe 4",null,"Groupe 2",null,"ACDB"]
[null,null,null,null,null,null,null,null,null,null,null,null,null,null,null,null,"Equipe 5",null,"Groupe 1",null,"ADBC",null,500,500,500,500]
[null,null,null,null,null,null,null,null,null,null,null,null,null,null,null,null,"Equipe 6",null,"vendredi 8 novembre",null,"ADCB",null,500,500,500,500]
[null,null,null,null,null,null,null,null,null,null,null,null,null,null,null,null,"Equipe 7",null,null,null,"ADCB",null,500,500,500,500]
[null,null,null,null,null,null,null,null,null,null,null,null,null,null,null,null,"Equipe 8",null,null,null,"BACD",null,500,500,500,500]
[null,null,null,null,null,null,null,null,null,null,null,null,null,null,null,null,null,null,null,null,"BADC",null,500,500,500,500]
[null,null,null,null,null,null,null,null,null,null,null,null,null,null,null,null,"Equipe 1","1,06","Départ arrêté","169,8","BCAD",null,500,500,500,500]
[null,null,null,null,null,null,null,null,null,null,null,null,null,null,null,null,"Equipe 2",null,"Départ lancé",null,"BCDA",null,500,500,500,500]
[null,null,null,null,null,null,null,null,null,null,null,null,null,null,null,null,"Equipe 3",null,null,null,"BDAC",null,500,500,500,500]
[null,null,null,null,null,null,null,null,null,null,null,null,null,null,null,null,"Equipe 4",null,null,null,"BDCA",null,500,500,500,500]
[null,null,null,null,null,null,null,null,null,null,null,null,null,null,null,null,"Equipe 5",null,null,null,"CABD",null,500,500,500,500]
[null,null,null,null,null,null,null,null,null,null,null,null,null,null,null,null,"Equipe 6",null,null,null,"CADB",null,500,500,500,500]
[null,null,null,null,null,null,null,null,null,null,null,null,null,null,null,null,"Equipe 7","20,31",null,null,"CBAD",null,500,500,500,500]
[null,null,null,null,null,null,null,null,null,null,null,null,null,null,null,null,"Equipe 8",null,null,null,"CBDA",null,500,500,500,500]
[null,null,null,null,null,null,null,null,null,null,null,null,null,null,null,null,{"$f":"IF(Saisiegroupes!C$5=\"\",\"\",Saisiegroupes!C$5)","v":""},null,null,null,"CDAB",null,500,500,500,500]
[null,"Lap 1","Lap 2","Lap 3","Lap 4","Lap 5","Lap 6","Lap 7",null,null,null,null,null,null,null,null,{"$f":"IF(Saisiegroupes!C$6=\"\",\"\",Saisiegroupes!C$6)","v":""},null,null,null,"CDBA",null,500,500,500,500]
[1.5625E-2,5.75,9.65625,14.3125,16.03125,18.296875,20.015625,22.75,null,null,null,null,null,null,null,null,{"$f":"IF(Saisiegroupes!C$7=\"\",\"\",Saisiegroupes!C$7)","v":""},null,null,null,"DABC",null,500,500,500,500]
[null,"Lap 1","Lap 2","Lap 3","Lap 4","Lap 5","Lap 6","Lap 7",null,null,null,null,null,null,null,null,{"$f":"IF(Saisiegroupes!C$8=\"\",\"\",Saisiegroupes!C$8)","v":""},null,null,null,"DACB",null,500,500,500,500]
[1.5625E-2,null,null,null,null,null,null,null,null,null,null,null,null,null,null,null,{"$f":"IF(Saisiegroupes!C$11=\"\",\"\",Saisiegroupes!C$11)","v":""},null,null,null,"DBAC",null,500,500,500,500]
[null,null,null,null,null,null,null,null,null,null,null,null,null,null,null,null,{"$f":"IF(Saisiegroupes!C$12=\"\",\"\",Saisiegroupes!C$12)","v":""},null,null,null,"DBCA",null,500,500,500,500]
[null,null,null,null,null,null,null,null,null,null,null,null,null,null,null,null,{"$f":"IF(Saisiegroupes!C$13=\"\",\"\",Saisiegroupes!C$13)","v":""},null,null,null,"DCAB",null,500,500,500,500]
[null,"Z1 sec","Z1 vit","Z2 sec","Z2 vit","Z3 sec","Z3 vit","total sec","total vit",null,null,null,null,null,null,null,{"$f":"IF(Saisiegroupes!C$14=\"\",\"\",Saisiegroupes!C$14)","v":""},null,null,null,"DCBA",null,500,500,500,500]
[null,{"$f":"ROUND(C26-B26,2)","v":3.91},{"$f":"ROUND(($B$35/B32)*3.6,1)","v":27.6},{"$f":"ROUND(E26-D26,2)","v":1.72},{"$f":"ROUND(($B$35/D32)*3.6,1)","v":62.8},{"$f":"ROUND(G26-F26,2)","v":1.72},{"$f":"ROUND(($B$35/F32)*3.6,1)","v":62.8},{"$f":"ROUND(H26,2)","v":22.75},{"$f":"ROUND(($C$35/H32)*3.6,1)","v":31.6},null,null,null,null,null,null,null,{"$f":"IF(Saisiegroupes!C$17=\"\",\"\",Saisiegroupes!C$17)","v":""},null,null,null,null,null,500,500,500,500]
[null,"Z1 sec","Z1 vit","Z2 sec","Z2 vit","Z3 sec","Z3 vit","total sec","total vit",null,null,null,null,null,null,null,{"$f":"IF(Saisiegroupes!C$18=\"\",\"\",Saisiegroupes!C$18)","v":""},null,null,null,null,null,500,500,500,500]
[null,{"$f":"ROUND(C28-B28,2)","v":0},{"$f":"ROUND(($B$35/B34)*3.6,1)","v":{"$error":"#DIV/0!"}},{"$f":"ROUND(E28-D28,2)","v":0},{"$f":"ROUND(($B$35/D34)*3.6,1)","v":{"$error":"#DIV/0!"}},{"$f":"ROUND(G28-F28,2)","v":0},{"$f":"ROUND(($B$35/F34)*3.6,1)","v":{"$error":"#DIV/0!"}},{"$f":"ROUND(H28,2)","v":0},{"$f":"ROUND(($C$35/H34)*3.6,1)","v":{"$error":"#DIV/0!"}},null,null,null,null,null,null,null,{"$f":"IF(Saisiegroupes!C$19=\"\",\"\",Saisiegroupes!C$19)","v":""},null,null,null,null,null,500,500,500,500]
[null,30,200,null,null,null,null,null,null,null,null,null,null,null,null,null,{"$f":"IF(Saisiegroupes!C$20=\"\",\"\",Saisiegroupes!C$20)","v":""}]
[null,null,null,null,null," ",null,null,null,null,null,null,null,null,null,null,{"$f":"IF(Saisiegroupes!F$5=\"\",\"\",Saisiegroupes!F$5)","v":""}]
[null,null,null,null,null,null,null,null,null,null,null,null,null,null,null,null,{"$f":"IF(Saisiegroupes!F$6=\"\",\"\",Saisiegroupes!F$6)","v":""}]
[null,null,null,null,null,null,null,null,null,null,null,null,null,null,null,null,{"$f":"IF(Saisiegroupes!F$7=\"\",\"\",Saisiegroupes!F$7)","v":""}]
[null,null,null,null,null,null,null,null,null,null,null,null,null,null,null,null,{"$f":"IF(Saisiegroupes!F$8=\"\",\"\",Saisiegroupes!F$8)","v":""}]
[null,null,null,null,null,null,null,null,null,null,null,null,null,null,null,null,{"$f":"IF(Saisiegroupes!F$11=\"\",\"\",Saisiegroupes!F$11)","v":""}]
[null,null,null,null,null,null,null,null,null,null,null,null,null,null,null,null,{"$f":"IF(Saisiegroupes!F$12=\"\",\"\",Saisiegroupes!F$12)","v":""}]
[null,null,null,null,null,null,null,null,null,null,null,null,null,null,null,null,{"$f":"IF(Saisiegroupes!F$13=\"\",\"\",Saisiegroupes!F$13)","v":""}]
[null,null,null,null,null,null,null,null,null,null,null,null,null,null,null,null,{"$f":"IF(Saisiegroupes!F$14=\"\",\"\",Saisiegroupes!F$14)","v":""}]
[null,null,null,null,null,null,null,null,null,null,null,null,null,null,null,null,{"$f":"IF(Saisiegroupes!F$17=\"\",\"\",Saisiegroupes!F$17)","v":""}]
[null,null,null,null,null,null,null,null,null,null,null,null,null,null,null,null,{"$f":"IF(Saisiegroupes!F$18=\"\",\"\",Saisiegroupes!F$18)","v":""}]
[null,null,null,null,null,null,null,null,null,null,null,null,null,null,null,null,{"$f":"IF(Saisiegroupes!F$19=\"\",\"\",Saisiegroupes!F$19)","v":""}]
[null,null,null,null,null,null,null,null,null,null,null,null,null,null,null,null,{"$f":"IF(Saisiegroupes!F$20=\"\",\"\",Saisiegroupes!F$20)","v":""}]
[null,null,null,null,null,null,null,null,null,null,null,null,null,null,null,null,{"$f":"IF(Saisiegroupes!I$5=\"\",\"\",Saisiegroupes!I$5)","v":""}]
[null,null,null,null,null,null,null,null,null,null,null,null,null,null,null,null,{"$f":"IF(Saisiegroupes!I$6=\"\",\"\",Saisiegroupes!I$6)","v":""}]
[null,null,null,null,null,null,null,null,null,null,null,null,null,null,null,null,{"$f":"IF(Saisiegroupes!I$7=\"\",\"\",Saisiegroupes!I$7)","v":""}]
[null,null,null,null,null,null,null,null,null,null,null,null,null,null,null,null,{"$f":"IF(Saisiegroupes!I$8=\"\",\"\",Saisiegroupes!I$8)","v":""}]
[null,null,null,null,null,null,null,null,null,null,null,null,null,null,null,null,{"$f":"IF(Saisiegroupes!I$11=\"\",\"\",Saisiegroupes!I$11)","v":""}]
[null,null,null,null,null,null,null,null,null,null,null,null,null,null,null,null,{"$f":"IF(Saisiegroupes!I$12=\"\",\"\",Saisiegroupes!I$12)","v":""}]
[null,null,null,null,null,null,null,null,null,null,null,null,null,null,null,null,{"$f":"IF(Saisiegroupes!I$13=\"\",\"\",Saisiegroupes!I$13)","v":""}]
[null,null,null,null,null,null,null,null,null,null,null,null,null,null,null,null,{"$f":"IF(Saisiegroupes!I$14=\"\",\"\",Saisiegroupes!I$14)","v":""}]

{"sheet":"Saisiegroupes","index":1,"n_rows":20,"n_cols":8,"rows_kept":20,"cut":false,"hidden":false,"merged":[[1,1,1,8],[3,1,3,2],[9,1,9,2],[15,1,15,2],[3,4,3,5],[9,4,9,5],[15,4,15,5],[3,7,3,8],[9,7,9,8]]}
[]
[null,"SAISIE DES DIFFERENTES EQUIPES"]
[]
[null,"Equipe 1",null,null,"Equipe 4",null,null,"Equipe 7"]
[null,"Elève A",null,null,"Elève A",null,null,"Elève A"]
[null,"Elève B",null,null,"Elève B",null,null,"Elève B"]
[null,"Elève C",null,null,"Elève C",null,null,"Elève C"]
[null,"Elève D",null,null,"Elève D",null,null,"Elève D"]
[]
[null,"Equipe 2",null,null,"Equipe 5",null,null,"Equipe 8"]
[null,"Elève A",null,null,"Elève A",null,null,"Elève A"]
[null,"Elève B",null,null,"Elève B",null,null,"Elève B"]
[null,"Elève C",null,null,"Elève C",null,null,"Elève C"]
[null,"Elève D",null,null,"Elève D",null,null,"Elève D"]
[]
[null,"Equipe 3",null,null,"Equipe 6"]
[null,"Elève A",null,null,"Elève A"]
[null,"Elève B",null,null,"Elève B"]
[null,"Elève C",null,null,"Elève C"]
[null,"Elève D",null,null,"Elève D"]

{"sheet":"Aide Saisie","index":2,"n_rows":0,"n_cols":0,"rows_kept":0,"cut":false,"hidden":false,"merged":[]}

{"sheet":"evalbac","index":3,"n_rows":46,"n_cols":36,"rows_kept":46,"cut":false,"hidden":false,"merged":[[2,12,4,12],[0,0,0,18],[1,3,1,4],[1,5,1,10],[1,11,1,13],[1,14,1,17],[1,18,4,18],[2,3,4,3],[2,4,4,4],[2,5,4,5],[2,6,4,6],[2,7,4,7],[2,8,4,8],[2,9,4,9],[2,10,4,10],[2,11,4,11],[2,13,4,13],[4,24,4,27],[5,20,6,20],[5,22,6,22],[5,24,6,24],[5,26,6,26],[4,20,4,23],[2,14,2,17],[3,14,4,14],[3,15,4,15],[3,16,4,16],[3,17,4,17]]}
["BACCALAUREAT RELAIS"]
[null,null,null,"Perf indiv",null,"Perf collective",null,null,null,null,null,"Efficacité transmission",null,null,"Maîtrise transmission",null,null,null,"NOTE BAC\n/ 20 PTS"]
[null,null,null,"Temps indiv\n sur 50m","Perf indiv 50m\n / 4 pts","Ordre relais 1","Temps relais 1","Ordre relais 2","Temps relais 2","Somme des\n temps des 2 relais","Perf temps des 2 relais\n/ 10 pts","Somme des temps indiv","Différence (somme des tps indiv-meilleur tps du relais)","Note de transmission\n / 4 pts","Synchronisation des vitesses des coureurs      1 pt\nRalentissement modéré du receveur        0,75 pt\nTrès net ralentissement du receveur ou tampon     0,25 pt\nTransmission hors zone     0 pt"]
[null,null,null,null,null,null,null,null,null,null,null,null,null,null,"Transmission\n1 ","Transmission\n2","Transmission\n3","Moyenne des 3 transmissions\n / 2 pts"]
["NOMS Prénoms","Sexe","Classe",null,null,null,null,null,null,null,null,null,null,null,null,null,null,null,null,null,"Performance individuelle sur 50m",null,null,null,"Temps cumulés des 2 fois 4X50 m"]
[{"$f":"IF(Saisiegroupes!C5=\"\",\"\",Saisiegroupes!C5)","v":""},null,null,{"$f":"AJ6","v":""},{"$f":"IF(D6=\"\",\"\",IF(B6=\"f\",IF(D6<$U$8,4,VLOOKUP(D6,$U$8:$V$31,2)),IF(D6<$W$8,4,VLOOKUP(D6,$W$8:$X$31,2))))","v":""},null,{"$f":"IF(AD6=\"\",\"\",AD6*1)","v":""},null,{"$f":"IF(AE6=\"\",\"\",AE6*1)","v":""},{"$f":"IF(ROUND(SUM(G6,I6),1)=0,\"\",ROUND(SUM(G6,I6),1))","v":""},{"$f":"IF(J6=\"\",\"\",IF(B6=\"f\",IF(J6<$Y$8,10,VLOOKUP(J6,$Y$8:$Z$31,2)),IF(J6<$AA$8,10,VLOOKUP(J6,$AA$8:$AB$31,2))))","v":""},{"$f":"IF(SUM($D$6:$D$9)=0,\"\",SUM($D$6:$D$9))","v":""},{"$f":"ABS(ROUND((L6-MIN(G6,I6))/L6*100,1))","v":{"$error":"#VALUE!"}},{"$f":"IF(M6>=8,4,IF(M6>=7,3.6,IF(M6>=6,3.2,IF(M6>=5,2.8,IF(M6>=4,2.4,IF(M6>=3,2,IF(M6>=2,1.6,IF(M6>=1,1.2,IF(AND(M6>-1,M6<0),0.4,IF(M6<-1,0,\"\"))))))))))","v":{"$error":"#VALUE!"}},null,null,null,{"$f":"SUM(O6:Q6)*2/3","v":0},{"$f":"ROUND(SUM(E6,K6,N6,R6),1)","v":{"$error":"#VALUE!"}},null,"Temps F","Note","Temps G","Note","Temps F","Note","Temps G","Note",null,null,null,null,null,{"$f":"IF(AF6*1=0,\"\",AF6*1)","v":""},"",{"$f":"IF(AND($AH6=\"\",$AI6=\"\"),\"\",IF(AND(ISNUMBER($AH6),ISNUMBER($AI6)),MIN($AH6,$AI6),$AH6))","v":""}]
[{"$f":"IF(Saisiegroupes!C6=\"\",\"\",Saisiegroupes!C6)","v":""},null,null,"",{"$f":"IF(D7=\"\",\"\",IF(B7=\"f\",IF(D7<$U$8,4,VLOOKUP(D7,$U$8:$V$31,2)),IF(D7<$W$8,4,VLOOKUP(D7,$W$8:$X$31,2))))","v":""},null,{"$f":"IF(AD7=\"\",\"\",AD7*1)","v":""},null,{"$f":"IF(AE7=\"\",\"\",AE7*1)","v":""},{"$f":"IF(ROUND(SUM(G7,I7),1)=0,\"\",ROUND(SUM(G7,I7),1))","v":""},"",{"$f":"IF(SUM($D$6:$D$9)=0,\"\",SUM($D$6:$D$9))","v":""},{"$error":"#VALUE!"},{"$f":"IF(M7>=8,4,IF(M7>=7,3.6,IF(M7>=6,3.2,IF(M7>=5,2.8,IF(M7>=4,2.4,IF(M7>=3,2,IF(M7>=2,1.6,IF(M7>=1,1.2,IF(AND(M7>-1,M7<0),0.4,IF(M7<-1,0,\"\"))))))))))","v":{"$error":"#VALUE!"}},null,null,null,{"$f":"SUM(O7:Q7)*2/3","v":0},{"$f":"ROUND(SUM(E7,K7,N7,R7),1)","v":{"$error":"#VALUE!"}},null,null,"/4",null,"/4",null,"/10",null,"/10",null,null,null,null,null,"","",{"$f":"IF(AND($AH7=\"\",$AI7=\"\"),\"\",IF(AND(ISNUMBER($AH7),ISNUMBER($AI7)),MIN($AH7,$AI7),$AH7))","v":""}]
[{"$f":"IF(Saisiegroupes!C7=\"\",\"\",Saisiegroupes!C7)","v":""},null,null,"","",null,{"$f":"IF(AD8=\"\",\"\",AD8*1)","v":""},null,"",{"$f":"IF(ROUND(SUM(G8,I8),1)=0,\"\",ROUND(SUM(G8,I8),1))","v":""},"",{"$f":"IF(SUM($D$6:$D$9)=0,\"\",SUM($D$6:$D$9))","v":""},{"$error":"#VALUE!"},{"$f":"IF(M8>=8,4,IF(M8>=7,3.6,IF(M8>=6,3.2,IF(M8>=5,2.8,IF(M8>=4,2.4,IF(M8>=3,2,IF(M8>=2,1.6,IF(M8>=1,1.2,IF(AND(M8>-1,M8<0),0.4,IF(M8<-1,0,\"\"))))))))))","v":{"$error":"#VALUE!"}},null,null,null,{"$f":"SUM(O8:Q8)*2/3","v":0},{"$f":"ROUND(SUM(E8,K8,N8,R8),1)","v":{"$error":"#VALUE!"}},null,7.8,4,6.4,4,62.8,10,52.4,10,null,null,null,null,null,"","",""]
[{"$f":"IF(Saisiegroupes!C8=\"\",\"\",Saisiegroupes!C8)","v":""},null,null,"","",null,"",null,"","","","",{"$error":"#VALUE!"},{"$error":"#VALUE!"},null,null,null,0,{"$error":"#VALUE!"},null,7.9,3.8,6.5,3.8,63.4,9.5,53,9.5,null,null,null,null,null,"","",""]
[null,null,null,null,null,null,null,null,null,null,"",null,null,null,null,null,null,null,null,null,8,3.6,6.6,3.6,64,9,53.6,9,null,null,null,null,null,"","",""]
[{"$f":"IF(Saisiegroupes!C11=\"\",\"\",Saisiegroupes!C11)","v":""},null,null,"","",null,null,null,"","","",{"$f":"IF(SUM($D$11:$D$14)=0,\"\",SUM($D$11:$D$14))","v":""},{"$error":"#VALUE!"},{"$error":"#VALUE!"},null,null,null,0,{"$error":"#VALUE!"},null,8.1,3.4,6.7,3.4,64.599999999999994,8.5,54.2,8.5,null,null,null,null,null,"","",""]
[{"$f":"IF(Saisiegroupes!C12=\"\",\"\",Saisiegroupes!C12)","v":""},null,null,"","",null,"",null,"","","",{"$f":"IF(SUM($D$11:$D$14)=0,\"\",SUM($D$11:$D$14))","v":""},{"$error":"#VALUE!"},{"$error":"#VALUE!"},null,null,null,0,{"$error":"#VALUE!"},null,8.1999999999999993,3.2,6.8,3.2,65.2,8,54.8,8,null,null,null,null,null,"","",""]
[{"$f":"IF(Saisiegroupes!C13=\"\",\"\",Saisiegroupes!C13)","v":""},null,null,null,"",null,"",null,"","","","",{"$error":"#VALUE!"},{"$error":"#VALUE!"},null,null,null,0,{"$error":"#VALUE!"},null,8.3000000000000007,3,6.9,3,65.900000000000006,7.5,55.4,7.5,null,null,null,null,null,"","",""]
[{"$f":"IF(Saisiegroupes!C14=\"\",\"\",Saisiegroupes!C14)","v":""},null,null,"","",null,"",null,"","","","",{"$error":"#VALUE!"},{"$error":"#VALUE!"},null,null,null,0,{"$error":"#VALUE!"},null,8.4,2.8,7,2.8,66.599999999999994,7,56,7,null,null,null,null,null,"","",""]
[null,null,null,null,null,null,null,null,null,null,"",null,null,null,null,null,null,null,null,null,8.5,2.6,7.1,2.6,67.3,6.5,56.6,6.5,null,null,null,null,null,"","",""]
[{"$f":"IF(Saisiegroupes!C17=\"\",\"\",Saisiegroupes!C17)","v":""},null,null,"","",null,"",null,"","","",{"$f":"IF(SUM($D$16:$D$19)=0,\"\",SUM($D$16:$D$19))","v":""},{"$error":"#VALUE!"},{"$error":"#VALUE!"},null,null,null,0,{"$error":"#VALUE!"},null,8.6,2.4,7.2,2.4,68,6,57.2,6,null,null,null,null,null,"","",""]
[{"$f":"IF(Saisiegroupes!C18=\"\",\"\",Saisiegroupes!C18)","v":""},null,null,"","",null,"",null,"","","",{"$f":"IF(SUM($D$16:$D$19)=0,\"\",SUM($D$16:$D$19))","v":""},{"$error":"#VALUE!"},{"$error":"#VALUE!"},null,null,null,0,{"$error":"#VALUE!"},null,8.6999999999999993,2.2000000000000002,7.3,2.2000000000000002,68.7,5.5,57.6,5.5,null,null,null,null,null,"","",""]
[{"$f":"IF(Saisiegroupes!C19=\"\",\"\",Saisiegroupes!C19)","v":""},null,null,"","",null,"",null,"","","","",{"$error":"#VALUE!"},{"$error":"#VALUE!"},null,null,null,0,{"$error":"#VALUE!"},null,8.8000000000000007,2,7.4,2,69.400000000000006,5,58,5,null,null,null,null,null,"","",""]
[{"$f":"IF(Saisiegroupes!C20=\"\",\"\",Saisiegroupes!C20)","v":""},null,null,"","",null,"",null,"","","","",{"$error":"#VALUE!"},{"$error":"#VALUE!"},null,null,null,0,{"$error":"#VALUE!"},null,8.9,1.8,7.5,1.8,70.099999999999994,4.5,58.4,4.5,null,null,null,null,null,"","",""]
[null,null,null,null,null,null,null,null,null,null,"",null,null,null,null,null,null,null,null,null,9,1.6,7.6,1.6,70.8,4,58.8,4,null,null,null,null,null,"","",""]
[{"$f":"IF(Saisiegroupes!F5=\"\",\"\",Saisiegroupes!F5)","v":""},null,null,"","",null,"",null,"","","",{"$f":"IF(SUM($D$21:$D$24)=0,\"\",SUM($D$21:$D$24))","v":""},{"$error":"#VALUE!"},{"$error":"#VALUE!"},null,null,null,0,{"$error":"#VALUE!"},null,9.1,1.4,7.7,1.4,71.5,3.5,59.2,3.5,null,null,null,null,null,"","",""]
[{"$f":"IF(Saisiegroupes!F6=\"\",\"\",Saisiegroupes!F6)","v":""},null,null,"","",null,"",null,"","","",{"$f":"IF(SUM($D$21:$D$24)=0,\"\",SUM($D$21:$D$24))","v":""},{"$error":"#VALUE!"},{"$error":"#VALUE!"},null,null,null,0,{"$error":"#VALUE!"},null,9.1999999999999993,1.2,7.8,1.2,72.2,3,59.6,3,null,null,null,null,null,"","",""]
[{"$f":"IF(Saisiegroupes!F7=\"\",\"\",Saisiegroupes!F7)","v":""},null,null,"","",null,"",null,"","","","",{"$error":"#VALUE!"},{"$error":"#VALUE!"},null,null,null,0,{"$error":"#VALUE!"},null,9.3000000000000007,1,7.9,1,72.900000000000006,2.5,60,2.5,null,null,null,null,null,"","",""]
[{"$f":"IF(Saisiegroupes!F8=\"\",\"\",Saisiegroupes!F8)","v":""},null,null,"","",null,"",null,"","","","",{"$error":"#VALUE!"},{"$error":"#VALUE!"},null,null,null,0,{"$error":"#VALUE!"},null,9.4,0.8,8,0.8,73.599999999999994,2,60.4,2,null,null,null,null,null,"","",""]
[null,null,null,null,null,null,null,null,null,null,"",null,null,null,null,null,null,null,null,null,9.5,0.6,8.1,0.6,74.3,1.5,60.8,1.5,null,null,null,null,null,"","",""]
[{"$f":"IF(Saisiegroupes!F11=\"\",\"\",Saisiegroupes!F11)","v":""},null,null,"","",null,"",null,"","","",{"$f":"IF(SUM($D$26:$D$29)=0,\"\",SUM($D$26:$D$29))","v":""},{"$error":"#VALUE!"},{"$error":"#VALUE!"},null,null,null,0,{"$error":"#VALUE!"},null,9.6,0.4,8.3000000000000007,0.4,75,1,61.2,1,null,null,null,null,null,"","",""]
[{"$f":"IF(Saisiegroupes!F12=\"\",\"\",Saisiegroupes!F12)","v":""},null,null,"","",null,"",null,"","","",{"$f":"IF(SUM($D$26:$D$29)=0,\"\",SUM($D$26:$D$29))","v":""},{"$error":"#VALUE!"},{"$error":"#VALUE!"},null,null,null,0,{"$error":"#VALUE!"},null,null,null,null,null,null,null,null,null,null,null,null,null,null,"","",""]
[{"$f":"IF(Saisiegroupes!F13=\"\",\"\",Saisiegroupes!F13)","v":""},null,null,"","",null,"",null,"","","","",{"$error":"#VALUE!"},{"$error":"#VALUE!"},null,null,null,0,{"$error":"#VALUE!"},null,9.8000000000000007,0.2,8.6,0.2,75.7,0.5,61.5,0.5,null,null,null,null,null,"","",""]
[{"$f":"IF(Saisiegroupes!F14=\"\",\"\",Saisiegroupes!F14)","v":""},null,null,"","",null,"",null,"","","","",{"$error":"#VALUE!"},{"$error":"#VALUE!"},null,null,null,0,{"$error":"#VALUE!"},null,null,null,null,null,null,null,null,null,null,null,null,null,null,"","",""]
[null,null,null,null,null,null,null,null,null,null,"",null,null,null,null,null,null,null,null,null,null,null,null,null,null,null,null,null,null,null,null,null,null,"","",""]
[{"$f":"IF(Saisiegroupes!F17=\"\",\"\",Saisiegroupes!F17)","v":""},null,null,"","",null,"",null,"","","",{"$f":"IF(SUM($D$31:$D$34)=0,\"\",SUM($D$31:$D$34))","v":""},{"$error":"#VALUE!"},{"$error":"#VALUE!"},null,null,null,0,{"$error":"#VALUE!"},null,10.199999999999999,0.1,9,0.1,75,0.25,62,0.25,null,null,null,null,null,"","",""]
[{"$f":"IF(Saisiegroupes!F18=\"\",\"\",Saisiegroupes!F18)","v":""},null,null,"","",null,"",null,"","","",{"$f":"IF(SUM($D$31:$D$34)=0,\"\",SUM($D$31:$D$34))","v":""},{"$error":"#VALUE!"},{"$error":"#VALUE!"},null,null,null,0,{"$error":"#VALUE!"},null,null,null,null,null,null,null,null,null,null,null,null,null,null,"","",""]
[{"$f":"IF(Saisiegroupes!F19=\"\",\"\",Saisiegroupes!F19)","v":""},null,null,"","",null,"",null,"","","","",{"$error":"#VALUE!"},{"$error":"#VALUE!"},null,null,null,0,{"$error":"#VALUE!"},null,null,null,null,null,null,null,null,null,null,null,null,null,null,"","",""]
[{"$f":"IF(Saisiegroupes!F20=\"\",\"\",Saisiegroupes!F20)","v":""},null,null,"","",null,"",null,"","","","",{"$error":"#VALUE!"},{"$error":"#VALUE!"},null,null,null,0,{"$error":"#VALUE!"},null,null,null,null,null,null,null,null,null,null,null,null,null,null,"","",""]
[null,null,null,null,null,null,null,null,null,null,"",null,null,null,null,null,null,null,null,null,null,null,null,null,null,null,null,null,null,null,null,null,null,"","",""]
[{"$f":"IF(Saisiegroupes!I5=\"\",\"\",Saisiegroupes!I5)","v":""},null,null,"","",null,"",null,"","",{"$f":"IF(J36=\"\",\"\",IF(B36=\"f\",IF(J36<$Y$8,10,VLOOKUP(J36,$Y$8:$Z$31,2)),IF(J36<$AA$8,10,VLOOKUP(J36,$AA$8:$AB$31,2))))","v":""},{"$f":"IF(SUM($D$36:$D$39)=0,\"\",SUM($D$36:$D$39))","v":""},{"$f":"ABS(ROUND((L36-MIN(G36,I36))/L36*100,1))","v":{"$error":"#VALUE!"}},{"$f":"IF(M36>=8,4,IF(M36>=7,3.6,IF(M36>=6,3.2,IF(M36>=5,2.8,IF(M36>=4,2.4,IF(M36>=3,2,IF(M36>=2,1.6,IF(M36>=1,1.2,IF(AND(M36>-1,M36<0),0.4,IF(M36<-1,0,\"\"))))))))))","v":{"$error":"#VALUE!"}},null,null,null,0,{"$error":"#VALUE!"},null,null,null,null,null,null,null,null,null,null,null,null,null,null,{"$f":"IF(AF36*1=0,\"\",AF36*1)","v":""},{"$f":"IF(AG36*1=0,\"\",AG36*1)","v":""},""]
[{"$f":"IF(Saisiegroupes!I6=\"\",\"\",Saisiegroupes!I6)","v":""},null,null,"","",null,"",null,"","",{"$f":"IF(J37=\"\",\"\",IF(B37=\"f\",IF(J37<$Y$8,10,VLOOKUP(J37,$Y$8:$Z$31,2)),IF(J37<$AA$8,10,VLOOKUP(J37,$AA$8:$AB$31,2))))","v":""},{"$f":"IF(SUM($D$36:$D$39)=0,\"\",SUM($D$36:$D$39))","v":""},{"$error":"#VALUE!"},{"$error":"#VALUE!"},null,null,null,0,{"$error":"#VALUE!"},null,null,null,null,null,null,null,null,null,null,null,null,null,null,{"$f":"IF(AF37*1=0,\"\",AF37*1)","v":""},"",""]
[{"$f":"IF(Saisiegroupes!I7=\"\",\"\",Saisiegroupes!I7)","v":""},null,null,"","",null,"",null,"","","","",{"$error":"#VALUE!"},{"$error":"#VALUE!"},null,null,null,0,{"$error":"#VALUE!"},null,null,null,null,null,null,null,null,null,null,null,null,null,null,"","",""]
[{"$f":"IF(Saisiegroupes!I8=\"\",\"\",Saisiegroupes!I8)","v":""},null,null,"","",null,"",null,"","","","",{"$error":"#VALUE!"},{"$error":"#VALUE!"},null,null,null,0,{"$error":"#VALUE!"},null,null,null,null,null,null,null,null,null,null,null,null,null,null,"","",""]
[null,null,null,null,null,null,null,null,null,null,"",null,null,null,null,null,null,null,null,null,null,null,null,null,null,null,null,null,null,null,null,null,null,"","",""]
[{"$f":"IF(Saisiegroupes!I11=\"\",\"\",Saisiegroupes!I11)","v":""},null,null,"","",null,"",null,"","","",{"$f":"IF(SUM($D$41:$D$44)=0,\"\",SUM($D$41:$D$44))","v":""},{"$f":"ABS(ROUND((L41-MIN(G41,I41))/L41*100,1))","v":{"$error":"#VALUE!"}},{"$f":"IF(M41>=8,4,IF(M41>=7,3.6,IF(M41>=6,3.2,IF(M41>=5,2.8,IF(M41>=4,2.4,IF(M41>=3,2,IF(M41>=2,1.6,IF(M41>=1,1.2,IF(AND(M41>-1,M41<0),0.4,IF(M41<-1,0,\"\"))))))))))","v":{"$error":"#VALUE!"}},null,null,null,0,{"$error":"#VALUE!"},null,null,null,null,null,null,null,null,null,null,null,null,null,null,"","",""]
[{"$f":"IF(Saisiegroupes!I12=\"\",\"\",Saisiegroupes!I12)","v":""},null,null,"","",null,"",null,"","","",{"$f":"IF(SUM($D$41:$D$44)=0,\"\",SUM($D$41:$D$44))","v":""},{"$error":"#VALUE!"},{"$error":"#VALUE!"},null,null,null,0,{"$error":"#VALUE!"},null,null,null,null,null,null,null,null,null,null,null,null,null,null,"","",""]
[{"$f":"IF(Saisiegroupes!I13=\"\",\"\",Saisiegroupes!I13)","v":""},null,null,"","",null,"",null,"","","","",{"$error":"#VALUE!"},{"$error":"#VALUE!"},null,null,null,0,{"$error":"#VALUE!"},null,null,null,null,null,null,null,null,null,null,null,null,null,null,"","",""]
[{"$f":"IF(Saisiegroupes!I14=\"\",\"\",Saisiegroupes!I14)","v":""},null,null,{"$f":"AJ44","v":""},"",null,"",null,"","","","",{"$error":"#VALUE!"},{"$error":"#VALUE!"},null,null,null,0,{"$error":"#VALUE!"},null,null,null,null,null,null,null,null,null,null,null,null,null,null,"",{"$f":"IF(AG44*1=0,\"\",AG44*1)","v":""},""]
[]
[null,null,null,null,{"$f":"ROUND(AVERAGE(E6:E39),1)","v":{"$error":"#DIV/0!"}},null,null,null,null,null,{"$f":"ROUND(AVERAGE(K6:K39),1)","v":{"$error":"#DIV/0!"}},null,null,{"$f":"ROUND(AVERAGE(N6:N39),1)","v":{"$error":"#VALUE!"}},null,null,null,{"$f":"ROUND(AVERAGE(R6:R39),1)","v":0},{"$f":"ROUND(AVERAGE(S6:S39),1)","v":{"$error":"#VALUE!"}}]

{"sheet":"Archresultats1","index":4,"n_rows":130,"n_cols":87,"rows_kept":130,"cut":false,"hidden":false,"merged":[[0,0,2,11],[2,39,2,41],[2,42,2,44],[2,45,2,47],[2,48,2,53]]}
["Bilan équipe 1"]
[null,null,null,null,null,null,null,null,null,null,null,null,null,null,"DABC"]
[null,null,null,null,null,null,null,null,null,null,null,null,null,null,null,null,null,null,null,null,null,null,null,null,null,null,null,null,null,null,null,null,null,null,null,null,null,null,null,"ZONE 1",null,null,"ZONE 2",null,null,"ZONE 3",null,null,"TOTAL course"]
[null,"Dates","Heure","Coureur ou\nOrdre relais","Tps\n zone 1","Vitesse\nzone 1","Tps\n zone 2","Vitesse\nzone 2","Tps\n zone 3","Vitesse\nzone 3","Tps course\ntotale","Vitesse totale\ntotale","Remarques",null,null,"AB (t)","AB (v)","AC (t)","AC (v)","AD (t)","AD (v)","BA (v)","BA (t)","BC (t)","BC (v)","BD (t)","BD (v)","CA (t)","CA (v)","CB (t)","CB (v)","CD (t)","CD (v)","DA (t)","DA (v)","DB (t)","DB (v)","DC (t)","DC (v)","Vitesse\n moy. théorique  du binôme","Vitesse réelle\n du binôme","% \nEvolution","Vitesse\n moy. théorique  du binôme","Vitesse réelle\n du binôme","% \nEvolution","Vitesse\n moy. théorique  du binôme","Vitesse réelle\n du binôme","% \nEvolution","TEMPS\ntotal théorique\ndu groupe","TEMPS\ntotal réel\ndu groupe\n ","% \nEvolution","VITESSE\n théorique  du groupe","VITESSE réelle\n du groupe","% \nEvolution",null,null,null,null,null,null,null,null,null,"AB (t)","AB (v)","AC (t)","AC (v)","AD (t)","AD (v)","BA (v)","BA (t)","BC (t)","BC (v)","BD (t)","BD (v)","CA (t)","CA (v)","CB (t)","CB (v)","CD (t)","CD (v)","DA (t)","DA (v)","DB (t)","DB (v)","DC (t)","DC (v)"]
[1,null,null,null,null,null,null,null,null,null,null,null,null,null,"ABCD",{"$f":"IF(OR($O$2=$O$5,$O$2=$O$6),E5,IF(OR($O$2=$O$18,$O$2=$O$24),G5,IF(OR($O$2=$O$22,$O$2=$O$28),I5,\"\")))","v":0},{"$f":"IF(OR($O$2=$O$5,$O$2=$O$6),F5,IF(OR($O$2=$O$18,$O$2=$O$24),H5,IF(OR($O$2=$O$22,$O$2=$O$28),J5,\"\")))","v":0},{"$f":"IF(OR($O$2=$O$7,$O$2=$O$8),E5,IF(OR($O$2=$O$12,$O$2=$O$25),G5,IF(OR($O$2=$O$16,$O$2=$O$26),I5,\"\")))","v":""},{"$f":"IF(OR($O$2=$O$7,$O$2=$O$8),F5,IF(OR($O$2=$O$12,$O$2=$O$25),H5,IF(OR($O$2=$O$16,$O$2=$O$26),J5,\"\")))","v":""},{"$f":"IF(OR($O$2=$O$9,$O$2=$O$10),E5,IF(OR($O$2=$O$13,$O$2=$O$19),G5,IF(OR($O$2=$O$14,$O$2=$O$20),I5,\"\")))","v":""},{"$f":"IF(OR($O$2=$O$9,$O$2=$O$10),F5,IF(OR($O$2=$O$13,$O$2=$O$19),H5,IF(OR($O$2=$O$14,$O$2=$O$20),J5,\"\")))","v":""},{"$f":"IF(OR($O$2=$O$12,$O$2=$O$13),E5,IF(OR($O$2=$O$20,$O$2=$O$26),G5,IF(OR($O$2=$O$23,$O$2=$O$29),I5,\"\")))","v":""},{"$f":"IF(OR($O$2=$O$12,$O$2=$O$13),F5,IF(OR($O$2=$O$20,$O$2=$O$26),H5,IF(OR($O$2=$O$23,$O$2=$O$29),J5,\"\")))","v":""},{"$f":"IF(OR($O$2=$O$14,$O$2=$O$15),E5,IF(OR($O$2=$O$5,$O$2=$O$27),G5,IF(OR($O$2=$O$9,$O$2=$O$24),I5,\"\")))","v":0},{"$f":"IF(OR($O$2=$O$14,$O$2=$O$15),F5,IF(OR($O$2=$O$5,$O$2=$O$27),H5,IF(OR($O$2=$O$9,$O$2=$O$24),J5,\"\")))","v":0},{"$f":"IF(OR($O$2=$O$16,$O$2=$O$17),E5,IF(OR($O$2=$O$6,$O$2=$O$21),G5,IF(OR($O$2=$O$7,$O$2=$O$18),I5,\"\")))","v":""},{"$f":"IF(OR($O$2=$O$16,$O$2=$O$17),F5,IF(OR($O$2=$O$6,$O$2=$O$21),H5,IF(OR($O$2=$O$7,$O$2=$O$18),J5,\"\")))","v":""},{"$f":"IF(OR($O$2=$O$18,$O$2=$O$19),E5,IF(OR($O$2=$O$14,$O$2=$O$28),G5,IF(OR($O$2=$O$17,$O$2=$O$27),I5,\"\")))","v":""},{"$f":"IF(OR($O$2=$O$18,$O$2=$O$19),F5,IF(OR($O$2=$O$14,$O$2=$O$28),H5,IF(OR($O$2=$O$17,$O$2=$O$27),J5,\"\")))","v":""},{"$f":"IF(OR($O$2=$O$20,$O$2=$O$21),E5,IF(OR($O$2=$O$7,$O$2=$O$29),G5,IF(OR($O$2=$O$10,$O$2=$O$11),I5,\"\")))","v":""},{"$f":"IF(OR($O$2=$O$20,$O$2=$O$21),F5,IF(OR($O$2=$O$7,$O$2=$O$29),H5,IF(OR($O$2=$O$10,$O$2=$O$11),J5,\"\")))","v":""},{"$f":"IF(OR($O$2=$O$22,$O$2=$O$23),E5,IF(OR($O$2=$O$8,$O$2=$O$15),G5,IF(OR($O$2=$O$5,$O$2=$O$12),I5,\"\")))","v":""},{"$f":"IF(OR($O$2=$O$22,$O$2=$O$23),F5,IF(OR($O$2=$O$8,$O$2=$O$15),H5,IF(OR($O$2=$O$5,$O$2=$O$12),J5,\"\")))","v":""},{"$f":"IF(OR($O$2=$O$24,$O$2=$O$25),E5,IF(OR($O$2=$O$16,$O$2=$O$22),G5,IF(OR($O$2=$O$15,$O$2=$O$21),I5,\"\")))","v":0},{"$f":"IF(OR($O$2=$O$24,$O$2=$O$25),F5,IF(OR($O$2=$O$16,$O$2=$O$22),H5,IF(OR($O$2=$O$15,$O$2=$O$21),J5,\"\")))","v":0},{"$f":"IF(OR($O$2=$O$26,$O$2=$O$27),E5,IF(OR($O$2=$O$9,$O$2=$O$23),G5,IF(OR($O$2=$O$8,$O$2=$O$19),I5,\"\")))","v":""},{"$f":"IF(OR($O$2=$O$26,$O$2=$O$27),F5,IF(OR($O$2=$O$9,$O$2=$O$23),H5,IF(OR($O$2=$O$8,$O$2=$O$19),J5,\"\")))","v":""},{"$f":"IF(OR($O$2=$O$28,$O$2=$O$29),E5,IF(OR($O$2=$O$10,$O$2=$O$11),G5,IF(OR($O$2=$O$6,$O$2=$O$13),I5,\"\")))","v":""},{"$f":"IF(OR($O$2=$O$28,$O$2=$O$29),F5,IF(OR($O$2=$O$10,$O$2=$O$11),H5,IF(OR($O$2=$O$6,$O$2=$O$13),J5,\"\")))","v":""},{"$f":"IF(ISBLANK(E5),\"\",IF(OR($O$2=$O$5,$O$2=$O$6,$O$2=$O$12,$O$2=$O$13),Best1!$F$10,IF(OR($O$2=$O$7,$O$2=$O$8,$O$2=$O$18,$O$2=$O$19),Best1!$F$11,IF(OR($O$2=$O$9,$O$2=$O$10,$O$2=$O$24,$O$2=$O$25),Best1!$F$12,IF(OR($O$2=$O$14,$O$2=$O$15,$O$2=$O$20,$O$2=$O$21),Best1!$F$13,IF(OR($O$2=$O$16,$O$2=$O$17,$O$2=$O$26,$O$2=$O$27),Best1!$F$14,IF(OR($O$2=$O$22,$O$2=$O$23,$O$2=$O$28,$O$2=$O$29),Best1!$F$15,\"\")))))))","v":""},{"$f":"IF(F5=\"\",\"\",F5)","v":""},{"$f":"IF(AO5=\"\",\"\",ROUND(((AO5-AN5)/AN5*100),1))","v":""},{"$f":"IF(ISBLANK(G5),\"\",IF(OR($O$2=$O$5,$O$2=$O$7,$O$2=$O$27,$O$2=$O$29),Best1!$F$13,IF(OR($O$2=$O$18,$O$2=$O$20,$O$2=$O$24,$O$2=$O$26),Best1!$F$10,IF(OR($O$2=$O$12,$O$2=$O$14,$O$2=$O$25,$O$2=$O$28),Best1!$F$11,IF(OR($O$2=$O$13,$O$2=$O$16,$O$2=$O$19,$O$2=$O$22),Best1!$F$12,IF(OR($O$2=$O$6,$O$2=$O$9,$O$2=$O$21,$O$2=$O$23),Best1!$F$14,IF(OR($O$2=$O$8,$O$2=$O$10,$O$2=$O$15,$O$2=$O$17),Best1!$F$15,\"\")))))))","v":""},{"$f":"IF(H5=\"\",\"\",H5)","v":""},{"$f":"IF(AR5=\"\",\"\",ROUND(((AR5-AQ5)/AQ5*100),1))","v":""},{"$f":"IF(ISBLANK(I5),\"\",IF(OR($O$2=$O$9,$O$2=$O$10,$O$2=$O$24,$O$2=$O$25),Best1!$F$13,IF(OR($O$2=$O$22,$O$2=$O$23,$O$2=$O$28,$O$2=$O$29),Best1!$F$10,IF(OR($O$2=$O$16,$O$2=$O$17,$O$2=$O$26,$O$2=$O$27),Best1!$F$11,IF(OR($O$2=$O$14,$O$2=$O$15,$O$2=$O$20,$O$2=$O$21),Best1!$F$12,IF(OR($O$2=$O$7,$O$2=$O$8,$O$2=$O$18,$O$2=$O$19),Best1!$F$14,IF(OR($O$2=$O$5,$O$2=$O$6,$O$2=$O$12,$O$2=$O$13),Best1!$F$15,\"\")))))))","v":""},{"$f":"IF(J5=\"\",\"\",J5)","v":""},{"$f":"IF(AU5=\"\",\"\",ROUND(((AU5-AT5)/AT5*100),1))","v":""},{"$f":"IF(ISBLANK(K5),\"\",IF(Best1!$C$3=\"\",\"\",ROUND(SUM(Best1!$C$3:$C$6),1)))","v":""},{"$f":"IF(K5=\"\",\"\",K5)","v":""},{"$f":"IF(AX5=\"\",\"\",ROUND(((AX5-AW5)/AW5*100),1))","v":""},{"$f":"IF(ISBLANK(K5),\"\",IF(Best1!$B$3=\"\",\"\",ROUND(AVERAGE(Best1!$D$3:$D$6),1)))","v":""},{"$f":"IF(L5=\"\",\"\",L5)","v":""},{"$f":"IF(BA5=\"\",\"\",ROUND(((BA5-AZ5)/AZ5*100),1))","v":""},null,{"$f":"AX5","v":""},null,null,null,null,null,null,null,{"$f":"IF(OR(P5=\"\",P5=0),\"\",P5*1)","v":""},{"$f":"IF(OR(Q5=\"\",Q5=0),\"\",Q5*1)","v":""},"","","","","","","","","","","","","","","","","","","","","",""]
[2,null,null,null,null,null,null,null,null,null,null,null,null,null,"ABDC",{"$f":"IF(OR($O$2=$O$5,$O$2=$O$6),E6,IF(OR($O$2=$O$18,$O$2=$O$24),G6,IF(OR($O$2=$O$22,$O$2=$O$28),I6,\"\")))","v":0},0,{"$f":"IF(OR($O$2=$O$7,$O$2=$O$8),E6,IF(OR($O$2=$O$12,$O$2=$O$25),G6,IF(OR($O$2=$O$16,$O$2=$O$26),I6,\"\")))","v":""},"",{"$f":"IF(OR($O$2=$O$9,$O$2=$O$10),E6,IF(OR($O$2=$O$13,$O$2=$O$19),G6,IF(OR($O$2=$O$14,$O$2=$O$20),I6,\"\")))","v":""},"",{"$f":"IF(OR($O$2=$O$12,$O$2=$O$13),E6,IF(OR($O$2=$O$20,$O$2=$O$26),G6,IF(OR($O$2=$O$23,$O$2=$O$29),I6,\"\")))","v":""},"",{"$f":"IF(OR($O$2=$O$14,$O$2=$O$15),E6,IF(OR($O$2=$O$5,$O$2=$O$27),G6,IF(OR($O$2=$O$9,$O$2=$O$24),I6,\"\")))","v":0},0,{"$f":"IF(OR($O$2=$O$16,$O$2=$O$17),E6,IF(OR($O$2=$O$6,$O$2=$O$21),G6,IF(OR($O$2=$O$7,$O$2=$O$18),I6,\"\")))","v":""},"",{"$f":"IF(OR($O$2=$O$18,$O$2=$O$19),E6,IF(OR($O$2=$O$14,$O$2=$O$28),G6,IF(OR($O$2=$O$17,$O$2=$O$27),I6,\"\")))","v":""},"",{"$f":"IF(OR($O$2=$O$20,$O$2=$O$21),E6,IF(OR($O$2=$O$7,$O$2=$O$29),G6,IF(OR($O$2=$O$10,$O$2=$O$11),I6,\"\")))","v":""},"",{"$f":"IF(OR($O$2=$O$22,$O$2=$O$23),E6,IF(OR($O$2=$O$8,$O$2=$O$15),G6,IF(OR($O$2=$O$5,$O$2=$O$12),I6,\"\")))","v":""},"",{"$f":"IF(OR($O$2=$O$24,$O$2=$O$25),E6,IF(OR($O$2=$O$16,$O$2=$O$22),G6,IF(OR($O$2=$O$15,$O$2=$O$21),I6,\"\")))","v":0},0,{"$f":"IF(OR($O$2=$O$26,$O$2=$O$27),E6,IF(OR($O$2=$O$9,$O$2=$O$23),G6,IF(OR($O$2=$O$8,$O$2=$O$19),I6,\"\")))","v":""},"",{"$f":"IF(OR($O$2=$O$28,$O$2=$O$29),E6,IF(OR($O$2=$O$10,$O$2=$O$11),G6,IF(OR($O$2=$O$6,$O$2=$O$13),I6,\"\")))","v":""},"",{"$f":"IF(ISBLANK(E6),\"\",IF(OR($O$2=$O$5,$O$2=$O$6,$O$2=$O$12,$O$2=$O$13),Best1!$F$10,IF(OR($O$2=$O$7,$O$2=$O$8,$O$2=$O$18,$O$2=$O$19),Best1!$F$11,IF(OR($O$2=$O$9,$O$2=$O$10,$O$2=$O$24,$O$2=$O$25),Best1!$F$12,IF(OR($O$2=$O$14,$O$2=$O$15,$O$2=$O$20,$O$2=$O$21),Best1!$F$13,IF(OR($O$2=$O$16,$O$2=$O$17,$O$2=$O$26,$O$2=$O$27),Best1!$F$14,IF(OR($O$2=$O$22,$O$2=$O$23,$O$2=$O$28,$O$2=$O$29),Best1!$F$15,\"\")))))))","v":""},{"$f":"IF(F6=\"\",\"\",F6)","v":""},{"$f":"IF(AO6=\"\",\"\",ROUND(((AO6-AN6)/AN6*100),1))","v":""},{"$f":"IF(ISBLANK(H6),\"\",IF(OR($O$2=$O$5,$O$2=$O$7,$O$2=$O$27,$O$2=$O$29),Best1!$F$13,IF(OR($O$2=$O$18,$O$2=$O$20,$O$2=$O$24,$O$2=$O$26),Best1!$F$10,IF(OR($O$2=$O$12,$O$2=$O$14,$O$2=$O$25,$O$2=$O$28),Best1!$F$11,IF(OR($O$2=$O$13,$O$2=$O$16,$O$2=$O$19,$O$2=$O$22),Best1!$F$12,IF(OR($O$2=$O$6,$O$2=$O$9,$O$2=$O$21,$O$2=$O$23),Best1!$F$14,IF(OR($O$2=$O$8,$O$2=$O$10,$O$2=$O$15,$O$2=$O$17),Best1!$F$15,\"\")))))))","v":""},{"$f":"IF(H6=\"\",\"\",H6)","v":""},{"$f":"IF(AR6=\"\",\"\",ROUND(((AR6-AQ6)/AQ6*100),1))","v":""},{"$f":"IF(ISBLANK(I6),\"\",IF(OR($O$2=$O$9,$O$2=$O$10,$O$2=$O$24,$O$2=$O$25),Best1!$F$13,IF(OR($O$2=$O$22,$O$2=$O$23,$O$2=$O$28,$O$2=$O$29),Best1!$F$10,IF(OR($O$2=$O$16,$O$2=$O$17,$O$2=$O$26,$O$2=$O$27),Best1!$F$11,IF(OR($O$2=$O$14,$O$2=$O$15,$O$2=$O$20,$O$2=$O$21),Best1!$F$12,IF(OR($O$2=$O$7,$O$2=$O$8,$O$2=$O$18,$O$2=$O$19),Best1!$F$14,IF(OR($O$2=$O$5,$O$2=$O$6,$O$2=$O$12,$O$2=$O$13),Best1!$F$15,\"\")))))))","v":""},{"$f":"IF(J6=\"\",\"\",J6)","v":""},{"$f":"IF(AU6=\"\",\"\",ROUND(((AU6-AT6)/AT6*100),1))","v":""},{"$f":"IF(ISBLANK(K6),\"\",IF(Best1!$C$3=\"\",\"\",ROUND(SUM(Best1!$C$3:$C$6),1)))","v":""},{"$f":"IF(K6=\"\",\"\",K6)","v":""},{"$f":"IF(AX6=\"\",\"\",ROUND(((AX6-AW6)/AW6*100),1))","v":""},{"$f":"IF(ISBLANK(K6),\"\",IF(Best1!$B$3=\"\",\"\",ROUND(AVERAGE(Best1!$D$3:$D$6),1)))","v":""},{"$f":"IF(L6=\"\",\"\",L6)","v":""},{"$f":"IF(BA6=\"\",\"\",ROUND(((BA6-AZ6)/AZ6*100),1))","v":""},null,{"$f":"AX6","v":""},null,null,null,null,null,null,null,{"$f":"IF(OR(P6=\"\",P6=0),\"\",P6*1)","v":""},"","","","","","","","","","","","","","","","","","","","","","",""]
[3,null,null,null,null,null,null,null,null,null,null,null,null,null,"ACBD",0,0,"","","","","","",0,0,"","","","","","","","",0,0,"","","","",{"$f":"IF(ISBLANK(E7),\"\",IF(OR($O$2=$O$5,$O$2=$O$6,$O$2=$O$12,$O$2=$O$13),Best1!$F$10,IF(OR($O$2=$O$7,$O$2=$O$8,$O$2=$O$18,$O$2=$O$19),Best1!$F$11,IF(OR($O$2=$O$9,$O$2=$O$10,$O$2=$O$24,$O$2=$O$25),Best1!$F$12,IF(OR($O$2=$O$14,$O$2=$O$15,$O$2=$O$20,$O$2=$O$21),Best1!$F$13,IF(OR($O$2=$O$16,$O$2=$O$17,$O$2=$O$26,$O$2=$O$27),Best1!$F$14,IF(OR($O$2=$O$22,$O$2=$O$23,$O$2=$O$28,$O$2=$O$29),Best1!$F$15,\"\")))))))","v":""},"","",{"$f":"IF(ISBLANK(H7),\"\",IF(OR($O$2=$O$5,$O$2=$O$7,$O$2=$O$27,$O$2=$O$29),Best1!$F$13,IF(OR($O$2=$O$18,$O$2=$O$20,$O$2=$O$24,$O$2=$O$26),Best1!$F$10,IF(OR($O$2=$O$12,$O$2=$O$14,$O$2=$O$25,$O$2=$O$28),Best1!$F$11,IF(OR($O$2=$O$13,$O$2=$O$16,$O$2=$O$19,$O$2=$O$22),Best1!$F$12,IF(OR($O$2=$O$6,$O$2=$O$9,$O$2=$O$21,$O$2=$O$23),Best1!$F$14,IF(OR($O$2=$O$8,$O$2=$O$10,$O$2=$O$15,$O$2=$O$17),Best1!$F$15,\"\")))))))","v":""},"","",{"$f":"IF(ISBLANK(I7),\"\",IF(OR($O$2=$O$9,$O$2=$O$10,$O$2=$O$24,$O$2=$O$25),Best1!$F$13,IF(OR($O$2=$O$22,$O$2=$O$23,$O$2=$O$28,$O$2=$O$29),Best1!$F$10,IF(OR($O$2=$O$16,$O$2=$O$17,$O$2=$O$26,$O$2=$O$27),Best1!$F$11,IF(OR($O$2=$O$14,$O$2=$O$15,$O$2=$O$20,$O$2=$O$21),Best1!$F$12,IF(OR($O$2=$O$7,$O$2=$O$8,$O$2=$O$18,$O$2=$O$19),Best1!$F$14,IF(OR($O$2=$O$5,$O$2=$O$6,$O$2=$O$12,$O$2=$O$13),Best1!$F$15,\"\")))))))","v":""},"","",{"$f":"IF(ISBLANK(K7),\"\",IF(Best1!$C$3=\"\",\"\",ROUND(SUM(Best1!$C$3:$C$6),1)))","v":""},"","",{"$f":"IF(ISBLANK(K7),\"\",IF(Best1!$B$3=\"\",\"\",ROUND(AVERAGE(Best1!$D$3:$D$6),1)))","v":""},"","",null,"",null,null,null,null,null,null,null,"","","","","","","","","","","","","","","","","","","","","","","",""]
[4,null,null,null,null,null,null,null,null,null,null,null,null,null,"ACDB",0,0,"","","","","","",0,0,"","","","","","","","",0,0,"","","","",{"$f":"IF(ISBLANK(E8),\"\",IF(OR($O$2=$O$5,$O$2=$O$6,$O$2=$O$12,$O$2=$O$13),Best1!$F$10,IF(OR($O$2=$O$7,$O$2=$O$8,$O$2=$O$18,$O$2=$O$19),Best1!$F$11,IF(OR($O$2=$O$9,$O$2=$O$10,$O$2=$O$24,$O$2=$O$25),Best1!$F$12,IF(OR($O$2=$O$14,$O$2=$O$15,$O$2=$O$20,$O$2=$O$21),Best1!$F$13,IF(OR($O$2=$O$16,$O$2=$O$17,$O$2=$O$26,$O$2=$O$27),Best1!$F$14,IF(OR($O$2=$O$22,$O$2=$O$23,$O$2=$O$28,$O$2=$O$29),Best1!$F$15,\"\")))))))","v":""},"","",{"$f":"IF(ISBLANK(H8),\"\",IF(OR($O$2=$O$5,$O$2=$O$7,$O$2=$O$27,$O$2=$O$29),Best1!$F$13,IF(OR($O$2=$O$18,$O$2=$O$20,$O$2=$O$24,$O$2=$O$26),Best1!$F$10,IF(OR($O$2=$O$12,$O$2=$O$14,$O$2=$O$25,$O$2=$O$28),Best1!$F$11,IF(OR($O$2=$O$13,$O$2=$O$16,$O$2=$O$19,$O$2=$O$22),Best1!$F$12,IF(OR($O$2=$O$6,$O$2=$O$9,$O$2=$O$21,$O$2=$O$23),Best1!$F$14,IF(OR($O$2=$O$8,$O$2=$O$10,$O$2=$O$15,$O$2=$O$17),Best1!$F$15,\"\")))))))","v":""},"","",{"$f":"IF(ISBLANK(I8),\"\",IF(OR($O$2=$O$9,$O$2=$O$10,$O$2=$O$24,$O$2=$O$25),Best1!$F$13,IF(OR($O$2=$O$22,$O$2=$O$23,$O$2=$O$28,$O$2=$O$29),Best1!$F$10,IF(OR($O$2=$O$16,$O$2=$O$17,$O$2=$O$26,$O$2=$O$27),Best1!$F$11,IF(OR($O$2=$O$14,$O$2=$O$15,$O$2=$O$20,$O$2=$O$21),Best1!$F$12,IF(OR($O$2=$O$7,$O$2=$O$8,$O$2=$O$18,$O$2=$O$19),Best1!$F$14,IF(OR($O$2=$O$5,$O$2=$O$6,$O$2=$O$12,$O$2=$O$13),Best1!$F$15,\"\")))))))","v":""},"","",{"$f":"IF(ISBLANK(K8),\"\",IF(Best1!$C$3=\"\",\"\",ROUND(SUM(Best1!$C$3:$C$6),1)))","v":""},"","",{"$f":"IF(ISBLANK(K8),\"\",IF(Best1!$B$3=\"\",\"\",ROUND(AVERAGE(Best1!$D$3:$D$6),1)))","v":""},"","",null,"",null,null,null,null,null,null,null,"","","","","","","","","","","","","","","","","","","","","","","",""]
[5,null,null,null,null,null,null,null,null,null,null,null,null,null,"ADBC",0,0,"","","","","","",0,0,"","","","","","","","",0,0,"","","","",{"$f":"IF(ISBLANK(E9),\"\",IF(OR($O$2=$O$5,$O$2=$O$6,$O$2=$O$12,$O$2=$O$13),Best1!$F$10,IF(OR($O$2=$O$7,$O$2=$O$8,$O$2=$O$18,$O$2=$O$19),Best1!$F$11,IF(OR($O$2=$O$9,$O$2=$O$10,$O$2=$O$24,$O$2=$O$25),Best1!$F$12,IF(OR($O$2=$O$14,$O$2=$O$15,$O$2=$O$20,$O$2=$O$21),Best1!$F$13,IF(OR($O$2=$O$16,$O$2=$O$17,$O$2=$O$26,$O$2=$O$27),Best1!$F$14,IF(OR($O$2=$O$22,$O$2=$O$23,$O$2=$O$28,$O$2=$O$29),Best1!$F$15,\"\")))))))","v":""},"","",{"$f":"IF(ISBLANK(H9),\"\",IF(OR($O$2=$O$5,$O$2=$O$7,$O$2=$O$27,$O$2=$O$29),Best1!$F$13,IF(OR($O$2=$O$18,$O$2=$O$20,$O$2=$O$24,$O$2=$O$26),Best1!$F$10,IF(OR($O$2=$O$12,$O$2=$O$14,$O$2=$O$25,$O$2=$O$28),Best1!$F$11,IF(OR($O$2=$O$13,$O$2=$O$16,$O$2=$O$19,$O$2=$O$22),Best1!$F$12,IF(OR($O$2=$O$6,$O$2=$O$9,$O$2=$O$21,$O$2=$O$23),Best1!$F$14,IF(OR($O$2=$O$8,$O$2=$O$10,$O$2=$O$15,$O$2=$O$17),Best1!$F$15,\"\")))))))","v":""},"","",{"$f":"IF(ISBLANK(I9),\"\",IF(OR($O$2=$O$9,$O$2=$O$10,$O$2=$O$24,$O$2=$O$25),Best1!$F$13,IF(OR($O$2=$O$22,$O$2=$O$23,$O$2=$O$28,$O$2=$O$29),Best1!$F$10,IF(OR($O$2=$O$16,$O$2=$O$17,$O$2=$O$26,$O$2=$O$27),Best1!$F$11,IF(OR($O$2=$O$14,$O$2=$O$15,$O$2=$O$20,$O$2=$O$21),Best1!$F$12,IF(OR($O$2=$O$7,$O$2=$O$8,$O$2=$O$18,$O$2=$O$19),Best1!$F$14,IF(OR($O$2=$O$5,$O$2=$O$6,$O$2=$O$12,$O$2=$O$13),Best1!$F$15,\"\")))))))","v":""},"","",{"$f":"IF(ISBLANK(K9),\"\",IF(Best1!$C$3=\"\",\"\",ROUND(SUM(Best1!$C$3:$C$6),1)))","v":""},"","",{"$f":"IF(ISBLANK(K9),\"\",IF(Best1!$B$3=\"\",\"\",ROUND(AVERAGE(Best1!$D$3:$D$6),1)))","v":""},"","",null,"",null,null,null,null,null,null,null,"","","","","","","","","","","","","","","","","","","","","","","",""]
[6,null,null,null,null,null,null,null,null,null,null,null,null,null,"ADCB",0,0,"","","","","","",0,0,"","","","","","","","",0,0,"","","","",{"$f":"IF(ISBLANK(E10),\"\",IF(OR($O$2=$O$5,$O$2=$O$6,$O$2=$O$12,$O$2=$O$13),Best1!$F$10,IF(OR($O$2=$O$7,$O$2=$O$8,$O$2=$O$18,$O$2=$O$19),Best1!$F$11,IF(OR($O$2=$O$9,$O$2=$O$10,$O$2=$O$24,$O$2=$O$25),Best1!$F$12,IF(OR($O$2=$O$14,$O$2=$O$15,$O$2=$O$20,$O$2=$O$21),Best1!$F$13,IF(OR($O$2=$O$16,$O$2=$O$17,$O$2=$O$26,$O$2=$O$27),Best1!$F$14,IF(OR($O$2=$O$22,$O$2=$O$23,$O$2=$O$28,$O$2=$O$29),Best1!$F$15,\"\")))))))","v":""},"","",{"$f":"IF(ISBLANK(H10),\"\",IF(OR($O$2=$O$5,$O$2=$O$7,$O$2=$O$27,$O$2=$O$29),Best1!$F$13,IF(OR($O$2=$O$18,$O$2=$O$20,$O$2=$O$24,$O$2=$O$26),Best1!$F$10,IF(OR($O$2=$O$12,$O$2=$O$14,$O$2=$O$25,$O$2=$O$28),Best1!$F$11,IF(OR($O$2=$O$13,$O$2=$O$16,$O$2=$O$19,$O$2=$O$22),Best1!$F$12,IF(OR($O$2=$O$6,$O$2=$O$9,$O$2=$O$21,$O$2=$O$23),Best1!$F$14,IF(OR($O$2=$O$8,$O$2=$O$10,$O$2=$O$15,$O$2=$O$17),Best1!$F$15,\"\")))))))","v":""},"","",{"$f":"IF(ISBLANK(I10),\"\",IF(OR($O$2=$O$9,$O$2=$O$10,$O$2=$O$24,$O$2=$O$25),Best1!$F$13,IF(OR($O$2=$O$22,$O$2=$O$23,$O$2=$O$28,$O$2=$O$29),Best1!$F$10,IF(OR($O$2=$O$16,$O$2=$O$17,$O$2=$O$26,$O$2=$O$27),Best1!$F$11,IF(OR($O$2=$O$14,$O$2=$O$15,$O$2=$O$20,$O$2=$O$21),Best1!$F$12,IF(OR($O$2=$O$7,$O$2=$O$8,$O$2=$O$18,$O$2=$O$19),Best1!$F$14,IF(OR($O$2=$O$5,$O$2=$O$6,$O$2=$O$12,$O$2=$O$13),Best1!$F$15,\"\")))))))","v":""},"","",{"$f":"IF(ISBLANK(K10),\"\",IF(Best1!$C$3=\"\",\"\",ROUND(SUM(Best1!$C$3:$C$6),1)))","v":""},"","",{"$f":"IF(ISBLANK(K10),\"\",IF(Best1!$B$3=\"\",\"\",ROUND(AVERAGE(Best1!$D$3:$D$6),1)))","v":""},"","",null,"",null,null,null,null,null,null,null,"","","","","","","","","","","","","","","","","","","","","","","",""]
[7,null,null,null,null,null,null,null,null,null,null,null,null,null,"ADCB",0,0,"","","","","","",0,0,"","","","","","","","",0,0,"","","","",{"$f":"IF(ISBLANK(E11),\"\",IF(OR($O$2=$O$5,$O$2=$O$6,$O$2=$O$12,$O$2=$O$13),Best1!$F$10,IF(OR($O$2=$O$7,$O$2=$O$8,$O$2=$O$18,$O$2=$O$19),Best1!$F$11,IF(OR($O$2=$O$9,$O$2=$O$10,$O$2=$O$24,$O$2=$O$25),Best1!$F$12,IF(OR($O$2=$O$14,$O$2=$O$15,$O$2=$O$20,$O$2=$O$21),Best1!$F$13,IF(OR($O$2=$O$16,$O$2=$O$17,$O$2=$O$26,$O$2=$O$27),Best1!$F$14,IF(OR($O$2=$O$22,$O$2=$O$23,$O$2=$O$28,$O$2=$O$29),Best1!$F$15,\"\")))))))","v":""},"","",{"$f":"IF(ISBLANK(H11),\"\",IF(OR($O$2=$O$5,$O$2=$O$7,$O$2=$O$27,$O$2=$O$29),Best1!$F$13,IF(OR($O$2=$O$18,$O$2=$O$20,$O$2=$O$24,$O$2=$O$26),Best1!$F$10,IF(OR($O$2=$O$12,$O$2=$O$14,$O$2=$O$25,$O$2=$O$28),Best1!$F$11,IF(OR($O$2=$O$13,$O$2=$O$16,$O$2=$O$19,$O$2=$O$22),Best1!$F$12,IF(OR($O$2=$O$6,$O$2=$O$9,$O$2=$O$21,$O$2=$O$23),Best1!$F$14,IF(OR($O$2=$O$8,$O$2=$O$10,$O$2=$O$15,$O$2=$O$17),Best1!$F$15,\"\")))))))","v":""},"","",{"$f":"IF(ISBLANK(I11),\"\",IF(OR($O$2=$O$9,$O$2=$O$10,$O$2=$O$24,$O$2=$O$25),Best1!$F$13,IF(OR($O$2=$O$22,$O$2=$O$23,$O$2=$O$28,$O$2=$O$29),Best1!$F$10,IF(OR($O$2=$O$16,$O$2=$O$17,$O$2=$O$26,$O$2=$O$27),Best1!$F$11,IF(OR($O$2=$O$14,$O$2=$O$15,$O$2=$O$20,$O$2=$O$21),Best1!$F$12,IF(OR($O$2=$O$7,$O$2=$O$8,$O$2=$O$18,$O$2=$O$19),Best1!$F$14,IF(OR($O$2=$O$5,$O$2=$O$6,$O$2=$O$12,$O$2=$O$13),Best1!$F$15,\"\")))))))","v":""},"","",{"$f":"IF(ISBLANK(K11),\"\",IF(Best1!$C$3=\"\",\"\",ROUND(SUM(Best1!$C$3:$C$6),1)))","v":""},"","",{"$f":"IF(ISBLANK(K11),\"\",IF(Best1!$B$3=\"\",\"\",ROUND(AVERAGE(Best1!$D$3:$D$6),1)))","v":""},"","",null,"",null,null,null,null,null,null,null,"","","","","","","","","","","","","","","","","","","","","","","",""]
[8,null,null,null,null,null,null,null,null,null,null,null,null,null,"BACD",0,0,"","","","","","",0,0,"","","","","","","","",0,0,"","","","",{"$f":"IF(ISBLANK(E12),\"\",IF(OR($O$2=$O$5,$O$2=$O$6,$O$2=$O$12,$O$2=$O$13),Best1!$F$10,IF(OR($O$2=$O$7,$O$2=$O$8,$O$2=$O$18,$O$2=$O$19),Best1!$F$11,IF(OR($O$2=$O$9,$O$2=$O$10,$O$2=$O$24,$O$2=$O$25),Best1!$F$12,IF(OR($O$2=$O$14,$O$2=$O$15,$O$2=$O$20,$O$2=$O$21),Best1!$F$13,IF(OR($O$2=$O$16,$O$2=$O$17,$O$2=$O$26,$O$2=$O$27),Best1!$F$14,IF(OR($O$2=$O$22,$O$2=$O$23,$O$2=$O$28,$O$2=$O$29),Best1!$F$15,\"\")))))))","v":""},"","",{"$f":"IF(ISBLANK(H12),\"\",IF(OR($O$2=$O$5,$O$2=$O$7,$O$2=$O$27,$O$2=$O$29),Best1!$F$13,IF(OR($O$2=$O$18,$O$2=$O$20,$O$2=$O$24,$O$2=$O$26),Best1!$F$10,IF(OR($O$2=$O$12,$O$2=$O$14,$O$2=$O$25,$O$2=$O$28),Best1!$F$11,IF(OR($O$2=$O$13,$O$2=$O$16,$O$2=$O$19,$O$2=$O$22),Best1!$F$12,IF(OR($O$2=$O$6,$O$2=$O$9,$O$2=$O$21,$O$2=$O$23),Best1!$F$14,IF(OR($O$2=$O$8,$O$2=$O$10,$O$2=$O$15,$O$2=$O$17),Best1!$F$15,\"\")))))))","v":""},"","",{"$f":"IF(ISBLANK(I12),\"\",IF(OR($O$2=$O$9,$O$2=$O$10,$O$2=$O$24,$O$2=$O$25),Best1!$F$13,IF(OR($O$2=$O$22,$O$2=$O$23,$O$2=$O$28,$O$2=$O$29),Best1!$F$10,IF(OR($O$2=$O$16,$O$2=$O$17,$O$2=$O$26,$O$2=$O$27),Best1!$F$11,IF(OR($O$2=$O$14,$O$2=$O$15,$O$2=$O$20,$O$2=$O$21),Best1!$F$12,IF(OR($O$2=$O$7,$O$2=$O$8,$O$2=$O$18,$O$2=$O$19),Best1!$F$14,IF(OR($O$2=$O$5,$O$2=$O$6,$O$2=$O$12,$O$2=$O$13),Best1!$F$15,\"\")))))))","v":""},"","",{"$f":"IF(ISBLANK(K12),\"\",IF(Best1!$C$3=\"\",\"\",ROUND(SUM(Best1!$C$3:$C$6),1)))","v":""},"","",{"$f":"IF(ISBLANK(K12),\"\",IF(Best1!$B$3=\"\",\"\",ROUND(AVERAGE(Best1!$D$3:$D$6),1)))","v":""},"","",null,"",null,null,null,null,null,null,null,"","","","","","","","","","","","","","","","","","","","","","","",""]
[9,null,null,null,null,null,null,null,null,null,null,null,null,null,"BADC",0,0,"","","","","","",0,0,"","","","","","","","",0,0,"","","","",{"$f":"IF(ISBLANK(E13),\"\",IF(OR($O$2=$O$5,$O$2=$O$6,$O$2=$O$12,$O$2=$O$13),Best1!$F$10,IF(OR($O$2=$O$7,$O$2=$O$8,$O$2=$O$18,$O$2=$O$19),Best1!$F$11,IF(OR($O$2=$O$9,$O$2=$O$10,$O$2=$O$24,$O$2=$O$25),Best1!$F$12,IF(OR($O$2=$O$14,$O$2=$O$15,$O$2=$O$20,$O$2=$O$21),Best1!$F$13,IF(OR($O$2=$O$16,$O$2=$O$17,$O$2=$O$26,$O$2=$O$27),Best1!$F$14,IF(OR($O$2=$O$22,$O$2=$O$23,$O$2=$O$28,$O$2=$O$29),Best1!$F$15,\"\")))))))","v":""},"","",{"$f":"IF(ISBLANK(H13),\"\",IF(OR($O$2=$O$5,$O$2=$O$7,$O$2=$O$27,$O$2=$O$29),Best1!$F$13,IF(OR($O$2=$O$18,$O$2=$O$20,$O$2=$O$24,$O$2=$O$26),Best1!$F$10,IF(OR($O$2=$O$12,$O$2=$O$14,$O$2=$O$25,$O$2=$O$28),Best1!$F$11,IF(OR($O$2=$O$13,$O$2=$O$16,$O$2=$O$19,$O$2=$O$22),Best1!$F$12,IF(OR($O$2=$O$6,$O$2=$O$9,$O$2=$O$21,$O$2=$O$23),Best1!$F$14,IF(OR($O$2=$O$8,$O$2=$O$10,$O$2=$O$15,$O$2=$O$17),Best1!$F$15,\"\")))))))","v":""},"","",{"$f":"IF(ISBLANK(I13),\"\",IF(OR($O$2=$O$9,$O$2=$O$10,$O$2=$O$24,$O$2=$O$25),Best1!$F$13,IF(OR($O$2=$O$22,$O$2=$O$23,$O$2=$O$28,$O$2=$O$29),Best1!$F$10,IF(OR($O$2=$O$16,$O$2=$O$17,$O$2=$O$26,$O$2=$O$27),Best1!$F$11,IF(OR($O$2=$O$14,$O$2=$O$15,$O$2=$O$20,$O$2=$O$21),Best1!$F$12,IF(OR($O$2=$O$7,$O$2=$O$8,$O$2=$O$18,$O$2=$O$19),Best1!$F$14,IF(OR($O$2=$O$5,$O$2=$O$6,$O$2=$O$12,$O$2=$O$13),Best1!$F$15,\"\")))))))","v":""},"","",{"$f":"IF(ISBLANK(K13),\"\",IF(Best1!$C$3=\"\",\"\",ROUND(SUM(Best1!$C$3:$C$6),1)))","v":""},"","",{"$f":"IF(ISBLANK(K13),\"\",IF(Best1!$B$3=\"\",\"\",ROUND(AVERAGE(Best1!$D$3:$D$6),1)))","v":""},"","",null,"",null,null,null,null,null,null,null,"","","","","","","","","","","","","","","","","","","","","","","",""]
[10,null,null,null,null,null,null,null,null,null,null,null,null,null,"BCAD",0,0,"","","","","","",0,0,"","","","","","","","",0,0,"","","","",{"$f":"IF(ISBLANK(E14),\"\",IF(OR($O$2=$O$5,$O$2=$O$6,$O$2=$O$12,$O$2=$O$13),Best1!$F$10,IF(OR($O$2=$O$7,$O$2=$O$8,$O$2=$O$18,$O$2=$O$19),Best1!$F$11,IF(OR($O$2=$O$9,$O$2=$O$10,$O$2=$O$24,$O$2=$O$25),Best1!$F$12,IF(OR($O$2=$O$14,$O$2=$O$15,$O$2=$O$20,$O$2=$O$21),Best1!$F$13,IF(OR($O$2=$O$16,$O$2=$O$17,$O$2=$O$26,$O$2=$O$27),Best1!$F$14,IF(OR($O$2=$O$22,$O$2=$O$23,$O$2=$O$28,$O$2=$O$29),Best1!$F$15,\"\")))))))","v":""},"","",{"$f":"IF(ISBLANK(H14),\"\",IF(OR($O$2=$O$5,$O$2=$O$7,$O$2=$O$27,$O$2=$O$29),Best1!$F$13,IF(OR($O$2=$O$18,$O$2=$O$20,$O$2=$O$24,$O$2=$O$26),Best1!$F$10,IF(OR($O$2=$O$12,$O$2=$O$14,$O$2=$O$25,$O$2=$O$28),Best1!$F$11,IF(OR($O$2=$O$13,$O$2=$O$16,$O$2=$O$19,$O$2=$O$22),Best1!$F$12,IF(OR($O$2=$O$6,$O$2=$O$9,$O$2=$O$21,$O$2=$O$23),Best1!$F$14,IF(OR($O$2=$O$8,$O$2=$O$10,$O$2=$O$15,$O$2=$O$17),Best1!$F$15,\"\")))))))","v":""},"","",{"$f":"IF(ISBLANK(I14),\"\",IF(OR($O$2=$O$9,$O$2=$O$10,$O$2=$O$24,$O$2=$O$25),Best1!$F$13,IF(OR($O$2=$O$22,$O$2=$O$23,$O$2=$O$28,$O$2=$O$29),Best1!$F$10,IF(OR($O$2=$O$16,$O$2=$O$17,$O$2=$O$26,$O$2=$O$27),Best1!$F$11,IF(OR($O$2=$O$14,$O$2=$O$15,$O$2=$O$20,$O$2=$O$21),Best1!$F$12,IF(OR($O$2=$O$7,$O$2=$O$8,$O$2=$O$18,$O$2=$O$19),Best1!$F$14,IF(OR($O$2=$O$5,$O$2=$O$6,$O$2=$O$12,$O$2=$O$13),Best1!$F$15,\"\")))))))","v":""},"","",{"$f":"IF(ISBLANK(K14),\"\",IF(Best1!$C$3=\"\",\"\",ROUND(SUM(Best1!$C$3:$C$6),1)))","v":""},"","",{"$f":"IF(ISBLANK(K14),\"\",IF(Best1!$B$3=\"\",\"\",ROUND(AVERAGE(Best1!$D$3:$D$6),1)))","v":""},"","",null,"",null,null,null,null,null,null,null,"","","","","","","","","","","","","","","","","","","","","","","",""]
[11,null,null,null,null,null,null,null,null,null,null,null,null,null,"BCDA",0,0,"","","","","","",0,0,"","","","","","","","",0,0,"","","","",{"$f":"IF(ISBLANK(E15),\"\",IF(OR($O$2=$O$5,$O$2=$O$6,$O$2=$O$12,$O$2=$O$13),Best1!$F$10,IF(OR($O$2=$O$7,$O$2=$O$8,$O$2=$O$18,$O$2=$O$19),Best1!$F$11,IF(OR($O$2=$O$9,$O$2=$O$10,$O$2=$O$24,$O$2=$O$25),Best1!$F$12,IF(OR($O$2=$O$14,$O$2=$O$15,$O$2=$O$20,$O$2=$O$21),Best1!$F$13,IF(OR($O$2=$O$16,$O$2=$O$17,$O$2=$O$26,$O$2=$O$27),Best1!$F$14,IF(OR($O$2=$O$22,$O$2=$O$23,$O$2=$O$28,$O$2=$O$29),Best1!$F$15,\"\")))))))","v":""},"","",{"$f":"IF(ISBLANK(H15),\"\",IF(OR($O$2=$O$5,$O$2=$O$7,$O$2=$O$27,$O$2=$O$29),Best1!$F$13,IF(OR($O$2=$O$18,$O$2=$O$20,$O$2=$O$24,$O$2=$O$26),Best1!$F$10,IF(OR($O$2=$O$12,$O$2=$O$14,$O$2=$O$25,$O$2=$O$28),Best1!$F$11,IF(OR($O$2=$O$13,$O$2=$O$16,$O$2=$O$19,$O$2=$O$22),Best1!$F$12,IF(OR($O$2=$O$6,$O$2=$O$9,$O$2=$O$21,$O$2=$O$23),Best1!$F$14,IF(OR($O$2=$O$8,$O$2=$O$10,$O$2=$O$15,$O$2=$O$17),Best1!$F$15,\"\")))))))","v":""},"","",{"$f":"IF(ISBLANK(I15),\"\",IF(OR($O$2=$O$9,$O$2=$O$10,$O$2=$O$24,$O$2=$O$25),Best1!$F$13,IF(OR($O$2=$O$22,$O$2=$O$23,$O$2=$O$28,$O$2=$O$29),Best1!$F$10,IF(OR($O$2=$O$16,$O$2=$O$17,$O$2=$O$26,$O$2=$O$27),Best1!$F$11,IF(OR($O$2=$O$14,$O$2=$O$15,$O$2=$O$20,$O$2=$O$21),Best1!$F$12,IF(OR($O$2=$O$7,$O$2=$O$8,$O$2=$O$18,$O$2=$O$19),Best1!$F$14,IF(OR($O$2=$O$5,$O$2=$O$6,$O$2=$O$12,$O$2=$O$13),Best1!$F$15,\"\")))))))","v":""},"","",{"$f":"IF(ISBLANK(K15),\"\",IF(Best1!$C$3=\"\",\"\",ROUND(SUM(Best1!$C$3:$C$6),1)))","v":""},"","",{"$f":"IF(ISBLANK(K15),\"\",IF(Best1!$B$3=\"\",\"\",ROUND(AVERAGE(Best1!$D$3:$D$6),1)))","v":""},"","",null,"",null,null,null,null,null,null,null,"","","","","","","","","","","","","","","","","","","","","","","",""]
[12,null,null,null,null,null,null,null,null,null,null,null,null,null,"BDAC",0,0,"","","","","","",0,0,"","","","","","","","",0,0,"","","","",{"$f":"IF(ISBLANK(E16),\"\",IF(OR($O$2=$O$5,$O$2=$O$6,$O$2=$O$12,$O$2=$O$13),Best1!$F$10,IF(OR($O$2=$O$7,$O$2=$O$8,$O$2=$O$18,$O$2=$O$19),Best1!$F$11,IF(OR($O$2=$O$9,$O$2=$O$10,$O$2=$O$24,$O$2=$O$25),Best1!$F$12,IF(OR($O$2=$O$14,$O$2=$O$15,$O$2=$O$20,$O$2=$O$21),Best1!$F$13,IF(OR($O$2=$O$16,$O$2=$O$17,$O$2=$O$26,$O$2=$O$27),Best1!$F$14,IF(OR($O$2=$O$22,$O$2=$O$23,$O$2=$O$28,$O$2=$O$29),Best1!$F$15,\"\")))))))","v":""},"","",{"$f":"IF(ISBLANK(H16),\"\",IF(OR($O$2=$O$5,$O$2=$O$7,$O$2=$O$27,$O$2=$O$29),Best1!$F$13,IF(OR($O$2=$O$18,$O$2=$O$20,$O$2=$O$24,$O$2=$O$26),Best1!$F$10,IF(OR($O$2=$O$12,$O$2=$O$14,$O$2=$O$25,$O$2=$O$28),Best1!$F$11,IF(OR($O$2=$O$13,$O$2=$O$16,$O$2=$O$19,$O$2=$O$22),Best1!$F$12,IF(OR($O$2=$O$6,$O$2=$O$9,$O$2=$O$21,$O$2=$O$23),Best1!$F$14,IF(OR($O$2=$O$8,$O$2=$O$10,$O$2=$O$15,$O$2=$O$17),Best1!$F$15,\"\")))))))","v":""},"","",{"$f":"IF(ISBLANK(I16),\"\",IF(OR($O$2=$O$9,$O$2=$O$10,$O$2=$O$24,$O$2=$O$25),Best1!$F$13,IF(OR($O$2=$O$22,$O$2=$O$23,$O$2=$O$28,$O$2=$O$29),Best1!$F$10,IF(OR($O$2=$O$16,$O$2=$O$17,$O$2=$O$26,$O$2=$O$27),Best1!$F$11,IF(OR($O$2=$O$14,$O$2=$O$15,$O$2=$O$20,$O$2=$O$21),Best1!$F$12,IF(OR($O$2=$O$7,$O$2=$O$8,$O$2=$O$18,$O$2=$O$19),Best1!$F$14,IF(OR($O$2=$O$5,$O$2=$O$6,$O$2=$O$12,$O$2=$O$13),Best1!$F$15,\"\")))))))","v":""},"","",{"$f":"IF(ISBLANK(K16),\"\",IF(Best1!$C$3=\"\",\"\",ROUND(SUM(Best1!$C$3:$C$6),1)))","v":""},"","",{"$f":"IF(ISBLANK(K16),\"\",IF(Best1!$B$3=\"\",\"\",ROUND(AVERAGE(Best1!$D$3:$D$6),1)))","v":""},"","",null,"",null,null,null,null,null,null,null,"","","",{"$f":"IF(OR(S16=\"\",S16=0),\"\",S16*1)","v":""},"","","","","","","","","","","","","","","",{"$f":"IF(OR(AI16=\"\",AI16=0),\"\",AI16*1)","v":""},"","","",""]
[13,null,null,null,null,null,null,null,null,null,null,null,null,null,"BDCA",0,0,"","","","","","",0,0,"","","","","","","","",0,0,"","","","",{"$f":"IF(ISBLANK(E17),\"\",IF(OR($O$2=$O$5,$O$2=$O$6,$O$2=$O$12,$O$2=$O$13),Best1!$F$10,IF(OR($O$2=$O$7,$O$2=$O$8,$O$2=$O$18,$O$2=$O$19),Best1!$F$11,IF(OR($O$2=$O$9,$O$2=$O$10,$O$2=$O$24,$O$2=$O$25),Best1!$F$12,IF(OR($O$2=$O$14,$O$2=$O$15,$O$2=$O$20,$O$2=$O$21),Best1!$F$13,IF(OR($O$2=$O$16,$O$2=$O$17,$O$2=$O$26,$O$2=$O$27),Best1!$F$14,IF(OR($O$2=$O$22,$O$2=$O$23,$O$2=$O$28,$O$2=$O$29),Best1!$F$15,\"\")))))))","v":""},"","",{"$f":"IF(ISBLANK(H17),\"\",IF(OR($O$2=$O$5,$O$2=$O$7,$O$2=$O$27,$O$2=$O$29),Best1!$F$13,IF(OR($O$2=$O$18,$O$2=$O$20,$O$2=$O$24,$O$2=$O$26),Best1!$F$10,IF(OR($O$2=$O$12,$O$2=$O$14,$O$2=$O$25,$O$2=$O$28),Best1!$F$11,IF(OR($O$2=$O$13,$O$2=$O$16,$O$2=$O$19,$O$2=$O$22),Best1!$F$12,IF(OR($O$2=$O$6,$O$2=$O$9,$O$2=$O$21,$O$2=$O$23),Best1!$F$14,IF(OR($O$2=$O$8,$O$2=$O$10,$O$2=$O$15,$O$2=$O$17),Best1!$F$15,\"\")))))))","v":""},"","",{"$f":"IF(ISBLANK(I17),\"\",IF(OR($O$2=$O$9,$O$2=$O$10,$O$2=$O$24,$O$2=$O$25),Best1!$F$13,IF(OR($O$2=$O$22,$O$2=$O$23,$O$2=$O$28,$O$2=$O$29),Best1!$F$10,IF(OR($O$2=$O$16,$O$2=$O$17,$O$2=$O$26,$O$2=$O$27),Best1!$F$11,IF(OR($O$2=$O$14,$O$2=$O$15,$O$2=$O$20,$O$2=$O$21),Best1!$F$12,IF(OR($O$2=$O$7,$O$2=$O$8,$O$2=$O$18,$O$2=$O$19),Best1!$F$14,IF(OR($O$2=$O$5,$O$2=$O$6,$O$2=$O$12,$O$2=$O$13),Best1!$F$15,\"\")))))))","v":""},"","",{"$f":"IF(ISBLANK(K17),\"\",IF(Best1!$C$3=\"\",\"\",ROUND(SUM(Best1!$C$3:$C$6),1)))","v":""},"","",{"$f":"IF(ISBLANK(K17),\"\",IF(Best1!$B$3=\"\",\"\",ROUND(AVERAGE(Best1!$D$3:$D$6),1)))","v":""},"","",null,"",null,null,null,null,null,null,null,"","","","","","","","","","","","","","","","","","","","","","","",""]
[14,null,null,null,null,null,null,null,null,null,null,null,null,null,"CABD",0,0,"","","","","","",0,0,"","","","","","","","",0,0,"","","","",{"$f":"IF(ISBLANK(E18),\"\",IF(OR($O$2=$O$5,$O$2=$O$6,$O$2=$O$12,$O$2=$O$13),Best1!$F$10,IF(OR($O$2=$O$7,$O$2=$O$8,$O$2=$O$18,$O$2=$O$19),Best1!$F$11,IF(OR($O$2=$O$9,$O$2=$O$10,$O$2=$O$24,$O$2=$O$25),Best1!$F$12,IF(OR($O$2=$O$14,$O$2=$O$15,$O$2=$O$20,$O$2=$O$21),Best1!$F$13,IF(OR($O$2=$O$16,$O$2=$O$17,$O$2=$O$26,$O$2=$O$27),Best1!$F$14,IF(OR($O$2=$O$22,$O$2=$O$23,$O$2=$O$28,$O$2=$O$29),Best1!$F$15,\"\")))))))","v":""},"","",{"$f":"IF(ISBLANK(H18),\"\",IF(OR($O$2=$O$5,$O$2=$O$7,$O$2=$O$27,$O$2=$O$29),Best1!$F$13,IF(OR($O$2=$O$18,$O$2=$O$20,$O$2=$O$24,$O$2=$O$26),Best1!$F$10,IF(OR($O$2=$O$12,$O$2=$O$14,$O$2=$O$25,$O$2=$O$28),Best1!$F$11,IF(OR($O$2=$O$13,$O$2=$O$16,$O$2=$O$19,$O$2=$O$22),Best1!$F$12,IF(OR($O$2=$O$6,$O$2=$O$9,$O$2=$O$21,$O$2=$O$23),Best1!$F$14,IF(OR($O$2=$O$8,$O$2=$O$10,$O$2=$O$15,$O$2=$O$17),Best1!$F$15,\"\")))))))","v":""},"","",{"$f":"IF(ISBLANK(I18),\"\",IF(OR($O$2=$O$9,$O$2=$O$10,$O$2=$O$24,$O$2=$O$25),Best1!$F$13,IF(OR($O$2=$O$22,$O$2=$O$23,$O$2=$O$28,$O$2=$O$29),Best1!$F$10,IF(OR($O$2=$O$16,$O$2=$O$17,$O$2=$O$26,$O$2=$O$27),Best1!$F$11,IF(OR($O$2=$O$14,$O$2=$O$15,$O$2=$O$20,$O$2=$O$21),Best1!$F$12,IF(OR($O$2=$O$7,$O$2=$O$8,$O$2=$O$18,$O$2=$O$19),Best1!$F$14,IF(OR($O$2=$O$5,$O$2=$O$6,$O$2=$O$12,$O$2=$O$13),Best1!$F$15,\"\")))))))","v":""},"","",{"$f":"IF(ISBLANK(K18),\"\",IF(Best1!$C$3=\"\",\"\",ROUND(SUM(Best1!$C$3:$C$6),1)))","v":""},"","",{"$f":"IF(ISBLANK(K18),\"\",IF(Best1!$B$3=\"\",\"\",ROUND(AVERAGE(Best1!$D$3:$D$6),1)))","v":""},"","",null,"",null,null,null,null,null,null,null,"","","","","","","","","","","","","","","","","","","","","","","",""]
[15,null,null,null,null,null,null,null,null,null,null,null,null,null,"CADB",0,0,"","","","","","",0,0,"","","","","","","","",0,0,"","","","",{"$f":"IF(ISBLANK(E19),\"\",IF(OR($O$2=$O$5,$O$2=$O$6,$O$2=$O$12,$O$2=$O$13),Best1!$F$10,IF(OR($O$2=$O$7,$O$2=$O$8,$O$2=$O$18,$O$2=$O$19),Best1!$F$11,IF(OR($O$2=$O$9,$O$2=$O$10,$O$2=$O$24,$O$2=$O$25),Best1!$F$12,IF(OR($O$2=$O$14,$O$2=$O$15,$O$2=$O$20,$O$2=$O$21),Best1!$F$13,IF(OR($O$2=$O$16,$O$2=$O$17,$O$2=$O$26,$O$2=$O$27),Best1!$F$14,IF(OR($O$2=$O$22,$O$2=$O$23,$O$2=$O$28,$O$2=$O$29),Best1!$F$15,\"\")))))))","v":""},"","",{"$f":"IF(ISBLANK(H19),\"\",IF(OR($O$2=$O$5,$O$2=$O$7,$O$2=$O$27,$O$2=$O$29),Best1!$F$13,IF(OR($O$2=$O$18,$O$2=$O$20,$O$2=$O$24,$O$2=$O$26),Best1!$F$10,IF(OR($O$2=$O$12,$O$2=$O$14,$O$2=$O$25,$O$2=$O$28),Best1!$F$11,IF(OR($O$2=$O$13,$O$2=$O$16,$O$2=$O$19,$O$2=$O$22),Best1!$F$12,IF(OR($O$2=$O$6,$O$2=$O$9,$O$2=$O$21,$O$2=$O$23),Best1!$F$14,IF(OR($O$2=$O$8,$O$2=$O$10,$O$2=$O$15,$O$2=$O$17),Best1!$F$15,\"\")))))))","v":""},"","",{"$f":"IF(ISBLANK(I19),\"\",IF(OR($O$2=$O$9,$O$2=$O$10,$O$2=$O$24,$O$2=$O$25),Best1!$F$13,IF(OR($O$2=$O$22,$O$2=$O$23,$O$2=$O$28,$O$2=$O$29),Best1!$F$10,IF(OR($O$2=$O$16,$O$2=$O$17,$O$2=$O$26,$O$2=$O$27),Best1!$F$11,IF(OR($O$2=$O$14,$O$2=$O$15,$O$2=$O$20,$O$2=$O$21),Best1!$F$12,IF(OR($O$2=$O$7,$O$2=$O$8,$O$2=$O$18,$O$2=$O$19),Best1!$F$14,IF(OR($O$2=$O$5,$O$2=$O$6,$O$2=$O$12,$O$2=$O$13),Best1!$F$15,\"\")))))))","v":""},"","",{"$f":"IF(ISBLANK(K19),\"\",IF(Best1!$C$3=\"\",\"\",ROUND(SUM(Best1!$C$3:$C$6),1)))","v":""},"","",{"$f":"IF(ISBLANK(K19),\"\",IF(Best1!$B$3=\"\",\"\",ROUND(AVERAGE(Best1!$D$3:$D$6),1)))","v":""},"","",null,"",null,null,null,null,null,null,null,"","","","","","","","","","","","","","","","","","","","","","","",""]
[16,null,null,null,null,null,null,null,null,null,null,null,null,null,"CBAD",0,0,"","","","","","",0,0,"","","","","","","","",0,0,"","","","",{"$f":"IF(ISBLANK(E20),\"\",IF(OR($O$2=$O$5,$O$2=$O$6,$O$2=$O$12,$O$2=$O$13),Best1!$F$10,IF(OR($O$2=$O$7,$O$2=$O$8,$O$2=$O$18,$O$2=$O$19),Best1!$F$11,IF(OR($O$2=$O$9,$O$2=$O$10,$O$2=$O$24,$O$2=$O$25),Best1!$F$12,IF(OR($O$2=$O$14,$O$2=$O$15,$O$2=$O$20,$O$2=$O$21),Best1!$F$13,IF(OR($O$2=$O$16,$O$2=$O$17,$O$2=$O$26,$O$2=$O$27),Best1!$F$14,IF(OR($O$2=$O$22,$O$2=$O$23,$O$2=$O$28,$O$2=$O$29),Best1!$F$15,\"\")))))))","v":""},"","",{"$f":"IF(ISBLANK(H20),\"\",IF(OR($O$2=$O$5,$O$2=$O$7,$O$2=$O$27,$O$2=$O$29),Best1!$F$13,IF(OR($O$2=$O$18,$O$2=$O$20,$O$2=$O$24,$O$2=$O$26),Best1!$F$10,IF(OR($O$2=$O$12,$O$2=$O$14,$O$2=$O$25,$O$2=$O$28),Best1!$F$11,IF(OR($O$2=$O$13,$O$2=$O$16,$O$2=$O$19,$O$2=$O$22),Best1!$F$12,IF(OR($O$2=$O$6,$O$2=$O$9,$O$2=$O$21,$O$2=$O$23),Best1!$F$14,IF(OR($O$2=$O$8,$O$2=$O$10,$O$2=$O$15,$O$2=$O$17),Best1!$F$15,\"\")))))))","v":""},"","",{"$f":"IF(ISBLANK(I20),\"\",IF(OR($O$2=$O$9,$O$2=$O$10,$O$2=$O$24,$O$2=$O$25),Best1!$F$13,IF(OR($O$2=$O$22,$O$2=$O$23,$O$2=$O$28,$O$2=$O$29),Best1!$F$10,IF(OR($O$2=$O$16,$O$2=$O$17,$O$2=$O$26,$O$2=$O$27),Best1!$F$11,IF(OR($O$2=$O$14,$O$2=$O$15,$O$2=$O$20,$O$2=$O$21),Best1!$F$12,IF(OR($O$2=$O$7,$O$2=$O$8,$O$2=$O$18,$O$2=$O$19),Best1!$F$14,IF(OR($O$2=$O$5,$O$2=$O$6,$O$2=$O$12,$O$2=$O$13),Best1!$F$15,\"\")))))))","v":""},"","",{"$f":"IF(ISBLANK(K20),\"\",IF(Best1!$C$3=\"\",\"\",ROUND(SUM(Best1!$C$3:$C$6),1)))","v":""},"","",{"$f":"IF(ISBLANK(K20),\"\",IF(Best1!$B$3=\"\",\"\",ROUND(AVERAGE(Best1!$D$3:$D$6),1)))","v":""},"","",null,"",null,null,null,null,null,null,null,"","","","","","","","","","","","","","","","","","","","","","","",""]
[17,null,null,null,null,null,null,null,null,null,null,null,null,null,"CBDA",0,0,"","","","","","",0,0,"","","","","","","","",0,0,"","","","",{"$f":"IF(ISBLANK(E21),\"\",IF(OR($O$2=$O$5,$O$2=$O$6,$O$2=$O$12,$O$2=$O$13),Best1!$F$10,IF(OR($O$2=$O$7,$O$2=$O$8,$O$2=$O$18,$O$2=$O$19),Best1!$F$11,IF(OR($O$2=$O$9,$O$2=$O$10,$O$2=$O$24,$O$2=$O$25),Best1!$F$12,IF(OR($O$2=$O$14,$O$2=$O$15,$O$2=$O$20,$O$2=$O$21),Best1!$F$13,IF(OR($O$2=$O$16,$O$2=$O$17,$O$2=$O$26,$O$2=$O$27),Best1!$F$14,IF(OR($O$2=$O$22,$O$2=$O$23,$O$2=$O$28,$O$2=$O$29),Best1!$F$15,\"\")))))))","v":""},"","",{"$f":"IF(ISBLANK(H21),\"\",IF(OR($O$2=$O$5,$O$2=$O$7,$O$2=$O$27,$O$2=$O$29),Best1!$F$13,IF(OR($O$2=$O$18,$O$2=$O$20,$O$2=$O$24,$O$2=$O$26),Best1!$F$10,IF(OR($O$2=$O$12,$O$2=$O$14,$O$2=$O$25,$O$2=$O$28),Best1!$F$11,IF(OR($O$2=$O$13,$O$2=$O$16,$O$2=$O$19,$O$2=$O$22),Best1!$F$12,IF(OR($O$2=$O$6,$O$2=$O$9,$O$2=$O$21,$O$2=$O$23),Best1!$F$14,IF(OR($O$2=$O$8,$O$2=$O$10,$O$2=$O$15,$O$2=$O$17),Best1!$F$15,\"\")))))))","v":""},"","",{"$f":"IF(ISBLANK(I21),\"\",IF(OR($O$2=$O$9,$O$2=$O$10,$O$2=$O$24,$O$2=$O$25),Best1!$F$13,IF(OR($O$2=$O$22,$O$2=$O$23,$O$2=$O$28,$O$2=$O$29),Best1!$F$10,IF(OR($O$2=$O$16,$O$2=$O$17,$O$2=$O$26,$O$2=$O$27),Best1!$F$11,IF(OR($O$2=$O$14,$O$2=$O$15,$O$2=$O$20,$O$2=$O$21),Best1!$F$12,IF(OR($O$2=$O$7,$O$2=$O$8,$O$2=$O$18,$O$2=$O$19),Best1!$F$14,IF(OR($O$2=$O$5,$O$2=$O$6,$O$2=$O$12,$O$2=$O$13),Best1!$F$15,\"\")))))))","v":""},"","",{"$f":"IF(ISBLANK(K21),\"\",IF(Best1!$C$3=\"\",\"\",ROUND(SUM(Best1!$C$3:$C$6),1)))","v":""},"","",{"$f":"IF(ISBLANK(K21),\"\",IF(Best1!$B$3=\"\",\"\",ROUND(AVERAGE(Best1!$D$3:$D$6),1)))","v":""},"","",null,"",null,null,null,null,null,null,null,"","","","","","","","","","","","","","","","","","","","","","","",""]
[18,null,null,null,null,null,null,null,null,null,null,null,null,null,"CDAB",0,0,"","","","","","",0,0,"","","","","","","","",0,0,"","","","",{"$f":"IF(ISBLANK(E22),\"\",IF(OR($O$2=$O$5,$O$2=$O$6,$O$2=$O$12,$O$2=$O$13),Best1!$F$10,IF(OR($O$2=$O$7,$O$2=$O$8,$O$2=$O$18,$O$2=$O$19),Best1!$F$11,IF(OR($O$2=$O$9,$O$2=$O$10,$O$2=$O$24,$O$2=$O$25),Best1!$F$12,IF(OR($O$2=$O$14,$O$2=$O$15,$O$2=$O$20,$O$2=$O$21),Best1!$F$13,IF(OR($O$2=$O$16,$O$2=$O$17,$O$2=$O$26,$O$2=$O$27),Best1!$F$14,IF(OR($O$2=$O$22,$O$2=$O$23,$O$2=$O$28,$O$2=$O$29),Best1!$F$15,\"\")))))))","v":""},"","",{"$f":"IF(ISBLANK(H22),\"\",IF(OR($O$2=$O$5,$O$2=$O$7,$O$2=$O$27,$O$2=$O$29),Best1!$F$13,IF(OR($O$2=$O$18,$O$2=$O$20,$O$2=$O$24,$O$2=$O$26),Best1!$F$10,IF(OR($O$2=$O$12,$O$2=$O$14,$O$2=$O$25,$O$2=$O$28),Best1!$F$11,IF(OR($O$2=$O$13,$O$2=$O$16,$O$2=$O$19,$O$2=$O$22),Best1!$F$12,IF(OR($O$2=$O$6,$O$2=$O$9,$O$2=$O$21,$O$2=$O$23),Best1!$F$14,IF(OR($O$2=$O$8,$O$2=$O$10,$O$2=$O$15,$O$2=$O$17),Best1!$F$15,\"\")))))))","v":""},"","",{"$f":"IF(ISBLANK(I22),\"\",IF(OR($O$2=$O$9,$O$2=$O$10,$O$2=$O$24,$O$2=$O$25),Best1!$F$13,IF(OR($O$2=$O$22,$O$2=$O$23,$O$2=$O$28,$O$2=$O$29),Best1!$F$10,IF(OR($O$2=$O$16,$O$2=$O$17,$O$2=$O$26,$O$2=$O$27),Best1!$F$11,IF(OR($O$2=$O$14,$O$2=$O$15,$O$2=$O$20,$O$2=$O$21),Best1!$F$12,IF(OR($O$2=$O$7,$O$2=$O$8,$O$2=$O$18,$O$2=$O$19),Best1!$F$14,IF(OR($O$2=$O$5,$O$2=$O$6,$O$2=$O$12,$O$2=$O$13),Best1!$F$15,\"\")))))))","v":""},"","",{"$f":"IF(ISBLANK(K22),\"\",IF(Best1!$C$3=\"\",\"\",ROUND(SUM(Best1!$C$3:$C$6),1)))","v":""},"","",{"$f":"IF(ISBLANK(K22),\"\",IF(Best1!$B$3=\"\",\"\",ROUND(AVERAGE(Best1!$D$3:$D$6),1)))","v":""},"","",null,"",null,null,null,null,null,null,null,"","","","","","","","","","","","","","","","","","","","","","","",""]
[19,null,null,null,null,null,null,null,null,null,null,null,null,null,"CDBA",0,0,"","","","","","",0,0,"","","","","","","","",0,0,"","","","",{"$f":"IF(ISBLANK(E23),\"\",IF(OR($O$2=$O$5,$O$2=$O$6,$O$2=$O$12,$O$2=$O$13),Best1!$F$10,IF(OR($O$2=$O$7,$O$2=$O$8,$O$2=$O$18,$O$2=$O$19),Best1!$F$11,IF(OR($O$2=$O$9,$O$2=$O$10,$O$2=$O$24,$O$2=$O$25),Best1!$F$12,IF(OR($O$2=$O$14,$O$2=$O$15,$O$2=$O$20,$O$2=$O$21),Best1!$F$13,IF(OR($O$2=$O$16,$O$2=$O$17,$O$2=$O$26,$O$2=$O$27),Best1!$F$14,IF(OR($O$2=$O$22,$O$2=$O$23,$O$2=$O$28,$O$2=$O$29),Best1!$F$15,\"\")))))))","v":""},"","",{"$f":"IF(ISBLANK(H23),\"\",IF(OR($O$2=$O$5,$O$2=$O$7,$O$2=$O$27,$O$2=$O$29),Best1!$F$13,IF(OR($O$2=$O$18,$O$2=$O$20,$O$2=$O$24,$O$2=$O$26),Best1!$F$10,IF(OR($O$2=$O$12,$O$2=$O$14,$O$2=$O$25,$O$2=$O$28),Best1!$F$11,IF(OR($O$2=$O$13,$O$2=$O$16,$O$2=$O$19,$O$2=$O$22),Best1!$F$12,IF(OR($O$2=$O$6,$O$2=$O$9,$O$2=$O$21,$O$2=$O$23),Best1!$F$14,IF(OR($O$2=$O$8,$O$2=$O$10,$O$2=$O$15,$O$2=$O$17),Best1!$F$15,\"\")))))))","v":""},"","",{"$f":"IF(ISBLANK(I23),\"\",IF(OR($O$2=$O$9,$O$2=$O$10,$O$2=$O$24,$O$2=$O$25),Best1!$F$13,IF(OR($O$2=$O$22,$O$2=$O$23,$O$2=$O$28,$O$2=$O$29),Best1!$F$10,IF(OR($O$2=$O$16,$O$2=$O$17,$O$2=$O$26,$O$2=$O$27),Best1!$F$11,IF(OR($O$2=$O$14,$O$2=$O$15,$O$2=$O$20,$O$2=$O$21),Best1!$F$12,IF(OR($O$2=$O$7,$O$2=$O$8,$O$2=$O$18,$O$2=$O$19),Best1!$F$14,IF(OR($O$2=$O$5,$O$2=$O$6,$O$2=$O$12,$O$2=$O$13),Best1!$F$15,\"\")))))))","v":""},"","",{"$f":"IF(ISBLANK(K23),\"\",IF(Best1!$C$3=\"\",\"\",ROUND(SUM(Best1!$C$3:$C$6),1)))","v":""},"","",{"$f":"IF(ISBLANK(K23),\"\",IF(Best1!$B$3=\"\",\"\",ROUND(AVERAGE(Best1!$D$3:$D$6),1)))","v":""},"","",null,"",null,null,null,null,null,null,null,"","","","","","","","","","","","","","","","","","","","","","","",""]
[20,null,null,null,null,null,null,null,null,null,null,null,null,null,"DABC",0,0,"","","","","","",0,0,"","","","","","","","",0,0,"","","","",{"$f":"IF(ISBLANK(E24),\"\",IF(OR($O$2=$O$5,$O$2=$O$6,$O$2=$O$12,$O$2=$O$13),Best1!$F$10,IF(OR($O$2=$O$7,$O$2=$O$8,$O$2=$O$18,$O$2=$O$19),Best1!$F$11,IF(OR($O$2=$O$9,$O$2=$O$10,$O$2=$O$24,$O$2=$O$25),Best1!$F$12,IF(OR($O$2=$O$14,$O$2=$O$15,$O$2=$O$20,$O$2=$O$21),Best1!$F$13,IF(OR($O$2=$O$16,$O$2=$O$17,$O$2=$O$26,$O$2=$O$27),Best1!$F$14,IF(OR($O$2=$O$22,$O$2=$O$23,$O$2=$O$28,$O$2=$O$29),Best1!$F$15,\"\")))))))","v":""},"","",{"$f":"IF(ISBLANK(H24),\"\",IF(OR($O$2=$O$5,$O$2=$O$7,$O$2=$O$27,$O$2=$O$29),Best1!$F$13,IF(OR($O$2=$O$18,$O$2=$O$20,$O$2=$O$24,$O$2=$O$26),Best1!$F$10,IF(OR($O$2=$O$12,$O$2=$O$14,$O$2=$O$25,$O$2=$O$28),Best1!$F$11,IF(OR($O$2=$O$13,$O$2=$O$16,$O$2=$O$19,$O$2=$O$22),Best1!$F$12,IF(OR($O$2=$O$6,$O$2=$O$9,$O$2=$O$21,$O$2=$O$23),Best1!$F$14,IF(OR($O$2=$O$8,$O$2=$O$10,$O$2=$O$15,$O$2=$O$17),Best1!$F$15,\"\")))))))","v":""},"","",{"$f":"IF(ISBLANK(I24),\"\",IF(OR($O$2=$O$9,$O$2=$O$10,$O$2=$O$24,$O$2=$O$25),Best1!$F$13,IF(OR($O$2=$O$22,$O$2=$O$23,$O$2=$O$28,$O$2=$O$29),Best1!$F$10,IF(OR($O$2=$O$16,$O$2=$O$17,$O$2=$O$26,$O$2=$O$27),Best1!$F$11,IF(OR($O$2=$O$14,$O$2=$O$15,$O$2=$O$20,$O$2=$O$21),Best1!$F$12,IF(OR($O$2=$O$7,$O$2=$O$8,$O$2=$O$18,$O$2=$O$19),Best1!$F$14,IF(OR($O$2=$O$5,$O$2=$O$6,$O$2=$O$12,$O$2=$O$13),Best1!$F$15,\"\")))))))","v":""},"","",{"$f":"IF(ISBLANK(K24),\"\",IF(Best1!$C$3=\"\",\"\",ROUND(SUM(Best1!$C$3:$C$6),1)))","v":""},"","",{"$f":"IF(ISBLANK(K24),\"\",IF(Best1!$B$3=\"\",\"\",ROUND(AVERAGE(Best1!$D$3:$D$6),1)))","v":""},"","",null,"",null,null,null,null,null,null,null,"","","","","","","","","","","","","","","","","","","","","","","",""]
[21,null,null,null,null,null,null,null,null,null,null,null,null,null,"DACB",0,0,"","","","","","",0,0,"","","","","","","","",0,0,"","","","",{"$f":"IF(ISBLANK(E25),\"\",IF(OR($O$2=$O$5,$O$2=$O$6,$O$2=$O$12,$O$2=$O$13),Best1!$F$10,IF(OR($O$2=$O$7,$O$2=$O$8,$O$2=$O$18,$O$2=$O$19),Best1!$F$11,IF(OR($O$2=$O$9,$O$2=$O$10,$O$2=$O$24,$O$2=$O$25),Best1!$F$12,IF(OR($O$2=$O$14,$O$2=$O$15,$O$2=$O$20,$O$2=$O$21),Best1!$F$13,IF(OR($O$2=$O$16,$O$2=$O$17,$O$2=$O$26,$O$2=$O$27),Best1!$F$14,IF(OR($O$2=$O$22,$O$2=$O$23,$O$2=$O$28,$O$2=$O$29),Best1!$F$15,\"\")))))))","v":""},"","",{"$f":"IF(ISBLANK(H25),\"\",IF(OR($O$2=$O$5,$O$2=$O$7,$O$2=$O$27,$O$2=$O$29),Best1!$F$13,IF(OR($O$2=$O$18,$O$2=$O$20,$O$2=$O$24,$O$2=$O$26),Best1!$F$10,IF(OR($O$2=$O$12,$O$2=$O$14,$O$2=$O$25,$O$2=$O$28),Best1!$F$11,IF(OR($O$2=$O$13,$O$2=$O$16,$O$2=$O$19,$O$2=$O$22),Best1!$F$12,IF(OR($O$2=$O$6,$O$2=$O$9,$O$2=$O$21,$O$2=$O$23),Best1!$F$14,IF(OR($O$2=$O$8,$O$2=$O$10,$O$2=$O$15,$O$2=$O$17),Best1!$F$15,\"\")))))))","v":""},"","",{"$f":"IF(ISBLANK(I25),\"\",IF(OR($O$2=$O$9,$O$2=$O$10,$O$2=$O$24,$O$2=$O$25),Best1!$F$13,IF(OR($O$2=$O$22,$O$2=$O$23,$O$2=$O$28,$O$2=$O$29),Best1!$F$10,IF(OR($O$2=$O$16,$O$2=$O$17,$O$2=$O$26,$O$2=$O$27),Best1!$F$11,IF(OR($O$2=$O$14,$O$2=$O$15,$O$2=$O$20,$O$2=$O$21),Best1!$F$12,IF(OR($O$2=$O$7,$O$2=$O$8,$O$2=$O$18,$O$2=$O$19),Best1!$F$14,IF(OR($O$2=$O$5,$O$2=$O$6,$O$2=$O$12,$O$2=$O$13),Best1!$F$15,\"\")))))))","v":""},"","",{"$f":"IF(ISBLANK(K25),\"\",IF(Best1!$C$3=\"\",\"\",ROUND(SUM(Best1!$C$3:$C$6),1)))","v":""},"","",{"$f":"IF(ISBLANK(K25),\"\",IF(Best1!$B$3=\"\",\"\",ROUND(AVERAGE(Best1!$D$3:$D$6),1)))","v":""},"","",null,"",null,null,null,null,null,null,null,"","","","","","","","","","","","","","","","","","","","","","","",""]
[22,null,null,null,null,null,null,null,null,null,null,null,null,null,"DBAC",0,0,"","","","","","",0,0,"","","","","","","","",0,0,"","","","",{"$f":"IF(ISBLANK(E26),\"\",IF(OR($O$2=$O$5,$O$2=$O$6,$O$2=$O$12,$O$2=$O$13),Best1!$F$10,IF(OR($O$2=$O$7,$O$2=$O$8,$O$2=$O$18,$O$2=$O$19),Best1!$F$11,IF(OR($O$2=$O$9,$O$2=$O$10,$O$2=$O$24,$O$2=$O$25),Best1!$F$12,IF(OR($O$2=$O$14,$O$2=$O$15,$O$2=$O$20,$O$2=$O$21),Best1!$F$13,IF(OR($O$2=$O$16,$O$2=$O$17,$O$2=$O$26,$O$2=$O$27),Best1!$F$14,IF(OR($O$2=$O$22,$O$2=$O$23,$O$2=$O$28,$O$2=$O$29),Best1!$F$15,\"\")))))))","v":""},"","",{"$f":"IF(ISBLANK(H26),\"\",IF(OR($O$2=$O$5,$O$2=$O$7,$O$2=$O$27,$O$2=$O$29),Best1!$F$13,IF(OR($O$2=$O$18,$O$2=$O$20,$O$2=$O$24,$O$2=$O$26),Best1!$F$10,IF(OR($O$2=$O$12,$O$2=$O$14,$O$2=$O$25,$O$2=$O$28),Best1!$F$11,IF(OR($O$2=$O$13,$O$2=$O$16,$O$2=$O$19,$O$2=$O$22),Best1!$F$12,IF(OR($O$2=$O$6,$O$2=$O$9,$O$2=$O$21,$O$2=$O$23),Best1!$F$14,IF(OR($O$2=$O$8,$O$2=$O$10,$O$2=$O$15,$O$2=$O$17),Best1!$F$15,\"\")))))))","v":""},"","",{"$f":"IF(ISBLANK(I26),\"\",IF(OR($O$2=$O$9,$O$2=$O$10,$O$2=$O$24,$O$2=$O$25),Best1!$F$13,IF(OR($O$2=$O$22,$O$2=$O$23,$O$2=$O$28,$O$2=$O$29),Best1!$F$10,IF(OR($O$2=$O$16,$O$2=$O$17,$O$2=$O$26,$O$2=$O$27),Best1!$F$11,IF(OR($O$2=$O$14,$O$2=$O$15,$O$2=$O$20,$O$2=$O$21),Best1!$F$12,IF(OR($O$2=$O$7,$O$2=$O$8,$O$2=$O$18,$O$2=$O$19),Best1!$F$14,IF(OR($O$2=$O$5,$O$2=$O$6,$O$2=$O$12,$O$2=$O$13),Best1!$F$15,\"\")))))))","v":""},"","",{"$f":"IF(ISBLANK(K26),\"\",IF(Best1!$C$3=\"\",\"\",ROUND(SUM(Best1!$C$3:$C$6),1)))","v":""},"","",{"$f":"IF(ISBLANK(K26),\"\",IF(Best1!$B$3=\"\",\"\",ROUND(AVERAGE(Best1!$D$3:$D$6),1)))","v":""},"","",null,"",null,null,null,null,null,null,null,"","","","","","","","","","","","","","","","","","","","","","","",""]
[23,null,null,null,null,null,null,null,null,null,null,null,null,null,"DBCA",0,0,"","","","","","",0,0,"","","","","","","","",0,0,"","","","",{"$f":"IF(ISBLANK(E27),\"\",IF(OR($O$2=$O$5,$O$2=$O$6,$O$2=$O$12,$O$2=$O$13),Best1!$F$10,IF(OR($O$2=$O$7,$O$2=$O$8,$O$2=$O$18,$O$2=$O$19),Best1!$F$11,IF(OR($O$2=$O$9,$O$2=$O$10,$O$2=$O$24,$O$2=$O$25),Best1!$F$12,IF(OR($O$2=$O$14,$O$2=$O$15,$O$2=$O$20,$O$2=$O$21),Best1!$F$13,IF(OR($O$2=$O$16,$O$2=$O$17,$O$2=$O$26,$O$2=$O$27),Best1!$F$14,IF(OR($O$2=$O$22,$O$2=$O$23,$O$2=$O$28,$O$2=$O$29),Best1!$F$15,\"\")))))))","v":""},"","",{"$f":"IF(ISBLANK(H27),\"\",IF(OR($O$2=$O$5,$O$2=$O$7,$O$2=$O$27,$O$2=$O$29),Best1!$F$13,IF(OR($O$2=$O$18,$O$2=$O$20,$O$2=$O$24,$O$2=$O$26),Best1!$F$10,IF(OR($O$2=$O$12,$O$2=$O$14,$O$2=$O$25,$O$2=$O$28),Best1!$F$11,IF(OR($O$2=$O$13,$O$2=$O$16,$O$2=$O$19,$O$2=$O$22),Best1!$F$12,IF(OR($O$2=$O$6,$O$2=$O$9,$O$2=$O$21,$O$2=$O$23),Best1!$F$14,IF(OR($O$2=$O$8,$O$2=$O$10,$O$2=$O$15,$O$2=$O$17),Best1!$F$15,\"\")))))))","v":""},"","",{"$f":"IF(ISBLANK(I27),\"\",IF(OR($O$2=$O$9,$O$2=$O$10,$O$2=$O$24,$O$2=$O$25),Best1!$F$13,IF(OR($O$2=$O$22,$O$2=$O$23,$O$2=$O$28,$O$2=$O$29),Best1!$F$10,IF(OR($O$2=$O$16,$O$2=$O$17,$O$2=$O$26,$O$2=$O$27),Best1!$F$11,IF(OR($O$2=$O$14,$O$2=$O$15,$O$2=$O$20,$O$2=$O$21),Best1!$F$12,IF(OR($O$2=$O$7,$O$2=$O$8,$O$2=$O$18,$O$2=$O$19),Best1!$F$14,IF(OR($O$2=$O$5,$O$2=$O$6,$O$2=$O$12,$O$2=$O$13),Best1!$F$15,\"\")))))))","v":""},"","",{"$f":"IF(ISBLANK(K27),\"\",IF(Best1!$C$3=\"\",\"\",ROUND(SUM(Best1!$C$3:$C$6),1)))","v":""},"","",{"$f":"IF(ISBLANK(K27),\"\",IF(Best1!$B$3=\"\",\"\",ROUND(AVERAGE(Best1!$D$3:$D$6),1)))","v":""},"","",null,"",null,null,null,null,null,null,null,"","","","","","","","","","","","","","","","","","","","","","","",""]
[24,null,null,null,null,null,null,null,null,null,null,null,null,null,"DCAB",0,0,"","","","","","",0,0,"","","","","","","","",0,0,"","","","",{"$f":"IF(ISBLANK(E28),\"\",IF(OR($O$2=$O$5,$O$2=$O$6,$O$2=$O$12,$O$2=$O$13),Best1!$F$10,IF(OR($O$2=$O$7,$O$2=$O$8,$O$2=$O$18,$O$2=$O$19),Best1!$F$11,IF(OR($O$2=$O$9,$O$2=$O$10,$O$2=$O$24,$O$2=$O$25),Best1!$F$12,IF(OR($O$2=$O$14,$O$2=$O$15,$O$2=$O$20,$O$2=$O$21),Best1!$F$13,IF(OR($O$2=$O$16,$O$2=$O$17,$O$2=$O$26,$O$2=$O$27),Best1!$F$14,IF(OR($O$2=$O$22,$O$2=$O$23,$O$2=$O$28,$O$2=$O$29),Best1!$F$15,\"\")))))))","v":""},"","",{"$f":"IF(ISBLANK(H28),\"\",IF(OR($O$2=$O$5,$O$2=$O$7,$O$2=$O$27,$O$2=$O$29),Best1!$F$13,IF(OR($O$2=$O$18,$O$2=$O$20,$O$2=$O$24,$O$2=$O$26),Best1!$F$10,IF(OR($O$2=$O$12,$O$2=$O$14,$O$2=$O$25,$O$2=$O$28),Best1!$F$11,IF(OR($O$2=$O$13,$O$2=$O$16,$O$2=$O$19,$O$2=$O$22),Best1!$F$12,IF(OR($O$2=$O$6,$O$2=$O$9,$O$2=$O$21,$O$2=$O$23),Best1!$F$14,IF(OR($O$2=$O$8,$O$2=$O$10,$O$2=$O$15,$O$2=$O$17),Best1!$F$15,\"\")))))))","v":""},"","",{"$f":"IF(ISBLANK(I28),\"\",IF(OR($O$2=$O$9,$O$2=$O$10,$O$2=$O$24,$O$2=$O$25),Best1!$F$13,IF(OR($O$2=$O$22,$O$2=$O$23,$O$2=$O$28,$O$2=$O$29),Best1!$F$10,IF(OR($O$2=$O$16,$O$2=$O$17,$O$2=$O$26,$O$2=$O$27),Best1!$F$11,IF(OR($O$2=$O$14,$O$2=$O$15,$O$2=$O$20,$O$2=$O$21),Best1!$F$12,IF(OR($O$2=$O$7,$O$2=$O$8,$O$2=$O$18,$O$2=$O$19),Best1!$F$14,IF(OR($O$2=$O$5,$O$2=$O$6,$O$2=$O$12,$O$2=$O$13),Best1!$F$15,\"\")))))))","v":""},"","",{"$f":"IF(ISBLANK(K28),\"\",IF(Best1!$C$3=\"\",\"\",ROUND(SUM(Best1!$C$3:$C$6),1)))","v":""},"","",{"$f":"IF(ISBLANK(K28),\"\",IF(Best1!$B$3=\"\",\"\",ROUND(AVERAGE(Best1!$D$3:$D$6),1)))","v":""},"","",null,"",null,null,null,null,null,null,null,"","","","","","","","","","","","","","","","","","","","","","","",""]
[25,null,null,null,null,null,null,null,null,null,null,null,null,null,"DCBA",0,0,"","","","","","",0,0,"","","","","","","","",0,0,"","","","",{"$f":"IF(ISBLANK(E29),\"\",IF(OR($O$2=$O$5,$O$2=$O$6,$O$2=$O$12,$O$2=$O$13),Best1!$F$10,IF(OR($O$2=$O$7,$O$2=$O$8,$O$2=$O$18,$O$2=$O$19),Best1!$F$11,IF(OR($O$2=$O$9,$O$2=$O$10,$O$2=$O$24,$O$2=$O$25),Best1!$F$12,IF(OR($O$2=$O$14,$O$2=$O$15,$O$2=$O$20,$O$2=$O$21),Best1!$F$13,IF(OR($O$2=$O$16,$O$2=$O$17,$O$2=$O$26,$O$2=$O$27),Best1!$F$14,IF(OR($O$2=$O$22,$O$2=$O$23,$O$2=$O$28,$O$2=$O$29),Best1!$F$15,\"\")))))))","v":""},"","",{"$f":"IF(ISBLANK(H29),\"\",IF(OR($O$2=$O$5,$O$2=$O$7,$O$2=$O$27,$O$2=$O$29),Best1!$F$13,IF(OR($O$2=$O$18,$O$2=$O$20,$O$2=$O$24,$O$2=$O$26),Best1!$F$10,IF(OR($O$2=$O$12,$O$2=$O$14,$O$2=$O$25,$O$2=$O$28),Best1!$F$11,IF(OR($O$2=$O$13,$O$2=$O$16,$O$2=$O$19,$O$2=$O$22),Best1!$F$12,IF(OR($O$2=$O$6,$O$2=$O$9,$O$2=$O$21,$O$2=$O$23),Best1!$F$14,IF(OR($O$2=$O$8,$O$2=$O$10,$O$2=$O$15,$O$2=$O$17),Best1!$F$15,\"\")))))))","v":""},"","",{"$f":"IF(ISBLANK(I29),\"\",IF(OR($O$2=$O$9,$O$2=$O$10,$O$2=$O$24,$O$2=$O$25),Best1!$F$13,IF(OR($O$2=$O$22,$O$2=$O$23,$O$2=$O$28,$O$2=$O$29),Best1!$F$10,IF(OR($O$2=$O$16,$O$2=$O$17,$O$2=$O$26,$O$2=$O$27),Best1!$F$11,IF(OR($O$2=$O$14,$O$2=$O$15,$O$2=$O$20,$O$2=$O$21),Best1!$F$12,IF(OR($O$2=$O$7,$O$2=$O$8,$O$2=$O$18,$O$2=$O$19),Best1!$F$14,IF(OR($O$2=$O$5,$O$2=$O$6,$O$2=$O$12,$O$2=$O$13),Best1!$F$15,\"\")))))))","v":""},"","",{"$f":"IF(ISBLANK(K29),\"\",IF(Best1!$C$3=\"\",\"\",ROUND(SUM(Best1!$C$3:$C$6),1)))","v":""},"","",{"$f":"IF(ISBLANK(K29),\"\",IF(Best1!$B$3=\"\",\"\",ROUND(AVERAGE(Best1!$D$3:$D$6),1)))","v":""},"","",null,"",null,null,null,null,null,null,null,"","","","","","","","","","","","","","","","","","","","","","","",""]
[26,null,null,null,null,null,null,null,null,null,null,null,null,null,null,0,0,"","","","","","",0,0,"","","","","","","","",0,0,"","","","",{"$f":"IF(ISBLANK(E30),\"\",IF(OR($O$2=$O$5,$O$2=$O$6,$O$2=$O$12,$O$2=$O$13),Best1!$F$10,IF(OR($O$2=$O$7,$O$2=$O$8,$O$2=$O$18,$O$2=$O$19),Best1!$F$11,IF(OR($O$2=$O$9,$O$2=$O$10,$O$2=$O$24,$O$2=$O$25),Best1!$F$12,IF(OR($O$2=$O$14,$O$2=$O$15,$O$2=$O$20,$O$2=$O$21),Best1!$F$13,IF(OR($O$2=$O$16,$O$2=$O$17,$O$2=$O$26,$O$2=$O$27),Best1!$F$14,IF(OR($O$2=$O$22,$O$2=$O$23,$O$2=$O$28,$O$2=$O$29),Best1!$F$15,\"\")))))))","v":""},"","",{"$f":"IF(ISBLANK(H30),\"\",IF(OR($O$2=$O$5,$O$2=$O$7,$O$2=$O$27,$O$2=$O$29),Best1!$F$13,IF(OR($O$2=$O$18,$O$2=$O$20,$O$2=$O$24,$O$2=$O$26),Best1!$F$10,IF(OR($O$2=$O$12,$O$2=$O$14,$O$2=$O$25,$O$2=$O$28),Best1!$F$11,IF(OR($O$2=$O$13,$O$2=$O$16,$O$2=$O$19,$O$2=$O$22),Best1!$F$12,IF(OR($O$2=$O$6,$O$2=$O$9,$O$2=$O$21,$O$2=$O$23),Best1!$F$14,IF(OR($O$2=$O$8,$O$2=$O$10,$O$2=$O$15,$O$2=$O$17),Best1!$F$15,\"\")))))))","v":""},"","",{"$f":"IF(ISBLANK(I30),\"\",IF(OR($O$2=$O$9,$O$2=$O$10,$O$2=$O$24,$O$2=$O$25),Best1!$F$13,IF(OR($O$2=$O$22,$O$2=$O$23,$O$2=$O$28,$O$2=$O$29),Best1!$F$10,IF(OR($O$2=$O$16,$O$2=$O$17,$O$2=$O$26,$O$2=$O$27),Best1!$F$11,IF(OR($O$2=$O$14,$O$2=$O$15,$O$2=$O$20,$O$2=$O$21),Best1!$F$12,IF(OR($O$2=$O$7,$O$2=$O$8,$O$2=$O$18,$O$2=$O$19),Best1!$F$14,IF(OR($O$2=$O$5,$O$2=$O$6,$O$2=$O$12,$O$2=$O$13),Best1!$F$15,\"\")))))))","v":""},"","",{"$f":"IF(ISBLANK(K30),\"\",IF(Best1!$C$3=\"\",\"\",ROUND(SUM(Best1!$C$3:$C$6),1)))","v":""},"","",{"$f":"IF(ISBLANK(K30),\"\",IF(Best1!$B$3=\"\",\"\",ROUND(AVERAGE(Best1!$D$3:$D$6),1)))","v":""},"","",null,"",null,null,null,null,null,null,null,"","","","","","","","","","","","","","","","","","","","","","","",""]
[27,null,null,null,null,null,null,null,null,null,null,null,null,null,null,0,0,"","","","","","",0,0,"","","","","","","","",0,0,"","","","",{"$f":"IF(ISBLANK(E31),\"\",IF(OR($O$2=$O$5,$O$2=$O$6,$O$2=$O$12,$O$2=$O$13),Best1!$F$10,IF(OR($O$2=$O$7,$O$2=$O$8,$O$2=$O$18,$O$2=$O$19),Best1!$F$11,IF(OR($O$2=$O$9,$O$2=$O$10,$O$2=$O$24,$O$2=$O$25),Best1!$F$12,IF(OR($O$2=$O$14,$O$2=$O$15,$O$2=$O$20,$O$2=$O$21),Best1!$F$13,IF(OR($O$2=$O$16,$O$2=$O$17,$O$2=$O$26,$O$2=$O$27),Best1!$F$14,IF(OR($O$2=$O$22,$O$2=$O$23,$O$2=$O$28,$O$2=$O$29),Best1!$F$15,\"\")))))))","v":""},{"$f":"IF(F31=\"\",\"\",F31)","v":""},"",{"$f":"IF(ISBLANK(H31),\"\",IF(OR($O$2=$O$5,$O$2=$O$7,$O$2=$O$27,$O$2=$O$29),Best1!$F$13,IF(OR($O$2=$O$18,$O$2=$O$20,$O$2=$O$24,$O$2=$O$26),Best1!$F$10,IF(OR($O$2=$O$12,$O$2=$O$14,$O$2=$O$25,$O$2=$O$28),Best1!$F$11,IF(OR($O$2=$O$13,$O$2=$O$16,$O$2=$O$19,$O$2=$O$22),Best1!$F$12,IF(OR($O$2=$O$6,$O$2=$O$9,$O$2=$O$21,$O$2=$O$23),Best1!$F$14,IF(OR($O$2=$O$8,$O$2=$O$10,$O$2=$O$15,$O$2=$O$17),Best1!$F$15,\"\")))))))","v":""},{"$f":"IF(H31=\"\",\"\",H31)","v":""},"",{"$f":"IF(ISBLANK(I31),\"\",IF(OR($O$2=$O$9,$O$2=$O$10,$O$2=$O$24,$O$2=$O$25),Best1!$F$13,IF(OR($O$2=$O$22,$O$2=$O$23,$O$2=$O$28,$O$2=$O$29),Best1!$F$10,IF(OR($O$2=$O$16,$O$2=$O$17,$O$2=$O$26,$O$2=$O$27),Best1!$F$11,IF(OR($O$2=$O$14,$O$2=$O$15,$O$2=$O$20,$O$2=$O$21),Best1!$F$12,IF(OR($O$2=$O$7,$O$2=$O$8,$O$2=$O$18,$O$2=$O$19),Best1!$F$14,IF(OR($O$2=$O$5,$O$2=$O$6,$O$2=$O$12,$O$2=$O$13),Best1!$F$15,\"\")))))))","v":""},{"$f":"IF(J31=\"\",\"\",J31)","v":""},"",{"$f":"IF(ISBLANK(K31),\"\",IF(Best1!$C$3=\"\",\"\",ROUND(SUM(Best1!$C$3:$C$6),1)))","v":""},{"$f":"IF(K31=\"\",\"\",K31)","v":""},"",{"$f":"IF(ISBLANK(K31),\"\",IF(Best1!$B$3=\"\",\"\",ROUND(AVERAGE(Best1!$D$3:$D$6),1)))","v":""},{"$f":"IF(L31=\"\",\"\",L31)","v":""},"",null,"",null,null,null,null,null,null,null,"","","","","","","","","","","","","","","","","","",{"$f":"IF(OR(AH31=\"\",AH31=0),\"\",AH31*1)","v":""},"","","","",""]
[28,null,null,null,null,null,null,null,null,null,null,null,null,null,null,{"$f":"IF(OR($O$2=$O$5,$O$2=$O$6),E32,IF(OR($O$2=$O$18,$O$2=$O$24),G32,IF(OR($O$2=$O$22,$O$2=$O$28),I32,\"\")))","v":0},{"$f":"IF(OR($O$2=$O$5,$O$2=$O$6),F32,IF(OR($O$2=$O$18,$O$2=$O$24),H32,IF(OR($O$2=$O$22,$O$2=$O$28),J32,\"\")))","v":0},{"$f":"IF(OR($O$2=$O$7,$O$2=$O$8),E32,IF(OR($O$2=$O$12,$O$2=$O$25),G32,IF(OR($O$2=$O$16,$O$2=$O$26),I32,\"\")))","v":""},{"$f":"IF(OR($O$2=$O$7,$O$2=$O$8),F32,IF(OR($O$2=$O$12,$O$2=$O$25),H32,IF(OR($O$2=$O$16,$O$2=$O$26),J32,\"\")))","v":""},{"$f":"IF(OR($O$2=$O$9,$O$2=$O$10),E32,IF(OR($O$2=$O$13,$O$2=$O$19),G32,IF(OR($O$2=$O$14,$O$2=$O$20),I32,\"\")))","v":""},{"$f":"IF(OR($O$2=$O$9,$O$2=$O$10),F32,IF(OR($O$2=$O$13,$O$2=$O$19),H32,IF(OR($O$2=$O$14,$O$2=$O$20),J32,\"\")))","v":""},{"$f":"IF(OR($O$2=$O$12,$O$2=$O$13),E32,IF(OR($O$2=$O$20,$O$2=$O$26),G32,IF(OR($O$2=$O$23,$O$2=$O$29),I32,\"\")))","v":""},{"$f":"IF(OR($O$2=$O$12,$O$2=$O$13),F32,IF(OR($O$2=$O$20,$O$2=$O$26),H32,IF(OR($O$2=$O$23,$O$2=$O$29),J32,\"\")))","v":""},{"$f":"IF(OR($O$2=$O$14,$O$2=$O$15),E32,IF(OR($O$2=$O$5,$O$2=$O$27),G32,IF(OR($O$2=$O$9,$O$2=$O$24),I32,\"\")))","v":0},{"$f":"IF(OR($O$2=$O$14,$O$2=$O$15),F32,IF(OR($O$2=$O$5,$O$2=$O$27),H32,IF(OR($O$2=$O$9,$O$2=$O$24),J32,\"\")))","v":0},{"$f":"IF(OR($O$2=$O$16,$O$2=$O$17),E32,IF(OR($O$2=$O$6,$O$2=$O$21),G32,IF(OR($O$2=$O$7,$O$2=$O$18),I32,\"\")))","v":""},{"$f":"IF(OR($O$2=$O$16,$O$2=$O$17),F32,IF(OR($O$2=$O$6,$O$2=$O$21),H32,IF(OR($O$2=$O$7,$O$2=$O$18),J32,\"\")))","v":""},{"$f":"IF(OR($O$2=$O$18,$O$2=$O$19),E32,IF(OR($O$2=$O$14,$O$2=$O$28),G32,IF(OR($O$2=$O$17,$O$2=$O$27),I32,\"\")))","v":""},{"$f":"IF(OR($O$2=$O$18,$O$2=$O$19),F32,IF(OR($O$2=$O$14,$O$2=$O$28),H32,IF(OR($O$2=$O$17,$O$2=$O$27),J32,\"\")))","v":""},{"$f":"IF(OR($O$2=$O$20,$O$2=$O$21),E32,IF(OR($O$2=$O$7,$O$2=$O$29),G32,IF(OR($O$2=$O$10,$O$2=$O$11),I32,\"\")))","v":""},{"$f":"IF(OR($O$2=$O$20,$O$2=$O$21),F32,IF(OR($O$2=$O$7,$O$2=$O$29),H32,IF(OR($O$2=$O$10,$O$2=$O$11),J32,\"\")))","v":""},{"$f":"IF(OR($O$2=$O$22,$O$2=$O$23),E32,IF(OR($O$2=$O$8,$O$2=$O$15),G32,IF(OR($O$2=$O$5,$O$2=$O$12),I32,\"\")))","v":""},{"$f":"IF(OR($O$2=$O$22,$O$2=$O$23),F32,IF(OR($O$2=$O$8,$O$2=$O$15),H32,IF(OR($O$2=$O$5,$O$2=$O$12),J32,\"\")))","v":""},{"$f":"IF(OR($O$2=$O$24,$O$2=$O$25),E32,IF(OR($O$2=$O$16,$O$2=$O$22),G32,IF(OR($O$2=$O$15,$O$2=$O$21),I32,\"\")))","v":0},{"$f":"IF(OR($O$2=$O$24,$O$2=$O$25),F32,IF(OR($O$2=$O$16,$O$2=$O$22),H32,IF(OR($O$2=$O$15,$O$2=$O$21),J32,\"\")))","v":0},{"$f":"IF(OR($O$2=$O$26,$O$2=$O$27),E32,IF(OR($O$2=$O$9,$O$2=$O$23),G32,IF(OR($O$2=$O$8,$O$2=$O$19),I32,\"\")))","v":""},{"$f":"IF(OR($O$2=$O$26,$O$2=$O$27),F32,IF(OR($O$2=$O$9,$O$2=$O$23),H32,IF(OR($O$2=$O$8,$O$2=$O$19),J32,\"\")))","v":""},{"$f":"IF(OR($O$2=$O$28,$O$2=$O$29),E32,IF(OR($O$2=$O$10,$O$2=$O$11),G32,IF(OR($O$2=$O$6,$O$2=$O$13),I32,\"\")))","v":""},{"$f":"IF(OR($O$2=$O$28,$O$2=$O$29),F32,IF(OR($O$2=$O$10,$O$2=$O$11),H32,IF(OR($O$2=$O$6,$O$2=$O$13),J32,\"\")))","v":""},{"$f":"IF(ISBLANK(E32),\"\",IF(OR($O$2=$O$5,$O$2=$O$6,$O$2=$O$12,$O$2=$O$13),Best1!$F$10,IF(OR($O$2=$O$7,$O$2=$O$8,$O$2=$O$18,$O$2=$O$19),Best1!$F$11,IF(OR($O$2=$O$9,$O$2=$O$10,$O$2=$O$24,$O$2=$O$25),Best1!$F$12,IF(OR($O$2=$O$14,$O$2=$O$15,$O$2=$O$20,$O$2=$O$21),Best1!$F$13,IF(OR($O$2=$O$16,$O$2=$O$17,$O$2=$O$26,$O$2=$O$27),Best1!$F$14,IF(OR($O$2=$O$22,$O$2=$O$23,$O$2=$O$28,$O$2=$O$29),Best1!$F$15,\"\")))))))","v":""},"","",{"$f":"IF(ISBLANK(H32),\"\",IF(OR($O$2=$O$5,$O$2=$O$7,$O$2=$O$27,$O$2=$O$29),Best1!$F$13,IF(OR($O$2=$O$18,$O$2=$O$20,$O$2=$O$24,$O$2=$O$26),Best1!$F$10,IF(OR($O$2=$O$12,$O$2=$O$14,$O$2=$O$25,$O$2=$O$28),Best1!$F$11,IF(OR($O$2=$O$13,$O$2=$O$16,$O$2=$O$19,$O$2=$O$22),Best1!$F$12,IF(OR($O$2=$O$6,$O$2=$O$9,$O$2=$O$21,$O$2=$O$23),Best1!$F$14,IF(OR($O$2=$O$8,$O$2=$O$10,$O$2=$O$15,$O$2=$O$17),Best1!$F$15,\"\")))))))","v":""},"","",{"$f":"IF(ISBLANK(I32),\"\",IF(OR($O$2=$O$9,$O$2=$O$10,$O$2=$O$24,$O$2=$O$25),Best1!$F$13,IF(OR($O$2=$O$22,$O$2=$O$23,$O$2=$O$28,$O$2=$O$29),Best1!$F$10,IF(OR($O$2=$O$16,$O$2=$O$17,$O$2=$O$26,$O$2=$O$27),Best1!$F$11,IF(OR($O$2=$O$14,$O$2=$O$15,$O$2=$O$20,$O$2=$O$21),Best1!$F$12,IF(OR($O$2=$O$7,$O$2=$O$8,$O$2=$O$18,$O$2=$O$19),Best1!$F$14,IF(OR($O$2=$O$5,$O$2=$O$6,$O$2=$O$12,$O$2=$O$13),Best1!$F$15,\"\")))))))","v":""},"","",{"$f":"IF(ISBLANK(K32),\"\",IF(Best1!$C$3=\"\",\"\",ROUND(SUM(Best1!$C$3:$C$6),1)))","v":""},"","",{"$f":"IF(ISBLANK(K32),\"\",IF(Best1!$B$3=\"\",\"\",ROUND(AVERAGE(Best1!$D$3:$D$6),1)))","v":""},"","",null,"",null,null,null,null,null,null,null,"","","","","","","","","","","","","","","","",{"$f":"IF(OR(AF32=\"\",AF32=0),\"\",AF32*1)","v":""},"","","","","","",""]
[]
[null,null,null,null,null,null,null,null,null,null,null,null,null,null,null,{"$f":"MIN(BW5:BW32)","v":0},{"$f":"MIN(BX5:BX32)","v":0},{"$f":"MIN(BY5:BY32)","v":0},0,0,0,0,0,0,0,0,0,0,0,0,0,0,0,0,0,0,0,0,0,null,null,null,null,null,null,null,null,null,null,null,null,null,null,null,null,null,null,null,null,null,null,null,null,{"$f":"IF(MIN(BL5:BL32)=0,\"\",MIN(BL5:BL32))","v":""},{"$f":"IF(MIN(BM5:BM32)=0,\"\",MIN(BM5:BM32))","v":""},"","","","","","","","","","","","",{"$f":"IF(MIN(BZ5:BZ32)=0,\"\",MIN(BZ5:BZ32))","v":""},"","","","","","","","",""]
[]
[]
[]
[]
[]
[]
[]
[null,null,null,null,null,null,null,null,null,null,null,null,null,null,null,null,null,null,null,null,null,null,null,null,null,null,null,null,null,null,null,null,null,null,null,null,null,null,null,null,null,null,null,null,null,null,null,null,null,{"$f":"IF(AND(AX5=\"\",AX33=\"\"),\"\",MIN(AX5:AX41))","v":""},null,null,{"$f":"IF(AND(BA5=\"\",BA33=\"\"),\"\",MAX(BA5:BA41))","v":""}]
[]
[]
[]
[]
[]
[]
[]
[1,500,500,500,500,{"$f":"B50*1","v":500},{"$f":"C50*1","v":500},{"$f":"D50*1","v":500},{"$f":"E50*1","v":500}]
[null,500,500,500,500,{"$f":"B51*1","v":500},{"$f":"C51*1","v":500},{"$f":"D51*1","v":500},{"$f":"E51*1","v":500}]
[null,500,500,500,500,500,500,500,500]
[null,500,500,500,500,500,500,500,500]
[null,500,500,500,500,500,500,500,500]
[null,500,500,500,500,500,500,500,500]
[null,500,500,500,500,500,500,500,500]
[null,500,500,500,500,500,500,500,500]
[null,500,500,500,500,500,500,500,500]
[null,500,500,500,500,500,500,500,500]
[null,500,500,500,500,500,500,500,500]
[null,500,500,500,500,500,500,500,500]
[null,500,500,500,500,500,500,500,500]
[null,500,500,500,500,500,500,500,500]
[null,500,500,500,500,500,500,500,500]
[null,500,500,500,500,500,500,500,500]
[null,500,500,500,500,500,500,500,500]
[null,500,500,500,500,500,500,500,500]
[null,500,500,500,500,500,500,500,500]
[null,500,500,500,500,500,500,500,500]
[null,500,500,500,500,500,500,500,500]
[null,500,500,500,500,500,500,500,500]
[null,500,500,500,500,500,500,500,500]
[null,500,500,500,500,500,500,500,500]
[]
[]
[]
[]
[]
[]
[]
[]
[]
[]
[]
[]
[]
[]
[]
[null,{"$f":"MIN(B50:B73)","v":500},{"$f":"MIN(C50:C73)","v":500},500,500,{"$f":"MIN(F50:F73)","v":500},500,500,500]
[null,500,500,500,500,{"$f":"B90*1","v":500},{"$f":"C90*1","v":500},{"$f":"D90*1","v":500},{"$f":"E90*1","v":500}]
[null,500,500,500,500,{"$f":"B91*1","v":500},{"$f":"C91*1","v":500},{"$f":"D91*1","v":500},{"$f":"E91*1","v":500}]
[null,500,500,500,500,500,500,500,500]
[null,500,500,500,500,500,500,500,500]
[null,500,500,500,500,500,500,500,500]
[null,500,500,500,500,500,500,500,500]
[null,500,500,500,500,500,500,500,500]
[null,500,500,500,500,500,500,500,500]
[null,500,500,500,500,500,500,500,500]
[null,500,500,500,500,500,500,500,500]
[null,500,500,500,500,500,500,500,500]
[null,500,500,500,500,500,500,500,500]
[null,500,500,500,500,500,500,500,500]
[null,500,500,500,500,500,500,500,500]
[null,500,500,500,500,500,500,500,500]
[null,500,500,500,500,500,500,500,500]
[null,500,500,500,500,500,500,500,500]
[null,500,500,500,500,500,500,500,500]
[null,500,500,500,500,500,500,500,500]
[null,500,500,500,500,500,500,500,500]
[null,500,500,500,500,500,500,500,500]
[null,500,500,500,500,500,500,500,500]
[null,500,500,500,500,500,500,500,500]
[null,500,500,500,500,500,500,500,500]
[]
[]
[]
[]
[]
[]
[]
[]
[]
[]
[]
[]
[]
[]
[]
[null,{"$f":"IF(MIN(B90:B113)=0,\"\",MIN(B90:B113))","v":500},500,500,500,500,500,500,500]
[null,null,null,null,null,{"$f":"IF(MIN(F89,F129)=500,\"\",MIN(F89,F129))","v":""},{"$f":"IF(MIN(G89,G129)=500,\"\",MIN(G89,G129))","v":""},"",""]

{"sheet":"Archresultats2","index":5,"n_rows":130,"n_cols":87,"rows_kept":130,"cut":false,"hidden":false,"merged":[[0,0,2,11],[2,39,2,41],[2,42,2,44],[2,45,2,47],[2,48,2,53]]}
["Bilan équipe 2"]
[null,null,null,null,null,null,null,null,null,null,null,null,null,null,"ABCD"]
[null,null,null,null,null,null,null,null,null,null,null,null,null,null,null,null,null,null,null,null,null,null,null,null,null,null,null,null,null,null,null,null,null,null,null,null,null,null,null,"ZONE 1",null,null,"ZONE 2",null,null,"ZONE 3",null,null,"TOTAL course"]
[null,"Dates","Heure","Coureur ou\nOrdre relais","Tps\n zone 1","Vitesse\nzone 1","Tps\n zone 2","Vitesse\nzone 2","Tps\n zone 3","Vitesse\nzone 3","Tps course\ntotale","Vitesse totale\ntotale","Remarques",null,null,"AB (t)","AB (v)","AC (t)","AC (v)","AD (t)","AD (v)","BA (v)","BA (t)","BC (t)","BC (v)","BD (t)","BD (v)","CA (t)","CA (v)","CB (t)","CB (v)","CD (t)","CD (v)","DA (t)","DA (v)","DB (t)","DB (v)","DC (t)","DC (v)","Vitesse\n moy. théorique  du binôme","Vitesse réelle\n du binôme","% \nEvolution","Vitesse\n moy. théorique  du binôme","Vitesse réelle\n du binôme","% \nEvolution","Vitesse\n moy. théorique  du binôme","Vitesse réelle\n du binôme","% \nEvolution","TEMPS\ntotal théorique\ndu groupe","TEMPS\ntotal réel\ndu groupe\n ","% \nEvolution","VITESSE\n théorique  du groupe","VITESSE réelle\n du groupe","% \nEvolution"]
[1,null,null,null,null,null,null,null,null,null,null,null,null,null,"ABCD",{"$f":"IF(OR($O$2=$O$5,$O$2=$O$6),E5,IF(OR($O$2=$O$18,$O$2=$O$24),G5,IF(OR($O$2=$O$22,$O$2=$O$28),I5,\"\")))","v":0},{"$f":"IF(OR($O$2=$O$5,$O$2=$O$6),F5,IF(OR($O$2=$O$18,$O$2=$O$24),H5,IF(OR($O$2=$O$22,$O$2=$O$28),J5,\"\")))","v":0},{"$f":"IF(OR($O$2=$O$7,$O$2=$O$8),E5,IF(OR($O$2=$O$12,$O$2=$O$25),G5,IF(OR($O$2=$O$16,$O$2=$O$26),I5,\"\")))","v":""},{"$f":"IF(OR($O$2=$O$7,$O$2=$O$8),F5,IF(OR($O$2=$O$12,$O$2=$O$25),H5,IF(OR($O$2=$O$16,$O$2=$O$26),J5,\"\")))","v":""},{"$f":"IF(OR($O$2=$O$9,$O$2=$O$10),E5,IF(OR($O$2=$O$13,$O$2=$O$19),G5,IF(OR($O$2=$O$14,$O$2=$O$20),I5,\"\")))","v":""},{"$f":"IF(OR($O$2=$O$9,$O$2=$O$10),F5,IF(OR($O$2=$O$13,$O$2=$O$19),H5,IF(OR($O$2=$O$14,$O$2=$O$20),J5,\"\")))","v":""},{"$f":"IF(OR($O$2=$O$12,$O$2=$O$13),E5,IF(OR($O$2=$O$20,$O$2=$O$26),G5,IF(OR($O$2=$O$23,$O$2=$O$29),I5,\"\")))","v":""},{"$f":"IF(OR($O$2=$O$12,$O$2=$O$13),F5,IF(OR($O$2=$O$20,$O$2=$O$26),H5,IF(OR($O$2=$O$23,$O$2=$O$29),J5,\"\")))","v":""},{"$f":"IF(OR($O$2=$O$14,$O$2=$O$15),E5,IF(OR($O$2=$O$5,$O$2=$O$27),G5,IF(OR($O$2=$O$9,$O$2=$O$24),I5,\"\")))","v":0},{"$f":"IF(OR($O$2=$O$14,$O$2=$O$15),F5,IF(OR($O$2=$O$5,$O$2=$O$27),H5,IF(OR($O$2=$O$9,$O$2=$O$24),J5,\"\")))","v":0},{"$f":"IF(OR($O$2=$O$16,$O$2=$O$17),E5,IF(OR($O$2=$O$6,$O$2=$O$21),G5,IF(OR($O$2=$O$7,$O$2=$O$18),I5,\"\")))","v":""},{"$f":"IF(OR($O$2=$O$16,$O$2=$O$17),F5,IF(OR($O$2=$O$6,$O$2=$O$21),H5,IF(OR($O$2=$O$7,$O$2=$O$18),J5,\"\")))","v":""},{"$f":"IF(OR($O$2=$O$18,$O$2=$O$19),E5,IF(OR($O$2=$O$14,$O$2=$O$28),G5,IF(OR($O$2=$O$17,$O$2=$O$27),I5,\"\")))","v":""},{"$f":"IF(OR($O$2=$O$18,$O$2=$O$19),F5,IF(OR($O$2=$O$14,$O$2=$O$28),H5,IF(OR($O$2=$O$17,$O$2=$O$27),J5,\"\")))","v":""},{"$f":"IF(OR($O$2=$O$20,$O$2=$O$21),E5,IF(OR($O$2=$O$7,$O$2=$O$29),G5,IF(OR($O$2=$O$10,$O$2=$O$11),I5,\"\")))","v":""},{"$f":"IF(OR($O$2=$O$20,$O$2=$O$21),F5,IF(OR($O$2=$O$7,$O$2=$O$29),H5,IF(OR($O$2=$O$10,$O$2=$O$11),J5,\"\")))","v":""},{"$f":"IF(OR($O$2=$O$22,$O$2=$O$23),E5,IF(OR($O$2=$O$8,$O$2=$O$15),G5,IF(OR($O$2=$O$5,$O$2=$O$12),I5,\"\")))","v":0},{"$f":"IF(OR($O$2=$O$22,$O$2=$O$23),F5,IF(OR($O$2=$O$8,$O$2=$O$15),H5,IF(OR($O$2=$O$5,$O$2=$O$12),J5,\"\")))","v":0},{"$f":"IF(OR($O$2=$O$24,$O$2=$O$25),E5,IF(OR($O$2=$O$16,$O$2=$O$22),G5,IF(OR($O$2=$O$15,$O$2=$O$21),I5,\"\")))","v":""},{"$f":"IF(OR($O$2=$O$24,$O$2=$O$25),F5,IF(OR($O$2=$O$16,$O$2=$O$22),H5,IF(OR($O$2=$O$15,$O$2=$O$21),J5,\"\")))","v":""},{"$f":"IF(OR($O$2=$O$26,$O$2=$O$27),E5,IF(OR($O$2=$O$9,$O$2=$O$23),G5,IF(OR($O$2=$O$8,$O$2=$O$19),I5,\"\")))","v":""},{"$f":"IF(OR($O$2=$O$26,$O$2=$O$27),F5,IF(OR($O$2=$O$9,$O$2=$O$23),H5,IF(OR($O$2=$O$8,$O$2=$O$19),J5,\"\")))","v":""},{"$f":"IF(OR($O$2=$O$28,$O$2=$O$29),E5,IF(OR($O$2=$O$10,$O$2=$O$11),G5,IF(OR($O$2=$O$6,$O$2=$O$13),I5,\"\")))","v":""},{"$f":"IF(OR($O$2=$O$28,$O$2=$O$29),F5,IF(OR($O$2=$O$10,$O$2=$O$11),H5,IF(OR($O$2=$O$6,$O$2=$O$13),J5,\"\")))","v":""},{"$f":"IF(ISBLANK(E5),\"\",IF(OR($O$2=$O$5,$O$2=$O$6,$O$2=$O$12,$O$2=$O$13),Best2!$F$10,IF(OR($O$2=$O$7,$O$2=$O$8,$O$2=$O$18,$O$2=$O$19),Best2!$F$11,IF(OR($O$2=$O$9,$O$2=$O$10,$O$2=$O$24,$O$2=$O$25),Best2!$F$12,IF(OR($O$2=$O$14,$O$2=$O$15,$O$2=$O$20,$O$2=$O$21),Best2!$F$13,IF(OR($O$2=$O$16,$O$2=$O$17,$O$2=$O$26,$O$2=$O$27),Best2!$F$14,IF(OR($O$2=$O$22,$O$2=$O$23,$O$2=$O$28,$O$2=$O$29),Best2!$F$15,\"\")))))))","v":""},{"$f":"IF(F5=\"\",\"\",F5)","v":""},{"$f":"IF(AO5=\"\",\"\",ROUND(((AO5-AN5)/AN5*100),1))","v":""},{"$f":"IF(ISBLANK(G5),\"\",IF(OR($O$2=$O$5,$O$2=$O$7,$O$2=$O$27,$O$2=$O$29),Best2!$F$13,IF(OR($O$2=$O$18,$O$2=$O$20,$O$2=$O$24,$O$2=$O$26),Best2!$F$10,IF(OR($O$2=$O$12,$O$2=$O$14,$O$2=$O$25,$O$2=$O$28),Best2!$F$11,IF(OR($O$2=$O$13,$O$2=$O$16,$O$2=$O$19,$O$2=$O$22),Best2!$F$12,IF(OR($O$2=$O$6,$O$2=$O$9,$O$2=$O$21,$O$2=$O$23),Best2!$F$14,IF(OR($O$2=$O$8,$O$2=$O$10,$O$2=$O$15,$O$2=$O$17),Best2!$F$15,\"\")))))))","v":""},{"$f":"IF(H5=\"\",\"\",H5)","v":""},{"$f":"IF(AR5=\"\",\"\",ROUND(((AR5-AQ5)/AQ5*100),1))","v":""},{"$f":"IF(ISBLANK(I5),\"\",IF(OR($O$2=$O$9,$O$2=$O$10,$O$2=$O$24,$O$2=$O$25),Best2!$F$13,IF(OR($O$2=$O$22,$O$2=$O$23,$O$2=$O$28,$O$2=$O$29),Best2!$F$10,IF(OR($O$2=$O$16,$O$2=$O$17,$O$2=$O$26,$O$2=$O$27),Best2!$F$11,IF(OR($O$2=$O$14,$O$2=$O$15,$O$2=$O$20,$O$2=$O$21),Best2!$F$12,IF(OR($O$2=$O$7,$O$2=$O$8,$O$2=$O$18,$O$2=$O$19),Best2!$F$14,IF(OR($O$2=$O$5,$O$2=$O$6,$O$2=$O$12,$O$2=$O$13),Best2!$F$15,\"\")))))))","v":""},{"$f":"IF(J5=\"\",\"\",J5)","v":""},{"$f":"IF(AU5=\"\",\"\",ROUND(((AU5-AT5)/AT5*100),1))","v":""},{"$f":"IF(ISBLANK(K5),\"\",IF(Best2!$C$3=\"\",\"\",ROUND(SUM(Best2!$C$3:$C$6),1)))","v":""},{"$f":"IF(K5=\"\",\"\",K5)","v":""},{"$f":"IF(AX5=\"\",\"\",ROUND(((AX5-AW5)/AW5*100),1))","v":""},{"$f":"IF(ISBLANK(K5),\"\",IF(Best2!$B$3=\"\",\"\",ROUND(AVERAGE(Best2!$D$3:$D$6),1)))","v":""},{"$f":"IF(L5=\"\",\"\",L5)","v":""},{"$f":"IF(BA5=\"\",\"\",ROUND(((BA5-AZ5)/AZ5*100),1))","v":""},null,{"$f":"AX5","v":""},null,null,null,null,null,null,null,{"$f":"IF(OR(P5=\"\",P5=0),\"\",P5*1)","v":""},{"$f":"IF(OR(Q5=\"\",Q5=0),\"\",Q5*1)","v":""},"",{"$f":"IF(OR(S5=\"\",S5=0),\"\",S5*1)","v":""},{"$f":"IF(OR(T5=\"\",T5=0),\"\",T5*1)","v":""},{"$f":"IF(OR(U5=\"\",U5=0),\"\",U5*1)","v":""},{"$f":"IF(OR(V5=\"\",V5=0),\"\",V5*1)","v":""},{"$f":"IF(OR(W5=\"\",W5=0),\"\",W5*1)","v":""},{"$f":"IF(OR(X5=\"\",X5=0),\"\",X5*1)","v":""},{"$f":"IF(OR(Y5=\"\",Y5=0),\"\",Y5*1)","v":""},{"$f":"IF(OR(Z5=\"\",Z5=0),\"\",Z5*1)","v":""},{"$f":"IF(OR(AA5=\"\",AA5=0),\"\",AA5*1)","v":""},{"$f":"IF(OR(AB5=\"\",AB5=0),\"\",AB5*1)","v":""},{"$f":"IF(OR(AC5=\"\",AC5=0),\"\",AC5*1)","v":""},{"$f":"IF(OR(AD5=\"\",AD5=0),\"\",AD5*1)","v":""},{"$f":"IF(OR(AE5=\"\",AE5=0),\"\",AE5*1)","v":""},{"$f":"IF(OR(AF5=\"\",AF5=0),\"\",AF5*1)","v":""},{"$f":"IF(OR(AG5=\"\",AG5=0),\"\",AG5*1)","v":""},{"$f":"IF(OR(AH5=\"\",AH5=0),\"\",AH5*1)","v":""},{"$f":"IF(OR(AI5=\"\",AI5=0),\"\",AI5*1)","v":""},{"$f":"IF(OR(AJ5=\"\",AJ5=0),\"\",AJ5*1)","v":""},{"$f":"IF(OR(AK5=\"\",AK5=0),\"\",AK5*1)","v":""},{"$f":"IF(OR(AL5=\"\",AL5=0),\"\",AL5*1)","v":""},{"$f":"IF(OR(AM5=\"\",AM5=0),\"\",AM5*1)","v":""}]
[2,null,null,null,null,null,null,null,null,null,null,null,null,null,"ABDC",{"$f":"IF(OR($O$2=$O$5,$O$2=$O$6),E6,IF(OR($O$2=$O$18,$O$2=$O$24),G6,IF(OR($O$2=$O$22,$O$2=$O$28),I6,\"\")))","v":0},0,{"$f":"IF(OR($O$2=$O$7,$O$2=$O$8),E6,IF(OR($O$2=$O$12,$O$2=$O$25),G6,IF(OR($O$2=$O$16,$O$2=$O$26),I6,\"\")))","v":""},"",{"$f":"IF(OR($O$2=$O$9,$O$2=$O$10),E6,IF(OR($O$2=$O$13,$O$2=$O$19),G6,IF(OR($O$2=$O$14,$O$2=$O$20),I6,\"\")))","v":""},"",{"$f":"IF(OR($O$2=$O$12,$O$2=$O$13),E6,IF(OR($O$2=$O$20,$O$2=$O$26),G6,IF(OR($O$2=$O$23,$O$2=$O$29),I6,\"\")))","v":""},"",{"$f":"IF(OR($O$2=$O$14,$O$2=$O$15),E6,IF(OR($O$2=$O$5,$O$2=$O$27),G6,IF(OR($O$2=$O$9,$O$2=$O$24),I6,\"\")))","v":0},0,{"$f":"IF(OR($O$2=$O$16,$O$2=$O$17),E6,IF(OR($O$2=$O$6,$O$2=$O$21),G6,IF(OR($O$2=$O$7,$O$2=$O$18),I6,\"\")))","v":""},"",{"$f":"IF(OR($O$2=$O$18,$O$2=$O$19),E6,IF(OR($O$2=$O$14,$O$2=$O$28),G6,IF(OR($O$2=$O$17,$O$2=$O$27),I6,\"\")))","v":""},"",{"$f":"IF(OR($O$2=$O$20,$O$2=$O$21),E6,IF(OR($O$2=$O$7,$O$2=$O$29),G6,IF(OR($O$2=$O$10,$O$2=$O$11),I6,\"\")))","v":""},"",{"$f":"IF(OR($O$2=$O$22,$O$2=$O$23),E6,IF(OR($O$2=$O$8,$O$2=$O$15),G6,IF(OR($O$2=$O$5,$O$2=$O$12),I6,\"\")))","v":0},0,{"$f":"IF(OR($O$2=$O$24,$O$2=$O$25),E6,IF(OR($O$2=$O$16,$O$2=$O$22),G6,IF(OR($O$2=$O$15,$O$2=$O$21),I6,\"\")))","v":""},"",{"$f":"IF(OR($O$2=$O$26,$O$2=$O$27),E6,IF(OR($O$2=$O$9,$O$2=$O$23),G6,IF(OR($O$2=$O$8,$O$2=$O$19),I6,\"\")))","v":""},"",{"$f":"IF(OR($O$2=$O$28,$O$2=$O$29),E6,IF(OR($O$2=$O$10,$O$2=$O$11),G6,IF(OR($O$2=$O$6,$O$2=$O$13),I6,\"\")))","v":""},"",{"$f":"IF(ISBLANK(E6),\"\",IF(OR($O$2=$O$5,$O$2=$O$6,$O$2=$O$12,$O$2=$O$13),Best2!$F$10,IF(OR($O$2=$O$7,$O$2=$O$8,$O$2=$O$18,$O$2=$O$19),Best2!$F$11,IF(OR($O$2=$O$9,$O$2=$O$10,$O$2=$O$24,$O$2=$O$25),Best2!$F$12,IF(OR($O$2=$O$14,$O$2=$O$15,$O$2=$O$20,$O$2=$O$21),Best2!$F$13,IF(OR($O$2=$O$16,$O$2=$O$17,$O$2=$O$26,$O$2=$O$27),Best2!$F$14,IF(OR($O$2=$O$22,$O$2=$O$23,$O$2=$O$28,$O$2=$O$29),Best2!$F$15,\"\")))))))","v":""},{"$f":"IF(F6=\"\",\"\",F6)","v":""},{"$f":"IF(AO6=\"\",\"\",ROUND(((AO6-AN6)/AN6*100),1))","v":""},{"$f":"IF(ISBLANK(G6),\"\",IF(OR($O$2=$O$5,$O$2=$O$7,$O$2=$O$27,$O$2=$O$29),Best2!$F$13,IF(OR($O$2=$O$18,$O$2=$O$20,$O$2=$O$24,$O$2=$O$26),Best2!$F$10,IF(OR($O$2=$O$12,$O$2=$O$14,$O$2=$O$25,$O$2=$O$28),Best2!$F$11,IF(OR($O$2=$O$13,$O$2=$O$16,$O$2=$O$19,$O$2=$O$22),Best2!$F$12,IF(OR($O$2=$O$6,$O$2=$O$9,$O$2=$O$21,$O$2=$O$23),Best2!$F$14,IF(OR($O$2=$O$8,$O$2=$O$10,$O$2=$O$15,$O$2=$O$17),Best2!$F$15,\"\")))))))","v":""},{"$f":"IF(H6=\"\",\"\",H6)","v":""},{"$f":"IF(AR6=\"\",\"\",ROUND(((AR6-AQ6)/AQ6*100),1))","v":""},{"$f":"IF(ISBLANK(I6),\"\",IF(OR($O$2=$O$9,$O$2=$O$10,$O$2=$O$24,$O$2=$O$25),Best2!$F$13,IF(OR($O$2=$O$22,$O$2=$O$23,$O$2=$O$28,$O$2=$O$29),Best2!$F$10,IF(OR($O$2=$O$16,$O$2=$O$17,$O$2=$O$26,$O$2=$O$27),Best2!$F$11,IF(OR($O$2=$O$14,$O$2=$O$15,$O$2=$O$20,$O$2=$O$21),Best2!$F$12,IF(OR($O$2=$O$7,$O$2=$O$8,$O$2=$O$18,$O$2=$O$19),Best2!$F$14,IF(OR($O$2=$O$5,$O$2=$O$6,$O$2=$O$12,$O$2=$O$13),Best2!$F$15,\"\")))))))","v":""},{"$f":"IF(J6=\"\",\"\",J6)","v":""},{"$f":"IF(AU6=\"\",\"\",ROUND(((AU6-AT6)/AT6*100),1))","v":""},{"$f":"IF(ISBLANK(K6),\"\",IF(Best2!$C$3=\"\",\"\",ROUND(SUM(Best2!$C$3:$C$6),1)))","v":""},{"$f":"IF(K6=\"\",\"\",K6)","v":""},{"$f":"IF(AX6=\"\",\"\",ROUND(((AX6-AW6)/AW6*100),1))","v":""},{"$f":"IF(ISBLANK(K6),\"\",IF(Best2!$B$3=\"\",\"\",ROUND(AVERAGE(Best2!$D$3:$D$6),1)))","v":""},{"$f":"IF(L6=\"\",\"\",L6)","v":""},{"$f":"IF(BA6=\"\",\"\",ROUND(((BA6-AZ6)/AZ6*100),1))","v":""},null,{"$f":"AX6","v":""},null,null,null,null,null,null,null,{"$f":"IF(OR(P6=\"\",P6=0),\"\",P6*1)","v":""},{"$f":"IF(OR(Q6=\"\",Q6=0),\"\",Q6*1)","v":""},{"$f":"IF(OR(R6=\"\",R6=0),\"\",R6*1)","v":""},{"$f":"IF(OR(S6=\"\",S6=0),\"\",S6*1)","v":""},{"$f":"IF(OR(T6=\"\",T6=0),\"\",T6*1)","v":""},{"$f":"IF(OR(U6=\"\",U6=0),\"\",U6*1)","v":""},{"$f":"IF(OR(V6=\"\",V6=0),\"\",V6*1)","v":""},{"$f":"IF(OR(W6=\"\",W6=0),\"\",W6*1)","v":""},{"$f":"IF(OR(X6=\"\",X6=0),\"\",X6*1)","v":""},{"$f":"IF(OR(Y6=\"\",Y6=0),\"\",Y6*1)","v":""},{"$f":"IF(OR(Z6=\"\",Z6=0),\"\",Z6*1)","v":""},{"$f":"IF(OR(AA6=\"\",AA6=0),\"\",AA6*1)","v":""},{"$f":"IF(OR(AB6=\"\",AB6=0),\"\",AB6*1)","v":""},{"$f":"IF(OR(AC6=\"\",AC6=0),\"\",AC6*1)","v":""},{"$f":"IF(OR(AD6=\"\",AD6=0),\"\",AD6*1)","v":""},{"$f":"IF(OR(AE6=\"\",AE6=0),\"\",AE6*1)","v":""},{"$f":"IF(OR(AF6=\"\",AF6=0),\"\",AF6*1)","v":""},{"$f":"IF(OR(AG6=\"\",AG6=0),\"\",AG6*1)","v":""},{"$f":"IF(OR(AH6=\"\",AH6=0),\"\",AH6*1)","v":""},{"$f":"IF(OR(AI6=\"\",AI6=0),\"\",AI6*1)","v":""},{"$f":"IF(OR(AJ6=\"\",AJ6=0),\"\",AJ6*1)","v":""},{"$f":"IF(OR(AK6=\"\",AK6=0),\"\",AK6*1)","v":""},{"$f":"IF(OR(AL6=\"\",AL6=0),\"\",AL6*1)","v":""},{"$f":"IF(OR(AM6=\"\",AM6=0),\"\",AM6*1)","v":""}]
[3,null,null,null,null,null,null,null,null,null,null,null,null,null,"ACBD",0,0,"","","","","","",0,0,"","","","","","",0,0,"","","","","","",{"$f":"IF(ISBLANK(E7),\"\",IF(OR($O$2=$O$5,$O$2=$O$6,$O$2=$O$12,$O$2=$O$13),Best2!$F$10,IF(OR($O$2=$O$7,$O$2=$O$8,$O$2=$O$18,$O$2=$O$19),Best2!$F$11,IF(OR($O$2=$O$9,$O$2=$O$10,$O$2=$O$24,$O$2=$O$25),Best2!$F$12,IF(OR($O$2=$O$14,$O$2=$O$15,$O$2=$O$20,$O$2=$O$21),Best2!$F$13,IF(OR($O$2=$O$16,$O$2=$O$17,$O$2=$O$26,$O$2=$O$27),Best2!$F$14,IF(OR($O$2=$O$22,$O$2=$O$23,$O$2=$O$28,$O$2=$O$29),Best2!$F$15,\"\")))))))","v":""},"","",{"$f":"IF(ISBLANK(G7),\"\",IF(OR($O$2=$O$5,$O$2=$O$7,$O$2=$O$27,$O$2=$O$29),Best2!$F$13,IF(OR($O$2=$O$18,$O$2=$O$20,$O$2=$O$24,$O$2=$O$26),Best2!$F$10,IF(OR($O$2=$O$12,$O$2=$O$14,$O$2=$O$25,$O$2=$O$28),Best2!$F$11,IF(OR($O$2=$O$13,$O$2=$O$16,$O$2=$O$19,$O$2=$O$22),Best2!$F$12,IF(OR($O$2=$O$6,$O$2=$O$9,$O$2=$O$21,$O$2=$O$23),Best2!$F$14,IF(OR($O$2=$O$8,$O$2=$O$10,$O$2=$O$15,$O$2=$O$17),Best2!$F$15,\"\")))))))","v":""},"","",{"$f":"IF(ISBLANK(I7),\"\",IF(OR($O$2=$O$9,$O$2=$O$10,$O$2=$O$24,$O$2=$O$25),Best2!$F$13,IF(OR($O$2=$O$22,$O$2=$O$23,$O$2=$O$28,$O$2=$O$29),Best2!$F$10,IF(OR($O$2=$O$16,$O$2=$O$17,$O$2=$O$26,$O$2=$O$27),Best2!$F$11,IF(OR($O$2=$O$14,$O$2=$O$15,$O$2=$O$20,$O$2=$O$21),Best2!$F$12,IF(OR($O$2=$O$7,$O$2=$O$8,$O$2=$O$18,$O$2=$O$19),Best2!$F$14,IF(OR($O$2=$O$5,$O$2=$O$6,$O$2=$O$12,$O$2=$O$13),Best2!$F$15,\"\")))))))","v":""},"","",{"$f":"IF(ISBLANK(K7),\"\",IF(Best2!$C$3=\"\",\"\",ROUND(SUM(Best2!$C$3:$C$6),1)))","v":""},"","",{"$f":"IF(ISBLANK(K7),\"\",IF(Best2!$B$3=\"\",\"\",ROUND(AVERAGE(Best2!$D$3:$D$6),1)))","v":""},"","",null,"",null,null,null,null,null,null,null,"","","","","","","","","","","","","","","","","","","","","","","",""]
[4,null,null,null,null,null,null,null,null,null,null,null,null,null,"ACDB",0,0,"","","","","","",0,0,"","","","","","",0,0,"","","","","","",{"$f":"IF(ISBLANK(E8),\"\",IF(OR($O$2=$O$5,$O$2=$O$6,$O$2=$O$12,$O$2=$O$13),Best2!$F$10,IF(OR($O$2=$O$7,$O$2=$O$8,$O$2=$O$18,$O$2=$O$19),Best2!$F$11,IF(OR($O$2=$O$9,$O$2=$O$10,$O$2=$O$24,$O$2=$O$25),Best2!$F$12,IF(OR($O$2=$O$14,$O$2=$O$15,$O$2=$O$20,$O$2=$O$21),Best2!$F$13,IF(OR($O$2=$O$16,$O$2=$O$17,$O$2=$O$26,$O$2=$O$27),Best2!$F$14,IF(OR($O$2=$O$22,$O$2=$O$23,$O$2=$O$28,$O$2=$O$29),Best2!$F$15,\"\")))))))","v":""},"","",{"$f":"IF(ISBLANK(G8),\"\",IF(OR($O$2=$O$5,$O$2=$O$7,$O$2=$O$27,$O$2=$O$29),Best2!$F$13,IF(OR($O$2=$O$18,$O$2=$O$20,$O$2=$O$24,$O$2=$O$26),Best2!$F$10,IF(OR($O$2=$O$12,$O$2=$O$14,$O$2=$O$25,$O$2=$O$28),Best2!$F$11,IF(OR($O$2=$O$13,$O$2=$O$16,$O$2=$O$19,$O$2=$O$22),Best2!$F$12,IF(OR($O$2=$O$6,$O$2=$O$9,$O$2=$O$21,$O$2=$O$23),Best2!$F$14,IF(OR($O$2=$O$8,$O$2=$O$10,$O$2=$O$15,$O$2=$O$17),Best2!$F$15,\"\")))))))","v":""},"","",{"$f":"IF(ISBLANK(I8),\"\",IF(OR($O$2=$O$9,$O$2=$O$10,$O$2=$O$24,$O$2=$O$25),Best2!$F$13,IF(OR($O$2=$O$22,$O$2=$O$23,$O$2=$O$28,$O$2=$O$29),Best2!$F$10,IF(OR($O$2=$O$16,$O$2=$O$17,$O$2=$O$26,$O$2=$O$27),Best2!$F$11,IF(OR($O$2=$O$14,$O$2=$O$15,$O$2=$O$20,$O$2=$O$21),Best2!$F$12,IF(OR($O$2=$O$7,$O$2=$O$8,$O$2=$O$18,$O$2=$O$19),Best2!$F$14,IF(OR($O$2=$O$5,$O$2=$O$6,$O$2=$O$12,$O$2=$O$13),Best2!$F$15,\"\")))))))","v":""},"","",{"$f":"IF(ISBLANK(K8),\"\",IF(Best2!$C$3=\"\",\"\",ROUND(SUM(Best2!$C$3:$C$6),1)))","v":""},"","",{"$f":"IF(ISBLANK(K8),\"\",IF(Best2!$B$3=\"\",\"\",ROUND(AVERAGE(Best2!$D$3:$D$6),1)))","v":""},"","",null,"",null,null,null,null,null,null,null,"","","","","","","","","","","","","","","","","","","","","","","",""]
[5,null,null,null,null,null,null,null,null,null,null,null,null,null,"ADBC",0,0,"","","","","","",0,0,"","","","","","",0,0,"","","","","","",{"$f":"IF(ISBLANK(E9),\"\",IF(OR($O$2=$O$5,$O$2=$O$6,$O$2=$O$12,$O$2=$O$13),Best2!$F$10,IF(OR($O$2=$O$7,$O$2=$O$8,$O$2=$O$18,$O$2=$O$19),Best2!$F$11,IF(OR($O$2=$O$9,$O$2=$O$10,$O$2=$O$24,$O$2=$O$25),Best2!$F$12,IF(OR($O$2=$O$14,$O$2=$O$15,$O$2=$O$20,$O$2=$O$21),Best2!$F$13,IF(OR($O$2=$O$16,$O$2=$O$17,$O$2=$O$26,$O$2=$O$27),Best2!$F$14,IF(OR($O$2=$O$22,$O$2=$O$23,$O$2=$O$28,$O$2=$O$29),Best2!$F$15,\"\")))))))","v":""},"","",{"$f":"IF(ISBLANK(G9),\"\",IF(OR($O$2=$O$5,$O$2=$O$7,$O$2=$O$27,$O$2=$O$29),Best2!$F$13,IF(OR($O$2=$O$18,$O$2=$O$20,$O$2=$O$24,$O$2=$O$26),Best2!$F$10,IF(OR($O$2=$O$12,$O$2=$O$14,$O$2=$O$25,$O$2=$O$28),Best2!$F$11,IF(OR($O$2=$O$13,$O$2=$O$16,$O$2=$O$19,$O$2=$O$22),Best2!$F$12,IF(OR($O$2=$O$6,$O$2=$O$9,$O$2=$O$21,$O$2=$O$23),Best2!$F$14,IF(OR($O$2=$O$8,$O$2=$O$10,$O$2=$O$15,$O$2=$O$17),Best2!$F$15,\"\")))))))","v":""},"","",{"$f":"IF(ISBLANK(I9),\"\",IF(OR($O$2=$O$9,$O$2=$O$10,$O$2=$O$24,$O$2=$O$25),Best2!$F$13,IF(OR($O$2=$O$22,$O$2=$O$23,$O$2=$O$28,$O$2=$O$29),Best2!$F$10,IF(OR($O$2=$O$16,$O$2=$O$17,$O$2=$O$26,$O$2=$O$27),Best2!$F$11,IF(OR($O$2=$O$14,$O$2=$O$15,$O$2=$O$20,$O$2=$O$21),Best2!$F$12,IF(OR($O$2=$O$7,$O$2=$O$8,$O$2=$O$18,$O$2=$O$19),Best2!$F$14,IF(OR($O$2=$O$5,$O$2=$O$6,$O$2=$O$12,$O$2=$O$13),Best2!$F$15,\"\")))))))","v":""},"","",{"$f":"IF(ISBLANK(K9),\"\",IF(Best2!$C$3=\"\",\"\",ROUND(SUM(Best2!$C$3:$C$6),1)))","v":""},"","",{"$f":"IF(ISBLANK(K9),\"\",IF(Best2!$B$3=\"\",\"\",ROUND(AVERAGE(Best2!$D$3:$D$6),1)))","v":""},"","",null,"",null,null,null,null,null,null,null,"","","","","","","","","","","","","","","","","","","","","","","",""]
[6,null,null,null,null,null,null,null,null,null,null,null,null,null,"ADCB",0,0,"","","","","","",0,0,"","","","","","",0,0,"","","","","","",{"$f":"IF(ISBLANK(E10),\"\",IF(OR($O$2=$O$5,$O$2=$O$6,$O$2=$O$12,$O$2=$O$13),Best2!$F$10,IF(OR($O$2=$O$7,$O$2=$O$8,$O$2=$O$18,$O$2=$O$19),Best2!$F$11,IF(OR($O$2=$O$9,$O$2=$O$10,$O$2=$O$24,$O$2=$O$25),Best2!$F$12,IF(OR($O$2=$O$14,$O$2=$O$15,$O$2=$O$20,$O$2=$O$21),Best2!$F$13,IF(OR($O$2=$O$16,$O$2=$O$17,$O$2=$O$26,$O$2=$O$27),Best2!$F$14,IF(OR($O$2=$O$22,$O$2=$O$23,$O$2=$O$28,$O$2=$O$29),Best2!$F$15,\"\")))))))","v":""},"","",{"$f":"IF(ISBLANK(G10),\"\",IF(OR($O$2=$O$5,$O$2=$O$7,$O$2=$O$27,$O$2=$O$29),Best2!$F$13,IF(OR($O$2=$O$18,$O$2=$O$20,$O$2=$O$24,$O$2=$O$26),Best2!$F$10,IF(OR($O$2=$O$12,$O$2=$O$14,$O$2=$O$25,$O$2=$O$28),Best2!$F$11,IF(OR($O$2=$O$13,$O$2=$O$16,$O$2=$O$19,$O$2=$O$22),Best2!$F$12,IF(OR($O$2=$O$6,$O$2=$O$9,$O$2=$O$21,$O$2=$O$23),Best2!$F$14,IF(OR($O$2=$O$8,$O$2=$O$10,$O$2=$O$15,$O$2=$O$17),Best2!$F$15,\"\")))))))","v":""},"","",{"$f":"IF(ISBLANK(I10),\"\",IF(OR($O$2=$O$9,$O$2=$O$10,$O$2=$O$24,$O$2=$O$25),Best2!$F$13,IF(OR($O$2=$O$22,$O$2=$O$23,$O$2=$O$28,$O$2=$O$29),Best2!$F$10,IF(OR($O$2=$O$16,$O$2=$O$17,$O$2=$O$26,$O$2=$O$27),Best2!$F$11,IF(OR($O$2=$O$14,$O$2=$O$15,$O$2=$O$20,$O$2=$O$21),Best2!$F$12,IF(OR($O$2=$O$7,$O$2=$O$8,$O$2=$O$18,$O$2=$O$19),Best2!$F$14,IF(OR($O$2=$O$5,$O$2=$O$6,$O$2=$O$12,$O$2=$O$13),Best2!$F$15,\"\")))))))","v":""},"","",{"$f":"IF(ISBLANK(K10),\"\",IF(Best2!$C$3=\"\",\"\",ROUND(SUM(Best2!$C$3:$C$6),1)))","v":""},"","",{"$f":"IF(ISBLANK(K10),\"\",IF(Best2!$B$3=\"\",\"\",ROUND(AVERAGE(Best2!$D$3:$D$6),1)))","v":""},"","",null,"",null,null,null,null,null,null,null,"","","","","","","","","","","","","","","","","","","","","","","",""]
[7,null,null,null,null,null,null,null,null,null,null,null,null,null,"ADCB",0,0,"","","","","","",0,0,"","","","","","",0,0,"","","","","","",{"$f":"IF(ISBLANK(E11),\"\",IF(OR($O$2=$O$5,$O$2=$O$6,$O$2=$O$12,$O$2=$O$13),Best2!$F$10,IF(OR($O$2=$O$7,$O$2=$O$8,$O$2=$O$18,$O$2=$O$19),Best2!$F$11,IF(OR($O$2=$O$9,$O$2=$O$10,$O$2=$O$24,$O$2=$O$25),Best2!$F$12,IF(OR($O$2=$O$14,$O$2=$O$15,$O$2=$O$20,$O$2=$O$21),Best2!$F$13,IF(OR($O$2=$O$16,$O$2=$O$17,$O$2=$O$26,$O$2=$O$27),Best2!$F$14,IF(OR($O$2=$O$22,$O$2=$O$23,$O$2=$O$28,$O$2=$O$29),Best2!$F$15,\"\")))))))","v":""},"","",{"$f":"IF(ISBLANK(G11),\"\",IF(OR($O$2=$O$5,$O$2=$O$7,$O$2=$O$27,$O$2=$O$29),Best2!$F$13,IF(OR($O$2=$O$18,$O$2=$O$20,$O$2=$O$24,$O$2=$O$26),Best2!$F$10,IF(OR($O$2=$O$12,$O$2=$O$14,$O$2=$O$25,$O$2=$O$28),Best2!$F$11,IF(OR($O$2=$O$13,$O$2=$O$16,$O$2=$O$19,$O$2=$O$22),Best2!$F$12,IF(OR($O$2=$O$6,$O$2=$O$9,$O$2=$O$21,$O$2=$O$23),Best2!$F$14,IF(OR($O$2=$O$8,$O$2=$O$10,$O$2=$O$15,$O$2=$O$17),Best2!$F$15,\"\")))))))","v":""},"","",{"$f":"IF(ISBLANK(I11),\"\",IF(OR($O$2=$O$9,$O$2=$O$10,$O$2=$O$24,$O$2=$O$25),Best2!$F$13,IF(OR($O$2=$O$22,$O$2=$O$23,$O$2=$O$28,$O$2=$O$29),Best2!$F$10,IF(OR($O$2=$O$16,$O$2=$O$17,$O$2=$O$26,$O$2=$O$27),Best2!$F$11,IF(OR($O$2=$O$14,$O$2=$O$15,$O$2=$O$20,$O$2=$O$21),Best2!$F$12,IF(OR($O$2=$O$7,$O$2=$O$8,$O$2=$O$18,$O$2=$O$19),Best2!$F$14,IF(OR($O$2=$O$5,$O$2=$O$6,$O$2=$O$12,$O$2=$O$13),Best2!$F$15,\"\")))))))","v":""},"","",{"$f":"IF(ISBLANK(K11),\"\",IF(Best2!$C$3=\"\",\"\",ROUND(SUM(Best2!$C$3:$C$6),1)))","v":""},"","",{"$f":"IF(ISBLANK(K11),\"\",IF(Best2!$B$3=\"\",\"\",ROUND(AVERAGE(Best2!$D$3:$D$6),1)))","v":""},"","",null,"",null,null,null,null,null,null,null,"","","","","","","","","","","","","","","","","","","","","","","",""]
[8,null,null,null,null,null,null,null,null,null,null,null,null,null,"BACD",0,0,"","","","","","",0,0,"","","","","","",0,0,"","","","","","",{"$f":"IF(ISBLANK(E12),\"\",IF(OR($O$2=$O$5,$O$2=$O$6,$O$2=$O$12,$O$2=$O$13),Best2!$F$10,IF(OR($O$2=$O$7,$O$2=$O$8,$O$2=$O$18,$O$2=$O$19),Best2!$F$11,IF(OR($O$2=$O$9,$O$2=$O$10,$O$2=$O$24,$O$2=$O$25),Best2!$F$12,IF(OR($O$2=$O$14,$O$2=$O$15,$O$2=$O$20,$O$2=$O$21),Best2!$F$13,IF(OR($O$2=$O$16,$O$2=$O$17,$O$2=$O$26,$O$2=$O$27),Best2!$F$14,IF(OR($O$2=$O$22,$O$2=$O$23,$O$2=$O$28,$O$2=$O$29),Best2!$F$15,\"\")))))))","v":""},"","",{"$f":"IF(ISBLANK(G12),\"\",IF(OR($O$2=$O$5,$O$2=$O$7,$O$2=$O$27,$O$2=$O$29),Best2!$F$13,IF(OR($O$2=$O$18,$O$2=$O$20,$O$2=$O$24,$O$2=$O$26),Best2!$F$10,IF(OR($O$2=$O$12,$O$2=$O$14,$O$2=$O$25,$O$2=$O$28),Best2!$F$11,IF(OR($O$2=$O$13,$O$2=$O$16,$O$2=$O$19,$O$2=$O$22),Best2!$F$12,IF(OR($O$2=$O$6,$O$2=$O$9,$O$2=$O$21,$O$2=$O$23),Best2!$F$14,IF(OR($O$2=$O$8,$O$2=$O$10,$O$2=$O$15,$O$2=$O$17),Best2!$F$15,\"\")))))))","v":""},"","",{"$f":"IF(ISBLANK(I12),\"\",IF(OR($O$2=$O$9,$O$2=$O$10,$O$2=$O$24,$O$2=$O$25),Best2!$F$13,IF(OR($O$2=$O$22,$O$2=$O$23,$O$2=$O$28,$O$2=$O$29),Best2!$F$10,IF(OR($O$2=$O$16,$O$2=$O$17,$O$2=$O$26,$O$2=$O$27),Best2!$F$11,IF(OR($O$2=$O$14,$O$2=$O$15,$O$2=$O$20,$O$2=$O$21),Best2!$F$12,IF(OR($O$2=$O$7,$O$2=$O$8,$O$2=$O$18,$O$2=$O$19),Best2!$F$14,IF(OR($O$2=$O$5,$O$2=$O$6,$O$2=$O$12,$O$2=$O$13),Best2!$F$15,\"\")))))))","v":""},"","",{"$f":"IF(ISBLANK(K12),\"\",IF(Best2!$C$3=\"\",\"\",ROUND(SUM(Best2!$C$3:$C$6),1)))","v":""},"","",{"$f":"IF(ISBLANK(K12),\"\",IF(Best2!$B$3=\"\",\"\",ROUND(AVERAGE(Best2!$D$3:$D$6),1)))","v":""},"","",null,"",null,null,null,null,null,null,null,"","","","","","","","","","","","","","","","","","","","","","","",""]
[9,null,null,null,null,null,null,null,null,null,null,null,null,null,"BADC",0,0,"","","","","","",0,0,"","","","","","",0,0,"","","","","","",{"$f":"IF(ISBLANK(E13),\"\",IF(OR($O$2=$O$5,$O$2=$O$6,$O$2=$O$12,$O$2=$O$13),Best2!$F$10,IF(OR($O$2=$O$7,$O$2=$O$8,$O$2=$O$18,$O$2=$O$19),Best2!$F$11,IF(OR($O$2=$O$9,$O$2=$O$10,$O$2=$O$24,$O$2=$O$25),Best2!$F$12,IF(OR($O$2=$O$14,$O$2=$O$15,$O$2=$O$20,$O$2=$O$21),Best2!$F$13,IF(OR($O$2=$O$16,$O$2=$O$17,$O$2=$O$26,$O$2=$O$27),Best2!$F$14,IF(OR($O$2=$O$22,$O$2=$O$23,$O$2=$O$28,$O$2=$O$29),Best2!$F$15,\"\")))))))","v":""},"","",{"$f":"IF(ISBLANK(G13),\"\",IF(OR($O$2=$O$5,$O$2=$O$7,$O$2=$O$27,$O$2=$O$29),Best2!$F$13,IF(OR($O$2=$O$18,$O$2=$O$20,$O$2=$O$24,$O$2=$O$26),Best2!$F$10,IF(OR($O$2=$O$12,$O$2=$O$14,$O$2=$O$25,$O$2=$O$28),Best2!$F$11,IF(OR($O$2=$O$13,$O$2=$O$16,$O$2=$O$19,$O$2=$O$22),Best2!$F$12,IF(OR($O$2=$O$6,$O$2=$O$9,$O$2=$O$21,$O$2=$O$23),Best2!$F$14,IF(OR($O$2=$O$8,$O$2=$O$10,$O$2=$O$15,$O$2=$O$17),Best2!$F$15,\"\")))))))","v":""},"","",{"$f":"IF(ISBLANK(I13),\"\",IF(OR($O$2=$O$9,$O$2=$O$10,$O$2=$O$24,$O$2=$O$25),Best2!$F$13,IF(OR($O$2=$O$22,$O$2=$O$23,$O$2=$O$28,$O$2=$O$29),Best2!$F$10,IF(OR($O$2=$O$16,$O$2=$O$17,$O$2=$O$26,$O$2=$O$27),Best2!$F$11,IF(OR($O$2=$O$14,$O$2=$O$15,$O$2=$O$20,$O$2=$O$21),Best2!$F$12,IF(OR($O$2=$O$7,$O$2=$O$8,$O$2=$O$18,$O$2=$O$19),Best2!$F$14,IF(OR($O$2=$O$5,$O$2=$O$6,$O$2=$O$12,$O$2=$O$13),Best2!$F$15,\"\")))))))","v":""},"","",{"$f":"IF(ISBLANK(K13),\"\",IF(Best2!$C$3=\"\",\"\",ROUND(SUM(Best2!$C$3:$C$6),1)))","v":""},"","",{"$f":"IF(ISBLANK(K13),\"\",IF(Best2!$B$3=\"\",\"\",ROUND(AVERAGE(Best2!$D$3:$D$6),1)))","v":""},"","",null,"",null,null,null,null,null,null,null,"","","","","","","","","","","","","","","","","","","","","","","",""]
[10,null,null,null,null,null,null,null,null,null,null,null,null,null,"BCAD",0,0,"","","","","","",0,0,"","","","","","",0,0,"","","","","","",{"$f":"IF(ISBLANK(E14),\"\",IF(OR($O$2=$O$5,$O$2=$O$6,$O$2=$O$12,$O$2=$O$13),Best2!$F$10,IF(OR($O$2=$O$7,$O$2=$O$8,$O$2=$O$18,$O$2=$O$19),Best2!$F$11,IF(OR($O$2=$O$9,$O$2=$O$10,$O$2=$O$24,$O$2=$O$25),Best2!$F$12,IF(OR($O$2=$O$14,$O$2=$O$15,$O$2=$O$20,$O$2=$O$21),Best2!$F$13,IF(OR($O$2=$O$16,$O$2=$O$17,$O$2=$O$26,$O$2=$O$27),Best2!$F$14,IF(OR($O$2=$O$22,$O$2=$O$23,$O$2=$O$28,$O$2=$O$29),Best2!$F$15,\"\")))))))","v":""},"","",{"$f":"IF(ISBLANK(G14),\"\",IF(OR($O$2=$O$5,$O$2=$O$7,$O$2=$O$27,$O$2=$O$29),Best2!$F$13,IF(OR($O$2=$O$18,$O$2=$O$20,$O$2=$O$24,$O$2=$O$26),Best2!$F$10,IF(OR($O$2=$O$12,$O$2=$O$14,$O$2=$O$25,$O$2=$O$28),Best2!$F$11,IF(OR($O$2=$O$13,$O$2=$O$16,$O$2=$O$19,$O$2=$O$22),Best2!$F$12,IF(OR($O$2=$O$6,$O$2=$O$9,$O$2=$O$21,$O$2=$O$23),Best2!$F$14,IF(OR($O$2=$O$8,$O$2=$O$10,$O$2=$O$15,$O$2=$O$17),Best2!$F$15,\"\")))))))","v":""},"","",{"$f":"IF(ISBLANK(I14),\"\",IF(OR($O$2=$O$9,$O$2=$O$10,$O$2=$O$24,$O$2=$O$25),Best2!$F$13,IF(OR($O$2=$O$22,$O$2=$O$23,$O$2=$O$28,$O$2=$O$29),Best2!$F$10,IF(OR($O$2=$O$16,$O$2=$O$17,$O$2=$O$26,$O$2=$O$27),Best2!$F$11,IF(OR($O$2=$O$14,$O$2=$O$15,$O$2=$O$20,$O$2=$O$21),Best2!$F$12,IF(OR($O$2=$O$7,$O$2=$O$8,$O$2=$O$18,$O$2=$O$19),Best2!$F$14,IF(OR($O$2=$O$5,$O$2=$O$6,$O$2=$O$12,$O$2=$O$13),Best2!$F$15,\"\")))))))","v":""},"","",{"$f":"IF(ISBLANK(K14),\"\",IF(Best2!$C$3=\"\",\"\",ROUND(SUM(Best2!$C$3:$C$6),1)))","v":""},"","",{"$f":"IF(ISBLANK(K14),\"\",IF(Best2!$B$3=\"\",\"\",ROUND(AVERAGE(Best2!$D$3:$D$6),1)))","v":""},"","",null,"",null,null,null,null,null,null,null,"","","","","","","","","","","","","","","","","","","","","","","",""]
[11,null,null,null,null,null,null,null,null,null,null,null,null,null,"BCDA",0,0,"","","","","","",0,0,"","","","","","",0,0,"","","","","","",{"$f":"IF(ISBLANK(E15),\"\",IF(OR($O$2=$O$5,$O$2=$O$6,$O$2=$O$12,$O$2=$O$13),Best2!$F$10,IF(OR($O$2=$O$7,$O$2=$O$8,$O$2=$O$18,$O$2=$O$19),Best2!$F$11,IF(OR($O$2=$O$9,$O$2=$O$10,$O$2=$O$24,$O$2=$O$25),Best2!$F$12,IF(OR($O$2=$O$14,$O$2=$O$15,$O$2=$O$20,$O$2=$O$21),Best2!$F$13,IF(OR($O$2=$O$16,$O$2=$O$17,$O$2=$O$26,$O$2=$O$27),Best2!$F$14,IF(OR($O$2=$O$22,$O$2=$O$23,$O$2=$O$28,$O$2=$O$29),Best2!$F$15,\"\")))))))","v":""},"","",{"$f":"IF(ISBLANK(G15),\"\",IF(OR($O$2=$O$5,$O$2=$O$7,$O$2=$O$27,$O$2=$O$29),Best2!$F$13,IF(OR($O$2=$O$18,$O$2=$O$20,$O$2=$O$24,$O$2=$O$26),Best2!$F$10,IF(OR($O$2=$O$12,$O$2=$O$14,$O$2=$O$25,$O$2=$O$28),Best2!$F$11,IF(OR($O$2=$O$13,$O$2=$O$16,$O$2=$O$19,$O$2=$O$22),Best2!$F$12,IF(OR($O$2=$O$6,$O$2=$O$9,$O$2=$O$21,$O$2=$O$23),Best2!$F$14,IF(OR($O$2=$O$8,$O$2=$O$10,$O$2=$O$15,$O$2=$O$17),Best2!$F$15,\"\")))))))","v":""},"","",{"$f":"IF(ISBLANK(I15),\"\",IF(OR($O$2=$O$9,$O$2=$O$10,$O$2=$O$24,$O$2=$O$25),Best2!$F$13,IF(OR($O$2=$O$22,$O$2=$O$23,$O$2=$O$28,$O$2=$O$29),Best2!$F$10,IF(OR($O$2=$O$16,$O$2=$O$17,$O$2=$O$26,$O$2=$O$27),Best2!$F$11,IF(OR($O$2=$O$14,$O$2=$O$15,$O$2=$O$20,$O$2=$O$21),Best2!$F$12,IF(OR($O$2=$O$7,$O$2=$O$8,$O$2=$O$18,$O$2=$O$19),Best2!$F$14,IF(OR($O$2=$O$5,$O$2=$O$6,$O$2=$O$12,$O$2=$O$13),Best2!$F$15,\"\")))))))","v":""},"","",{"$f":"IF(ISBLANK(K15),\"\",IF(Best2!$C$3=\"\",\"\",ROUND(SUM(Best2!$C$3:$C$6),1)))","v":""},"","",{"$f":"IF(ISBLANK(K15),\"\",IF(Best2!$B$3=\"\",\"\",ROUND(AVERAGE(Best2!$D$3:$D$6),1)))","v":""},"","",null,"",null,null,null,null,null,null,null,"","","","","","","","","","","","","","","","","","","","","","","",""]
[12,null,null,null,null,null,null,null,null,null,null,null,null,null,"BDAC",0,0,"","","","","","",0,0,"","","","","","",0,0,"","","","","","",{"$f":"IF(ISBLANK(E16),\"\",IF(OR($O$2=$O$5,$O$2=$O$6,$O$2=$O$12,$O$2=$O$13),Best2!$F$10,IF(OR($O$2=$O$7,$O$2=$O$8,$O$2=$O$18,$O$2=$O$19),Best2!$F$11,IF(OR($O$2=$O$9,$O$2=$O$10,$O$2=$O$24,$O$2=$O$25),Best2!$F$12,IF(OR($O$2=$O$14,$O$2=$O$15,$O$2=$O$20,$O$2=$O$21),Best2!$F$13,IF(OR($O$2=$O$16,$O$2=$O$17,$O$2=$O$26,$O$2=$O$27),Best2!$F$14,IF(OR($O$2=$O$22,$O$2=$O$23,$O$2=$O$28,$O$2=$O$29),Best2!$F$15,\"\")))))))","v":""},"","",{"$f":"IF(ISBLANK(G16),\"\",IF(OR($O$2=$O$5,$O$2=$O$7,$O$2=$O$27,$O$2=$O$29),Best2!$F$13,IF(OR($O$2=$O$18,$O$2=$O$20,$O$2=$O$24,$O$2=$O$26),Best2!$F$10,IF(OR($O$2=$O$12,$O$2=$O$14,$O$2=$O$25,$O$2=$O$28),Best2!$F$11,IF(OR($O$2=$O$13,$O$2=$O$16,$O$2=$O$19,$O$2=$O$22),Best2!$F$12,IF(OR($O$2=$O$6,$O$2=$O$9,$O$2=$O$21,$O$2=$O$23),Best2!$F$14,IF(OR($O$2=$O$8,$O$2=$O$10,$O$2=$O$15,$O$2=$O$17),Best2!$F$15,\"\")))))))","v":""},"","",{"$f":"IF(ISBLANK(I16),\"\",IF(OR($O$2=$O$9,$O$2=$O$10,$O$2=$O$24,$O$2=$O$25),Best2!$F$13,IF(OR($O$2=$O$22,$O$2=$O$23,$O$2=$O$28,$O$2=$O$29),Best2!$F$10,IF(OR($O$2=$O$16,$O$2=$O$17,$O$2=$O$26,$O$2=$O$27),Best2!$F$11,IF(OR($O$2=$O$14,$O$2=$O$15,$O$2=$O$20,$O$2=$O$21),Best2!$F$12,IF(OR($O$2=$O$7,$O$2=$O$8,$O$2=$O$18,$O$2=$O$19),Best2!$F$14,IF(OR($O$2=$O$5,$O$2=$O$6,$O$2=$O$12,$O$2=$O$13),Best2!$F$15,\"\")))))))","v":""},"","",{"$f":"IF(ISBLANK(K16),\"\",IF(Best2!$C$3=\"\",\"\",ROUND(SUM(Best2!$C$3:$C$6),1)))","v":""},"","",{"$f":"IF(ISBLANK(K16),\"\",IF(Best2!$B$3=\"\",\"\",ROUND(AVERAGE(Best2!$D$3:$D$6),1)))","v":""},"","",null,"",null,null,null,null,null,null,null,"","","","","","","","","","","","","","","","","","","","","","","",""]
[13,null,null,null,null,null,null,null,null,null,null,null,null,null,"BDCA",0,0,"","","","","","",0,0,"","","","","","",0,0,"","","","","","",{"$f":"IF(ISBLANK(E17),\"\",IF(OR($O$2=$O$5,$O$2=$O$6,$O$2=$O$12,$O$2=$O$13),Best2!$F$10,IF(OR($O$2=$O$7,$O$2=$O$8,$O$2=$O$18,$O$2=$O$19),Best2!$F$11,IF(OR($O$2=$O$9,$O$2=$O$10,$O$2=$O$24,$O$2=$O$25),Best2!$F$12,IF(OR($O$2=$O$14,$O$2=$O$15,$O$2=$O$20,$O$2=$O$21),Best2!$F$13,IF(OR($O$2=$O$16,$O$2=$O$17,$O$2=$O$26,$O$2=$O$27),Best2!$F$14,IF(OR($O$2=$O$22,$O$2=$O$23,$O$2=$O$28,$O$2=$O$29),Best2!$F$15,\"\")))))))","v":""},"","",{"$f":"IF(ISBLANK(G17),\"\",IF(OR($O$2=$O$5,$O$2=$O$7,$O$2=$O$27,$O$2=$O$29),Best2!$F$13,IF(OR($O$2=$O$18,$O$2=$O$20,$O$2=$O$24,$O$2=$O$26),Best2!$F$10,IF(OR($O$2=$O$12,$O$2=$O$14,$O$2=$O$25,$O$2=$O$28),Best2!$F$11,IF(OR($O$2=$O$13,$O$2=$O$16,$O$2=$O$19,$O$2=$O$22),Best2!$F$12,IF(OR($O$2=$O$6,$O$2=$O$9,$O$2=$O$21,$O$2=$O$23),Best2!$F$14,IF(OR($O$2=$O$8,$O$2=$O$10,$O$2=$O$15,$O$2=$O$17),Best2!$F$15,\"\")))))))","v":""},"","",{"$f":"IF(ISBLANK(I17),\"\",IF(OR($O$2=$O$9,$O$2=$O$10,$O$2=$O$24,$O$2=$O$25),Best2!$F$13,IF(OR($O$2=$O$22,$O$2=$O$23,$O$2=$O$28,$O$2=$O$29),Best2!$F$10,IF(OR($O$2=$O$16,$O$2=$O$17,$O$2=$O$26,$O$2=$O$27),Best2!$F$11,IF(OR($O$2=$O$14,$O$2=$O$15,$O$2=$O$20,$O$2=$O$21),Best2!$F$12,IF(OR($O$2=$O$7,$O$2=$O$8,$O$2=$O$18,$O$2=$O$19),Best2!$F$14,IF(OR($O$2=$O$5,$O$2=$O$6,$O$2=$O$12,$O$2=$O$13),Best2!$F$15,\"\")))))))","v":""},"","",{"$f":"IF(ISBLANK(K17),\"\",IF(Best2!$C$3=\"\",\"\",ROUND(SUM(Best2!$C$3:$C$6),1)))","v":""},"","",{"$f":"IF(ISBLANK(K17),\"\",IF(Best2!$B$3=\"\",\"\",ROUND(AVERAGE(Best2!$D$3:$D$6),1)))","v":""},"","",null,"",null,null,null,null,null,null,null,"","","","","","","","","","","","","","","","","","","","","","","",""]
[14,null,null,null,null,null,null,null,null,null,null,null,null,null,"CABD",0,0,"","","","","","",0,0,"","","","","","",0,0,"","","","","","",{"$f":"IF(ISBLANK(E18),\"\",IF(OR($O$2=$O$5,$O$2=$O$6,$O$2=$O$12,$O$2=$O$13),Best2!$F$10,IF(OR($O$2=$O$7,$O$2=$O$8,$O$2=$O$18,$O$2=$O$19),Best2!$F$11,IF(OR($O$2=$O$9,$O$2=$O$10,$O$2=$O$24,$O$2=$O$25),Best2!$F$12,IF(OR($O$2=$O$14,$O$2=$O$15,$O$2=$O$20,$O$2=$O$21),Best2!$F$13,IF(OR($O$2=$O$16,$O$2=$O$17,$O$2=$O$26,$O$2=$O$27),Best2!$F$14,IF(OR($O$2=$O$22,$O$2=$O$23,$O$2=$O$28,$O$2=$O$29),Best2!$F$15,\"\")))))))","v":""},"","",{"$f":"IF(ISBLANK(G18),\"\",IF(OR($O$2=$O$5,$O$2=$O$7,$O$2=$O$27,$O$2=$O$29),Best2!$F$13,IF(OR($O$2=$O$18,$O$2=$O$20,$O$2=$O$24,$O$2=$O$26),Best2!$F$10,IF(OR($O$2=$O$12,$O$2=$O$14,$O$2=$O$25,$O$2=$O$28),Best2!$F$11,IF(OR($O$2=$O$13,$O$2=$O$16,$O$2=$O$19,$O$2=$O$22),Best2!$F$12,IF(OR($O$2=$O$6,$O$2=$O$9,$O$2=$O$21,$O$2=$O$23),Best2!$F$14,IF(OR($O$2=$O$8,$O$2=$O$10,$O$2=$O$15,$O$2=$O$17),Best2!$F$15,\"\")))))))","v":""},"","",{"$f":"IF(ISBLANK(I18),\"\",IF(OR($O$2=$O$9,$O$2=$O$10,$O$2=$O$24,$O$2=$O$25),Best2!$F$13,IF(OR($O$2=$O$22,$O$2=$O$23,$O$2=$O$28,$O$2=$O$29),Best2!$F$10,IF(OR($O$2=$O$16,$O$2=$O$17,$O$2=$O$26,$O$2=$O$27),Best2!$F$11,IF(OR($O$2=$O$14,$O$2=$O$15,$O$2=$O$20,$O$2=$O$21),Best2!$F$12,IF(OR($O$2=$O$7,$O$2=$O$8,$O$2=$O$18,$O$2=$O$19),Best2!$F$14,IF(OR($O$2=$O$5,$O$2=$O$6,$O$2=$O$12,$O$2=$O$13),Best2!$F$15,\"\")))))))","v":""},"","",{"$f":"IF(ISBLANK(K18),\"\",IF(Best2!$C$3=\"\",\"\",ROUND(SUM(Best2!$C$3:$C$6),1)))","v":""},"","",{"$f":"IF(ISBLANK(K18),\"\",IF(Best2!$B$3=\"\",\"\",ROUND(AVERAGE(Best2!$D$3:$D$6),1)))","v":""},"","",null,"",null,null,null,null,null,null,null,"","","","","","","","","","","","","","","","","","","","","","","",""]
[15,null,null,null,null,null,null,null,null,null,null,null,null,null,"CADB",0,0,"","","","","","",0,0,"","","","","","",0,0,"","","","","","",{"$f":"IF(ISBLANK(E19),\"\",IF(OR($O$2=$O$5,$O$2=$O$6,$O$2=$O$12,$O$2=$O$13),Best2!$F$10,IF(OR($O$2=$O$7,$O$2=$O$8,$O$2=$O$18,$O$2=$O$19),Best2!$F$11,IF(OR($O$2=$O$9,$O$2=$O$10,$O$2=$O$24,$O$2=$O$25),Best2!$F$12,IF(OR($O$2=$O$14,$O$2=$O$15,$O$2=$O$20,$O$2=$O$21),Best2!$F$13,IF(OR($O$2=$O$16,$O$2=$O$17,$O$2=$O$26,$O$2=$O$27),Best2!$F$14,IF(OR($O$2=$O$22,$O$2=$O$23,$O$2=$O$28,$O$2=$O$29),Best2!$F$15,\"\")))))))","v":""},"","",{"$f":"IF(ISBLANK(G19),\"\",IF(OR($O$2=$O$5,$O$2=$O$7,$O$2=$O$27,$O$2=$O$29),Best2!$F$13,IF(OR($O$2=$O$18,$O$2=$O$20,$O$2=$O$24,$O$2=$O$26),Best2!$F$10,IF(OR($O$2=$O$12,$O$2=$O$14,$O$2=$O$25,$O$2=$O$28),Best2!$F$11,IF(OR($O$2=$O$13,$O$2=$O$16,$O$2=$O$19,$O$2=$O$22),Best2!$F$12,IF(OR($O$2=$O$6,$O$2=$O$9,$O$2=$O$21,$O$2=$O$23),Best2!$F$14,IF(OR($O$2=$O$8,$O$2=$O$10,$O$2=$O$15,$O$2=$O$17),Best2!$F$15,\"\")))))))","v":""},"","",{"$f":"IF(ISBLANK(I19),\"\",IF(OR($O$2=$O$9,$O$2=$O$10,$O$2=$O$24,$O$2=$O$25),Best2!$F$13,IF(OR($O$2=$O$22,$O$2=$O$23,$O$2=$O$28,$O$2=$O$29),Best2!$F$10,IF(OR($O$2=$O$16,$O$2=$O$17,$O$2=$O$26,$O$2=$O$27),Best2!$F$11,IF(OR($O$2=$O$14,$O$2=$O$15,$O$2=$O$20,$O$2=$O$21),Best2!$F$12,IF(OR($O$2=$O$7,$O$2=$O$8,$O$2=$O$18,$O$2=$O$19),Best2!$F$14,IF(OR($O$2=$O$5,$O$2=$O$6,$O$2=$O$12,$O$2=$O$13),Best2!$F$15,\"\")))))))","v":""},"","",{"$f":"IF(ISBLANK(K19),\"\",IF(Best2!$C$3=\"\",\"\",ROUND(SUM(Best2!$C$3:$C$6),1)))","v":""},"","",{"$f":"IF(ISBLANK(K19),\"\",IF(Best2!$B$3=\"\",\"\",ROUND(AVERAGE(Best2!$D$3:$D$6),1)))","v":""},"","",null,"",null,null,null,null,null,null,null,"","","","","","","","","","","","","","","","","","","","","","","",""]
[16,null,null,null,null,null,null,null,null,null,null,null,null,null,"CBAD",0,0,"","","","","","",0,0,"","","","","","",0,0,"","","","","","",{"$f":"IF(ISBLANK(E20),\"\",IF(OR($O$2=$O$5,$O$2=$O$6,$O$2=$O$12,$O$2=$O$13),Best2!$F$10,IF(OR($O$2=$O$7,$O$2=$O$8,$O$2=$O$18,$O$2=$O$19),Best2!$F$11,IF(OR($O$2=$O$9,$O$2=$O$10,$O$2=$O$24,$O$2=$O$25),Best2!$F$12,IF(OR($O$2=$O$14,$O$2=$O$15,$O$2=$O$20,$O$2=$O$21),Best2!$F$13,IF(OR($O$2=$O$16,$O$2=$O$17,$O$2=$O$26,$O$2=$O$27),Best2!$F$14,IF(OR($O$2=$O$22,$O$2=$O$23,$O$2=$O$28,$O$2=$O$29),Best2!$F$15,\"\")))))))","v":""},"","",{"$f":"IF(ISBLANK(G20),\"\",IF(OR($O$2=$O$5,$O$2=$O$7,$O$2=$O$27,$O$2=$O$29),Best2!$F$13,IF(OR($O$2=$O$18,$O$2=$O$20,$O$2=$O$24,$O$2=$O$26),Best2!$F$10,IF(OR($O$2=$O$12,$O$2=$O$14,$O$2=$O$25,$O$2=$O$28),Best2!$F$11,IF(OR($O$2=$O$13,$O$2=$O$16,$O$2=$O$19,$O$2=$O$22),Best2!$F$12,IF(OR($O$2=$O$6,$O$2=$O$9,$O$2=$O$21,$O$2=$O$23),Best2!$F$14,IF(OR($O$2=$O$8,$O$2=$O$10,$O$2=$O$15,$O$2=$O$17),Best2!$F$15,\"\")))))))","v":""},"","",{"$f":"IF(ISBLANK(I20),\"\",IF(OR($O$2=$O$9,$O$2=$O$10,$O$2=$O$24,$O$2=$O$25),Best2!$F$13,IF(OR($O$2=$O$22,$O$2=$O$23,$O$2=$O$28,$O$2=$O$29),Best2!$F$10,IF(OR($O$2=$O$16,$O$2=$O$17,$O$2=$O$26,$O$2=$O$27),Best2!$F$11,IF(OR($O$2=$O$14,$O$2=$O$15,$O$2=$O$20,$O$2=$O$21),Best2!$F$12,IF(OR($O$2=$O$7,$O$2=$O$8,$O$2=$O$18,$O$2=$O$19),Best2!$F$14,IF(OR($O$2=$O$5,$O$2=$O$6,$O$2=$O$12,$O$2=$O$13),Best2!$F$15,\"\")))))))","v":""},"","",{"$f":"IF(ISBLANK(K20),\"\",IF(Best2!$C$3=\"\",\"\",ROUND(SUM(Best2!$C$3:$C$6),1)))","v":""},"","",{"$f":"IF(ISBLANK(K20),\"\",IF(Best2!$B$3=\"\",\"\",ROUND(AVERAGE(Best2!$D$3:$D$6),1)))","v":""},"","",null,"",null,null,null,null,null,null,null,"","","","","","","","","","","","","","","","","","","","","","","",""]
[17,null,null,null,null,null,null,null,null,null,null,null,null,null,"CBDA",0,0,"","","","","","",0,0,"","","","","","",0,0,"","","","","","",{"$f":"IF(ISBLANK(E21),\"\",IF(OR($O$2=$O$5,$O$2=$O$6,$O$2=$O$12,$O$2=$O$13),Best2!$F$10,IF(OR($O$2=$O$7,$O$2=$O$8,$O$2=$O$18,$O$2=$O$19),Best2!$F$11,IF(OR($O$2=$O$9,$O$2=$O$10,$O$2=$O$24,$O$2=$O$25),Best2!$F$12,IF(OR($O$2=$O$14,$O$2=$O$15,$O$2=$O$20,$O$2=$O$21),Best2!$F$13,IF(OR($O$2=$O$16,$O$2=$O$17,$O$2=$O$26,$O$2=$O$27),Best2!$F$14,IF(OR($O$2=$O$22,$O$2=$O$23,$O$2=$O$28,$O$2=$O$29),Best2!$F$15,\"\")))))))","v":""},"","",{"$f":"IF(ISBLANK(G21),\"\",IF(OR($O$2=$O$5,$O$2=$O$7,$O$2=$O$27,$O$2=$O$29),Best2!$F$13,IF(OR($O$2=$O$18,$O$2=$O$20,$O$2=$O$24,$O$2=$O$26),Best2!$F$10,IF(OR($O$2=$O$12,$O$2=$O$14,$O$2=$O$25,$O$2=$O$28),Best2!$F$11,IF(OR($O$2=$O$13,$O$2=$O$16,$O$2=$O$19,$O$2=$O$22),Best2!$F$12,IF(OR($O$2=$O$6,$O$2=$O$9,$O$2=$O$21,$O$2=$O$23),Best2!$F$14,IF(OR($O$2=$O$8,$O$2=$O$10,$O$2=$O$15,$O$2=$O$17),Best2!$F$15,\"\")))))))","v":""},"","",{"$f":"IF(ISBLANK(I21),\"\",IF(OR($O$2=$O$9,$O$2=$O$10,$O$2=$O$24,$O$2=$O$25),Best2!$F$13,IF(OR($O$2=$O$22,$O$2=$O$23,$O$2=$O$28,$O$2=$O$29),Best2!$F$10,IF(OR($O$2=$O$16,$O$2=$O$17,$O$2=$O$26,$O$2=$O$27),Best2!$F$11,IF(OR($O$2=$O$14,$O$2=$O$15,$O$2=$O$20,$O$2=$O$21),Best2!$F$12,IF(OR($O$2=$O$7,$O$2=$O$8,$O$2=$O$18,$O$2=$O$19),Best2!$F$14,IF(OR($O$2=$O$5,$O$2=$O$6,$O$2=$O$12,$O$2=$O$13),Best2!$F$15,\"\")))))))","v":""},"","",{"$f":"IF(ISBLANK(K21),\"\",IF(Best2!$C$3=\"\",\"\",ROUND(SUM(Best2!$C$3:$C$6),1)))","v":""},"","",{"$f":"IF(ISBLANK(K21),\"\",IF(Best2!$B$3=\"\",\"\",ROUND(AVERAGE(Best2!$D$3:$D$6),1)))","v":""},"","",null,"",null,null,null,null,null,null,null,"","","","","","","","","","","","","","","","","","","","","","","",""]
[18,null,null,null,null,null,null,null,null,null,null,null,null,null,"CDAB",0,0,"","","","","","",0,0,"","","","","","",0,0,"","","","","","",{"$f":"IF(ISBLANK(E22),\"\",IF(OR($O$2=$O$5,$O$2=$O$6,$O$2=$O$12,$O$2=$O$13),Best2!$F$10,IF(OR($O$2=$O$7,$O$2=$O$8,$O$2=$O$18,$O$2=$O$19),Best2!$F$11,IF(OR($O$2=$O$9,$O$2=$O$10,$O$2=$O$24,$O$2=$O$25),Best2!$F$12,IF(OR($O$2=$O$14,$O$2=$O$15,$O$2=$O$20,$O$2=$O$21),Best2!$F$13,IF(OR($O$2=$O$16,$O$2=$O$17,$O$2=$O$26,$O$2=$O$27),Best2!$F$14,IF(OR($O$2=$O$22,$O$2=$O$23,$O$2=$O$28,$O$2=$O$29),Best2!$F$15,\"\")))))))","v":""},"","",{"$f":"IF(ISBLANK(G22),\"\",IF(OR($O$2=$O$5,$O$2=$O$7,$O$2=$O$27,$O$2=$O$29),Best2!$F$13,IF(OR($O$2=$O$18,$O$2=$O$20,$O$2=$O$24,$O$2=$O$26),Best2!$F$10,IF(OR($O$2=$O$12,$O$2=$O$14,$O$2=$O$25,$O$2=$O$28),Best2!$F$11,IF(OR($O$2=$O$13,$O$2=$O$16,$O$2=$O$19,$O$2=$O$22),Best2!$F$12,IF(OR($O$2=$O$6,$O$2=$O$9,$O$2=$O$21,$O$2=$O$23),Best2!$F$14,IF(OR($O$2=$O$8,$O$2=$O$10,$O$2=$O$15,$O$2=$O$17),Best2!$F$15,\"\")))))))","v":""},"","",{"$f":"IF(ISBLANK(I22),\"\",IF(OR($O$2=$O$9,$O$2=$O$10,$O$2=$O$24,$O$2=$O$25),Best2!$F$13,IF(OR($O$2=$O$22,$O$2=$O$23,$O$2=$O$28,$O$2=$O$29),Best2!$F$10,IF(OR($O$2=$O$16,$O$2=$O$17,$O$2=$O$26,$O$2=$O$27),Best2!$F$11,IF(OR($O$2=$O$14,$O$2=$O$15,$O$2=$O$20,$O$2=$O$21),Best2!$F$12,IF(OR($O$2=$O$7,$O$2=$O$8,$O$2=$O$18,$O$2=$O$19),Best2!$F$14,IF(OR($O$2=$O$5,$O$2=$O$6,$O$2=$O$12,$O$2=$O$13),Best2!$F$15,\"\")))))))","v":""},"","",{"$f":"IF(ISBLANK(K22),\"\",IF(Best2!$C$3=\"\",\"\",ROUND(SUM(Best2!$C$3:$C$6),1)))","v":""},"","",{"$f":"IF(ISBLANK(K22),\"\",IF(Best2!$B$3=\"\",\"\",ROUND(AVERAGE(Best2!$D$3:$D$6),1)))","v":""},"","",null,"",null,null,null,null,null,null,null,"","","","","","","","","","","","","","","","","","","","","","","",""]
[19,null,null,null,null,null,null,null,null,null,null,null,null,null,"CDBA",0,0,"","","","","","",0,0,"","","","","","",0,0,"","","","","","",{"$f":"IF(ISBLANK(E23),\"\",IF(OR($O$2=$O$5,$O$2=$O$6,$O$2=$O$12,$O$2=$O$13),Best2!$F$10,IF(OR($O$2=$O$7,$O$2=$O$8,$O$2=$O$18,$O$2=$O$19),Best2!$F$11,IF(OR($O$2=$O$9,$O$2=$O$10,$O$2=$O$24,$O$2=$O$25),Best2!$F$12,IF(OR($O$2=$O$14,$O$2=$O$15,$O$2=$O$20,$O$2=$O$21),Best2!$F$13,IF(OR($O$2=$O$16,$O$2=$O$17,$O$2=$O$26,$O$2=$O$27),Best2!$F$14,IF(OR($O$2=$O$22,$O$2=$O$23,$O$2=$O$28,$O$2=$O$29),Best2!$F$15,\"\")))))))","v":""},"","",{"$f":"IF(ISBLANK(G23),\"\",IF(OR($O$2=$O$5,$O$2=$O$7,$O$2=$O$27,$O$2=$O$29),Best2!$F$13,IF(OR($O$2=$O$18,$O$2=$O$20,$O$2=$O$24,$O$2=$O$26),Best2!$F$10,IF(OR($O$2=$O$12,$O$2=$O$14,$O$2=$O$25,$O$2=$O$28),Best2!$F$11,IF(OR($O$2=$O$13,$O$2=$O$16,$O$2=$O$19,$O$2=$O$22),Best2!$F$12,IF(OR($O$2=$O$6,$O$2=$O$9,$O$2=$O$21,$O$2=$O$23),Best2!$F$14,IF(OR($O$2=$O$8,$O$2=$O$10,$O$2=$O$15,$O$2=$O$17),Best2!$F$15,\"\")))))))","v":""},"","",{"$f":"IF(ISBLANK(I23),\"\",IF(OR($O$2=$O$9,$O$2=$O$10,$O$2=$O$24,$O$2=$O$25),Best2!$F$13,IF(OR($O$2=$O$22,$O$2=$O$23,$O$2=$O$28,$O$2=$O$29),Best2!$F$10,IF(OR($O$2=$O$16,$O$2=$O$17,$O$2=$O$26,$O$2=$O$27),Best2!$F$11,IF(OR($O$2=$O$14,$O$2=$O$15,$O$2=$O$20,$O$2=$O$21),Best2!$F$12,IF(OR($O$2=$O$7,$O$2=$O$8,$O$2=$O$18,$O$2=$O$19),Best2!$F$14,IF(OR($O$2=$O$5,$O$2=$O$6,$O$2=$O$12,$O$2=$O$13),Best2!$F$15,\"\")))))))","v":""},"","",{"$f":"IF(ISBLANK(K23),\"\",IF(Best2!$C$3=\"\",\"\",ROUND(SUM(Best2!$C$3:$C$6),1)))","v":""},"","",{"$f":"IF(ISBLANK(K23),\"\",IF(Best2!$B$3=\"\",\"\",ROUND(AVERAGE(Best2!$D$3:$D$6),1)))","v":""},"","",null,"",null,null,null,null,null,null,null,"","","","","","","","","","","","","","","","","","","","","","","",""]
[20,null,null,null,null,null,null,null,null,null,null,null,null,null,"DABC",0,0,"","","","","","",0,0,"","","","","","",0,0,"","","","","","",{"$f":"IF(ISBLANK(E24),\"\",IF(OR($O$2=$O$5,$O$2=$O$6,$O$2=$O$12,$O$2=$O$13),Best2!$F$10,IF(OR($O$2=$O$7,$O$2=$O$8,$O$2=$O$18,$O$2=$O$19),Best2!$F$11,IF(OR($O$2=$O$9,$O$2=$O$10,$O$2=$O$24,$O$2=$O$25),Best2!$F$12,IF(OR($O$2=$O$14,$O$2=$O$15,$O$2=$O$20,$O$2=$O$21),Best2!$F$13,IF(OR($O$2=$O$16,$O$2=$O$17,$O$2=$O$26,$O$2=$O$27),Best2!$F$14,IF(OR($O$2=$O$22,$O$2=$O$23,$O$2=$O$28,$O$2=$O$29),Best2!$F$15,\"\")))))))","v":""},"","",{"$f":"IF(ISBLANK(G24),\"\",IF(OR($O$2=$O$5,$O$2=$O$7,$O$2=$O$27,$O$2=$O$29),Best2!$F$13,IF(OR($O$2=$O$18,$O$2=$O$20,$O$2=$O$24,$O$2=$O$26),Best2!$F$10,IF(OR($O$2=$O$12,$O$2=$O$14,$O$2=$O$25,$O$2=$O$28),Best2!$F$11,IF(OR($O$2=$O$13,$O$2=$O$16,$O$2=$O$19,$O$2=$O$22),Best2!$F$12,IF(OR($O$2=$O$6,$O$2=$O$9,$O$2=$O$21,$O$2=$O$23),Best2!$F$14,IF(OR($O$2=$O$8,$O$2=$O$10,$O$2=$O$15,$O$2=$O$17),Best2!$F$15,\"\")))))))","v":""},"","",{"$f":"IF(ISBLANK(I24),\"\",IF(OR($O$2=$O$9,$O$2=$O$10,$O$2=$O$24,$O$2=$O$25),Best2!$F$13,IF(OR($O$2=$O$22,$O$2=$O$23,$O$2=$O$28,$O$2=$O$29),Best2!$F$10,IF(OR($O$2=$O$16,$O$2=$O$17,$O$2=$O$26,$O$2=$O$27),Best2!$F$11,IF(OR($O$2=$O$14,$O$2=$O$15,$O$2=$O$20,$O$2=$O$21),Best2!$F$12,IF(OR($O$2=$O$7,$O$2=$O$8,$O$2=$O$18,$O$2=$O$19),Best2!$F$14,IF(OR($O$2=$O$5,$O$2=$O$6,$O$2=$O$12,$O$2=$O$13),Best2!$F$15,\"\")))))))","v":""},"","",{"$f":"IF(ISBLANK(K24),\"\",IF(Best2!$C$3=\"\",\"\",ROUND(SUM(Best2!$C$3:$C$6),1)))","v":""},"","",{"$f":"IF(ISBLANK(K24),\"\",IF(Best2!$B$3=\"\",\"\",ROUND(AVERAGE(Best2!$D$3:$D$6),1)))","v":""},"","",null,"",null,null,null,null,null,null,null,"","","","","","","","","","","","","","","","","","","","","","","",""]
[21,null,null,null,null,null,null,null,null,null,null,null,null,null,"DACB",0,0,"","","","","","",0,0,"","","","","","",0,0,"","","","","","",{"$f":"IF(ISBLANK(E25),\"\",IF(OR($O$2=$O$5,$O$2=$O$6,$O$2=$O$12,$O$2=$O$13),Best2!$F$10,IF(OR($O$2=$O$7,$O$2=$O$8,$O$2=$O$18,$O$2=$O$19),Best2!$F$11,IF(OR($O$2=$O$9,$O$2=$O$10,$O$2=$O$24,$O$2=$O$25),Best2!$F$12,IF(OR($O$2=$O$14,$O$2=$O$15,$O$2=$O$20,$O$2=$O$21),Best2!$F$13,IF(OR($O$2=$O$16,$O$2=$O$17,$O$2=$O$26,$O$2=$O$27),Best2!$F$14,IF(OR($O$2=$O$22,$O$2=$O$23,$O$2=$O$28,$O$2=$O$29),Best2!$F$15,\"\")))))))","v":""},"","",{"$f":"IF(ISBLANK(G25),\"\",IF(OR($O$2=$O$5,$O$2=$O$7,$O$2=$O$27,$O$2=$O$29),Best2!$F$13,IF(OR($O$2=$O$18,$O$2=$O$20,$O$2=$O$24,$O$2=$O$26),Best2!$F$10,IF(OR($O$2=$O$12,$O$2=$O$14,$O$2=$O$25,$O$2=$O$28),Best2!$F$11,IF(OR($O$2=$O$13,$O$2=$O$16,$O$2=$O$19,$O$2=$O$22),Best2!$F$12,IF(OR($O$2=$O$6,$O$2=$O$9,$O$2=$O$21,$O$2=$O$23),Best2!$F$14,IF(OR($O$2=$O$8,$O$2=$O$10,$O$2=$O$15,$O$2=$O$17),Best2!$F$15,\"\")))))))","v":""},"","",{"$f":"IF(ISBLANK(I25),\"\",IF(OR($O$2=$O$9,$O$2=$O$10,$O$2=$O$24,$O$2=$O$25),Best2!$F$13,IF(OR($O$2=$O$22,$O$2=$O$23,$O$2=$O$28,$O$2=$O$29),Best2!$F$10,IF(OR($O$2=$O$16,$O$2=$O$17,$O$2=$O$26,$O$2=$O$27),Best2!$F$11,IF(OR($O$2=$O$14,$O$2=$O$15,$O$2=$O$20,$O$2=$O$21),Best2!$F$12,IF(OR($O$2=$O$7,$O$2=$O$8,$O$2=$O$18,$O$2=$O$19),Best2!$F$14,IF(OR($O$2=$O$5,$O$2=$O$6,$O$2=$O$12,$O$2=$O$13),Best2!$F$15,\"\")))))))","v":""},"","",{"$f":"IF(ISBLANK(K25),\"\",IF(Best2!$C$3=\"\",\"\",ROUND(SUM(Best2!$C$3:$C$6),1)))","v":""},"","",{"$f":"IF(ISBLANK(K25),\"\",IF(Best2!$B$3=\"\",\"\",ROUND(AVERAGE(Best2!$D$3:$D$6),1)))","v":""},"","",null,"",null,null,null,null,null,null,null,"","","","","","","","","","","","","","","","","","","","","","","",""]
[22,null,null,null,null,null,null,null,null,null,null,null,null,null,"DBAC",0,0,"","","","","","",0,0,"","","","","","",0,0,"","","","","","",{"$f":"IF(ISBLANK(E26),\"\",IF(OR($O$2=$O$5,$O$2=$O$6,$O$2=$O$12,$O$2=$O$13),Best2!$F$10,IF(OR($O$2=$O$7,$O$2=$O$8,$O$2=$O$18,$O$2=$O$19),Best2!$F$11,IF(OR($O$2=$O$9,$O$2=$O$10,$O$2=$O$24,$O$2=$O$25),Best2!$F$12,IF(OR($O$2=$O$14,$O$2=$O$15,$O$2=$O$20,$O$2=$O$21),Best2!$F$13,IF(OR($O$2=$O$16,$O$2=$O$17,$O$2=$O$26,$O$2=$O$27),Best2!$F$14,IF(OR($O$2=$O$22,$O$2=$O$23,$O$2=$O$28,$O$2=$O$29),Best2!$F$15,\"\")))))))","v":""},"","",{"$f":"IF(ISBLANK(G26),\"\",IF(OR($O$2=$O$5,$O$2=$O$7,$O$2=$O$27,$O$2=$O$29),Best2!$F$13,IF(OR($O$2=$O$18,$O$2=$O$20,$O$2=$O$24,$O$2=$O$26),Best2!$F$10,IF(OR($O$2=$O$12,$O$2=$O$14,$O$2=$O$25,$O$2=$O$28),Best2!$F$11,IF(OR($O$2=$O$13,$O$2=$O$16,$O$2=$O$19,$O$2=$O$22),Best2!$F$12,IF(OR($O$2=$O$6,$O$2=$O$9,$O$2=$O$21,$O$2=$O$23),Best2!$F$14,IF(OR($O$2=$O$8,$O$2=$O$10,$O$2=$O$15,$O$2=$O$17),Best2!$F$15,\"\")))))))","v":""},"","",{"$f":"IF(ISBLANK(I26),\"\",IF(OR($O$2=$O$9,$O$2=$O$10,$O$2=$O$24,$O$2=$O$25),Best2!$F$13,IF(OR($O$2=$O$22,$O$2=$O$23,$O$2=$O$28,$O$2=$O$29),Best2!$F$10,IF(OR($O$2=$O$16,$O$2=$O$17,$O$2=$O$26,$O$2=$O$27),Best2!$F$11,IF(OR($O$2=$O$14,$O$2=$O$15,$O$2=$O$20,$O$2=$O$21),Best2!$F$12,IF(OR($O$2=$O$7,$O$2=$O$8,$O$2=$O$18,$O$2=$O$19),Best2!$F$14,IF(OR($O$2=$O$5,$O$2=$O$6,$O$2=$O$12,$O$2=$O$13),Best2!$F$15,\"\")))))))","v":""},"","",{"$f":"IF(ISBLANK(K26),\"\",IF(Best2!$C$3=\"\",\"\",ROUND(SUM(Best2!$C$3:$C$6),1)))","v":""},"","",{"$f":"IF(ISBLANK(K26),\"\",IF(Best2!$B$3=\"\",\"\",ROUND(AVERAGE(Best2!$D$3:$D$6),1)))","v":""},"","",null,"",null,null,null,null,null,null,null,"","","","","","","","","","","","","","","","","","","","","","","",""]
[23,null,null,null,null,null,null,null,null,null,null,null,null,null,"DBCA",0,0,"","","","","","",0,0,"","","","","","",0,0,"","","","","","",{"$f":"IF(ISBLANK(E27),\"\",IF(OR($O$2=$O$5,$O$2=$O$6,$O$2=$O$12,$O$2=$O$13),Best2!$F$10,IF(OR($O$2=$O$7,$O$2=$O$8,$O$2=$O$18,$O$2=$O$19),Best2!$F$11,IF(OR($O$2=$O$9,$O$2=$O$10,$O$2=$O$24,$O$2=$O$25),Best2!$F$12,IF(OR($O$2=$O$14,$O$2=$O$15,$O$2=$O$20,$O$2=$O$21),Best2!$F$13,IF(OR($O$2=$O$16,$O$2=$O$17,$O$2=$O$26,$O$2=$O$27),Best2!$F$14,IF(OR($O$2=$O$22,$O$2=$O$23,$O$2=$O$28,$O$2=$O$29),Best2!$F$15,\"\")))))))","v":""},"","",{"$f":"IF(ISBLANK(G27),\"\",IF(OR($O$2=$O$5,$O$2=$O$7,$O$2=$O$27,$O$2=$O$29),Best2!$F$13,IF(OR($O$2=$O$18,$O$2=$O$20,$O$2=$O$24,$O$2=$O$26),Best2!$F$10,IF(OR($O$2=$O$12,$O$2=$O$14,$O$2=$O$25,$O$2=$O$28),Best2!$F$11,IF(OR($O$2=$O$13,$O$2=$O$16,$O$2=$O$19,$O$2=$O$22),Best2!$F$12,IF(OR($O$2=$O$6,$O$2=$O$9,$O$2=$O$21,$O$2=$O$23),Best2!$F$14,IF(OR($O$2=$O$8,$O$2=$O$10,$O$2=$O$15,$O$2=$O$17),Best2!$F$15,\"\")))))))","v":""},"","",{"$f":"IF(ISBLANK(I27),\"\",IF(OR($O$2=$O$9,$O$2=$O$10,$O$2=$O$24,$O$2=$O$25),Best2!$F$13,IF(OR($O$2=$O$22,$O$2=$O$23,$O$2=$O$28,$O$2=$O$29),Best2!$F$10,IF(OR($O$2=$O$16,$O$2=$O$17,$O$2=$O$26,$O$2=$O$27),Best2!$F$11,IF(OR($O$2=$O$14,$O$2=$O$15,$O$2=$O$20,$O$2=$O$21),Best2!$F$12,IF(OR($O$2=$O$7,$O$2=$O$8,$O$2=$O$18,$O$2=$O$19),Best2!$F$14,IF(OR($O$2=$O$5,$O$2=$O$6,$O$2=$O$12,$O$2=$O$13),Best2!$F$15,\"\")))))))","v":""},"","",{"$f":"IF(ISBLANK(K27),\"\",IF(Best2!$C$3=\"\",\"\",ROUND(SUM(Best2!$C$3:$C$6),1)))","v":""},"","",{"$f":"IF(ISBLANK(K27),\"\",IF(Best2!$B$3=\"\",\"\",ROUND(AVERAGE(Best2!$D$3:$D$6),1)))","v":""},"","",null,"",null,null,null,null,null,null,null,"","","","","","","","","","","","","","","","","","","","","","","",""]
[24,null,null,null,null,null,null,null,null,null,null,null,null,null,"DCAB",0,0,"","","","","","",0,0,"","","","","","",0,0,"","","","","","",{"$f":"IF(ISBLANK(E28),\"\",IF(OR($O$2=$O$5,$O$2=$O$6,$O$2=$O$12,$O$2=$O$13),Best2!$F$10,IF(OR($O$2=$O$7,$O$2=$O$8,$O$2=$O$18,$O$2=$O$19),Best2!$F$11,IF(OR($O$2=$O$9,$O$2=$O$10,$O$2=$O$24,$O$2=$O$25),Best2!$F$12,IF(OR($O$2=$O$14,$O$2=$O$15,$O$2=$O$20,$O$2=$O$21),Best2!$F$13,IF(OR($O$2=$O$16,$O$2=$O$17,$O$2=$O$26,$O$2=$O$27),Best2!$F$14,IF(OR($O$2=$O$22,$O$2=$O$23,$O$2=$O$28,$O$2=$O$29),Best2!$F$15,\"\")))))))","v":""},"","",{"$f":"IF(ISBLANK(G28),\"\",IF(OR($O$2=$O$5,$O$2=$O$7,$O$2=$O$27,$O$2=$O$29),Best2!$F$13,IF(OR($O$2=$O$18,$O$2=$O$20,$O$2=$O$24,$O$2=$O$26),Best2!$F$10,IF(OR($O$2=$O$12,$O$2=$O$14,$O$2=$O$25,$O$2=$O$28),Best2!$F$11,IF(OR($O$2=$O$13,$O$2=$O$16,$O$2=$O$19,$O$2=$O$22),Best2!$F$12,IF(OR($O$2=$O$6,$O$2=$O$9,$O$2=$O$21,$O$2=$O$23),Best2!$F$14,IF(OR($O$2=$O$8,$O$2=$O$10,$O$2=$O$15,$O$2=$O$17),Best2!$F$15,\"\")))))))","v":""},"","",{"$f":"IF(ISBLANK(I28),\"\",IF(OR($O$2=$O$9,$O$2=$O$10,$O$2=$O$24,$O$2=$O$25),Best2!$F$13,IF(OR($O$2=$O$22,$O$2=$O$23,$O$2=$O$28,$O$2=$O$29),Best2!$F$10,IF(OR($O$2=$O$16,$O$2=$O$17,$O$2=$O$26,$O$2=$O$27),Best2!$F$11,IF(OR($O$2=$O$14,$O$2=$O$15,$O$2=$O$20,$O$2=$O$21),Best2!$F$12,IF(OR($O$2=$O$7,$O$2=$O$8,$O$2=$O$18,$O$2=$O$19),Best2!$F$14,IF(OR($O$2=$O$5,$O$2=$O$6,$O$2=$O$12,$O$2=$O$13),Best2!$F$15,\"\")))))))","v":""},"","",{"$f":"IF(ISBLANK(K28),\"\",IF(Best2!$C$3=\"\",\"\",ROUND(SUM(Best2!$C$3:$C$6),1)))","v":""},"","",{"$f":"IF(ISBLANK(K28),\"\",IF(Best2!$B$3=\"\",\"\",ROUND(AVERAGE(Best2!$D$3:$D$6),1)))","v":""},"","",null,"",null,null,null,null,null,null,null,"","","","","","","","","","","","","","","","","","","","","","","",""]
[25,null,null,null,null,null,null,null,null,null,null,null,null,null,"DCBA",0,0,"","","","","","",0,0,"","","","","","",0,0,"","","","","","",{"$f":"IF(ISBLANK(E29),\"\",IF(OR($O$2=$O$5,$O$2=$O$6,$O$2=$O$12,$O$2=$O$13),Best2!$F$10,IF(OR($O$2=$O$7,$O$2=$O$8,$O$2=$O$18,$O$2=$O$19),Best2!$F$11,IF(OR($O$2=$O$9,$O$2=$O$10,$O$2=$O$24,$O$2=$O$25),Best2!$F$12,IF(OR($O$2=$O$14,$O$2=$O$15,$O$2=$O$20,$O$2=$O$21),Best2!$F$13,IF(OR($O$2=$O$16,$O$2=$O$17,$O$2=$O$26,$O$2=$O$27),Best2!$F$14,IF(OR($O$2=$O$22,$O$2=$O$23,$O$2=$O$28,$O$2=$O$29),Best2!$F$15,\"\")))))))","v":""},"","",{"$f":"IF(ISBLANK(G29),\"\",IF(OR($O$2=$O$5,$O$2=$O$7,$O$2=$O$27,$O$2=$O$29),Best2!$F$13,IF(OR($O$2=$O$18,$O$2=$O$20,$O$2=$O$24,$O$2=$O$26),Best2!$F$10,IF(OR($O$2=$O$12,$O$2=$O$14,$O$2=$O$25,$O$2=$O$28),Best2!$F$11,IF(OR($O$2=$O$13,$O$2=$O$16,$O$2=$O$19,$O$2=$O$22),Best2!$F$12,IF(OR($O$2=$O$6,$O$2=$O$9,$O$2=$O$21,$O$2=$O$23),Best2!$F$14,IF(OR($O$2=$O$8,$O$2=$O$10,$O$2=$O$15,$O$2=$O$17),Best2!$F$15,\"\")))))))","v":""},"","",{"$f":"IF(ISBLANK(I29),\"\",IF(OR($O$2=$O$9,$O$2=$O$10,$O$2=$O$24,$O$2=$O$25),Best2!$F$13,IF(OR($O$2=$O$22,$O$2=$O$23,$O$2=$O$28,$O$2=$O$29),Best2!$F$10,IF(OR($O$2=$O$16,$O$2=$O$17,$O$2=$O$26,$O$2=$O$27),Best2!$F$11,IF(OR($O$2=$O$14,$O$2=$O$15,$O$2=$O$20,$O$2=$O$21),Best2!$F$12,IF(OR($O$2=$O$7,$O$2=$O$8,$O$2=$O$18,$O$2=$O$19),Best2!$F$14,IF(OR($O$2=$O$5,$O$2=$O$6,$O$2=$O$12,$O$2=$O$13),Best2!$F$15,\"\")))))))","v":""},"","",{"$f":"IF(ISBLANK(K29),\"\",IF(Best2!$C$3=\"\",\"\",ROUND(SUM(Best2!$C$3:$C$6),1)))","v":""},"","",{"$f":"IF(ISBLANK(K29),\"\",IF(Best2!$B$3=\"\",\"\",ROUND(AVERAGE(Best2!$D$3:$D$6),1)))","v":""},"","",null,"",null,null,null,null,null,null,null,"","","","","","","","","","","","","","","","","","","","","","","",""]
[26,null,null,null,null,null,null,null,null,null,null,null,null,null,null,0,0,"","","","","","",0,0,"","","","","","",0,0,"","","","","","",{"$f":"IF(ISBLANK(E30),\"\",IF(OR($O$2=$O$5,$O$2=$O$6,$O$2=$O$12,$O$2=$O$13),Best2!$F$10,IF(OR($O$2=$O$7,$O$2=$O$8,$O$2=$O$18,$O$2=$O$19),Best2!$F$11,IF(OR($O$2=$O$9,$O$2=$O$10,$O$2=$O$24,$O$2=$O$25),Best2!$F$12,IF(OR($O$2=$O$14,$O$2=$O$15,$O$2=$O$20,$O$2=$O$21),Best2!$F$13,IF(OR($O$2=$O$16,$O$2=$O$17,$O$2=$O$26,$O$2=$O$27),Best2!$F$14,IF(OR($O$2=$O$22,$O$2=$O$23,$O$2=$O$28,$O$2=$O$29),Best2!$F$15,\"\")))))))","v":""},"","",{"$f":"IF(ISBLANK(G30),\"\",IF(OR($O$2=$O$5,$O$2=$O$7,$O$2=$O$27,$O$2=$O$29),Best2!$F$13,IF(OR($O$2=$O$18,$O$2=$O$20,$O$2=$O$24,$O$2=$O$26),Best2!$F$10,IF(OR($O$2=$O$12,$O$2=$O$14,$O$2=$O$25,$O$2=$O$28),Best2!$F$11,IF(OR($O$2=$O$13,$O$2=$O$16,$O$2=$O$19,$O$2=$O$22),Best2!$F$12,IF(OR($O$2=$O$6,$O$2=$O$9,$O$2=$O$21,$O$2=$O$23),Best2!$F$14,IF(OR($O$2=$O$8,$O$2=$O$10,$O$2=$O$15,$O$2=$O$17),Best2!$F$15,\"\")))))))","v":""},"","",{"$f":"IF(ISBLANK(I30),\"\",IF(OR($O$2=$O$9,$O$2=$O$10,$O$2=$O$24,$O$2=$O$25),Best2!$F$13,IF(OR($O$2=$O$22,$O$2=$O$23,$O$2=$O$28,$O$2=$O$29),Best2!$F$10,IF(OR($O$2=$O$16,$O$2=$O$17,$O$2=$O$26,$O$2=$O$27),Best2!$F$11,IF(OR($O$2=$O$14,$O$2=$O$15,$O$2=$O$20,$O$2=$O$21),Best2!$F$12,IF(OR($O$2=$O$7,$O$2=$O$8,$O$2=$O$18,$O$2=$O$19),Best2!$F$14,IF(OR($O$2=$O$5,$O$2=$O$6,$O$2=$O$12,$O$2=$O$13),Best2!$F$15,\"\")))))))","v":""},"","",{"$f":"IF(ISBLANK(K30),\"\",IF(Best2!$C$3=\"\",\"\",ROUND(SUM(Best2!$C$3:$C$6),1)))","v":""},"","",{"$f":"IF(ISBLANK(K30),\"\",IF(Best2!$B$3=\"\",\"\",ROUND(AVERAGE(Best2!$D$3:$D$6),1)))","v":""},"","",null,"",null,null,null,null,null,null,null,"","","","","","","","","","","","","","","","","","","","","","","",""]
[27,null,null,null,null,null,null,null,null,null,null,null,null,null,null,0,0,"","","","","","",0,0,"","","","","","",0,0,"","","","","","",{"$f":"IF(ISBLANK(E31),\"\",IF(OR($O$2=$O$5,$O$2=$O$6,$O$2=$O$12,$O$2=$O$13),Best2!$F$10,IF(OR($O$2=$O$7,$O$2=$O$8,$O$2=$O$18,$O$2=$O$19),Best2!$F$11,IF(OR($O$2=$O$9,$O$2=$O$10,$O$2=$O$24,$O$2=$O$25),Best2!$F$12,IF(OR($O$2=$O$14,$O$2=$O$15,$O$2=$O$20,$O$2=$O$21),Best2!$F$13,IF(OR($O$2=$O$16,$O$2=$O$17,$O$2=$O$26,$O$2=$O$27),Best2!$F$14,IF(OR($O$2=$O$22,$O$2=$O$23,$O$2=$O$28,$O$2=$O$29),Best2!$F$15,\"\")))))))","v":""},{"$f":"IF(F31=\"\",\"\",F31)","v":""},"",{"$f":"IF(ISBLANK(G31),\"\",IF(OR($O$2=$O$5,$O$2=$O$7,$O$2=$O$27,$O$2=$O$29),Best2!$F$13,IF(OR($O$2=$O$18,$O$2=$O$20,$O$2=$O$24,$O$2=$O$26),Best2!$F$10,IF(OR($O$2=$O$12,$O$2=$O$14,$O$2=$O$25,$O$2=$O$28),Best2!$F$11,IF(OR($O$2=$O$13,$O$2=$O$16,$O$2=$O$19,$O$2=$O$22),Best2!$F$12,IF(OR($O$2=$O$6,$O$2=$O$9,$O$2=$O$21,$O$2=$O$23),Best2!$F$14,IF(OR($O$2=$O$8,$O$2=$O$10,$O$2=$O$15,$O$2=$O$17),Best2!$F$15,\"\")))))))","v":""},{"$f":"IF(H31=\"\",\"\",H31)","v":""},"",{"$f":"IF(ISBLANK(I31),\"\",IF(OR($O$2=$O$9,$O$2=$O$10,$O$2=$O$24,$O$2=$O$25),Best2!$F$13,IF(OR($O$2=$O$22,$O$2=$O$23,$O$2=$O$28,$O$2=$O$29),Best2!$F$10,IF(OR($O$2=$O$16,$O$2=$O$17,$O$2=$O$26,$O$2=$O$27),Best2!$F$11,IF(OR($O$2=$O$14,$O$2=$O$15,$O$2=$O$20,$O$2=$O$21),Best2!$F$12,IF(OR($O$2=$O$7,$O$2=$O$8,$O$2=$O$18,$O$2=$O$19),Best2!$F$14,IF(OR($O$2=$O$5,$O$2=$O$6,$O$2=$O$12,$O$2=$O$13),Best2!$F$15,\"\")))))))","v":""},{"$f":"IF(J31=\"\",\"\",J31)","v":""},"",{"$f":"IF(ISBLANK(K31),\"\",IF(Best2!$C$3=\"\",\"\",ROUND(SUM(Best2!$C$3:$C$6),1)))","v":""},{"$f":"IF(K31=\"\",\"\",K31)","v":""},"",{"$f":"IF(ISBLANK(K31),\"\",IF(Best2!$B$3=\"\",\"\",ROUND(AVERAGE(Best2!$D$3:$D$6),1)))","v":""},{"$f":"IF(L31=\"\",\"\",L31)","v":""},"",null,"",null,null,null,null,null,null,null,"","","","","","","","","","","","","","","","","","","","","","","",""]
[28,null,null,null,null,null,null,null,null,null,null,null,null,null,null,{"$f":"IF(OR($O$2=$O$5,$O$2=$O$6),E32,IF(OR($O$2=$O$18,$O$2=$O$24),G32,IF(OR($O$2=$O$22,$O$2=$O$28),I32,\"\")))","v":0},{"$f":"IF(OR($O$2=$O$5,$O$2=$O$6),F32,IF(OR($O$2=$O$18,$O$2=$O$24),H32,IF(OR($O$2=$O$22,$O$2=$O$28),J32,\"\")))","v":0},{"$f":"IF(OR($O$2=$O$7,$O$2=$O$8),E32,IF(OR($O$2=$O$12,$O$2=$O$25),G32,IF(OR($O$2=$O$16,$O$2=$O$26),I32,\"\")))","v":""},{"$f":"IF(OR($O$2=$O$7,$O$2=$O$8),F32,IF(OR($O$2=$O$12,$O$2=$O$25),H32,IF(OR($O$2=$O$16,$O$2=$O$26),J32,\"\")))","v":""},{"$f":"IF(OR($O$2=$O$9,$O$2=$O$10),E32,IF(OR($O$2=$O$13,$O$2=$O$19),G32,IF(OR($O$2=$O$14,$O$2=$O$20),I32,\"\")))","v":""},{"$f":"IF(OR($O$2=$O$9,$O$2=$O$10),F32,IF(OR($O$2=$O$13,$O$2=$O$19),H32,IF(OR($O$2=$O$14,$O$2=$O$20),J32,\"\")))","v":""},{"$f":"IF(OR($O$2=$O$12,$O$2=$O$13),E32,IF(OR($O$2=$O$20,$O$2=$O$26),G32,IF(OR($O$2=$O$23,$O$2=$O$29),I32,\"\")))","v":""},{"$f":"IF(OR($O$2=$O$12,$O$2=$O$13),F32,IF(OR($O$2=$O$20,$O$2=$O$26),H32,IF(OR($O$2=$O$23,$O$2=$O$29),J32,\"\")))","v":""},{"$f":"IF(OR($O$2=$O$14,$O$2=$O$15),E32,IF(OR($O$2=$O$5,$O$2=$O$27),G32,IF(OR($O$2=$O$9,$O$2=$O$24),I32,\"\")))","v":0},{"$f":"IF(OR($O$2=$O$14,$O$2=$O$15),F32,IF(OR($O$2=$O$5,$O$2=$O$27),H32,IF(OR($O$2=$O$9,$O$2=$O$24),J32,\"\")))","v":0},{"$f":"IF(OR($O$2=$O$16,$O$2=$O$17),E32,IF(OR($O$2=$O$6,$O$2=$O$21),G32,IF(OR($O$2=$O$7,$O$2=$O$18),I32,\"\")))","v":""},{"$f":"IF(OR($O$2=$O$16,$O$2=$O$17),F32,IF(OR($O$2=$O$6,$O$2=$O$21),H32,IF(OR($O$2=$O$7,$O$2=$O$18),J32,\"\")))","v":""},{"$f":"IF(OR($O$2=$O$18,$O$2=$O$19),E32,IF(OR($O$2=$O$14,$O$2=$O$28),G32,IF(OR($O$2=$O$17,$O$2=$O$27),I32,\"\")))","v":""},{"$f":"IF(OR($O$2=$O$18,$O$2=$O$19),F32,IF(OR($O$2=$O$14,$O$2=$O$28),H32,IF(OR($O$2=$O$17,$O$2=$O$27),J32,\"\")))","v":""},{"$f":"IF(OR($O$2=$O$20,$O$2=$O$21),E32,IF(OR($O$2=$O$7,$O$2=$O$29),G32,IF(OR($O$2=$O$10,$O$2=$O$11),I32,\"\")))","v":""},{"$f":"IF(OR($O$2=$O$20,$O$2=$O$21),F32,IF(OR($O$2=$O$7,$O$2=$O$29),H32,IF(OR($O$2=$O$10,$O$2=$O$11),J32,\"\")))","v":""},{"$f":"IF(OR($O$2=$O$22,$O$2=$O$23),E32,IF(OR($O$2=$O$8,$O$2=$O$15),G32,IF(OR($O$2=$O$5,$O$2=$O$12),I32,\"\")))","v":0},{"$f":"IF(OR($O$2=$O$22,$O$2=$O$23),F32,IF(OR($O$2=$O$8,$O$2=$O$15),H32,IF(OR($O$2=$O$5,$O$2=$O$12),J32,\"\")))","v":0},{"$f":"IF(OR($O$2=$O$24,$O$2=$O$25),E32,IF(OR($O$2=$O$16,$O$2=$O$22),G32,IF(OR($O$2=$O$15,$O$2=$O$21),I32,\"\")))","v":""},{"$f":"IF(OR($O$2=$O$24,$O$2=$O$25),F32,IF(OR($O$2=$O$16,$O$2=$O$22),H32,IF(OR($O$2=$O$15,$O$2=$O$21),J32,\"\")))","v":""},{"$f":"IF(OR($O$2=$O$26,$O$2=$O$27),E32,IF(OR($O$2=$O$9,$O$2=$O$23),G32,IF(OR($O$2=$O$8,$O$2=$O$19),I32,\"\")))","v":""},{"$f":"IF(OR($O$2=$O$26,$O$2=$O$27),F32,IF(OR($O$2=$O$9,$O$2=$O$23),H32,IF(OR($O$2=$O$8,$O$2=$O$19),J32,\"\")))","v":""},{"$f":"IF(OR($O$2=$O$28,$O$2=$O$29),E32,IF(OR($O$2=$O$10,$O$2=$O$11),G32,IF(OR($O$2=$O$6,$O$2=$O$13),I32,\"\")))","v":""},{"$f":"IF(OR($O$2=$O$28,$O$2=$O$29),F32,IF(OR($O$2=$O$10,$O$2=$O$11),H32,IF(OR($O$2=$O$6,$O$2=$O$13),J32,\"\")))","v":""},{"$f":"IF(ISBLANK(E32),\"\",IF(OR($O$2=$O$5,$O$2=$O$6,$O$2=$O$12,$O$2=$O$13),Best2!$F$10,IF(OR($O$2=$O$7,$O$2=$O$8,$O$2=$O$18,$O$2=$O$19),Best2!$F$11,IF(OR($O$2=$O$9,$O$2=$O$10,$O$2=$O$24,$O$2=$O$25),Best2!$F$12,IF(OR($O$2=$O$14,$O$2=$O$15,$O$2=$O$20,$O$2=$O$21),Best2!$F$13,IF(OR($O$2=$O$16,$O$2=$O$17,$O$2=$O$26,$O$2=$O$27),Best2!$F$14,IF(OR($O$2=$O$22,$O$2=$O$23,$O$2=$O$28,$O$2=$O$29),Best2!$F$15,\"\")))))))","v":""},"","",{"$f":"IF(ISBLANK(G32),\"\",IF(OR($O$2=$O$5,$O$2=$O$7,$O$2=$O$27,$O$2=$O$29),Best2!$F$13,IF(OR($O$2=$O$18,$O$2=$O$20,$O$2=$O$24,$O$2=$O$26),Best2!$F$10,IF(OR($O$2=$O$12,$O$2=$O$14,$O$2=$O$25,$O$2=$O$28),Best2!$F$11,IF(OR($O$2=$O$13,$O$2=$O$16,$O$2=$O$19,$O$2=$O$22),Best2!$F$12,IF(OR($O$2=$O$6,$O$2=$O$9,$O$2=$O$21,$O$2=$O$23),Best2!$F$14,IF(OR($O$2=$O$8,$O$2=$O$10,$O$2=$O$15,$O$2=$O$17),Best2!$F$15,\"\")))))))","v":""},"","",{"$f":"IF(ISBLANK(I32),\"\",IF(OR($O$2=$O$9,$O$2=$O$10,$O$2=$O$24,$O$2=$O$25),Best2!$F$13,IF(OR($O$2=$O$22,$O$2=$O$23,$O$2=$O$28,$O$2=$O$29),Best2!$F$10,IF(OR($O$2=$O$16,$O$2=$O$17,$O$2=$O$26,$O$2=$O$27),Best2!$F$11,IF(OR($O$2=$O$14,$O$2=$O$15,$O$2=$O$20,$O$2=$O$21),Best2!$F$12,IF(OR($O$2=$O$7,$O$2=$O$8,$O$2=$O$18,$O$2=$O$19),Best2!$F$14,IF(OR($O$2=$O$5,$O$2=$O$6,$O$2=$O$12,$O$2=$O$13),Best2!$F$15,\"\")))))))","v":""},"","",{"$f":"IF(ISBLANK(K32),\"\",IF(Best2!$C$3=\"\",\"\",ROUND(SUM(Best2!$C$3:$C$6),1)))","v":""},"","",{"$f":"IF(ISBLANK(K32),\"\",IF(Best2!$B$3=\"\",\"\",ROUND(AVERAGE(Best2!$D$3:$D$6),1)))","v":""},"","",null,"",null,null,null,null,null,null,null,"","","","","","","","","","","","","","","","","","","","","","","",""]
[]
[null,null,null,null,null,null,null,null,null,null,null,null,null,null,null,{"$f":"MIN(BW5:BW32)","v":0},{"$f":"MIN(BX5:BX32)","v":0},{"$f":"MIN(BY5:BY32)","v":0},0,0,0,0,0,0,0,0,0,0,0,0,0,0,0,0,0,0,0,0,0,null,null,null,null,null,null,null,null,null,null,null,null,null,null,null,null,null,null,null,null,null,null,null,null,{"$f":"IF(MIN(BL5:BL32)=0,\"\",MIN(BL5:BL32))","v":""},{"$f":"IF(MIN(BM5:BM32)=0,\"\",MIN(BM5:BM32))","v":""},"","","","","","","","","","","","",{"$f":"IF(MIN(BZ5:BZ32)=0,\"\",MIN(BZ5:BZ32))","v":""},"","","","","","","","",""]
[]
[]
[]
[]
[]
[]
[]
[null,null,null,null,null,null,null,null,null,null,null,null,null,null,null,null,null,null,null,null,null,null,null,null,null,null,null,null,null,null,null,null,null,null,null,null,null,null,null,null,null,null,null,null,null,null,null,null,null,{"$f":"IF(AND(AX5=\"\",AX33=\"\"),\"\",MIN(AX5:AX41))","v":""},null,null,{"$f":"IF(AND(BA5=\"\",BA33=\"\"),\"\",MAX(BA5:BA41))","v":""}]
[]
[]
[]
[]
[]
[]
[]
[null,null,null,null,null,500,500,500,500,{"$f":"F50*1","v":500},{"$f":"G50*1","v":500},500,500]
[null,null,null,null,null,500,500,500,500,{"$f":"F51*1","v":500},{"$f":"G51*1","v":500},{"$f":"H51*1","v":500},{"$f":"I51*1","v":500}]
[null,null,null,null,null,500,500,500,500,500,500,500,500]
[null,null,null,null,null,500,500,500,500,500,500,500,500]
[null,null,null,null,null,500,500,500,500,500,500,500,500]
[null,null,null,null,null,500,500,500,500,500,500,500,500]
[null,null,null,null,null,500,500,500,500,500,500,500,500]
[null,null,null,null,null,500,500,500,500,500,500,500,500]
[null,null,null,null,null,500,500,500,500,500,500,500,500]
[null,null,null,null,null,500,500,500,500,500,500,500,500]
[null,null,null,null,null,500,500,500,500,500,500,500,500]
[null,null,null,null,null,500,500,500,500,500,500,500,500]
[null,null,null,null,null,500,500,500,500,500,500,500,500]
[null,null,null,null,null,500,500,500,500,500,500,500,500]
[null,null,null,null,null,500,500,500,500,500,500,500,500]
[null,null,null,null,null,500,500,500,500,500,500,500,500]
[null,null,null,null,null,500,500,500,500,500,500,500,500]
[null,null,null,null,null,500,500,500,500,500,500,500,500]
[null,null,null,null,null,500,500,500,500,500,500,500,500]
[null,null,null,null,null,500,500,500,500,500,500,500,500]
[null,null,null,null,null,500,500,500,500,500,500,500,500]
[null,null,null,null,null,500,500,500,500,500,500,500,500]
[null,null,null,null,null,500,500,500,500,500,500,500,500]
[null,null,null,null,null,500,500,500,500,500,500,500,500]
[]
[]
[]
[]
[]
[]
[]
[]
[]
[]
[]
[]
[]
[]
[]
[null,null,null,null,null,{"$f":"IF(MIN(F50:F73)=0,\"\",MIN(F50:F73))","v":500},500,500,500,500,500,500,500]
[null,null,null,null,null,500,500,500,500,{"$f":"F90*1","v":500},{"$f":"G90*1","v":500},{"$f":"H90*1","v":500},{"$f":"I90*1","v":500}]
[null,null,null,null,null,500,500,500,500,{"$f":"F91*1","v":500},500,500,500]
[null,null,null,null,null,500,500,500,500,500,500,500,500]
[null,null,null,null,null,500,500,500,500,500,500,500,500]
[null,null,null,null,null,500,500,500,500,500,500,500,500]
[null,null,null,null,null,500,500,500,500,500,500,500,500]
[null,null,null,null,null,500,500,500,500,500,500,500,500]
[null,null,null,null,null,500,500,500,500,500,500,500,500]
[null,null,null,null,null,500,500,500,500,500,500,500,500]
[null,null,null,null,null,500,500,500,500,500,500,500,500]
[null,null,null,null,null,500,500,500,500,500,500,500,500]
[null,null,null,null,null,500,500,500,500,500,500,500,500]
[null,null,null,null,null,500,500,500,500,500,500,500,500]
[null,null,null,null,null,500,500,500,500,500,500,500,500]
[null,null,null,null,null,500,500,500,500,500,500,500,500]
[null,null,null,null,null,500,500,500,500,500,500,500,500]
[null,null,null,null,null,500,500,500,500,500,500,500,500]
[null,null,null,null,null,500,500,500,500,500,500,500,500]
[null,null,null,null,null,500,500,500,500,500,500,500,500]
[null,null,null,null,null,500,500,500,500,500,500,500,500]
[null,null,null,null,null,500,500,500,500,500,500,500,500]
[null,null,null,null,null,500,500,500,500,500,500,500,500]
[null,null,null,null,null,500,500,500,500,500,500,500,500]
[null,null,null,null,null,500,500,500,500,500,500,500,500]
[]
[]
[]
[]
[]
[]
[]
[]
[]
[]
[]
[]
[]
[]
[]
[null,null,null,null,null,{"$f":"IF(MIN(F90:F113)=0,\"\",MIN(F90:F113))","v":500},500,500,500,500,500,500,500]
[null,null,null,null,null,null,null,null,null,{"$f":"IF(MIN(J89,J129)=500,\"\",MIN(J89,J129))","v":""},{"$f":"IF(MIN(K89,K129)=500,\"\",MIN(K89,K129))","v":""},"",""]

{"sheet":"Archresultats3","index":6,"n_rows":130,"n_cols":87,"rows_kept":130,"cut":false,"hidden":false,"merged":[[0,0,2,11],[2,39,2,41],[2,42,2,44],[2,45,2,47],[2,48,2,53]]}
["Bilan équipe 3"]
[null,null,null,null,null,null,null,null,null,null,null,null,null,null,"BCDA"]
[null,null,null,null,null,null,null,null,null,null,null,null,null,null,null,null,null,null,null,null,null,null,null,null,null,null,null,null,null,null,null,null,null,null,null,null,null,null,null,"ZONE 1",null,null,"ZONE 2",null,null,"ZONE 3",null,null,"TOTAL course"]
[null,"Dates","Heure","Coureur ou\nOrdre relais","Tps\n zone 1","Vitesse\nzone 1","Tps\n zone 2","Vitesse\nzone 2","Tps\n zone 3","Vitesse\nzone 3","Tps course\ntotale","Vitesse totale\ntotale","Remarques",null,null,"AB (t)","AB (v)","AC (t)","AC (v)","AD (t)","AD (v)","BA (v)","BA (t)","BC (t)","BC (v)","BD (t)","BD (v)","CA (t)","CA (v)","CB (t)","CB (v)","CD (t)","CD (v)","DA (t)","DA (v)","DB (t)","DB (v)","DC (t)","DC (v)","Vitesse\n moy. théorique  du binôme","Vitesse réelle\n du binôme","% \nEvolution","Vitesse\n moy. théorique  du binôme","Vitesse réelle\n du binôme","% \nEvolution","Vitesse\n moy. théorique  du binôme","Vitesse réelle\n du binôme","% \nEvolution","TEMPS\ntotal théorique\ndu groupe","TEMPS\ntotal réel\ndu groupe\n ","% \nEvolution","VITESSE\n théorique  du groupe","VITESSE réelle\n du groupe","% \nEvolution"]
[1,null,null,null,null,null,null,null,null,null,null,null,null,null,"ABCD",{"$f":"IF(OR($O$2=$O$5,$O$2=$O$6),E5,IF(OR($O$2=$O$18,$O$2=$O$24),G5,IF(OR($O$2=$O$22,$O$2=$O$28),I5,\"\")))","v":""},{"$f":"IF(OR($O$2=$O$5,$O$2=$O$6),F5,IF(OR($O$2=$O$18,$O$2=$O$24),H5,IF(OR($O$2=$O$22,$O$2=$O$28),J5,\"\")))","v":""},{"$f":"IF(OR($O$2=$O$7,$O$2=$O$8),E5,IF(OR($O$2=$O$12,$O$2=$O$25),G5,IF(OR($O$2=$O$16,$O$2=$O$26),I5,\"\")))","v":""},{"$f":"IF(OR($O$2=$O$7,$O$2=$O$8),F5,IF(OR($O$2=$O$12,$O$2=$O$25),H5,IF(OR($O$2=$O$16,$O$2=$O$26),J5,\"\")))","v":""},{"$f":"IF(OR($O$2=$O$9,$O$2=$O$10),E5,IF(OR($O$2=$O$13,$O$2=$O$19),G5,IF(OR($O$2=$O$14,$O$2=$O$20),I5,\"\")))","v":""},{"$f":"IF(OR($O$2=$O$9,$O$2=$O$10),F5,IF(OR($O$2=$O$13,$O$2=$O$19),H5,IF(OR($O$2=$O$14,$O$2=$O$20),J5,\"\")))","v":""},{"$f":"IF(OR($O$2=$O$12,$O$2=$O$13),E5,IF(OR($O$2=$O$20,$O$2=$O$26),G5,IF(OR($O$2=$O$23,$O$2=$O$29),I5,\"\")))","v":""},{"$f":"IF(OR($O$2=$O$12,$O$2=$O$13),F5,IF(OR($O$2=$O$20,$O$2=$O$26),H5,IF(OR($O$2=$O$23,$O$2=$O$29),J5,\"\")))","v":""},{"$f":"IF(OR($O$2=$O$14,$O$2=$O$15),E5,IF(OR($O$2=$O$5,$O$2=$O$27),G5,IF(OR($O$2=$O$9,$O$2=$O$24),I5,\"\")))","v":0},{"$f":"IF(OR($O$2=$O$14,$O$2=$O$15),F5,IF(OR($O$2=$O$5,$O$2=$O$27),H5,IF(OR($O$2=$O$9,$O$2=$O$24),J5,\"\")))","v":0},{"$f":"IF(OR($O$2=$O$16,$O$2=$O$17),E5,IF(OR($O$2=$O$6,$O$2=$O$21),G5,IF(OR($O$2=$O$7,$O$2=$O$18),I5,\"\")))","v":""},{"$f":"IF(OR($O$2=$O$16,$O$2=$O$17),F5,IF(OR($O$2=$O$6,$O$2=$O$21),H5,IF(OR($O$2=$O$7,$O$2=$O$18),J5,\"\")))","v":""},{"$f":"IF(OR($O$2=$O$18,$O$2=$O$19),E5,IF(OR($O$2=$O$14,$O$2=$O$28),G5,IF(OR($O$2=$O$17,$O$2=$O$27),I5,\"\")))","v":""},{"$f":"IF(OR($O$2=$O$18,$O$2=$O$19),F5,IF(OR($O$2=$O$14,$O$2=$O$28),H5,IF(OR($O$2=$O$17,$O$2=$O$27),J5,\"\")))","v":""},{"$f":"IF(OR($O$2=$O$20,$O$2=$O$21),E5,IF(OR($O$2=$O$7,$O$2=$O$29),G5,IF(OR($O$2=$O$10,$O$2=$O$11),I5,\"\")))","v":""},{"$f":"IF(OR($O$2=$O$20,$O$2=$O$21),F5,IF(OR($O$2=$O$7,$O$2=$O$29),H5,IF(OR($O$2=$O$10,$O$2=$O$11),J5,\"\")))","v":""},{"$f":"IF(OR($O$2=$O$22,$O$2=$O$23),E5,IF(OR($O$2=$O$8,$O$2=$O$15),G5,IF(OR($O$2=$O$5,$O$2=$O$12),I5,\"\")))","v":0},{"$f":"IF(OR($O$2=$O$22,$O$2=$O$23),F5,IF(OR($O$2=$O$8,$O$2=$O$15),H5,IF(OR($O$2=$O$5,$O$2=$O$12),J5,\"\")))","v":0},{"$f":"IF(OR($O$2=$O$24,$O$2=$O$25),E5,IF(OR($O$2=$O$16,$O$2=$O$22),G5,IF(OR($O$2=$O$15,$O$2=$O$21),I5,\"\")))","v":0},{"$f":"IF(OR($O$2=$O$24,$O$2=$O$25),F5,IF(OR($O$2=$O$16,$O$2=$O$22),H5,IF(OR($O$2=$O$15,$O$2=$O$21),J5,\"\")))","v":0},{"$f":"IF(OR($O$2=$O$26,$O$2=$O$27),E5,IF(OR($O$2=$O$9,$O$2=$O$23),G5,IF(OR($O$2=$O$8,$O$2=$O$19),I5,\"\")))","v":""},{"$f":"IF(OR($O$2=$O$26,$O$2=$O$27),F5,IF(OR($O$2=$O$9,$O$2=$O$23),H5,IF(OR($O$2=$O$8,$O$2=$O$19),J5,\"\")))","v":""},{"$f":"IF(OR($O$2=$O$28,$O$2=$O$29),E5,IF(OR($O$2=$O$10,$O$2=$O$11),G5,IF(OR($O$2=$O$6,$O$2=$O$13),I5,\"\")))","v":""},{"$f":"IF(OR($O$2=$O$28,$O$2=$O$29),F5,IF(OR($O$2=$O$10,$O$2=$O$11),H5,IF(OR($O$2=$O$6,$O$2=$O$13),J5,\"\")))","v":""},{"$f":"IF(ISBLANK(E5),\"\",IF(OR($O$2=$O$5,$O$2=$O$6,$O$2=$O$12,$O$2=$O$13),Best1!$F$10,IF(OR($O$2=$O$7,$O$2=$O$8,$O$2=$O$18,$O$2=$O$19),Best1!$F$11,IF(OR($O$2=$O$9,$O$2=$O$10,$O$2=$O$24,$O$2=$O$25),Best1!$F$12,IF(OR($O$2=$O$14,$O$2=$O$15,$O$2=$O$20,$O$2=$O$21),Best1!$F$13,IF(OR($O$2=$O$16,$O$2=$O$17,$O$2=$O$26,$O$2=$O$27),Best1!$F$14,IF(OR($O$2=$O$22,$O$2=$O$23,$O$2=$O$28,$O$2=$O$29),Best1!$F$15,\"\")))))))","v":""},{"$f":"IF(F5=\"\",\"\",F5)","v":""},{"$f":"IF(AO5=\"\",\"\",ROUND(((AO5-AN5)/AN5*100),1))","v":""},{"$f":"IF(ISBLANK(G5),\"\",IF(OR($O$2=$O$5,$O$2=$O$7,$O$2=$O$27,$O$2=$O$29),Best1!$F$13,IF(OR($O$2=$O$18,$O$2=$O$20,$O$2=$O$24,$O$2=$O$26),Best1!$F$10,IF(OR($O$2=$O$12,$O$2=$O$14,$O$2=$O$25,$O$2=$O$28),Best1!$F$11,IF(OR($O$2=$O$13,$O$2=$O$16,$O$2=$O$19,$O$2=$O$22),Best1!$F$12,IF(OR($O$2=$O$6,$O$2=$O$9,$O$2=$O$21,$O$2=$O$23),Best1!$F$14,IF(OR($O$2=$O$8,$O$2=$O$10,$O$2=$O$15,$O$2=$O$17),Best1!$F$15,\"\")))))))","v":""},{"$f":"IF(H5=\"\",\"\",H5)","v":""},{"$f":"IF(AR5=\"\",\"\",ROUND(((AR5-AQ5)/AQ5*100),1))","v":""},{"$f":"IF(ISBLANK(I5),\"\",IF(OR($O$2=$O$9,$O$2=$O$10,$O$2=$O$24,$O$2=$O$25),Best1!$F$13,IF(OR($O$2=$O$22,$O$2=$O$23,$O$2=$O$28,$O$2=$O$29),Best1!$F$10,IF(OR($O$2=$O$16,$O$2=$O$17,$O$2=$O$26,$O$2=$O$27),Best1!$F$11,IF(OR($O$2=$O$14,$O$2=$O$15,$O$2=$O$20,$O$2=$O$21),Best1!$F$12,IF(OR($O$2=$O$7,$O$2=$O$8,$O$2=$O$18,$O$2=$O$19),Best1!$F$14,IF(OR($O$2=$O$5,$O$2=$O$6,$O$2=$O$12,$O$2=$O$13),Best1!$F$15,\"\")))))))","v":""},{"$f":"IF(J5=\"\",\"\",J5)","v":""},{"$f":"IF(AU5=\"\",\"\",ROUND(((AU5-AT5)/AT5*100),1))","v":""},{"$f":"IF(ISBLANK(K5),\"\",IF(Best1!$C$3=\"\",\"\",ROUND(SUM(Best1!$C$3:$C$6),1)))","v":""},{"$f":"IF(K5=\"\",\"\",K5)","v":""},{"$f":"IF(AX5=\"\",\"\",ROUND(((AX5-AW5)/AW5*100),1))","v":""},{"$f":"IF(ISBLANK(K5),\"\",IF(Best1!$B$3=\"\",\"\",ROUND(AVERAGE(Best1!$D$3:$D$6),1)))","v":""},{"$f":"IF(L5=\"\",\"\",L5)","v":""},{"$f":"IF(BA5=\"\",\"\",ROUND(((BA5-AZ5)/AZ5*100),1))","v":""},null,{"$f":"AX5","v":""},null,null,null,null,null,null,null,{"$f":"IF(OR(P5=\"\",P5=0),\"\",P5*1)","v":""},{"$f":"IF(OR(Q5=\"\",Q5=0),\"\",Q5*1)","v":""},"","","","","","","","","","","","","","","","","","","","","",""]
[2,null,null,null,null,null,null,null,null,null,null,null,null,null,"ABDC",{"$f":"IF(OR($O$2=$O$5,$O$2=$O$6),E6,IF(OR($O$2=$O$18,$O$2=$O$24),G6,IF(OR($O$2=$O$22,$O$2=$O$28),I6,\"\")))","v":""},"",{"$f":"IF(OR($O$2=$O$7,$O$2=$O$8),E6,IF(OR($O$2=$O$12,$O$2=$O$25),G6,IF(OR($O$2=$O$16,$O$2=$O$26),I6,\"\")))","v":""},"",{"$f":"IF(OR($O$2=$O$9,$O$2=$O$10),E6,IF(OR($O$2=$O$13,$O$2=$O$19),G6,IF(OR($O$2=$O$14,$O$2=$O$20),I6,\"\")))","v":""},"",{"$f":"IF(OR($O$2=$O$12,$O$2=$O$13),E6,IF(OR($O$2=$O$20,$O$2=$O$26),G6,IF(OR($O$2=$O$23,$O$2=$O$29),I6,\"\")))","v":""},"",{"$f":"IF(OR($O$2=$O$14,$O$2=$O$15),E6,IF(OR($O$2=$O$5,$O$2=$O$27),G6,IF(OR($O$2=$O$9,$O$2=$O$24),I6,\"\")))","v":0},0,{"$f":"IF(OR($O$2=$O$16,$O$2=$O$17),E6,IF(OR($O$2=$O$6,$O$2=$O$21),G6,IF(OR($O$2=$O$7,$O$2=$O$18),I6,\"\")))","v":""},"",{"$f":"IF(OR($O$2=$O$18,$O$2=$O$19),E6,IF(OR($O$2=$O$14,$O$2=$O$28),G6,IF(OR($O$2=$O$17,$O$2=$O$27),I6,\"\")))","v":""},"",{"$f":"IF(OR($O$2=$O$20,$O$2=$O$21),E6,IF(OR($O$2=$O$7,$O$2=$O$29),G6,IF(OR($O$2=$O$10,$O$2=$O$11),I6,\"\")))","v":""},"",{"$f":"IF(OR($O$2=$O$22,$O$2=$O$23),E6,IF(OR($O$2=$O$8,$O$2=$O$15),G6,IF(OR($O$2=$O$5,$O$2=$O$12),I6,\"\")))","v":0},0,{"$f":"IF(OR($O$2=$O$24,$O$2=$O$25),E6,IF(OR($O$2=$O$16,$O$2=$O$22),G6,IF(OR($O$2=$O$15,$O$2=$O$21),I6,\"\")))","v":0},0,{"$f":"IF(OR($O$2=$O$26,$O$2=$O$27),E6,IF(OR($O$2=$O$9,$O$2=$O$23),G6,IF(OR($O$2=$O$8,$O$2=$O$19),I6,\"\")))","v":""},"",{"$f":"IF(OR($O$2=$O$28,$O$2=$O$29),E6,IF(OR($O$2=$O$10,$O$2=$O$11),G6,IF(OR($O$2=$O$6,$O$2=$O$13),I6,\"\")))","v":""},"",{"$f":"IF(ISBLANK(E6),\"\",IF(OR($O$2=$O$5,$O$2=$O$6,$O$2=$O$12,$O$2=$O$13),Best1!$F$10,IF(OR($O$2=$O$7,$O$2=$O$8,$O$2=$O$18,$O$2=$O$19),Best1!$F$11,IF(OR($O$2=$O$9,$O$2=$O$10,$O$2=$O$24,$O$2=$O$25),Best1!$F$12,IF(OR($O$2=$O$14,$O$2=$O$15,$O$2=$O$20,$O$2=$O$21),Best1!$F$13,IF(OR($O$2=$O$16,$O$2=$O$17,$O$2=$O$26,$O$2=$O$27),Best1!$F$14,IF(OR($O$2=$O$22,$O$2=$O$23,$O$2=$O$28,$O$2=$O$29),Best1!$F$15,\"\")))))))","v":""},{"$f":"IF(F6=\"\",\"\",F6)","v":""},{"$f":"IF(AO6=\"\",\"\",ROUND(((AO6-AN6)/AN6*100),1))","v":""},{"$f":"IF(ISBLANK(H6),\"\",IF(OR($O$2=$O$5,$O$2=$O$7,$O$2=$O$27,$O$2=$O$29),Best1!$F$13,IF(OR($O$2=$O$18,$O$2=$O$20,$O$2=$O$24,$O$2=$O$26),Best1!$F$10,IF(OR($O$2=$O$12,$O$2=$O$14,$O$2=$O$25,$O$2=$O$28),Best1!$F$11,IF(OR($O$2=$O$13,$O$2=$O$16,$O$2=$O$19,$O$2=$O$22),Best1!$F$12,IF(OR($O$2=$O$6,$O$2=$O$9,$O$2=$O$21,$O$2=$O$23),Best1!$F$14,IF(OR($O$2=$O$8,$O$2=$O$10,$O$2=$O$15,$O$2=$O$17),Best1!$F$15,\"\")))))))","v":""},{"$f":"IF(H6=\"\",\"\",H6)","v":""},{"$f":"IF(AR6=\"\",\"\",ROUND(((AR6-AQ6)/AQ6*100),1))","v":""},{"$f":"IF(ISBLANK(I6),\"\",IF(OR($O$2=$O$9,$O$2=$O$10,$O$2=$O$24,$O$2=$O$25),Best1!$F$13,IF(OR($O$2=$O$22,$O$2=$O$23,$O$2=$O$28,$O$2=$O$29),Best1!$F$10,IF(OR($O$2=$O$16,$O$2=$O$17,$O$2=$O$26,$O$2=$O$27),Best1!$F$11,IF(OR($O$2=$O$14,$O$2=$O$15,$O$2=$O$20,$O$2=$O$21),Best1!$F$12,IF(OR($O$2=$O$7,$O$2=$O$8,$O$2=$O$18,$O$2=$O$19),Best1!$F$14,IF(OR($O$2=$O$5,$O$2=$O$6,$O$2=$O$12,$O$2=$O$13),Best1!$F$15,\"\")))))))","v":""},{"$f":"IF(J6=\"\",\"\",J6)","v":""},{"$f":"IF(AU6=\"\",\"\",ROUND(((AU6-AT6)/AT6*100),1))","v":""},{"$f":"IF(ISBLANK(K6),\"\",IF(Best1!$C$3=\"\",\"\",ROUND(SUM(Best1!$C$3:$C$6),1)))","v":""},{"$f":"IF(K6=\"\",\"\",K6)","v":""},{"$f":"IF(AX6=\"\",\"\",ROUND(((AX6-AW6)/AW6*100),1))","v":""},{"$f":"IF(ISBLANK(K6),\"\",IF(Best1!$B$3=\"\",\"\",ROUND(AVERAGE(Best1!$D$3:$D$6),1)))","v":""},{"$f":"IF(L6=\"\",\"\",L6)","v":""},{"$f":"IF(BA6=\"\",\"\",ROUND(((BA6-AZ6)/AZ6*100),1))","v":""},null,{"$f":"AX6","v":""},null,null,null,null,null,null,null,{"$f":"IF(OR(P6=\"\",P6=0),\"\",P6*1)","v":""},"","","","","","","","","","","","","","","","","","","","","","",""]
[3,null,null,null,null,null,null,null,null,null,null,null,null,null,"ACBD","","","","","","","","",0,0,"","","","","","",0,0,0,0,"","","","",{"$f":"IF(ISBLANK(E7),\"\",IF(OR($O$2=$O$5,$O$2=$O$6,$O$2=$O$12,$O$2=$O$13),Best1!$F$10,IF(OR($O$2=$O$7,$O$2=$O$8,$O$2=$O$18,$O$2=$O$19),Best1!$F$11,IF(OR($O$2=$O$9,$O$2=$O$10,$O$2=$O$24,$O$2=$O$25),Best1!$F$12,IF(OR($O$2=$O$14,$O$2=$O$15,$O$2=$O$20,$O$2=$O$21),Best1!$F$13,IF(OR($O$2=$O$16,$O$2=$O$17,$O$2=$O$26,$O$2=$O$27),Best1!$F$14,IF(OR($O$2=$O$22,$O$2=$O$23,$O$2=$O$28,$O$2=$O$29),Best1!$F$15,\"\")))))))","v":""},"","",{"$f":"IF(ISBLANK(H7),\"\",IF(OR($O$2=$O$5,$O$2=$O$7,$O$2=$O$27,$O$2=$O$29),Best1!$F$13,IF(OR($O$2=$O$18,$O$2=$O$20,$O$2=$O$24,$O$2=$O$26),Best1!$F$10,IF(OR($O$2=$O$12,$O$2=$O$14,$O$2=$O$25,$O$2=$O$28),Best1!$F$11,IF(OR($O$2=$O$13,$O$2=$O$16,$O$2=$O$19,$O$2=$O$22),Best1!$F$12,IF(OR($O$2=$O$6,$O$2=$O$9,$O$2=$O$21,$O$2=$O$23),Best1!$F$14,IF(OR($O$2=$O$8,$O$2=$O$10,$O$2=$O$15,$O$2=$O$17),Best1!$F$15,\"\")))))))","v":""},"","",{"$f":"IF(ISBLANK(I7),\"\",IF(OR($O$2=$O$9,$O$2=$O$10,$O$2=$O$24,$O$2=$O$25),Best1!$F$13,IF(OR($O$2=$O$22,$O$2=$O$23,$O$2=$O$28,$O$2=$O$29),Best1!$F$10,IF(OR($O$2=$O$16,$O$2=$O$17,$O$2=$O$26,$O$2=$O$27),Best1!$F$11,IF(OR($O$2=$O$14,$O$2=$O$15,$O$2=$O$20,$O$2=$O$21),Best1!$F$12,IF(OR($O$2=$O$7,$O$2=$O$8,$O$2=$O$18,$O$2=$O$19),Best1!$F$14,IF(OR($O$2=$O$5,$O$2=$O$6,$O$2=$O$12,$O$2=$O$13),Best1!$F$15,\"\")))))))","v":""},"","",{"$f":"IF(ISBLANK(K7),\"\",IF(Best1!$C$3=\"\",\"\",ROUND(SUM(Best1!$C$3:$C$6),1)))","v":""},"","",{"$f":"IF(ISBLANK(K7),\"\",IF(Best1!$B$3=\"\",\"\",ROUND(AVERAGE(Best1!$D$3:$D$6),1)))","v":""},"","",null,"",null,null,null,null,null,null,null,"","","","","","","","","","","","","","","","","","","","","","","",""]
[4,null,null,null,null,null,null,null,null,null,null,null,null,null,"ACDB","","","","","","","","",0,0,"","","","","","",0,0,0,0,"","","","",{"$f":"IF(ISBLANK(E8),\"\",IF(OR($O$2=$O$5,$O$2=$O$6,$O$2=$O$12,$O$2=$O$13),Best1!$F$10,IF(OR($O$2=$O$7,$O$2=$O$8,$O$2=$O$18,$O$2=$O$19),Best1!$F$11,IF(OR($O$2=$O$9,$O$2=$O$10,$O$2=$O$24,$O$2=$O$25),Best1!$F$12,IF(OR($O$2=$O$14,$O$2=$O$15,$O$2=$O$20,$O$2=$O$21),Best1!$F$13,IF(OR($O$2=$O$16,$O$2=$O$17,$O$2=$O$26,$O$2=$O$27),Best1!$F$14,IF(OR($O$2=$O$22,$O$2=$O$23,$O$2=$O$28,$O$2=$O$29),Best1!$F$15,\"\")))))))","v":""},"","",{"$f":"IF(ISBLANK(H8),\"\",IF(OR($O$2=$O$5,$O$2=$O$7,$O$2=$O$27,$O$2=$O$29),Best1!$F$13,IF(OR($O$2=$O$18,$O$2=$O$20,$O$2=$O$24,$O$2=$O$26),Best1!$F$10,IF(OR($O$2=$O$12,$O$2=$O$14,$O$2=$O$25,$O$2=$O$28),Best1!$F$11,IF(OR($O$2=$O$13,$O$2=$O$16,$O$2=$O$19,$O$2=$O$22),Best1!$F$12,IF(OR($O$2=$O$6,$O$2=$O$9,$O$2=$O$21,$O$2=$O$23),Best1!$F$14,IF(OR($O$2=$O$8,$O$2=$O$10,$O$2=$O$15,$O$2=$O$17),Best1!$F$15,\"\")))))))","v":""},"","",{"$f":"IF(ISBLANK(I8),\"\",IF(OR($O$2=$O$9,$O$2=$O$10,$O$2=$O$24,$O$2=$O$25),Best1!$F$13,IF(OR($O$2=$O$22,$O$2=$O$23,$O$2=$O$28,$O$2=$O$29),Best1!$F$10,IF(OR($O$2=$O$16,$O$2=$O$17,$O$2=$O$26,$O$2=$O$27),Best1!$F$11,IF(OR($O$2=$O$14,$O$2=$O$15,$O$2=$O$20,$O$2=$O$21),Best1!$F$12,IF(OR($O$2=$O$7,$O$2=$O$8,$O$2=$O$18,$O$2=$O$19),Best1!$F$14,IF(OR($O$2=$O$5,$O$2=$O$6,$O$2=$O$12,$O$2=$O$13),Best1!$F$15,\"\")))))))","v":""},"","",{"$f":"IF(ISBLANK(K8),\"\",IF(Best1!$C$3=\"\",\"\",ROUND(SUM(Best1!$C$3:$C$6),1)))","v":""},"","",{"$f":"IF(ISBLANK(K8),\"\",IF(Best1!$B$3=\"\",\"\",ROUND(AVERAGE(Best1!$D$3:$D$6),1)))","v":""},"","",null,"",null,null,null,null,null,null,null,"","","","","","","","","","","","","","","","","","","","","","","",""]
[5,null,null,null,null,null,null,null,null,null,null,null,null,null,"ADBC","","","","","","","","",0,0,"","","","","","",0,0,0,0,"","","","",{"$f":"IF(ISBLANK(E9),\"\",IF(OR($O$2=$O$5,$O$2=$O$6,$O$2=$O$12,$O$2=$O$13),Best1!$F$10,IF(OR($O$2=$O$7,$O$2=$O$8,$O$2=$O$18,$O$2=$O$19),Best1!$F$11,IF(OR($O$2=$O$9,$O$2=$O$10,$O$2=$O$24,$O$2=$O$25),Best1!$F$12,IF(OR($O$2=$O$14,$O$2=$O$15,$O$2=$O$20,$O$2=$O$21),Best1!$F$13,IF(OR($O$2=$O$16,$O$2=$O$17,$O$2=$O$26,$O$2=$O$27),Best1!$F$14,IF(OR($O$2=$O$22,$O$2=$O$23,$O$2=$O$28,$O$2=$O$29),Best1!$F$15,\"\")))))))","v":""},"","",{"$f":"IF(ISBLANK(H9),\"\",IF(OR($O$2=$O$5,$O$2=$O$7,$O$2=$O$27,$O$2=$O$29),Best1!$F$13,IF(OR($O$2=$O$18,$O$2=$O$20,$O$2=$O$24,$O$2=$O$26),Best1!$F$10,IF(OR($O$2=$O$12,$O$2=$O$14,$O$2=$O$25,$O$2=$O$28),Best1!$F$11,IF(OR($O$2=$O$13,$O$2=$O$16,$O$2=$O$19,$O$2=$O$22),Best1!$F$12,IF(OR($O$2=$O$6,$O$2=$O$9,$O$2=$O$21,$O$2=$O$23),Best1!$F$14,IF(OR($O$2=$O$8,$O$2=$O$10,$O$2=$O$15,$O$2=$O$17),Best1!$F$15,\"\")))))))","v":""},"","",{"$f":"IF(ISBLANK(I9),\"\",IF(OR($O$2=$O$9,$O$2=$O$10,$O$2=$O$24,$O$2=$O$25),Best1!$F$13,IF(OR($O$2=$O$22,$O$2=$O$23,$O$2=$O$28,$O$2=$O$29),Best1!$F$10,IF(OR($O$2=$O$16,$O$2=$O$17,$O$2=$O$26,$O$2=$O$27),Best1!$F$11,IF(OR($O$2=$O$14,$O$2=$O$15,$O$2=$O$20,$O$2=$O$21),Best1!$F$12,IF(OR($O$2=$O$7,$O$2=$O$8,$O$2=$O$18,$O$2=$O$19),Best1!$F$14,IF(OR($O$2=$O$5,$O$2=$O$6,$O$2=$O$12,$O$2=$O$13),Best1!$F$15,\"\")))))))","v":""},"","",{"$f":"IF(ISBLANK(K9),\"\",IF(Best1!$C$3=\"\",\"\",ROUND(SUM(Best1!$C$3:$C$6),1)))","v":""},"","",{"$f":"IF(ISBLANK(K9),\"\",IF(Best1!$B$3=\"\",\"\",ROUND(AVERAGE(Best1!$D$3:$D$6),1)))","v":""},"","",null,"",null,null,null,null,null,null,null,"","","","","","","","","","","","","","","","","","","","","","","",""]
[6,null,null,null,null,null,null,null,null,null,null,null,null,null,"ADCB","","","","","","","","",0,0,"","","","","","",0,0,0,0,"","","","",{"$f":"IF(ISBLANK(E10),\"\",IF(OR($O$2=$O$5,$O$2=$O$6,$O$2=$O$12,$O$2=$O$13),Best1!$F$10,IF(OR($O$2=$O$7,$O$2=$O$8,$O$2=$O$18,$O$2=$O$19),Best1!$F$11,IF(OR($O$2=$O$9,$O$2=$O$10,$O$2=$O$24,$O$2=$O$25),Best1!$F$12,IF(OR($O$2=$O$14,$O$2=$O$15,$O$2=$O$20,$O$2=$O$21),Best1!$F$13,IF(OR($O$2=$O$16,$O$2=$O$17,$O$2=$O$26,$O$2=$O$27),Best1!$F$14,IF(OR($O$2=$O$22,$O$2=$O$23,$O$2=$O$28,$O$2=$O$29),Best1!$F$15,\"\")))))))","v":""},"","",{"$f":"IF(ISBLANK(H10),\"\",IF(OR($O$2=$O$5,$O$2=$O$7,$O$2=$O$27,$O$2=$O$29),Best1!$F$13,IF(OR($O$2=$O$18,$O$2=$O$20,$O$2=$O$24,$O$2=$O$26),Best1!$F$10,IF(OR($O$2=$O$12,$O$2=$O$14,$O$2=$O$25,$O$2=$O$28),Best1!$F$11,IF(OR($O$2=$O$13,$O$2=$O$16,$O$2=$O$19,$O$2=$O$22),Best1!$F$12,IF(OR($O$2=$O$6,$O$2=$O$9,$O$2=$O$21,$O$2=$O$23),Best1!$F$14,IF(OR($O$2=$O$8,$O$2=$O$10,$O$2=$O$15,$O$2=$O$17),Best1!$F$15,\"\")))))))","v":""},"","",{"$f":"IF(ISBLANK(I10),\"\",IF(OR($O$2=$O$9,$O$2=$O$10,$O$2=$O$24,$O$2=$O$25),Best1!$F$13,IF(OR($O$2=$O$22,$O$2=$O$23,$O$2=$O$28,$O$2=$O$29),Best1!$F$10,IF(OR($O$2=$O$16,$O$2=$O$17,$O$2=$O$26,$O$2=$O$27),Best1!$F$11,IF(OR($O$2=$O$14,$O$2=$O$15,$O$2=$O$20,$O$2=$O$21),Best1!$F$12,IF(OR($O$2=$O$7,$O$2=$O$8,$O$2=$O$18,$O$2=$O$19),Best1!$F$14,IF(OR($O$2=$O$5,$O$2=$O$6,$O$2=$O$12,$O$2=$O$13),Best1!$F$15,\"\")))))))","v":""},"","",{"$f":"IF(ISBLANK(K10),\"\",IF(Best1!$C$3=\"\",\"\",ROUND(SUM(Best1!$C$3:$C$6),1)))","v":""},"","",{"$f":"IF(ISBLANK(K10),\"\",IF(Best1!$B$3=\"\",\"\",ROUND(AVERAGE(Best1!$D$3:$D$6),1)))","v":""},"","",null,"",null,null,null,null,null,null,null,"","","","","","","","","","","","","","","","","","","","","","","",""]
[7,null,null,null,null,null,null,null,null,null,null,null,null,null,"ADCB","","","","","","","","",0,0,"","","","","","",0,0,0,0,"","","","",{"$f":"IF(ISBLANK(E11),\"\",IF(OR($O$2=$O$5,$O$2=$O$6,$O$2=$O$12,$O$2=$O$13),Best1!$F$10,IF(OR($O$2=$O$7,$O$2=$O$8,$O$2=$O$18,$O$2=$O$19),Best1!$F$11,IF(OR($O$2=$O$9,$O$2=$O$10,$O$2=$O$24,$O$2=$O$25),Best1!$F$12,IF(OR($O$2=$O$14,$O$2=$O$15,$O$2=$O$20,$O$2=$O$21),Best1!$F$13,IF(OR($O$2=$O$16,$O$2=$O$17,$O$2=$O$26,$O$2=$O$27),Best1!$F$14,IF(OR($O$2=$O$22,$O$2=$O$23,$O$2=$O$28,$O$2=$O$29),Best1!$F$15,\"\")))))))","v":""},"","",{"$f":"IF(ISBLANK(H11),\"\",IF(OR($O$2=$O$5,$O$2=$O$7,$O$2=$O$27,$O$2=$O$29),Best1!$F$13,IF(OR($O$2=$O$18,$O$2=$O$20,$O$2=$O$24,$O$2=$O$26),Best1!$F$10,IF(OR($O$2=$O$12,$O$2=$O$14,$O$2=$O$25,$O$2=$O$28),Best1!$F$11,IF(OR($O$2=$O$13,$O$2=$O$16,$O$2=$O$19,$O$2=$O$22),Best1!$F$12,IF(OR($O$2=$O$6,$O$2=$O$9,$O$2=$O$21,$O$2=$O$23),Best1!$F$14,IF(OR($O$2=$O$8,$O$2=$O$10,$O$2=$O$15,$O$2=$O$17),Best1!$F$15,\"\")))))))","v":""},"","",{"$f":"IF(ISBLANK(I11),\"\",IF(OR($O$2=$O$9,$O$2=$O$10,$O$2=$O$24,$O$2=$O$25),Best1!$F$13,IF(OR($O$2=$O$22,$O$2=$O$23,$O$2=$O$28,$O$2=$O$29),Best1!$F$10,IF(OR($O$2=$O$16,$O$2=$O$17,$O$2=$O$26,$O$2=$O$27),Best1!$F$11,IF(OR($O$2=$O$14,$O$2=$O$15,$O$2=$O$20,$O$2=$O$21),Best1!$F$12,IF(OR($O$2=$O$7,$O$2=$O$8,$O$2=$O$18,$O$2=$O$19),Best1!$F$14,IF(OR($O$2=$O$5,$O$2=$O$6,$O$2=$O$12,$O$2=$O$13),Best1!$F$15,\"\")))))))","v":""},"","",{"$f":"IF(ISBLANK(K11),\"\",IF(Best1!$C$3=\"\",\"\",ROUND(SUM(Best1!$C$3:$C$6),1)))","v":""},"","",{"$f":"IF(ISBLANK(K11),\"\",IF(Best1!$B$3=\"\",\"\",ROUND(AVERAGE(Best1!$D$3:$D$6),1)))","v":""},"","",null,"",null,null,null,null,null,null,null,"","","","","","","","","","","","","","","","","","","","","","","",""]
[8,null,null,null,null,null,null,null,null,null,null,null,null,null,"BACD","","","","","","","","",0,0,"","","","","","",0,0,0,0,"","","","",{"$f":"IF(ISBLANK(E12),\"\",IF(OR($O$2=$O$5,$O$2=$O$6,$O$2=$O$12,$O$2=$O$13),Best1!$F$10,IF(OR($O$2=$O$7,$O$2=$O$8,$O$2=$O$18,$O$2=$O$19),Best1!$F$11,IF(OR($O$2=$O$9,$O$2=$O$10,$O$2=$O$24,$O$2=$O$25),Best1!$F$12,IF(OR($O$2=$O$14,$O$2=$O$15,$O$2=$O$20,$O$2=$O$21),Best1!$F$13,IF(OR($O$2=$O$16,$O$2=$O$17,$O$2=$O$26,$O$2=$O$27),Best1!$F$14,IF(OR($O$2=$O$22,$O$2=$O$23,$O$2=$O$28,$O$2=$O$29),Best1!$F$15,\"\")))))))","v":""},"","",{"$f":"IF(ISBLANK(H12),\"\",IF(OR($O$2=$O$5,$O$2=$O$7,$O$2=$O$27,$O$2=$O$29),Best1!$F$13,IF(OR($O$2=$O$18,$O$2=$O$20,$O$2=$O$24,$O$2=$O$26),Best1!$F$10,IF(OR($O$2=$O$12,$O$2=$O$14,$O$2=$O$25,$O$2=$O$28),Best1!$F$11,IF(OR($O$2=$O$13,$O$2=$O$16,$O$2=$O$19,$O$2=$O$22),Best1!$F$12,IF(OR($O$2=$O$6,$O$2=$O$9,$O$2=$O$21,$O$2=$O$23),Best1!$F$14,IF(OR($O$2=$O$8,$O$2=$O$10,$O$2=$O$15,$O$2=$O$17),Best1!$F$15,\"\")))))))","v":""},"","",{"$f":"IF(ISBLANK(I12),\"\",IF(OR($O$2=$O$9,$O$2=$O$10,$O$2=$O$24,$O$2=$O$25),Best1!$F$13,IF(OR($O$2=$O$22,$O$2=$O$23,$O$2=$O$28,$O$2=$O$29),Best1!$F$10,IF(OR($O$2=$O$16,$O$2=$O$17,$O$2=$O$26,$O$2=$O$27),Best1!$F$11,IF(OR($O$2=$O$14,$O$2=$O$15,$O$2=$O$20,$O$2=$O$21),Best1!$F$12,IF(OR($O$2=$O$7,$O$2=$O$8,$O$2=$O$18,$O$2=$O$19),Best1!$F$14,IF(OR($O$2=$O$5,$O$2=$O$6,$O$2=$O$12,$O$2=$O$13),Best1!$F$15,\"\")))))))","v":""},"","",{"$f":"IF(ISBLANK(K12),\"\",IF(Best1!$C$3=\"\",\"\",ROUND(SUM(Best1!$C$3:$C$6),1)))","v":""},"","",{"$f":"IF(ISBLANK(K12),\"\",IF(Best1!$B$3=\"\",\"\",ROUND(AVERAGE(Best1!$D$3:$D$6),1)))","v":""},"","",null,"",null,null,null,null,null,null,null,"","","","","","","","","","","","","","","","","","","","","","","",""]
[9,null,null,null,null,null,null,null,null,null,null,null,null,null,"BADC","","","","","","","","",0,0,"","","","","","",0,0,0,0,"","","","",{"$f":"IF(ISBLANK(E13),\"\",IF(OR($O$2=$O$5,$O$2=$O$6,$O$2=$O$12,$O$2=$O$13),Best1!$F$10,IF(OR($O$2=$O$7,$O$2=$O$8,$O$2=$O$18,$O$2=$O$19),Best1!$F$11,IF(OR($O$2=$O$9,$O$2=$O$10,$O$2=$O$24,$O$2=$O$25),Best1!$F$12,IF(OR($O$2=$O$14,$O$2=$O$15,$O$2=$O$20,$O$2=$O$21),Best1!$F$13,IF(OR($O$2=$O$16,$O$2=$O$17,$O$2=$O$26,$O$2=$O$27),Best1!$F$14,IF(OR($O$2=$O$22,$O$2=$O$23,$O$2=$O$28,$O$2=$O$29),Best1!$F$15,\"\")))))))","v":""},"","",{"$f":"IF(ISBLANK(H13),\"\",IF(OR($O$2=$O$5,$O$2=$O$7,$O$2=$O$27,$O$2=$O$29),Best1!$F$13,IF(OR($O$2=$O$18,$O$2=$O$20,$O$2=$O$24,$O$2=$O$26),Best1!$F$10,IF(OR($O$2=$O$12,$O$2=$O$14,$O$2=$O$25,$O$2=$O$28),Best1!$F$11,IF(OR($O$2=$O$13,$O$2=$O$16,$O$2=$O$19,$O$2=$O$22),Best1!$F$12,IF(OR($O$2=$O$6,$O$2=$O$9,$O$2=$O$21,$O$2=$O$23),Best1!$F$14,IF(OR($O$2=$O$8,$O$2=$O$10,$O$2=$O$15,$O$2=$O$17),Best1!$F$15,\"\")))))))","v":""},"","",{"$f":"IF(ISBLANK(I13),\"\",IF(OR($O$2=$O$9,$O$2=$O$10,$O$2=$O$24,$O$2=$O$25),Best1!$F$13,IF(OR($O$2=$O$22,$O$2=$O$23,$O$2=$O$28,$O$2=$O$29),Best1!$F$10,IF(OR($O$2=$O$16,$O$2=$O$17,$O$2=$O$26,$O$2=$O$27),Best1!$F$11,IF(OR($O$2=$O$14,$O$2=$O$15,$O$2=$O$20,$O$2=$O$21),Best1!$F$12,IF(OR($O$2=$O$7,$O$2=$O$8,$O$2=$O$18,$O$2=$O$19),Best1!$F$14,IF(OR($O$2=$O$5,$O$2=$O$6,$O$2=$O$12,$O$2=$O$13),Best1!$F$15,\"\")))))))","v":""},"","",{"$f":"IF(ISBLANK(K13),\"\",IF(Best1!$C$3=\"\",\"\",ROUND(SUM(Best1!$C$3:$C$6),1)))","v":""},"","",{"$f":"IF(ISBLANK(K13),\"\",IF(Best1!$B$3=\"\",\"\",ROUND(AVERAGE(Best1!$D$3:$D$6),1)))","v":""},"","",null,"",null,null,null,null,null,null,null,"","","","","","","","","","","","","","","","","","","","","","","",""]
[10,null,null,null,null,null,null,null,null,null,null,null,null,null,"BCAD","","","","","","","","",0,0,"","","","","","",0,0,0,0,"","","","",{"$f":"IF(ISBLANK(E14),\"\",IF(OR($O$2=$O$5,$O$2=$O$6,$O$2=$O$12,$O$2=$O$13),Best1!$F$10,IF(OR($O$2=$O$7,$O$2=$O$8,$O$2=$O$18,$O$2=$O$19),Best1!$F$11,IF(OR($O$2=$O$9,$O$2=$O$10,$O$2=$O$24,$O$2=$O$25),Best1!$F$12,IF(OR($O$2=$O$14,$O$2=$O$15,$O$2=$O$20,$O$2=$O$21),Best1!$F$13,IF(OR($O$2=$O$16,$O$2=$O$17,$O$2=$O$26,$O$2=$O$27),Best1!$F$14,IF(OR($O$2=$O$22,$O$2=$O$23,$O$2=$O$28,$O$2=$O$29),Best1!$F$15,\"\")))))))","v":""},"","",{"$f":"IF(ISBLANK(H14),\"\",IF(OR($O$2=$O$5,$O$2=$O$7,$O$2=$O$27,$O$2=$O$29),Best1!$F$13,IF(OR($O$2=$O$18,$O$2=$O$20,$O$2=$O$24,$O$2=$O$26),Best1!$F$10,IF(OR($O$2=$O$12,$O$2=$O$14,$O$2=$O$25,$O$2=$O$28),Best1!$F$11,IF(OR($O$2=$O$13,$O$2=$O$16,$O$2=$O$19,$O$2=$O$22),Best1!$F$12,IF(OR($O$2=$O$6,$O$2=$O$9,$O$2=$O$21,$O$2=$O$23),Best1!$F$14,IF(OR($O$2=$O$8,$O$2=$O$10,$O$2=$O$15,$O$2=$O$17),Best1!$F$15,\"\")))))))","v":""},"","",{"$f":"IF(ISBLANK(I14),\"\",IF(OR($O$2=$O$9,$O$2=$O$10,$O$2=$O$24,$O$2=$O$25),Best1!$F$13,IF(OR($O$2=$O$22,$O$2=$O$23,$O$2=$O$28,$O$2=$O$29),Best1!$F$10,IF(OR($O$2=$O$16,$O$2=$O$17,$O$2=$O$26,$O$2=$O$27),Best1!$F$11,IF(OR($O$2=$O$14,$O$2=$O$15,$O$2=$O$20,$O$2=$O$21),Best1!$F$12,IF(OR($O$2=$O$7,$O$2=$O$8,$O$2=$O$18,$O$2=$O$19),Best1!$F$14,IF(OR($O$2=$O$5,$O$2=$O$6,$O$2=$O$12,$O$2=$O$13),Best1!$F$15,\"\")))))))","v":""},"","",{"$f":"IF(ISBLANK(K14),\"\",IF(Best1!$C$3=\"\",\"\",ROUND(SUM(Best1!$C$3:$C$6),1)))","v":""},"","",{"$f":"IF(ISBLANK(K14),\"\",IF(Best1!$B$3=\"\",\"\",ROUND(AVERAGE(Best1!$D$3:$D$6),1)))","v":""},"","",null,"",null,null,null,null,null,null,null,"","","","","","","","","","","","","","","","","","","","","","","",""]
[11,null,null,null,null,null,null,null,null,null,null,null,null,null,"BCDA","","","","","","","","",0,0,"","","","","","",0,0,0,0,"","","","",{"$f":"IF(ISBLANK(E15),\"\",IF(OR($O$2=$O$5,$O$2=$O$6,$O$2=$O$12,$O$2=$O$13),Best1!$F$10,IF(OR($O$2=$O$7,$O$2=$O$8,$O$2=$O$18,$O$2=$O$19),Best1!$F$11,IF(OR($O$2=$O$9,$O$2=$O$10,$O$2=$O$24,$O$2=$O$25),Best1!$F$12,IF(OR($O$2=$O$14,$O$2=$O$15,$O$2=$O$20,$O$2=$O$21),Best1!$F$13,IF(OR($O$2=$O$16,$O$2=$O$17,$O$2=$O$26,$O$2=$O$27),Best1!$F$14,IF(OR($O$2=$O$22,$O$2=$O$23,$O$2=$O$28,$O$2=$O$29),Best1!$F$15,\"\")))))))","v":""},"","",{"$f":"IF(ISBLANK(H15),\"\",IF(OR($O$2=$O$5,$O$2=$O$7,$O$2=$O$27,$O$2=$O$29),Best1!$F$13,IF(OR($O$2=$O$18,$O$2=$O$20,$O$2=$O$24,$O$2=$O$26),Best1!$F$10,IF(OR($O$2=$O$12,$O$2=$O$14,$O$2=$O$25,$O$2=$O$28),Best1!$F$11,IF(OR($O$2=$O$13,$O$2=$O$16,$O$2=$O$19,$O$2=$O$22),Best1!$F$12,IF(OR($O$2=$O$6,$O$2=$O$9,$O$2=$O$21,$O$2=$O$23),Best1!$F$14,IF(OR($O$2=$O$8,$O$2=$O$10,$O$2=$O$15,$O$2=$O$17),Best1!$F$15,\"\")))))))","v":""},"","",{"$f":"IF(ISBLANK(I15),\"\",IF(OR($O$2=$O$9,$O$2=$O$10,$O$2=$O$24,$O$2=$O$25),Best1!$F$13,IF(OR($O$2=$O$22,$O$2=$O$23,$O$2=$O$28,$O$2=$O$29),Best1!$F$10,IF(OR($O$2=$O$16,$O$2=$O$17,$O$2=$O$26,$O$2=$O$27),Best1!$F$11,IF(OR($O$2=$O$14,$O$2=$O$15,$O$2=$O$20,$O$2=$O$21),Best1!$F$12,IF(OR($O$2=$O$7,$O$2=$O$8,$O$2=$O$18,$O$2=$O$19),Best1!$F$14,IF(OR($O$2=$O$5,$O$2=$O$6,$O$2=$O$12,$O$2=$O$13),Best1!$F$15,\"\")))))))","v":""},"","",{"$f":"IF(ISBLANK(K15),\"\",IF(Best1!$C$3=\"\",\"\",ROUND(SUM(Best1!$C$3:$C$6),1)))","v":""},"","",{"$f":"IF(ISBLANK(K15),\"\",IF(Best1!$B$3=\"\",\"\",ROUND(AVERAGE(Best1!$D$3:$D$6),1)))","v":""},"","",null,"",null,null,null,null,null,null,null,"","","","","","","","","","","","","","","","","","","","","","","",""]
[12,null,null,null,null,null,null,null,null,null,null,null,null,null,"BDAC","","","","","","","","",0,0,"","","","","","",0,0,0,0,"","","","",{"$f":"IF(ISBLANK(E16),\"\",IF(OR($O$2=$O$5,$O$2=$O$6,$O$2=$O$12,$O$2=$O$13),Best1!$F$10,IF(OR($O$2=$O$7,$O$2=$O$8,$O$2=$O$18,$O$2=$O$19),Best1!$F$11,IF(OR($O$2=$O$9,$O$2=$O$10,$O$2=$O$24,$O$2=$O$25),Best1!$F$12,IF(OR($O$2=$O$14,$O$2=$O$15,$O$2=$O$20,$O$2=$O$21),Best1!$F$13,IF(OR($O$2=$O$16,$O$2=$O$17,$O$2=$O$26,$O$2=$O$27),Best1!$F$14,IF(OR($O$2=$O$22,$O$2=$O$23,$O$2=$O$28,$O$2=$O$29),Best1!$F$15,\"\")))))))","v":""},"","",{"$f":"IF(ISBLANK(H16),\"\",IF(OR($O$2=$O$5,$O$2=$O$7,$O$2=$O$27,$O$2=$O$29),Best1!$F$13,IF(OR($O$2=$O$18,$O$2=$O$20,$O$2=$O$24,$O$2=$O$26),Best1!$F$10,IF(OR($O$2=$O$12,$O$2=$O$14,$O$2=$O$25,$O$2=$O$28),Best1!$F$11,IF(OR($O$2=$O$13,$O$2=$O$16,$O$2=$O$19,$O$2=$O$22),Best1!$F$12,IF(OR($O$2=$O$6,$O$2=$O$9,$O$2=$O$21,$O$2=$O$23),Best1!$F$14,IF(OR($O$2=$O$8,$O$2=$O$10,$O$2=$O$15,$O$2=$O$17),Best1!$F$15,\"\")))))))","v":""},"","",{"$f":"IF(ISBLANK(I16),\"\",IF(OR($O$2=$O$9,$O$2=$O$10,$O$2=$O$24,$O$2=$O$25),Best1!$F$13,IF(OR($O$2=$O$22,$O$2=$O$23,$O$2=$O$28,$O$2=$O$29),Best1!$F$10,IF(OR($O$2=$O$16,$O$2=$O$17,$O$2=$O$26,$O$2=$O$27),Best1!$F$11,IF(OR($O$2=$O$14,$O$2=$O$15,$O$2=$O$20,$O$2=$O$21),Best1!$F$12,IF(OR($O$2=$O$7,$O$2=$O$8,$O$2=$O$18,$O$2=$O$19),Best1!$F$14,IF(OR($O$2=$O$5,$O$2=$O$6,$O$2=$O$12,$O$2=$O$13),Best1!$F$15,\"\")))))))","v":""},"","",{"$f":"IF(ISBLANK(K16),\"\",IF(Best1!$C$3=\"\",\"\",ROUND(SUM(Best1!$C$3:$C$6),1)))","v":""},"","",{"$f":"IF(ISBLANK(K16),\"\",IF(Best1!$B$3=\"\",\"\",ROUND(AVERAGE(Best1!$D$3:$D$6),1)))","v":""},"","",null,"",null,null,null,null,null,null,null,"","","",{"$f":"IF(OR(S16=\"\",S16=0),\"\",S16*1)","v":""},"","","","","","","","","","","","","","","",{"$f":"IF(OR(AI16=\"\",AI16=0),\"\",AI16*1)","v":""},"","","",""]
[13,null,null,null,null,null,null,null,null,null,null,null,null,null,"BDCA","","","","","","","","",0,0,"","","","","","",0,0,0,0,"","","","",{"$f":"IF(ISBLANK(E17),\"\",IF(OR($O$2=$O$5,$O$2=$O$6,$O$2=$O$12,$O$2=$O$13),Best1!$F$10,IF(OR($O$2=$O$7,$O$2=$O$8,$O$2=$O$18,$O$2=$O$19),Best1!$F$11,IF(OR($O$2=$O$9,$O$2=$O$10,$O$2=$O$24,$O$2=$O$25),Best1!$F$12,IF(OR($O$2=$O$14,$O$2=$O$15,$O$2=$O$20,$O$2=$O$21),Best1!$F$13,IF(OR($O$2=$O$16,$O$2=$O$17,$O$2=$O$26,$O$2=$O$27),Best1!$F$14,IF(OR($O$2=$O$22,$O$2=$O$23,$O$2=$O$28,$O$2=$O$29),Best1!$F$15,\"\")))))))","v":""},"","",{"$f":"IF(ISBLANK(H17),\"\",IF(OR($O$2=$O$5,$O$2=$O$7,$O$2=$O$27,$O$2=$O$29),Best1!$F$13,IF(OR($O$2=$O$18,$O$2=$O$20,$O$2=$O$24,$O$2=$O$26),Best1!$F$10,IF(OR($O$2=$O$12,$O$2=$O$14,$O$2=$O$25,$O$2=$O$28),Best1!$F$11,IF(OR($O$2=$O$13,$O$2=$O$16,$O$2=$O$19,$O$2=$O$22),Best1!$F$12,IF(OR($O$2=$O$6,$O$2=$O$9,$O$2=$O$21,$O$2=$O$23),Best1!$F$14,IF(OR($O$2=$O$8,$O$2=$O$10,$O$2=$O$15,$O$2=$O$17),Best1!$F$15,\"\")))))))","v":""},"","",{"$f":"IF(ISBLANK(I17),\"\",IF(OR($O$2=$O$9,$O$2=$O$10,$O$2=$O$24,$O$2=$O$25),Best1!$F$13,IF(OR($O$2=$O$22,$O$2=$O$23,$O$2=$O$28,$O$2=$O$29),Best1!$F$10,IF(OR($O$2=$O$16,$O$2=$O$17,$O$2=$O$26,$O$2=$O$27),Best1!$F$11,IF(OR($O$2=$O$14,$O$2=$O$15,$O$2=$O$20,$O$2=$O$21),Best1!$F$12,IF(OR($O$2=$O$7,$O$2=$O$8,$O$2=$O$18,$O$2=$O$19),Best1!$F$14,IF(OR($O$2=$O$5,$O$2=$O$6,$O$2=$O$12,$O$2=$O$13),Best1!$F$15,\"\")))))))","v":""},"","",{"$f":"IF(ISBLANK(K17),\"\",IF(Best1!$C$3=\"\",\"\",ROUND(SUM(Best1!$C$3:$C$6),1)))","v":""},"","",{"$f":"IF(ISBLANK(K17),\"\",IF(Best1!$B$3=\"\",\"\",ROUND(AVERAGE(Best1!$D$3:$D$6),1)))","v":""},"","",null,"",null,null,null,null,null,null,null,"","","","","","","","","","","","","","","","","","","","","","","",""]
[14,null,null,null,null,null,null,null,null,null,null,null,null,null,"CABD","","","","","","","","",0,0,"","","","","","",0,0,0,0,"","","","",{"$f":"IF(ISBLANK(E18),\"\",IF(OR($O$2=$O$5,$O$2=$O$6,$O$2=$O$12,$O$2=$O$13),Best1!$F$10,IF(OR($O$2=$O$7,$O$2=$O$8,$O$2=$O$18,$O$2=$O$19),Best1!$F$11,IF(OR($O$2=$O$9,$O$2=$O$10,$O$2=$O$24,$O$2=$O$25),Best1!$F$12,IF(OR($O$2=$O$14,$O$2=$O$15,$O$2=$O$20,$O$2=$O$21),Best1!$F$13,IF(OR($O$2=$O$16,$O$2=$O$17,$O$2=$O$26,$O$2=$O$27),Best1!$F$14,IF(OR($O$2=$O$22,$O$2=$O$23,$O$2=$O$28,$O$2=$O$29),Best1!$F$15,\"\")))))))","v":""},"","",{"$f":"IF(ISBLANK(H18),\"\",IF(OR($O$2=$O$5,$O$2=$O$7,$O$2=$O$27,$O$2=$O$29),Best1!$F$13,IF(OR($O$2=$O$18,$O$2=$O$20,$O$2=$O$24,$O$2=$O$26),Best1!$F$10,IF(OR($O$2=$O$12,$O$2=$O$14,$O$2=$O$25,$O$2=$O$28),Best1!$F$11,IF(OR($O$2=$O$13,$O$2=$O$16,$O$2=$O$19,$O$2=$O$22),Best1!$F$12,IF(OR($O$2=$O$6,$O$2=$O$9,$O$2=$O$21,$O$2=$O$23),Best1!$F$14,IF(OR($O$2=$O$8,$O$2=$O$10,$O$2=$O$15,$O$2=$O$17),Best1!$F$15,\"\")))))))","v":""},"","",{"$f":"IF(ISBLANK(I18),\"\",IF(OR($O$2=$O$9,$O$2=$O$10,$O$2=$O$24,$O$2=$O$25),Best1!$F$13,IF(OR($O$2=$O$22,$O$2=$O$23,$O$2=$O$28,$O$2=$O$29),Best1!$F$10,IF(OR($O$2=$O$16,$O$2=$O$17,$O$2=$O$26,$O$2=$O$27),Best1!$F$11,IF(OR($O$2=$O$14,$O$2=$O$15,$O$2=$O$20,$O$2=$O$21),Best1!$F$12,IF(OR($O$2=$O$7,$O$2=$O$8,$O$2=$O$18,$O$2=$O$19),Best1!$F$14,IF(OR($O$2=$O$5,$O$2=$O$6,$O$2=$O$12,$O$2=$O$13),Best1!$F$15,\"\")))))))","v":""},"","",{"$f":"IF(ISBLANK(K18),\"\",IF(Best1!$C$3=\"\",\"\",ROUND(SUM(Best1!$C$3:$C$6),1)))","v":""},"","",{"$f":"IF(ISBLANK(K18),\"\",IF(Best1!$B$3=\"\",\"\",ROUND(AVERAGE(Best1!$D$3:$D$6),1)))","v":""},"","",null,"",null,null,null,null,null,null,null,"","","","","","","","","","","","","","","","","","","","","","","",""]
[15,null,null,null,null,null,null,null,null,null,null,null,null,null,"CADB","","","","","","","","",0,0,"","","","","","",0,0,0,0,"","","","",{"$f":"IF(ISBLANK(E19),\"\",IF(OR($O$2=$O$5,$O$2=$O$6,$O$2=$O$12,$O$2=$O$13),Best1!$F$10,IF(OR($O$2=$O$7,$O$2=$O$8,$O$2=$O$18,$O$2=$O$19),Best1!$F$11,IF(OR($O$2=$O$9,$O$2=$O$10,$O$2=$O$24,$O$2=$O$25),Best1!$F$12,IF(OR($O$2=$O$14,$O$2=$O$15,$O$2=$O$20,$O$2=$O$21),Best1!$F$13,IF(OR($O$2=$O$16,$O$2=$O$17,$O$2=$O$26,$O$2=$O$27),Best1!$F$14,IF(OR($O$2=$O$22,$O$2=$O$23,$O$2=$O$28,$O$2=$O$29),Best1!$F$15,\"\")))))))","v":""},"","",{"$f":"IF(ISBLANK(H19),\"\",IF(OR($O$2=$O$5,$O$2=$O$7,$O$2=$O$27,$O$2=$O$29),Best1!$F$13,IF(OR($O$2=$O$18,$O$2=$O$20,$O$2=$O$24,$O$2=$O$26),Best1!$F$10,IF(OR($O$2=$O$12,$O$2=$O$14,$O$2=$O$25,$O$2=$O$28),Best1!$F$11,IF(OR($O$2=$O$13,$O$2=$O$16,$O$2=$O$19,$O$2=$O$22),Best1!$F$12,IF(OR($O$2=$O$6,$O$2=$O$9,$O$2=$O$21,$O$2=$O$23),Best1!$F$14,IF(OR($O$2=$O$8,$O$2=$O$10,$O$2=$O$15,$O$2=$O$17),Best1!$F$15,\"\")))))))","v":""},"","",{"$f":"IF(ISBLANK(I19),\"\",IF(OR($O$2=$O$9,$O$2=$O$10,$O$2=$O$24,$O$2=$O$25),Best1!$F$13,IF(OR($O$2=$O$22,$O$2=$O$23,$O$2=$O$28,$O$2=$O$29),Best1!$F$10,IF(OR($O$2=$O$16,$O$2=$O$17,$O$2=$O$26,$O$2=$O$27),Best1!$F$11,IF(OR($O$2=$O$14,$O$2=$O$15,$O$2=$O$20,$O$2=$O$21),Best1!$F$12,IF(OR($O$2=$O$7,$O$2=$O$8,$O$2=$O$18,$O$2=$O$19),Best1!$F$14,IF(OR($O$2=$O$5,$O$2=$O$6,$O$2=$O$12,$O$2=$O$13),Best1!$F$15,\"\")))))))","v":""},"","",{"$f":"IF(ISBLANK(K19),\"\",IF(Best1!$C$3=\"\",\"\",ROUND(SUM(Best1!$C$3:$C$6),1)))","v":""},"","",{"$f":"IF(ISBLANK(K19),\"\",IF(Best1!$B$3=\"\",\"\",ROUND(AVERAGE(Best1!$D$3:$D$6),1)))","v":""},"","",null,"",null,null,null,null,null,null,null,"","","","","","","","","","","","","","","","","","","","","","","",""]
[16,null,null,null,null,null,null,null,null,null,null,null,null,null,"CBAD","","","","","","","","",0,0,"","","","","","",0,0,0,0,"","","","",{"$f":"IF(ISBLANK(E20),\"\",IF(OR($O$2=$O$5,$O$2=$O$6,$O$2=$O$12,$O$2=$O$13),Best1!$F$10,IF(OR($O$2=$O$7,$O$2=$O$8,$O$2=$O$18,$O$2=$O$19),Best1!$F$11,IF(OR($O$2=$O$9,$O$2=$O$10,$O$2=$O$24,$O$2=$O$25),Best1!$F$12,IF(OR($O$2=$O$14,$O$2=$O$15,$O$2=$O$20,$O$2=$O$21),Best1!$F$13,IF(OR($O$2=$O$16,$O$2=$O$17,$O$2=$O$26,$O$2=$O$27),Best1!$F$14,IF(OR($O$2=$O$22,$O$2=$O$23,$O$2=$O$28,$O$2=$O$29),Best1!$F$15,\"\")))))))","v":""},"","",{"$f":"IF(ISBLANK(H20),\"\",IF(OR($O$2=$O$5,$O$2=$O$7,$O$2=$O$27,$O$2=$O$29),Best1!$F$13,IF(OR($O$2=$O$18,$O$2=$O$20,$O$2=$O$24,$O$2=$O$26),Best1!$F$10,IF(OR($O$2=$O$12,$O$2=$O$14,$O$2=$O$25,$O$2=$O$28),Best1!$F$11,IF(OR($O$2=$O$13,$O$2=$O$16,$O$2=$O$19,$O$2=$O$22),Best1!$F$12,IF(OR($O$2=$O$6,$O$2=$O$9,$O$2=$O$21,$O$2=$O$23),Best1!$F$14,IF(OR($O$2=$O$8,$O$2=$O$10,$O$2=$O$15,$O$2=$O$17),Best1!$F$15,\"\")))))))","v":""},"","",{"$f":"IF(ISBLANK(I20),\"\",IF(OR($O$2=$O$9,$O$2=$O$10,$O$2=$O$24,$O$2=$O$25),Best1!$F$13,IF(OR($O$2=$O$22,$O$2=$O$23,$O$2=$O$28,$O$2=$O$29),Best1!$F$10,IF(OR($O$2=$O$16,$O$2=$O$17,$O$2=$O$26,$O$2=$O$27),Best1!$F$11,IF(OR($O$2=$O$14,$O$2=$O$15,$O$2=$O$20,$O$2=$O$21),Best1!$F$12,IF(OR($O$2=$O$7,$O$2=$O$8,$O$2=$O$18,$O$2=$O$19),Best1!$F$14,IF(OR($O$2=$O$5,$O$2=$O$6,$O$2=$O$12,$O$2=$O$13),Best1!$F$15,\"\")))))))","v":""},"","",{"$f":"IF(ISBLANK(K20),\"\",IF(Best1!$C$3=\"\",\"\",ROUND(SUM(Best1!$C$3:$C$6),1)))","v":""},"","",{"$f":"IF(ISBLANK(K20),\"\",IF(Best1!$B$3=\"\",\"\",ROUND(AVERAGE(Best1!$D$3:$D$6),1)))","v":""},"","",null,"",null,null,null,null,null,null,null,"","","","","","","","","","","","","","","","","","","","","","","",""]
[17,null,null,null,null,null,null,null,null,null,null,null,null,null,"CBDA","","","","","","","","",0,0,"","","","","","",0,0,0,0,"","","","",{"$f":"IF(ISBLANK(E21),\"\",IF(OR($O$2=$O$5,$O$2=$O$6,$O$2=$O$12,$O$2=$O$13),Best1!$F$10,IF(OR($O$2=$O$7,$O$2=$O$8,$O$2=$O$18,$O$2=$O$19),Best1!$F$11,IF(OR($O$2=$O$9,$O$2=$O$10,$O$2=$O$24,$O$2=$O$25),Best1!$F$12,IF(OR($O$2=$O$14,$O$2=$O$15,$O$2=$O$20,$O$2=$O$21),Best1!$F$13,IF(OR($O$2=$O$16,$O$2=$O$17,$O$2=$O$26,$O$2=$O$27),Best1!$F$14,IF(OR($O$2=$O$22,$O$2=$O$23,$O$2=$O$28,$O$2=$O$29),Best1!$F$15,\"\")))))))","v":""},"","",{"$f":"IF(ISBLANK(H21),\"\",IF(OR($O$2=$O$5,$O$2=$O$7,$O$2=$O$27,$O$2=$O$29),Best1!$F$13,IF(OR($O$2=$O$18,$O$2=$O$20,$O$2=$O$24,$O$2=$O$26),Best1!$F$10,IF(OR($O$2=$O$12,$O$2=$O$14,$O$2=$O$25,$O$2=$O$28),Best1!$F$11,IF(OR($O$2=$O$13,$O$2=$O$16,$O$2=$O$19,$O$2=$O$22),Best1!$F$12,IF(OR($O$2=$O$6,$O$2=$O$9,$O$2=$O$21,$O$2=$O$23),Best1!$F$14,IF(OR($O$2=$O$8,$O$2=$O$10,$O$2=$O$15,$O$2=$O$17),Best1!$F$15,\"\")))))))","v":""},"","",{"$f":"IF(ISBLANK(I21),\"\",IF(OR($O$2=$O$9,$O$2=$O$10,$O$2=$O$24,$O$2=$O$25),Best1!$F$13,IF(OR($O$2=$O$22,$O$2=$O$23,$O$2=$O$28,$O$2=$O$29),Best1!$F$10,IF(OR($O$2=$O$16,$O$2=$O$17,$O$2=$O$26,$O$2=$O$27),Best1!$F$11,IF(OR($O$2=$O$14,$O$2=$O$15,$O$2=$O$20,$O$2=$O$21),Best1!$F$12,IF(OR($O$2=$O$7,$O$2=$O$8,$O$2=$O$18,$O$2=$O$19),Best1!$F$14,IF(OR($O$2=$O$5,$O$2=$O$6,$O$2=$O$12,$O$2=$O$13),Best1!$F$15,\"\")))))))","v":""},"","",{"$f":"IF(ISBLANK(K21),\"\",IF(Best1!$C$3=\"\",\"\",ROUND(SUM(Best1!$C$3:$C$6),1)))","v":""},"","",{"$f":"IF(ISBLANK(K21),\"\",IF(Best1!$B$3=\"\",\"\",ROUND(AVERAGE(Best1!$D$3:$D$6),1)))","v":""},"","",null,"",null,null,null,null,null,null,null,"","","","","","","","","","","","","","","","","","","","","","","",""]
[18,null,null,null,null,null,null,null,null,null,null,null,null,null,"CDAB","","","","","","","","",0,0,"","","","","","",0,0,0,0,"","","","",{"$f":"IF(ISBLANK(E22),\"\",IF(OR($O$2=$O$5,$O$2=$O$6,$O$2=$O$12,$O$2=$O$13),Best1!$F$10,IF(OR($O$2=$O$7,$O$2=$O$8,$O$2=$O$18,$O$2=$O$19),Best1!$F$11,IF(OR($O$2=$O$9,$O$2=$O$10,$O$2=$O$24,$O$2=$O$25),Best1!$F$12,IF(OR($O$2=$O$14,$O$2=$O$15,$O$2=$O$20,$O$2=$O$21),Best1!$F$13,IF(OR($O$2=$O$16,$O$2=$O$17,$O$2=$O$26,$O$2=$O$27),Best1!$F$14,IF(OR($O$2=$O$22,$O$2=$O$23,$O$2=$O$28,$O$2=$O$29),Best1!$F$15,\"\")))))))","v":""},"","",{"$f":"IF(ISBLANK(H22),\"\",IF(OR($O$2=$O$5,$O$2=$O$7,$O$2=$O$27,$O$2=$O$29),Best1!$F$13,IF(OR($O$2=$O$18,$O$2=$O$20,$O$2=$O$24,$O$2=$O$26),Best1!$F$10,IF(OR($O$2=$O$12,$O$2=$O$14,$O$2=$O$25,$O$2=$O$28),Best1!$F$11,IF(OR($O$2=$O$13,$O$2=$O$16,$O$2=$O$19,$O$2=$O$22),Best1!$F$12,IF(OR($O$2=$O$6,$O$2=$O$9,$O$2=$O$21,$O$2=$O$23),Best1!$F$14,IF(OR($O$2=$O$8,$O$2=$O$10,$O$2=$O$15,$O$2=$O$17),Best1!$F$15,\"\")))))))","v":""},"","",{"$f":"IF(ISBLANK(I22),\"\",IF(OR($O$2=$O$9,$O$2=$O$10,$O$2=$O$24,$O$2=$O$25),Best1!$F$13,IF(OR($O$2=$O$22,$O$2=$O$23,$O$2=$O$28,$O$2=$O$29),Best1!$F$10,IF(OR($O$2=$O$16,$O$2=$O$17,$O$2=$O$26,$O$2=$O$27),Best1!$F$11,IF(OR($O$2=$O$14,$O$2=$O$15,$O$2=$O$20,$O$2=$O$21),Best1!$F$12,IF(OR($O$2=$O$7,$O$2=$O$8,$O$2=$O$18,$O$2=$O$19),Best1!$F$14,IF(OR($O$2=$O$5,$O$2=$O$6,$O$2=$O$12,$O$2=$O$13),Best1!$F$15,\"\")))))))","v":""},"","",{"$f":"IF(ISBLANK(K22),\"\",IF(Best1!$C$3=\"\",\"\",ROUND(SUM(Best1!$C$3:$C$6),1)))","v":""},"","",{"$f":"IF(ISBLANK(K22),\"\",IF(Best1!$B$3=\"\",\"\",ROUND(AVERAGE(Best1!$D$3:$D$6),1)))","v":""},"","",null,"",null,null,null,null,null,null,null,"","","","","","","","","","","","","","","","","","","","","","","",""]
[19,null,null,null,null,null,null,null,null,null,null,null,null,null,"CDBA","","","","","","","","",0,0,"","","","","","",0,0,0,0,"","","","",{"$f":"IF(ISBLANK(E23),\"\",IF(OR($O$2=$O$5,$O$2=$O$6,$O$2=$O$12,$O$2=$O$13),Best1!$F$10,IF(OR($O$2=$O$7,$O$2=$O$8,$O$2=$O$18,$O$2=$O$19),Best1!$F$11,IF(OR($O$2=$O$9,$O$2=$O$10,$O$2=$O$24,$O$2=$O$25),Best1!$F$12,IF(OR($O$2=$O$14,$O$2=$O$15,$O$2=$O$20,$O$2=$O$21),Best1!$F$13,IF(OR($O$2=$O$16,$O$2=$O$17,$O$2=$O$26,$O$2=$O$27),Best1!$F$14,IF(OR($O$2=$O$22,$O$2=$O$23,$O$2=$O$28,$O$2=$O$29),Best1!$F$15,\"\")))))))","v":""},"","",{"$f":"IF(ISBLANK(H23),\"\",IF(OR($O$2=$O$5,$O$2=$O$7,$O$2=$O$27,$O$2=$O$29),Best1!$F$13,IF(OR($O$2=$O$18,$O$2=$O$20,$O$2=$O$24,$O$2=$O$26),Best1!$F$10,IF(OR($O$2=$O$12,$O$2=$O$14,$O$2=$O$25,$O$2=$O$28),Best1!$F$11,IF(OR($O$2=$O$13,$O$2=$O$16,$O$2=$O$19,$O$2=$O$22),Best1!$F$12,IF(OR($O$2=$O$6,$O$2=$O$9,$O$2=$O$21,$O$2=$O$23),Best1!$F$14,IF(OR($O$2=$O$8,$O$2=$O$10,$O$2=$O$15,$O$2=$O$17),Best1!$F$15,\"\")))))))","v":""},"","",{"$f":"IF(ISBLANK(I23),\"\",IF(OR($O$2=$O$9,$O$2=$O$10,$O$2=$O$24,$O$2=$O$25),Best1!$F$13,IF(OR($O$2=$O$22,$O$2=$O$23,$O$2=$O$28,$O$2=$O$29),Best1!$F$10,IF(OR($O$2=$O$16,$O$2=$O$17,$O$2=$O$26,$O$2=$O$27),Best1!$F$11,IF(OR($O$2=$O$14,$O$2=$O$15,$O$2=$O$20,$O$2=$O$21),Best1!$F$12,IF(OR($O$2=$O$7,$O$2=$O$8,$O$2=$O$18,$O$2=$O$19),Best1!$F$14,IF(OR($O$2=$O$5,$O$2=$O$6,$O$2=$O$12,$O$2=$O$13),Best1!$F$15,\"\")))))))","v":""},"","",{"$f":"IF(ISBLANK(K23),\"\",IF(Best1!$C$3=\"\",\"\",ROUND(SUM(Best1!$C$3:$C$6),1)))","v":""},"","",{"$f":"IF(ISBLANK(K23),\"\",IF(Best1!$B$3=\"\",\"\",ROUND(AVERAGE(Best1!$D$3:$D$6),1)))","v":""},"","",null,"",null,null,null,null,null,null,null,"","","","","","","","","","","","","","","","","","","","","","","",""]
[20,null,null,null,null,null,null,null,null,null,null,null,null,null,"DABC","","","","","","","","",0,0,"","","","","","",0,0,0,0,"","","","",{"$f":"IF(ISBLANK(E24),\"\",IF(OR($O$2=$O$5,$O$2=$O$6,$O$2=$O$12,$O$2=$O$13),Best1!$F$10,IF(OR($O$2=$O$7,$O$2=$O$8,$O$2=$O$18,$O$2=$O$19),Best1!$F$11,IF(OR($O$2=$O$9,$O$2=$O$10,$O$2=$O$24,$O$2=$O$25),Best1!$F$12,IF(OR($O$2=$O$14,$O$2=$O$15,$O$2=$O$20,$O$2=$O$21),Best1!$F$13,IF(OR($O$2=$O$16,$O$2=$O$17,$O$2=$O$26,$O$2=$O$27),Best1!$F$14,IF(OR($O$2=$O$22,$O$2=$O$23,$O$2=$O$28,$O$2=$O$29),Best1!$F$15,\"\")))))))","v":""},"","",{"$f":"IF(ISBLANK(H24),\"\",IF(OR($O$2=$O$5,$O$2=$O$7,$O$2=$O$27,$O$2=$O$29),Best1!$F$13,IF(OR($O$2=$O$18,$O$2=$O$20,$O$2=$O$24,$O$2=$O$26),Best1!$F$10,IF(OR($O$2=$O$12,$O$2=$O$14,$O$2=$O$25,$O$2=$O$28),Best1!$F$11,IF(OR($O$2=$O$13,$O$2=$O$16,$O$2=$O$19,$O$2=$O$22),Best1!$F$12,IF(OR($O$2=$O$6,$O$2=$O$9,$O$2=$O$21,$O$2=$O$23),Best1!$F$14,IF(OR($O$2=$O$8,$O$2=$O$10,$O$2=$O$15,$O$2=$O$17),Best1!$F$15,\"\")))))))","v":""},"","",{"$f":"IF(ISBLANK(I24),\"\",IF(OR($O$2=$O$9,$O$2=$O$10,$O$2=$O$24,$O$2=$O$25),Best1!$F$13,IF(OR($O$2=$O$22,$O$2=$O$23,$O$2=$O$28,$O$2=$O$29),Best1!$F$10,IF(OR($O$2=$O$16,$O$2=$O$17,$O$2=$O$26,$O$2=$O$27),Best1!$F$11,IF(OR($O$2=$O$14,$O$2=$O$15,$O$2=$O$20,$O$2=$O$21),Best1!$F$12,IF(OR($O$2=$O$7,$O$2=$O$8,$O$2=$O$18,$O$2=$O$19),Best1!$F$14,IF(OR($O$2=$O$5,$O$2=$O$6,$O$2=$O$12,$O$2=$O$13),Best1!$F$15,\"\")))))))","v":""},"","",{"$f":"IF(ISBLANK(K24),\"\",IF(Best1!$C$3=\"\",\"\",ROUND(SUM(Best1!$C$3:$C$6),1)))","v":""},"","",{"$f":"IF(ISBLANK(K24),\"\",IF(Best1!$B$3=\"\",\"\",ROUND(AVERAGE(Best1!$D$3:$D$6),1)))","v":""},"","",null,"",null,null,null,null,null,null,null,"","","","","","","","","","","","","","","","","","","","","","","",""]
[21,null,null,null,null,null,null,null,null,null,null,null,null,null,"DACB","","","","","","","","",0,0,"","","","","","",0,0,0,0,"","","","",{"$f":"IF(ISBLANK(E25),\"\",IF(OR($O$2=$O$5,$O$2=$O$6,$O$2=$O$12,$O$2=$O$13),Best1!$F$10,IF(OR($O$2=$O$7,$O$2=$O$8,$O$2=$O$18,$O$2=$O$19),Best1!$F$11,IF(OR($O$2=$O$9,$O$2=$O$10,$O$2=$O$24,$O$2=$O$25),Best1!$F$12,IF(OR($O$2=$O$14,$O$2=$O$15,$O$2=$O$20,$O$2=$O$21),Best1!$F$13,IF(OR($O$2=$O$16,$O$2=$O$17,$O$2=$O$26,$O$2=$O$27),Best1!$F$14,IF(OR($O$2=$O$22,$O$2=$O$23,$O$2=$O$28,$O$2=$O$29),Best1!$F$15,\"\")))))))","v":""},"","",{"$f":"IF(ISBLANK(H25),\"\",IF(OR($O$2=$O$5,$O$2=$O$7,$O$2=$O$27,$O$2=$O$29),Best1!$F$13,IF(OR($O$2=$O$18,$O$2=$O$20,$O$2=$O$24,$O$2=$O$26),Best1!$F$10,IF(OR($O$2=$O$12,$O$2=$O$14,$O$2=$O$25,$O$2=$O$28),Best1!$F$11,IF(OR($O$2=$O$13,$O$2=$O$16,$O$2=$O$19,$O$2=$O$22),Best1!$F$12,IF(OR($O$2=$O$6,$O$2=$O$9,$O$2=$O$21,$O$2=$O$23),Best1!$F$14,IF(OR($O$2=$O$8,$O$2=$O$10,$O$2=$O$15,$O$2=$O$17),Best1!$F$15,\"\")))))))","v":""},"","",{"$f":"IF(ISBLANK(I25),\"\",IF(OR($O$2=$O$9,$O$2=$O$10,$O$2=$O$24,$O$2=$O$25),Best1!$F$13,IF(OR($O$2=$O$22,$O$2=$O$23,$O$2=$O$28,$O$2=$O$29),Best1!$F$10,IF(OR($O$2=$O$16,$O$2=$O$17,$O$2=$O$26,$O$2=$O$27),Best1!$F$11,IF(OR($O$2=$O$14,$O$2=$O$15,$O$2=$O$20,$O$2=$O$21),Best1!$F$12,IF(OR($O$2=$O$7,$O$2=$O$8,$O$2=$O$18,$O$2=$O$19),Best1!$F$14,IF(OR($O$2=$O$5,$O$2=$O$6,$O$2=$O$12,$O$2=$O$13),Best1!$F$15,\"\")))))))","v":""},"","",{"$f":"IF(ISBLANK(K25),\"\",IF(Best1!$C$3=\"\",\"\",ROUND(SUM(Best1!$C$3:$C$6),1)))","v":""},"","",{"$f":"IF(ISBLANK(K25),\"\",IF(Best1!$B$3=\"\",\"\",ROUND(AVERAGE(Best1!$D$3:$D$6),1)))","v":""},"","",null,"",null,null,null,null,null,null,null,"","","","","","","","","","","","","","","","","","","","","","","",""]
[22,null,null,null,null,null,null,null,null,null,null,null,null,null,"DBAC","","","","","","","","",0,0,"","","","","","",0,0,0,0,"","","","",{"$f":"IF(ISBLANK(E26),\"\",IF(OR($O$2=$O$5,$O$2=$O$6,$O$2=$O$12,$O$2=$O$13),Best1!$F$10,IF(OR($O$2=$O$7,$O$2=$O$8,$O$2=$O$18,$O$2=$O$19),Best1!$F$11,IF(OR($O$2=$O$9,$O$2=$O$10,$O$2=$O$24,$O$2=$O$25),Best1!$F$12,IF(OR($O$2=$O$14,$O$2=$O$15,$O$2=$O$20,$O$2=$O$21),Best1!$F$13,IF(OR($O$2=$O$16,$O$2=$O$17,$O$2=$O$26,$O$2=$O$27),Best1!$F$14,IF(OR($O$2=$O$22,$O$2=$O$23,$O$2=$O$28,$O$2=$O$29),Best1!$F$15,\"\")))))))","v":""},"","",{"$f":"IF(ISBLANK(H26),\"\",IF(OR($O$2=$O$5,$O$2=$O$7,$O$2=$O$27,$O$2=$O$29),Best1!$F$13,IF(OR($O$2=$O$18,$O$2=$O$20,$O$2=$O$24,$O$2=$O$26),Best1!$F$10,IF(OR($O$2=$O$12,$O$2=$O$14,$O$2=$O$25,$O$2=$O$28),Best1!$F$11,IF(OR($O$2=$O$13,$O$2=$O$16,$O$2=$O$19,$O$2=$O$22),Best1!$F$12,IF(OR($O$2=$O$6,$O$2=$O$9,$O$2=$O$21,$O$2=$O$23),Best1!$F$14,IF(OR($O$2=$O$8,$O$2=$O$10,$O$2=$O$15,$O$2=$O$17),Best1!$F$15,\"\")))))))","v":""},"","",{"$f":"IF(ISBLANK(I26),\"\",IF(OR($O$2=$O$9,$O$2=$O$10,$O$2=$O$24,$O$2=$O$25),Best1!$F$13,IF(OR($O$2=$O$22,$O$2=$O$23,$O$2=$O$28,$O$2=$O$29),Best1!$F$10,IF(OR($O$2=$O$16,$O$2=$O$17,$O$2=$O$26,$O$2=$O$27),Best1!$F$11,IF(OR($O$2=$O$14,$O$2=$O$15,$O$2=$O$20,$O$2=$O$21),Best1!$F$12,IF(OR($O$2=$O$7,$O$2=$O$8,$O$2=$O$18,$O$2=$O$19),Best1!$F$14,IF(OR($O$2=$O$5,$O$2=$O$6,$O$2=$O$12,$O$2=$O$13),Best1!$F$15,\"\")))))))","v":""},"","",{"$f":"IF(ISBLANK(K26),\"\",IF(Best1!$C$3=\"\",\"\",ROUND(SUM(Best1!$C$3:$C$6),1)))","v":""},"","",{"$f":"IF(ISBLANK(K26),\"\",IF(Best1!$B$3=\"\",\"\",ROUND(AVERAGE(Best1!$D$3:$D$6),1)))","v":""},"","",null,"",null,null,null,null,null,null,null,"","","","","","","","","","","","","","","","","","","","","","","",""]
[23,null,null,null,null,null,null,null,null,null,null,null,null,null,"DBCA","","","","","","","","",0,0,"","","","","","",0,0,0,0,"","","","",{"$f":"IF(ISBLANK(E27),\"\",IF(OR($O$2=$O$5,$O$2=$O$6,$O$2=$O$12,$O$2=$O$13),Best1!$F$10,IF(OR($O$2=$O$7,$O$2=$O$8,$O$2=$O$18,$O$2=$O$19),Best1!$F$11,IF(OR($O$2=$O$9,$O$2=$O$10,$O$2=$O$24,$O$2=$O$25),Best1!$F$12,IF(OR($O$2=$O$14,$O$2=$O$15,$O$2=$O$20,$O$2=$O$21),Best1!$F$13,IF(OR($O$2=$O$16,$O$2=$O$17,$O$2=$O$26,$O$2=$O$27),Best1!$F$14,IF(OR($O$2=$O$22,$O$2=$O$23,$O$2=$O$28,$O$2=$O$29),Best1!$F$15,\"\")))))))","v":""},"","",{"$f":"IF(ISBLANK(H27),\"\",IF(OR($O$2=$O$5,$O$2=$O$7,$O$2=$O$27,$O$2=$O$29),Best1!$F$13,IF(OR($O$2=$O$18,$O$2=$O$20,$O$2=$O$24,$O$2=$O$26),Best1!$F$10,IF(OR($O$2=$O$12,$O$2=$O$14,$O$2=$O$25,$O$2=$O$28),Best1!$F$11,IF(OR($O$2=$O$13,$O$2=$O$16,$O$2=$O$19,$O$2=$O$22),Best1!$F$12,IF(OR($O$2=$O$6,$O$2=$O$9,$O$2=$O$21,$O$2=$O$23),Best1!$F$14,IF(OR($O$2=$O$8,$O$2=$O$10,$O$2=$O$15,$O$2=$O$17),Best1!$F$15,\"\")))))))","v":""},"","",{"$f":"IF(ISBLANK(I27),\"\",IF(OR($O$2=$O$9,$O$2=$O$10,$O$2=$O$24,$O$2=$O$25),Best1!$F$13,IF(OR($O$2=$O$22,$O$2=$O$23,$O$2=$O$28,$O$2=$O$29),Best1!$F$10,IF(OR($O$2=$O$16,$O$2=$O$17,$O$2=$O$26,$O$2=$O$27),Best1!$F$11,IF(OR($O$2=$O$14,$O$2=$O$15,$O$2=$O$20,$O$2=$O$21),Best1!$F$12,IF(OR($O$2=$O$7,$O$2=$O$8,$O$2=$O$18,$O$2=$O$19),Best1!$F$14,IF(OR($O$2=$O$5,$O$2=$O$6,$O$2=$O$12,$O$2=$O$13),Best1!$F$15,\"\")))))))","v":""},"","",{"$f":"IF(ISBLANK(K27),\"\",IF(Best1!$C$3=\"\",\"\",ROUND(SUM(Best1!$C$3:$C$6),1)))","v":""},"","",{"$f":"IF(ISBLANK(K27),\"\",IF(Best1!$B$3=\"\",\"\",ROUND(AVERAGE(Best1!$D$3:$D$6),1)))","v":""},"","",null,"",null,null,null,null,null,null,null,"","","","","","","","","","","","","","","","","","","","","","","",""]
[24,null,null,null,null,null,null,null,null,null,null,null,null,null,"DCAB","","","","","","","","",0,0,"","","","","","",0,0,0,0,"","","","",{"$f":"IF(ISBLANK(E28),\"\",IF(OR($O$2=$O$5,$O$2=$O$6,$O$2=$O$12,$O$2=$O$13),Best1!$F$10,IF(OR($O$2=$O$7,$O$2=$O$8,$O$2=$O$18,$O$2=$O$19),Best1!$F$11,IF(OR($O$2=$O$9,$O$2=$O$10,$O$2=$O$24,$O$2=$O$25),Best1!$F$12,IF(OR($O$2=$O$14,$O$2=$O$15,$O$2=$O$20,$O$2=$O$21),Best1!$F$13,IF(OR($O$2=$O$16,$O$2=$O$17,$O$2=$O$26,$O$2=$O$27),Best1!$F$14,IF(OR($O$2=$O$22,$O$2=$O$23,$O$2=$O$28,$O$2=$O$29),Best1!$F$15,\"\")))))))","v":""},"","",{"$f":"IF(ISBLANK(H28),\"\",IF(OR($O$2=$O$5,$O$2=$O$7,$O$2=$O$27,$O$2=$O$29),Best1!$F$13,IF(OR($O$2=$O$18,$O$2=$O$20,$O$2=$O$24,$O$2=$O$26),Best1!$F$10,IF(OR($O$2=$O$12,$O$2=$O$14,$O$2=$O$25,$O$2=$O$28),Best1!$F$11,IF(OR($O$2=$O$13,$O$2=$O$16,$O$2=$O$19,$O$2=$O$22),Best1!$F$12,IF(OR($O$2=$O$6,$O$2=$O$9,$O$2=$O$21,$O$2=$O$23),Best1!$F$14,IF(OR($O$2=$O$8,$O$2=$O$10,$O$2=$O$15,$O$2=$O$17),Best1!$F$15,\"\")))))))","v":""},"","",{"$f":"IF(ISBLANK(I28),\"\",IF(OR($O$2=$O$9,$O$2=$O$10,$O$2=$O$24,$O$2=$O$25),Best1!$F$13,IF(OR($O$2=$O$22,$O$2=$O$23,$O$2=$O$28,$O$2=$O$29),Best1!$F$10,IF(OR($O$2=$O$16,$O$2=$O$17,$O$2=$O$26,$O$2=$O$27),Best1!$F$11,IF(OR($O$2=$O$14,$O$2=$O$15,$O$2=$O$20,$O$2=$O$21),Best1!$F$12,IF(OR($O$2=$O$7,$O$2=$O$8,$O$2=$O$18,$O$2=$O$19),Best1!$F$14,IF(OR($O$2=$O$5,$O$2=$O$6,$O$2=$O$12,$O$2=$O$13),Best1!$F$15,\"\")))))))","v":""},"","",{"$f":"IF(ISBLANK(K28),\"\",IF(Best1!$C$3=\"\",\"\",ROUND(SUM(Best1!$C$3:$C$6),1)))","v":""},"","",{"$f":"IF(ISBLANK(K28),\"\",IF(Best1!$B$3=\"\",\"\",ROUND(AVERAGE(Best1!$D$3:$D$6),1)))","v":""},"","",null,"",null,null,null,null,null,null,null,"","","","","","","","","","","","","","","","","","","","","","","",""]
[25,null,null,null,null,null,null,null,null,null,null,null,null,null,"DCBA","","","","","","","","",0,0,"","","","","","",0,0,0,0,"","","","",{"$f":"IF(ISBLANK(E29),\"\",IF(OR($O$2=$O$5,$O$2=$O$6,$O$2=$O$12,$O$2=$O$13),Best1!$F$10,IF(OR($O$2=$O$7,$O$2=$O$8,$O$2=$O$18,$O$2=$O$19),Best1!$F$11,IF(OR($O$2=$O$9,$O$2=$O$10,$O$2=$O$24,$O$2=$O$25),Best1!$F$12,IF(OR($O$2=$O$14,$O$2=$O$15,$O$2=$O$20,$O$2=$O$21),Best1!$F$13,IF(OR($O$2=$O$16,$O$2=$O$17,$O$2=$O$26,$O$2=$O$27),Best1!$F$14,IF(OR($O$2=$O$22,$O$2=$O$23,$O$2=$O$28,$O$2=$O$29),Best1!$F$15,\"\")))))))","v":""},"","",{"$f":"IF(ISBLANK(H29),\"\",IF(OR($O$2=$O$5,$O$2=$O$7,$O$2=$O$27,$O$2=$O$29),Best1!$F$13,IF(OR($O$2=$O$18,$O$2=$O$20,$O$2=$O$24,$O$2=$O$26),Best1!$F$10,IF(OR($O$2=$O$12,$O$2=$O$14,$O$2=$O$25,$O$2=$O$28),Best1!$F$11,IF(OR($O$2=$O$13,$O$2=$O$16,$O$2=$O$19,$O$2=$O$22),Best1!$F$12,IF(OR($O$2=$O$6,$O$2=$O$9,$O$2=$O$21,$O$2=$O$23),Best1!$F$14,IF(OR($O$2=$O$8,$O$2=$O$10,$O$2=$O$15,$O$2=$O$17),Best1!$F$15,\"\")))))))","v":""},"","",{"$f":"IF(ISBLANK(I29),\"\",IF(OR($O$2=$O$9,$O$2=$O$10,$O$2=$O$24,$O$2=$O$25),Best1!$F$13,IF(OR($O$2=$O$22,$O$2=$O$23,$O$2=$O$28,$O$2=$O$29),Best1!$F$10,IF(OR($O$2=$O$16,$O$2=$O$17,$O$2=$O$26,$O$2=$O$27),Best1!$F$11,IF(OR($O$2=$O$14,$O$2=$O$15,$O$2=$O$20,$O$2=$O$21),Best1!$F$12,IF(OR($O$2=$O$7,$O$2=$O$8,$O$2=$O$18,$O$2=$O$19),Best1!$F$14,IF(OR($O$2=$O$5,$O$2=$O$6,$O$2=$O$12,$O$2=$O$13),Best1!$F$15,\"\")))))))","v":""},"","",{"$f":"IF(ISBLANK(K29),\"\",IF(Best1!$C$3=\"\",\"\",ROUND(SUM(Best1!$C$3:$C$6),1)))","v":""},"","",{"$f":"IF(ISBLANK(K29),\"\",IF(Best1!$B$3=\"\",\"\",ROUND(AVERAGE(Best1!$D$3:$D$6),1)))","v":""},"","",null,"",null,null,null,null,null,null,null,"","","","","","","","","","","","","","","","","","","","","","","",""]
[26,null,null,null,null,null,null,null,null,null,null,null,null,null,null,"","","","","","","","",0,0,"","","","","","",0,0,0,0,"","","","",{"$f":"IF(ISBLANK(E30),\"\",IF(OR($O$2=$O$5,$O$2=$O$6,$O$2=$O$12,$O$2=$O$13),Best1!$F$10,IF(OR($O$2=$O$7,$O$2=$O$8,$O$2=$O$18,$O$2=$O$19),Best1!$F$11,IF(OR($O$2=$O$9,$O$2=$O$10,$O$2=$O$24,$O$2=$O$25),Best1!$F$12,IF(OR($O$2=$O$14,$O$2=$O$15,$O$2=$O$20,$O$2=$O$21),Best1!$F$13,IF(OR($O$2=$O$16,$O$2=$O$17,$O$2=$O$26,$O$2=$O$27),Best1!$F$14,IF(OR($O$2=$O$22,$O$2=$O$23,$O$2=$O$28,$O$2=$O$29),Best1!$F$15,\"\")))))))","v":""},"","",{"$f":"IF(ISBLANK(H30),\"\",IF(OR($O$2=$O$5,$O$2=$O$7,$O$2=$O$27,$O$2=$O$29),Best1!$F$13,IF(OR($O$2=$O$18,$O$2=$O$20,$O$2=$O$24,$O$2=$O$26),Best1!$F$10,IF(OR($O$2=$O$12,$O$2=$O$14,$O$2=$O$25,$O$2=$O$28),Best1!$F$11,IF(OR($O$2=$O$13,$O$2=$O$16,$O$2=$O$19,$O$2=$O$22),Best1!$F$12,IF(OR($O$2=$O$6,$O$2=$O$9,$O$2=$O$21,$O$2=$O$23),Best1!$F$14,IF(OR($O$2=$O$8,$O$2=$O$10,$O$2=$O$15,$O$2=$O$17),Best1!$F$15,\"\")))))))","v":""},"","",{"$f":"IF(ISBLANK(I30),\"\",IF(OR($O$2=$O$9,$O$2=$O$10,$O$2=$O$24,$O$2=$O$25),Best1!$F$13,IF(OR($O$2=$O$22,$O$2=$O$23,$O$2=$O$28,$O$2=$O$29),Best1!$F$10,IF(OR($O$2=$O$16,$O$2=$O$17,$O$2=$O$26,$O$2=$O$27),Best1!$F$11,IF(OR($O$2=$O$14,$O$2=$O$15,$O$2=$O$20,$O$2=$O$21),Best1!$F$12,IF(OR($O$2=$O$7,$O$2=$O$8,$O$2=$O$18,$O$2=$O$19),Best1!$F$14,IF(OR($O$2=$O$5,$O$2=$O$6,$O$2=$O$12,$O$2=$O$13),Best1!$F$15,\"\")))))))","v":""},"","",{"$f":"IF(ISBLANK(K30),\"\",IF(Best1!$C$3=\"\",\"\",ROUND(SUM(Best1!$C$3:$C$6),1)))","v":""},"","",{"$f":"IF(ISBLANK(K30),\"\",IF(Best1!$B$3=\"\",\"\",ROUND(AVERAGE(Best1!$D$3:$D$6),1)))","v":""},"","",null,"",null,null,null,null,null,null,null,"","","","","","","","","","","","","","","","","","","","","","","",""]
[27,null,null,null,null,null,null,null,null,null,null,null,null,null,null,"","","","","","","","",0,0,"","","","","","",0,0,0,0,"","","","",{"$f":"IF(ISBLANK(E31),\"\",IF(OR($O$2=$O$5,$O$2=$O$6,$O$2=$O$12,$O$2=$O$13),Best1!$F$10,IF(OR($O$2=$O$7,$O$2=$O$8,$O$2=$O$18,$O$2=$O$19),Best1!$F$11,IF(OR($O$2=$O$9,$O$2=$O$10,$O$2=$O$24,$O$2=$O$25),Best1!$F$12,IF(OR($O$2=$O$14,$O$2=$O$15,$O$2=$O$20,$O$2=$O$21),Best1!$F$13,IF(OR($O$2=$O$16,$O$2=$O$17,$O$2=$O$26,$O$2=$O$27),Best1!$F$14,IF(OR($O$2=$O$22,$O$2=$O$23,$O$2=$O$28,$O$2=$O$29),Best1!$F$15,\"\")))))))","v":""},{"$f":"IF(F31=\"\",\"\",F31)","v":""},"",{"$f":"IF(ISBLANK(H31),\"\",IF(OR($O$2=$O$5,$O$2=$O$7,$O$2=$O$27,$O$2=$O$29),Best1!$F$13,IF(OR($O$2=$O$18,$O$2=$O$20,$O$2=$O$24,$O$2=$O$26),Best1!$F$10,IF(OR($O$2=$O$12,$O$2=$O$14,$O$2=$O$25,$O$2=$O$28),Best1!$F$11,IF(OR($O$2=$O$13,$O$2=$O$16,$O$2=$O$19,$O$2=$O$22),Best1!$F$12,IF(OR($O$2=$O$6,$O$2=$O$9,$O$2=$O$21,$O$2=$O$23),Best1!$F$14,IF(OR($O$2=$O$8,$O$2=$O$10,$O$2=$O$15,$O$2=$O$17),Best1!$F$15,\"\")))))))","v":""},{"$f":"IF(H31=\"\",\"\",H31)","v":""},"",{"$f":"IF(ISBLANK(I31),\"\",IF(OR($O$2=$O$9,$O$2=$O$10,$O$2=$O$24,$O$2=$O$25),Best1!$F$13,IF(OR($O$2=$O$22,$O$2=$O$23,$O$2=$O$28,$O$2=$O$29),Best1!$F$10,IF(OR($O$2=$O$16,$O$2=$O$17,$O$2=$O$26,$O$2=$O$27),Best1!$F$11,IF(OR($O$2=$O$14,$O$2=$O$15,$O$2=$O$20,$O$2=$O$21),Best1!$F$12,IF(OR($O$2=$O$7,$O$2=$O$8,$O$2=$O$18,$O$2=$O$19),Best1!$F$14,IF(OR($O$2=$O$5,$O$2=$O$6,$O$2=$O$12,$O$2=$O$13),Best1!$F$15,\"\")))))))","v":""},{"$f":"IF(J31=\"\",\"\",J31)","v":""},"",{"$f":"IF(ISBLANK(K31),\"\",IF(Best1!$C$3=\"\",\"\",ROUND(SUM(Best1!$C$3:$C$6),1)))","v":""},{"$f":"IF(K31=\"\",\"\",K31)","v":""},"",{"$f":"IF(ISBLANK(K31),\"\",IF(Best1!$B$3=\"\",\"\",ROUND(AVERAGE(Best1!$D$3:$D$6),1)))","v":""},{"$f":"IF(L31=\"\",\"\",L31)","v":""},"",null,"",null,null,null,null,null,null,null,"","","","","","","","","","","","","","","","","","",{"$f":"IF(OR(AH31=\"\",AH31=0),\"\",AH31*1)","v":""},"","","","",""]
[28,null,null,null,null,null,null,null,null,null,null,null,null,null,null,"","","","","","","","",0,0,"","","","","","",0,0,0,0,"","","","",{"$f":"IF(ISBLANK(E32),\"\",IF(OR($O$2=$O$5,$O$2=$O$6,$O$2=$O$12,$O$2=$O$13),Best1!$F$10,IF(OR($O$2=$O$7,$O$2=$O$8,$O$2=$O$18,$O$2=$O$19),Best1!$F$11,IF(OR($O$2=$O$9,$O$2=$O$10,$O$2=$O$24,$O$2=$O$25),Best1!$F$12,IF(OR($O$2=$O$14,$O$2=$O$15,$O$2=$O$20,$O$2=$O$21),Best1!$F$13,IF(OR($O$2=$O$16,$O$2=$O$17,$O$2=$O$26,$O$2=$O$27),Best1!$F$14,IF(OR($O$2=$O$22,$O$2=$O$23,$O$2=$O$28,$O$2=$O$29),Best1!$F$15,\"\")))))))","v":""},"","",{"$f":"IF(ISBLANK(H32),\"\",IF(OR($O$2=$O$5,$O$2=$O$7,$O$2=$O$27,$O$2=$O$29),Best1!$F$13,IF(OR($O$2=$O$18,$O$2=$O$20,$O$2=$O$24,$O$2=$O$26),Best1!$F$10,IF(OR($O$2=$O$12,$O$2=$O$14,$O$2=$O$25,$O$2=$O$28),Best1!$F$11,IF(OR($O$2=$O$13,$O$2=$O$16,$O$2=$O$19,$O$2=$O$22),Best1!$F$12,IF(OR($O$2=$O$6,$O$2=$O$9,$O$2=$O$21,$O$2=$O$23),Best1!$F$14,IF(OR($O$2=$O$8,$O$2=$O$10,$O$2=$O$15,$O$2=$O$17),Best1!$F$15,\"\")))))))","v":""},"","",{"$f":"IF(ISBLANK(I32),\"\",IF(OR($O$2=$O$9,$O$2=$O$10,$O$2=$O$24,$O$2=$O$25),Best1!$F$13,IF(OR($O$2=$O$22,$O$2=$O$23,$O$2=$O$28,$O$2=$O$29),Best1!$F$10,IF(OR($O$2=$O$16,$O$2=$O$17,$O$2=$O$26,$O$2=$O$27),Best1!$F$11,IF(OR($O$2=$O$14,$O$2=$O$15,$O$2=$O$20,$O$2=$O$21),Best1!$F$12,IF(OR($O$2=$O$7,$O$2=$O$8,$O$2=$O$18,$O$2=$O$19),Best1!$F$14,IF(OR($O$2=$O$5,$O$2=$O$6,$O$2=$O$12,$O$2=$O$13),Best1!$F$15,\"\")))))))","v":""},"","",{"$f":"IF(ISBLANK(K32),\"\",IF(Best1!$C$3=\"\",\"\",ROUND(SUM(Best1!$C$3:$C$6),1)))","v":""},"","",{"$f":"IF(ISBLANK(K32),\"\",IF(Best1!$B$3=\"\",\"\",ROUND(AVERAGE(Best1!$D$3:$D$6),1)))","v":""},"","",null,"",null,null,null,null,null,null,null,"","","","","","","","","","","","","","","","",{"$f":"IF(OR(AF32=\"\",AF32=0),\"\",AF32*1)","v":""},"","","","","","",""]
[]
[null,null,null,null,null,null,null,null,null,null,null,null,null,null,null,{"$f":"MIN(BW5:BW32)","v":0},{"$f":"MIN(BX5:BX32)","v":0},{"$f":"MIN(BY5:BY32)","v":0},0,0,0,0,0,0,0,0,0,0,0,0,0,0,0,0,0,0,0,0,0,null,null,null,null,null,null,null,null,null,null,null,null,null,null,null,null,null,null,null,null,null,null,null,null,{"$f":"IF(MIN(BL5:BL32)=0,\"\",MIN(BL5:BL32))","v":""},{"$f":"IF(MIN(BM5:BM32)=0,\"\",MIN(BM5:BM32))","v":""},"","","","","","","","","","","","",{"$f":"IF(MIN(BZ5:BZ32)=0,\"\",MIN(BZ5:BZ32))","v":""},"","","","","","","","",""]
[]
[]
[]
[]
[]
[]
[]
[null,null,null,null,null,null,null,null,null,null,null,null,null,null,null,null,null,null,null,null,null,null,null,null,null,null,null,null,null,null,null,null,null,null,null,null,null,null,null,null,null,null,null,null,null,null,null,null,null,{"$f":"IF(AND(AX5=\"\",AX33=\"\"),\"\",MIN(AX5:AX41))","v":""},null,null,{"$f":"IF(AND(BA5=\"\",BA33=\"\"),\"\",MAX(BA5:BA41))","v":""}]
[]
[]
[]
[]
[]
[]
[]
[null,null,null,null,null,null,null,null,null,500,500,500,500,{"$f":"J50*1","v":500},{"$f":"K50*1","v":500},500,500]
[null,null,null,null,null,null,null,null,null,500,500,500,500,{"$f":"J51*1","v":500},{"$f":"K51*1","v":500},{"$f":"L51*1","v":500},{"$f":"M51*1","v":500}]
[null,null,null,null,null,null,null,null,null,500,500,500,500,500,500,500,500]
[null,null,null,null,null,null,null,null,null,500,500,500,500,500,500,500,500]
[null,null,null,null,null,null,null,null,null,500,500,500,500,500,500,500,500]
[null,null,null,null,null,null,null,null,null,500,500,500,500,500,500,500,500]
[null,null,null,null,null,null,null,null,null,500,500,500,500,500,500,500,500]
[null,null,null,null,null,null,null,null,null,500,500,500,500,500,500,500,500]
[null,null,null,null,null,null,null,null,null,500,500,500,500,500,500,500,500]
[null,null,null,null,null,null,null,null,null,500,500,500,500,500,500,500,500]
[null,null,null,null,null,null,null,null,null,500,500,500,500,500,500,500,500]
[null,null,null,null,null,null,null,null,null,500,500,500,500,500,500,500,500]
[null,null,null,null,null,null,null,null,null,500,500,500,500,500,500,500,500]
[null,null,null,null,null,null,null,null,null,500,500,500,500,500,500,500,500]
[null,null,null,null,null,null,null,null,null,500,500,500,500,500,500,500,500]
[null,null,null,null,null,null,null,null,null,500,500,500,500,500,500,500,500]
[null,null,null,null,null,null,null,null,null,500,500,500,500,500,500,500,500]
[null,null,null,null,null,null,null,null,null,500,500,500,500,500,500,500,500]
[null,null,null,null,null,null,null,null,null,500,500,500,500,500,500,500,500]
[null,null,null,null,null,null,null,null,null,500,500,500,500,500,500,500,500]
[null,null,null,null,null,null,null,null,null,500,500,500,500,500,500,500,500]
[null,null,null,null,null,null,null,null,null,500,500,500,500,500,500,500,500]
[null,null,null,null,null,null,null,null,null,500,500,500,500,500,500,500,500]
[null,null,null,null,null,null,null,null,null,500,500,500,500,500,500,500,500]
[]
[]
[]
[]
[]
[]
[]
[]
[]
[]
[]
[]
[]
[]
[]
[null,null,null,null,null,null,null,null,null,{"$f":"IF(MIN(J50:J73)=0,\"\",MIN(J50:J73))","v":500},500,500,500,500,500,500,500]
[null,null,null,null,null,null,null,null,null,500,500,500,500,{"$f":"J90*1","v":500},{"$f":"K90*1","v":500},{"$f":"L90*1","v":500},{"$f":"M90*1","v":500}]
[null,null,null,null,null,null,null,null,null,500,500,500,500,{"$f":"J91*1","v":500},{"$f":"K91*1","v":500},{"$f":"L91*1","v":500},{"$f":"M91*1","v":500}]
[null,null,null,null,null,null,null,null,null,500,500,500,500,500,500,500,500]
[null,null,null,null,null,null,null,null,null,500,500,500,500,500,500,500,500]
[null,null,null,null,null,null,null,null,null,500,500,500,500,500,500,500,500]
[null,null,null,null,null,null,null,null,null,500,500,500,500,500,500,500,500]
[null,null,null,null,null,null,null,null,null,500,500,500,500,500,500,500,500]
[null,null,null,null,null,null,null,null,null,500,500,500,500,500,500,500,500]
[null,null,null,null,null,null,null,null,null,500,500,500,500,500,500,500,500]
[null,null,null,null,null,null,null,null,null,500,500,500,500,500,500,500,500]
[null,null,null,null,null,null,null,null,null,500,500,500,500,500,500,500,500]
[null,null,null,null,null,null,null,null,null,500,500,500,500,500,500,500,500]
[null,null,null,null,null,null,null,null,null,500,500,500,500,500,500,500,500]
[null,null,null,null,null,null,null,null,null,500,500,500,500,500,500,500,500]
[null,null,null,null,null,null,null,null,null,500,500,500,500,500,500,500,500]
[null,null,null,null,null,null,null,null,null,500,500,500,500,500,500,500,500]
[null,null,null,null,null,null,null,null,null,500,500,500,500,500,500,500,500]
[null,null,null,null,null,null,null,null,null,500,500,500,500,500,500,500,500]
[null,null,null,null,null,null,null,null,null,500,500,500,500,500,500,500,500]
[null,null,null,null,null,null,null,null,null,500,500,500,500,500,500,500,500]
[null,null,null,null,null,null,null,null,null,500,500,500,500,500,500,500,500]
[null,null,null,null,null,null,null,null,null,500,500,500,500,500,500,500,500]
[null,null,null,null,null,null,null,null,null,500,500,500,500,500,500,500,500]
[null,null,null,null,null,null,null,null,null,500,500,500,500,500,500,500,500]
[]
[]
[]
[]
[]
[]
[]
[]
[]
[]
[]
[]
[]
[]
[]
[null,null,null,null,null,null,null,null,null,{"$f":"IF(MIN(J90:J113)=0,\"\",MIN(J90:J113))","v":500},500,500,500,500,500,500,500]
[null,null,null,null,null,null,null,null,null,null,null,null,null,{"$f":"IF(MIN(N89,N129)=500,\"\",MIN(N89,N129))","v":""},{"$f":"IF(MIN(O89,O129)=500,\"\",MIN(O89,O129))","v":""},"",""]

{"sheet":"Archresultats4","index":7,"n_rows":130,"n_cols":87,"rows_kept":130,"cut":false,"hidden":false,"merged":[[0,0,2,11],[2,39,2,41],[2,42,2,44],[2,45,2,47],[2,48,2,53]]}
["Bilan équipe 4"]
[null,null,null,null,null,null,null,null,null,null,null,null,null,null,"CDBA"]
[null,null,null,null,null,null,null,null,null,null,null,null,null,null,null,null,null,null,null,null,null,null,null,null,null,null,null,null,null,null,null,null,null,null,null,null,null,null,null,"ZONE 1",null,null,"ZONE 2",null,null,"ZONE 3",null,null,"TOTAL course"]
[null,"Dates","Heure","Coureur ou\nOrdre relais","Tps\n zone 1","Vitesse\nzone 1","Tps\n zone 2","Vitesse\nzone 2","Tps\n zone 3","Vitesse\nzone 3","Tps course\ntotale","Vitesse totale\ntotale","Remarques",null,null,"AB (t)","AB (v)","AC (t)","AC (v)","AD (t)","AD (v)","BA (v)","BA (t)","BC (t)","BC (v)","BD (t)","BD (v)","CA (t)","CA (v)","CB (t)","CB (v)","CD (t)","CD (v)","DA (t)","DA (v)","DB (t)","DB (v)","DC (t)","DC (v)","Vitesse\n moy. théorique  du binôme","Vitesse réelle\n du binôme","% \nEvolution","Vitesse\n moy. théorique  du binôme","Vitesse réelle\n du binôme","% \nEvolution","Vitesse\n moy. théorique  du binôme","Vitesse réelle\n du binôme","% \nEvolution","TEMPS\ntotal théorique\ndu groupe","TEMPS\ntotal réel\ndu groupe\n ","% \nEvolution","VITESSE\n théorique  du groupe","VITESSE réelle\n du groupe","% \nEvolution"]
[1,null,null,null,null,null,null,null,null,null,null,null,null,null,"ABCD",{"$f":"IF(OR($O$2=$O$5,$O$2=$O$6),E5,IF(OR($O$2=$O$18,$O$2=$O$24),G5,IF(OR($O$2=$O$22,$O$2=$O$28),I5,\"\")))","v":""},{"$f":"IF(OR($O$2=$O$5,$O$2=$O$6),F5,IF(OR($O$2=$O$18,$O$2=$O$24),H5,IF(OR($O$2=$O$22,$O$2=$O$28),J5,\"\")))","v":""},{"$f":"IF(OR($O$2=$O$7,$O$2=$O$8),E5,IF(OR($O$2=$O$12,$O$2=$O$25),G5,IF(OR($O$2=$O$16,$O$2=$O$26),I5,\"\")))","v":""},{"$f":"IF(OR($O$2=$O$7,$O$2=$O$8),F5,IF(OR($O$2=$O$12,$O$2=$O$25),H5,IF(OR($O$2=$O$16,$O$2=$O$26),J5,\"\")))","v":""},{"$f":"IF(OR($O$2=$O$9,$O$2=$O$10),E5,IF(OR($O$2=$O$13,$O$2=$O$19),G5,IF(OR($O$2=$O$14,$O$2=$O$20),I5,\"\")))","v":""},{"$f":"IF(OR($O$2=$O$9,$O$2=$O$10),F5,IF(OR($O$2=$O$13,$O$2=$O$19),H5,IF(OR($O$2=$O$14,$O$2=$O$20),J5,\"\")))","v":""},{"$f":"IF(OR($O$2=$O$12,$O$2=$O$13),E5,IF(OR($O$2=$O$20,$O$2=$O$26),G5,IF(OR($O$2=$O$23,$O$2=$O$29),I5,\"\")))","v":0},{"$f":"IF(OR($O$2=$O$12,$O$2=$O$13),F5,IF(OR($O$2=$O$20,$O$2=$O$26),H5,IF(OR($O$2=$O$23,$O$2=$O$29),J5,\"\")))","v":0},{"$f":"IF(OR($O$2=$O$14,$O$2=$O$15),E5,IF(OR($O$2=$O$5,$O$2=$O$27),G5,IF(OR($O$2=$O$9,$O$2=$O$24),I5,\"\")))","v":""},{"$f":"IF(OR($O$2=$O$14,$O$2=$O$15),F5,IF(OR($O$2=$O$5,$O$2=$O$27),H5,IF(OR($O$2=$O$9,$O$2=$O$24),J5,\"\")))","v":""},{"$f":"IF(OR($O$2=$O$16,$O$2=$O$17),E5,IF(OR($O$2=$O$6,$O$2=$O$21),G5,IF(OR($O$2=$O$7,$O$2=$O$18),I5,\"\")))","v":""},{"$f":"IF(OR($O$2=$O$16,$O$2=$O$17),F5,IF(OR($O$2=$O$6,$O$2=$O$21),H5,IF(OR($O$2=$O$7,$O$2=$O$18),J5,\"\")))","v":""},{"$f":"IF(OR($O$2=$O$18,$O$2=$O$19),E5,IF(OR($O$2=$O$14,$O$2=$O$28),G5,IF(OR($O$2=$O$17,$O$2=$O$27),I5,\"\")))","v":""},{"$f":"IF(OR($O$2=$O$18,$O$2=$O$19),F5,IF(OR($O$2=$O$14,$O$2=$O$28),H5,IF(OR($O$2=$O$17,$O$2=$O$27),J5,\"\")))","v":""},{"$f":"IF(OR($O$2=$O$20,$O$2=$O$21),E5,IF(OR($O$2=$O$7,$O$2=$O$29),G5,IF(OR($O$2=$O$10,$O$2=$O$11),I5,\"\")))","v":""},{"$f":"IF(OR($O$2=$O$20,$O$2=$O$21),F5,IF(OR($O$2=$O$7,$O$2=$O$29),H5,IF(OR($O$2=$O$10,$O$2=$O$11),J5,\"\")))","v":""},{"$f":"IF(OR($O$2=$O$22,$O$2=$O$23),E5,IF(OR($O$2=$O$8,$O$2=$O$15),G5,IF(OR($O$2=$O$5,$O$2=$O$12),I5,\"\")))","v":0},{"$f":"IF(OR($O$2=$O$22,$O$2=$O$23),F5,IF(OR($O$2=$O$8,$O$2=$O$15),H5,IF(OR($O$2=$O$5,$O$2=$O$12),J5,\"\")))","v":0},{"$f":"IF(OR($O$2=$O$24,$O$2=$O$25),E5,IF(OR($O$2=$O$16,$O$2=$O$22),G5,IF(OR($O$2=$O$15,$O$2=$O$21),I5,\"\")))","v":""},{"$f":"IF(OR($O$2=$O$24,$O$2=$O$25),F5,IF(OR($O$2=$O$16,$O$2=$O$22),H5,IF(OR($O$2=$O$15,$O$2=$O$21),J5,\"\")))","v":""},{"$f":"IF(OR($O$2=$O$26,$O$2=$O$27),E5,IF(OR($O$2=$O$9,$O$2=$O$23),G5,IF(OR($O$2=$O$8,$O$2=$O$19),I5,\"\")))","v":0},{"$f":"IF(OR($O$2=$O$26,$O$2=$O$27),F5,IF(OR($O$2=$O$9,$O$2=$O$23),H5,IF(OR($O$2=$O$8,$O$2=$O$19),J5,\"\")))","v":0},{"$f":"IF(OR($O$2=$O$28,$O$2=$O$29),E5,IF(OR($O$2=$O$10,$O$2=$O$11),G5,IF(OR($O$2=$O$6,$O$2=$O$13),I5,\"\")))","v":""},{"$f":"IF(OR($O$2=$O$28,$O$2=$O$29),F5,IF(OR($O$2=$O$10,$O$2=$O$11),H5,IF(OR($O$2=$O$6,$O$2=$O$13),J5,\"\")))","v":""},{"$f":"IF(ISBLANK(E5),\"\",IF(OR($O$2=$O$5,$O$2=$O$6,$O$2=$O$12,$O$2=$O$13),Best1!$F$10,IF(OR($O$2=$O$7,$O$2=$O$8,$O$2=$O$18,$O$2=$O$19),Best1!$F$11,IF(OR($O$2=$O$9,$O$2=$O$10,$O$2=$O$24,$O$2=$O$25),Best1!$F$12,IF(OR($O$2=$O$14,$O$2=$O$15,$O$2=$O$20,$O$2=$O$21),Best1!$F$13,IF(OR($O$2=$O$16,$O$2=$O$17,$O$2=$O$26,$O$2=$O$27),Best1!$F$14,IF(OR($O$2=$O$22,$O$2=$O$23,$O$2=$O$28,$O$2=$O$29),Best1!$F$15,\"\")))))))","v":""},{"$f":"IF(F5=\"\",\"\",F5)","v":""},{"$f":"IF(AO5=\"\",\"\",ROUND(((AO5-AN5)/AN5*100),1))","v":""},{"$f":"IF(ISBLANK(G5),\"\",IF(OR($O$2=$O$5,$O$2=$O$7,$O$2=$O$27,$O$2=$O$29),Best1!$F$13,IF(OR($O$2=$O$18,$O$2=$O$20,$O$2=$O$24,$O$2=$O$26),Best1!$F$10,IF(OR($O$2=$O$12,$O$2=$O$14,$O$2=$O$25,$O$2=$O$28),Best1!$F$11,IF(OR($O$2=$O$13,$O$2=$O$16,$O$2=$O$19,$O$2=$O$22),Best1!$F$12,IF(OR($O$2=$O$6,$O$2=$O$9,$O$2=$O$21,$O$2=$O$23),Best1!$F$14,IF(OR($O$2=$O$8,$O$2=$O$10,$O$2=$O$15,$O$2=$O$17),Best1!$F$15,\"\")))))))","v":""},{"$f":"IF(H5=\"\",\"\",H5)","v":""},{"$f":"IF(AR5=\"\",\"\",ROUND(((AR5-AQ5)/AQ5*100),1))","v":""},{"$f":"IF(ISBLANK(I5),\"\",IF(OR($O$2=$O$9,$O$2=$O$10,$O$2=$O$24,$O$2=$O$25),Best1!$F$13,IF(OR($O$2=$O$22,$O$2=$O$23,$O$2=$O$28,$O$2=$O$29),Best1!$F$10,IF(OR($O$2=$O$16,$O$2=$O$17,$O$2=$O$26,$O$2=$O$27),Best1!$F$11,IF(OR($O$2=$O$14,$O$2=$O$15,$O$2=$O$20,$O$2=$O$21),Best1!$F$12,IF(OR($O$2=$O$7,$O$2=$O$8,$O$2=$O$18,$O$2=$O$19),Best1!$F$14,IF(OR($O$2=$O$5,$O$2=$O$6,$O$2=$O$12,$O$2=$O$13),Best1!$F$15,\"\")))))))","v":""},{"$f":"IF(J5=\"\",\"\",J5)","v":""},{"$f":"IF(AU5=\"\",\"\",ROUND(((AU5-AT5)/AT5*100),1))","v":""},{"$f":"IF(ISBLANK(K5),\"\",IF(Best1!$C$3=\"\",\"\",ROUND(SUM(Best1!$C$3:$C$6),1)))","v":""},{"$f":"IF(K5=\"\",\"\",K5)","v":""},{"$f":"IF(AX5=\"\",\"\",ROUND(((AX5-AW5)/AW5*100),1))","v":""},{"$f":"IF(ISBLANK(K5),\"\",IF(Best1!$B$3=\"\",\"\",ROUND(AVERAGE(Best1!$D$3:$D$6),1)))","v":""},{"$f":"IF(L5=\"\",\"\",L5)","v":""},{"$f":"IF(BA5=\"\",\"\",ROUND(((BA5-AZ5)/AZ5*100),1))","v":""},null,{"$f":"AX5","v":""},null,null,null,null,null,null,null,{"$f":"IF(OR(P5=\"\",P5=0),\"\",P5*1)","v":""},{"$f":"IF(OR(Q5=\"\",Q5=0),\"\",Q5*1)","v":""},"","","","","","","","","","","","","","","","","","","","","",""]
[2,null,null,null,null,null,null,null,null,null,null,null,null,null,"ABDC",{"$f":"IF(OR($O$2=$O$5,$O$2=$O$6),E6,IF(OR($O$2=$O$18,$O$2=$O$24),G6,IF(OR($O$2=$O$22,$O$2=$O$28),I6,\"\")))","v":""},"",{"$f":"IF(OR($O$2=$O$7,$O$2=$O$8),E6,IF(OR($O$2=$O$12,$O$2=$O$25),G6,IF(OR($O$2=$O$16,$O$2=$O$26),I6,\"\")))","v":""},"",{"$f":"IF(OR($O$2=$O$9,$O$2=$O$10),E6,IF(OR($O$2=$O$13,$O$2=$O$19),G6,IF(OR($O$2=$O$14,$O$2=$O$20),I6,\"\")))","v":""},"",{"$f":"IF(OR($O$2=$O$12,$O$2=$O$13),E6,IF(OR($O$2=$O$20,$O$2=$O$26),G6,IF(OR($O$2=$O$23,$O$2=$O$29),I6,\"\")))","v":0},0,{"$f":"IF(OR($O$2=$O$14,$O$2=$O$15),E6,IF(OR($O$2=$O$5,$O$2=$O$27),G6,IF(OR($O$2=$O$9,$O$2=$O$24),I6,\"\")))","v":""},"",{"$f":"IF(OR($O$2=$O$16,$O$2=$O$17),E6,IF(OR($O$2=$O$6,$O$2=$O$21),G6,IF(OR($O$2=$O$7,$O$2=$O$18),I6,\"\")))","v":""},"",{"$f":"IF(OR($O$2=$O$18,$O$2=$O$19),E6,IF(OR($O$2=$O$14,$O$2=$O$28),G6,IF(OR($O$2=$O$17,$O$2=$O$27),I6,\"\")))","v":""},"",{"$f":"IF(OR($O$2=$O$20,$O$2=$O$21),E6,IF(OR($O$2=$O$7,$O$2=$O$29),G6,IF(OR($O$2=$O$10,$O$2=$O$11),I6,\"\")))","v":""},"",{"$f":"IF(OR($O$2=$O$22,$O$2=$O$23),E6,IF(OR($O$2=$O$8,$O$2=$O$15),G6,IF(OR($O$2=$O$5,$O$2=$O$12),I6,\"\")))","v":0},0,{"$f":"IF(OR($O$2=$O$24,$O$2=$O$25),E6,IF(OR($O$2=$O$16,$O$2=$O$22),G6,IF(OR($O$2=$O$15,$O$2=$O$21),I6,\"\")))","v":""},"",{"$f":"IF(OR($O$2=$O$26,$O$2=$O$27),E6,IF(OR($O$2=$O$9,$O$2=$O$23),G6,IF(OR($O$2=$O$8,$O$2=$O$19),I6,\"\")))","v":0},0,{"$f":"IF(OR($O$2=$O$28,$O$2=$O$29),E6,IF(OR($O$2=$O$10,$O$2=$O$11),G6,IF(OR($O$2=$O$6,$O$2=$O$13),I6,\"\")))","v":""},"",{"$f":"IF(ISBLANK(E6),\"\",IF(OR($O$2=$O$5,$O$2=$O$6,$O$2=$O$12,$O$2=$O$13),Best1!$F$10,IF(OR($O$2=$O$7,$O$2=$O$8,$O$2=$O$18,$O$2=$O$19),Best1!$F$11,IF(OR($O$2=$O$9,$O$2=$O$10,$O$2=$O$24,$O$2=$O$25),Best1!$F$12,IF(OR($O$2=$O$14,$O$2=$O$15,$O$2=$O$20,$O$2=$O$21),Best1!$F$13,IF(OR($O$2=$O$16,$O$2=$O$17,$O$2=$O$26,$O$2=$O$27),Best1!$F$14,IF(OR($O$2=$O$22,$O$2=$O$23,$O$2=$O$28,$O$2=$O$29),Best1!$F$15,\"\")))))))","v":""},{"$f":"IF(F6=\"\",\"\",F6)","v":""},{"$f":"IF(AO6=\"\",\"\",ROUND(((AO6-AN6)/AN6*100),1))","v":""},{"$f":"IF(ISBLANK(H6),\"\",IF(OR($O$2=$O$5,$O$2=$O$7,$O$2=$O$27,$O$2=$O$29),Best1!$F$13,IF(OR($O$2=$O$18,$O$2=$O$20,$O$2=$O$24,$O$2=$O$26),Best1!$F$10,IF(OR($O$2=$O$12,$O$2=$O$14,$O$2=$O$25,$O$2=$O$28),Best1!$F$11,IF(OR($O$2=$O$13,$O$2=$O$16,$O$2=$O$19,$O$2=$O$22),Best1!$F$12,IF(OR($O$2=$O$6,$O$2=$O$9,$O$2=$O$21,$O$2=$O$23),Best1!$F$14,IF(OR($O$2=$O$8,$O$2=$O$10,$O$2=$O$15,$O$2=$O$17),Best1!$F$15,\"\")))))))","v":""},{"$f":"IF(H6=\"\",\"\",H6)","v":""},{"$f":"IF(AR6=\"\",\"\",ROUND(((AR6-AQ6)/AQ6*100),1))","v":""},{"$f":"IF(ISBLANK(I6),\"\",IF(OR($O$2=$O$9,$O$2=$O$10,$O$2=$O$24,$O$2=$O$25),Best1!$F$13,IF(OR($O$2=$O$22,$O$2=$O$23,$O$2=$O$28,$O$2=$O$29),Best1!$F$10,IF(OR($O$2=$O$16,$O$2=$O$17,$O$2=$O$26,$O$2=$O$27),Best1!$F$11,IF(OR($O$2=$O$14,$O$2=$O$15,$O$2=$O$20,$O$2=$O$21),Best1!$F$12,IF(OR($O$2=$O$7,$O$2=$O$8,$O$2=$O$18,$O$2=$O$19),Best1!$F$14,IF(OR($O$2=$O$5,$O$2=$O$6,$O$2=$O$12,$O$2=$O$13),Best1!$F$15,\"\")))))))","v":""},{"$f":"IF(J6=\"\",\"\",J6)","v":""},{"$f":"IF(AU6=\"\",\"\",ROUND(((AU6-AT6)/AT6*100),1))","v":""},{"$f":"IF(ISBLANK(K6),\"\",IF(Best1!$C$3=\"\",\"\",ROUND(SUM(Best1!$C$3:$C$6),1)))","v":""},{"$f":"IF(K6=\"\",\"\",K6)","v":""},{"$f":"IF(AX6=\"\",\"\",ROUND(((AX6-AW6)/AW6*100),1))","v":""},{"$f":"IF(ISBLANK(K6),\"\",IF(Best1!$B$3=\"\",\"\",ROUND(AVERAGE(Best1!$D$3:$D$6),1)))","v":""},{"$f":"IF(L6=\"\",\"\",L6)","v":""},{"$f":"IF(BA6=\"\",\"\",ROUND(((BA6-AZ6)/AZ6*100),1))","v":""},null,{"$f":"AX6","v":""},null,null,null,null,null,null,null,{"$f":"IF(OR(P6=\"\",P6=0),\"\",P6*1)","v":""},"","","","","","","","","","","","","","","","","","","","","","",""]
[3,null,null,null,null,null,null,null,null,null,null,null,null,null,"ACBD","","","","","","",0,0,"","","","","","","","",0,0,"","",0,0,"","",{"$f":"IF(ISBLANK(E7),\"\",IF(OR($O$2=$O$5,$O$2=$O$6,$O$2=$O$12,$O$2=$O$13),Best1!$F$10,IF(OR($O$2=$O$7,$O$2=$O$8,$O$2=$O$18,$O$2=$O$19),Best1!$F$11,IF(OR($O$2=$O$9,$O$2=$O$10,$O$2=$O$24,$O$2=$O$25),Best1!$F$12,IF(OR($O$2=$O$14,$O$2=$O$15,$O$2=$O$20,$O$2=$O$21),Best1!$F$13,IF(OR($O$2=$O$16,$O$2=$O$17,$O$2=$O$26,$O$2=$O$27),Best1!$F$14,IF(OR($O$2=$O$22,$O$2=$O$23,$O$2=$O$28,$O$2=$O$29),Best1!$F$15,\"\")))))))","v":""},"","",{"$f":"IF(ISBLANK(H7),\"\",IF(OR($O$2=$O$5,$O$2=$O$7,$O$2=$O$27,$O$2=$O$29),Best1!$F$13,IF(OR($O$2=$O$18,$O$2=$O$20,$O$2=$O$24,$O$2=$O$26),Best1!$F$10,IF(OR($O$2=$O$12,$O$2=$O$14,$O$2=$O$25,$O$2=$O$28),Best1!$F$11,IF(OR($O$2=$O$13,$O$2=$O$16,$O$2=$O$19,$O$2=$O$22),Best1!$F$12,IF(OR($O$2=$O$6,$O$2=$O$9,$O$2=$O$21,$O$2=$O$23),Best1!$F$14,IF(OR($O$2=$O$8,$O$2=$O$10,$O$2=$O$15,$O$2=$O$17),Best1!$F$15,\"\")))))))","v":""},"","",{"$f":"IF(ISBLANK(I7),\"\",IF(OR($O$2=$O$9,$O$2=$O$10,$O$2=$O$24,$O$2=$O$25),Best1!$F$13,IF(OR($O$2=$O$22,$O$2=$O$23,$O$2=$O$28,$O$2=$O$29),Best1!$F$10,IF(OR($O$2=$O$16,$O$2=$O$17,$O$2=$O$26,$O$2=$O$27),Best1!$F$11,IF(OR($O$2=$O$14,$O$2=$O$15,$O$2=$O$20,$O$2=$O$21),Best1!$F$12,IF(OR($O$2=$O$7,$O$2=$O$8,$O$2=$O$18,$O$2=$O$19),Best1!$F$14,IF(OR($O$2=$O$5,$O$2=$O$6,$O$2=$O$12,$O$2=$O$13),Best1!$F$15,\"\")))))))","v":""},"","",{"$f":"IF(ISBLANK(K7),\"\",IF(Best1!$C$3=\"\",\"\",ROUND(SUM(Best1!$C$3:$C$6),1)))","v":""},"","",{"$f":"IF(ISBLANK(K7),\"\",IF(Best1!$B$3=\"\",\"\",ROUND(AVERAGE(Best1!$D$3:$D$6),1)))","v":""},"","",null,"",null,null,null,null,null,null,null,"","","","","","","","","","","","","","","","","","","","","","","",""]
[4,null,null,null,null,null,null,null,null,null,null,null,null,null,"ACDB","","","","","","",0,0,"","","","","","","","",0,0,"","",0,0,"","",{"$f":"IF(ISBLANK(E8),\"\",IF(OR($O$2=$O$5,$O$2=$O$6,$O$2=$O$12,$O$2=$O$13),Best1!$F$10,IF(OR($O$2=$O$7,$O$2=$O$8,$O$2=$O$18,$O$2=$O$19),Best1!$F$11,IF(OR($O$2=$O$9,$O$2=$O$10,$O$2=$O$24,$O$2=$O$25),Best1!$F$12,IF(OR($O$2=$O$14,$O$2=$O$15,$O$2=$O$20,$O$2=$O$21),Best1!$F$13,IF(OR($O$2=$O$16,$O$2=$O$17,$O$2=$O$26,$O$2=$O$27),Best1!$F$14,IF(OR($O$2=$O$22,$O$2=$O$23,$O$2=$O$28,$O$2=$O$29),Best1!$F$15,\"\")))))))","v":""},"","",{"$f":"IF(ISBLANK(H8),\"\",IF(OR($O$2=$O$5,$O$2=$O$7,$O$2=$O$27,$O$2=$O$29),Best1!$F$13,IF(OR($O$2=$O$18,$O$2=$O$20,$O$2=$O$24,$O$2=$O$26),Best1!$F$10,IF(OR($O$2=$O$12,$O$2=$O$14,$O$2=$O$25,$O$2=$O$28),Best1!$F$11,IF(OR($O$2=$O$13,$O$2=$O$16,$O$2=$O$19,$O$2=$O$22),Best1!$F$12,IF(OR($O$2=$O$6,$O$2=$O$9,$O$2=$O$21,$O$2=$O$23),Best1!$F$14,IF(OR($O$2=$O$8,$O$2=$O$10,$O$2=$O$15,$O$2=$O$17),Best1!$F$15,\"\")))))))","v":""},"","",{"$f":"IF(ISBLANK(I8),\"\",IF(OR($O$2=$O$9,$O$2=$O$10,$O$2=$O$24,$O$2=$O$25),Best1!$F$13,IF(OR($O$2=$O$22,$O$2=$O$23,$O$2=$O$28,$O$2=$O$29),Best1!$F$10,IF(OR($O$2=$O$16,$O$2=$O$17,$O$2=$O$26,$O$2=$O$27),Best1!$F$11,IF(OR($O$2=$O$14,$O$2=$O$15,$O$2=$O$20,$O$2=$O$21),Best1!$F$12,IF(OR($O$2=$O$7,$O$2=$O$8,$O$2=$O$18,$O$2=$O$19),Best1!$F$14,IF(OR($O$2=$O$5,$O$2=$O$6,$O$2=$O$12,$O$2=$O$13),Best1!$F$15,\"\")))))))","v":""},"","",{"$f":"IF(ISBLANK(K8),\"\",IF(Best1!$C$3=\"\",\"\",ROUND(SUM(Best1!$C$3:$C$6),1)))","v":""},"","",{"$f":"IF(ISBLANK(K8),\"\",IF(Best1!$B$3=\"\",\"\",ROUND(AVERAGE(Best1!$D$3:$D$6),1)))","v":""},"","",null,"",null,null,null,null,null,null,null,"","","","","","","","","","","","","","","","","","","","","","","",""]
[5,null,null,null,null,null,null,null,null,null,null,null,null,null,"ADBC","","","","","","",0,0,"","","","","","","","",0,0,"","",0,0,"","",{"$f":"IF(ISBLANK(E9),\"\",IF(OR($O$2=$O$5,$O$2=$O$6,$O$2=$O$12,$O$2=$O$13),Best1!$F$10,IF(OR($O$2=$O$7,$O$2=$O$8,$O$2=$O$18,$O$2=$O$19),Best1!$F$11,IF(OR($O$2=$O$9,$O$2=$O$10,$O$2=$O$24,$O$2=$O$25),Best1!$F$12,IF(OR($O$2=$O$14,$O$2=$O$15,$O$2=$O$20,$O$2=$O$21),Best1!$F$13,IF(OR($O$2=$O$16,$O$2=$O$17,$O$2=$O$26,$O$2=$O$27),Best1!$F$14,IF(OR($O$2=$O$22,$O$2=$O$23,$O$2=$O$28,$O$2=$O$29),Best1!$F$15,\"\")))))))","v":""},"","",{"$f":"IF(ISBLANK(H9),\"\",IF(OR($O$2=$O$5,$O$2=$O$7,$O$2=$O$27,$O$2=$O$29),Best1!$F$13,IF(OR($O$2=$O$18,$O$2=$O$20,$O$2=$O$24,$O$2=$O$26),Best1!$F$10,IF(OR($O$2=$O$12,$O$2=$O$14,$O$2=$O$25,$O$2=$O$28),Best1!$F$11,IF(OR($O$2=$O$13,$O$2=$O$16,$O$2=$O$19,$O$2=$O$22),Best1!$F$12,IF(OR($O$2=$O$6,$O$2=$O$9,$O$2=$O$21,$O$2=$O$23),Best1!$F$14,IF(OR($O$2=$O$8,$O$2=$O$10,$O$2=$O$15,$O$2=$O$17),Best1!$F$15,\"\")))))))","v":""},"","",{"$f":"IF(ISBLANK(I9),\"\",IF(OR($O$2=$O$9,$O$2=$O$10,$O$2=$O$24,$O$2=$O$25),Best1!$F$13,IF(OR($O$2=$O$22,$O$2=$O$23,$O$2=$O$28,$O$2=$O$29),Best1!$F$10,IF(OR($O$2=$O$16,$O$2=$O$17,$O$2=$O$26,$O$2=$O$27),Best1!$F$11,IF(OR($O$2=$O$14,$O$2=$O$15,$O$2=$O$20,$O$2=$O$21),Best1!$F$12,IF(OR($O$2=$O$7,$O$2=$O$8,$O$2=$O$18,$O$2=$O$19),Best1!$F$14,IF(OR($O$2=$O$5,$O$2=$O$6,$O$2=$O$12,$O$2=$O$13),Best1!$F$15,\"\")))))))","v":""},"","",{"$f":"IF(ISBLANK(K9),\"\",IF(Best1!$C$3=\"\",\"\",ROUND(SUM(Best1!$C$3:$C$6),1)))","v":""},"","",{"$f":"IF(ISBLANK(K9),\"\",IF(Best1!$B$3=\"\",\"\",ROUND(AVERAGE(Best1!$D$3:$D$6),1)))","v":""},"","",null,"",null,null,null,null,null,null,null,"","","","","","","","","","","","","","","","","","","","","","","",""]
[6,null,null,null,null,null,null,null,null,null,null,null,null,null,"ADCB","","","","","","",0,0,"","","","","","","","",0,0,"","",0,0,"","",{"$f":"IF(ISBLANK(E10),\"\",IF(OR($O$2=$O$5,$O$2=$O$6,$O$2=$O$12,$O$2=$O$13),Best1!$F$10,IF(OR($O$2=$O$7,$O$2=$O$8,$O$2=$O$18,$O$2=$O$19),Best1!$F$11,IF(OR($O$2=$O$9,$O$2=$O$10,$O$2=$O$24,$O$2=$O$25),Best1!$F$12,IF(OR($O$2=$O$14,$O$2=$O$15,$O$2=$O$20,$O$2=$O$21),Best1!$F$13,IF(OR($O$2=$O$16,$O$2=$O$17,$O$2=$O$26,$O$2=$O$27),Best1!$F$14,IF(OR($O$2=$O$22,$O$2=$O$23,$O$2=$O$28,$O$2=$O$29),Best1!$F$15,\"\")))))))","v":""},"","",{"$f":"IF(ISBLANK(H10),\"\",IF(OR($O$2=$O$5,$O$2=$O$7,$O$2=$O$27,$O$2=$O$29),Best1!$F$13,IF(OR($O$2=$O$18,$O$2=$O$20,$O$2=$O$24,$O$2=$O$26),Best1!$F$10,IF(OR($O$2=$O$12,$O$2=$O$14,$O$2=$O$25,$O$2=$O$28),Best1!$F$11,IF(OR($O$2=$O$13,$O$2=$O$16,$O$2=$O$19,$O$2=$O$22),Best1!$F$12,IF(OR($O$2=$O$6,$O$2=$O$9,$O$2=$O$21,$O$2=$O$23),Best1!$F$14,IF(OR($O$2=$O$8,$O$2=$O$10,$O$2=$O$15,$O$2=$O$17),Best1!$F$15,\"\")))))))","v":""},"","",{"$f":"IF(ISBLANK(I10),\"\",IF(OR($O$2=$O$9,$O$2=$O$10,$O$2=$O$24,$O$2=$O$25),Best1!$F$13,IF(OR($O$2=$O$22,$O$2=$O$23,$O$2=$O$28,$O$2=$O$29),Best1!$F$10,IF(OR($O$2=$O$16,$O$2=$O$17,$O$2=$O$26,$O$2=$O$27),Best1!$F$11,IF(OR($O$2=$O$14,$O$2=$O$15,$O$2=$O$20,$O$2=$O$21),Best1!$F$12,IF(OR($O$2=$O$7,$O$2=$O$8,$O$2=$O$18,$O$2=$O$19),Best1!$F$14,IF(OR($O$2=$O$5,$O$2=$O$6,$O$2=$O$12,$O$2=$O$13),Best1!$F$15,\"\")))))))","v":""},"","",{"$f":"IF(ISBLANK(K10),\"\",IF(Best1!$C$3=\"\",\"\",ROUND(SUM(Best1!$C$3:$C$6),1)))","v":""},"","",{"$f":"IF(ISBLANK(K10),\"\",IF(Best1!$B$3=\"\",\"\",ROUND(AVERAGE(Best1!$D$3:$D$6),1)))","v":""},"","",null,"",null,null,null,null,null,null,null,"","","","","","","","","","","","","","","","","","","","","","","",""]
[7,null,null,null,null,null,null,null,null,null,null,null,null,null,"ADCB","","","","","","",0,0,"","","","","","","","",0,0,"","",0,0,"","",{"$f":"IF(ISBLANK(E11),\"\",IF(OR($O$2=$O$5,$O$2=$O$6,$O$2=$O$12,$O$2=$O$13),Best1!$F$10,IF(OR($O$2=$O$7,$O$2=$O$8,$O$2=$O$18,$O$2=$O$19),Best1!$F$11,IF(OR($O$2=$O$9,$O$2=$O$10,$O$2=$O$24,$O$2=$O$25),Best1!$F$12,IF(OR($O$2=$O$14,$O$2=$O$15,$O$2=$O$20,$O$2=$O$21),Best1!$F$13,IF(OR($O$2=$O$16,$O$2=$O$17,$O$2=$O$26,$O$2=$O$27),Best1!$F$14,IF(OR($O$2=$O$22,$O$2=$O$23,$O$2=$O$28,$O$2=$O$29),Best1!$F$15,\"\")))))))","v":""},"","",{"$f":"IF(ISBLANK(H11),\"\",IF(OR($O$2=$O$5,$O$2=$O$7,$O$2=$O$27,$O$2=$O$29),Best1!$F$13,IF(OR($O$2=$O$18,$O$2=$O$20,$O$2=$O$24,$O$2=$O$26),Best1!$F$10,IF(OR($O$2=$O$12,$O$2=$O$14,$O$2=$O$25,$O$2=$O$28),Best1!$F$11,IF(OR($O$2=$O$13,$O$2=$O$16,$O$2=$O$19,$O$2=$O$22),Best1!$F$12,IF(OR($O$2=$O$6,$O$2=$O$9,$O$2=$O$21,$O$2=$O$23),Best1!$F$14,IF(OR($O$2=$O$8,$O$2=$O$10,$O$2=$O$15,$O$2=$O$17),Best1!$F$15,\"\")))))))","v":""},"","",{"$f":"IF(ISBLANK(I11),\"\",IF(OR($O$2=$O$9,$O$2=$O$10,$O$2=$O$24,$O$2=$O$25),Best1!$F$13,IF(OR($O$2=$O$22,$O$2=$O$23,$O$2=$O$28,$O$2=$O$29),Best1!$F$10,IF(OR($O$2=$O$16,$O$2=$O$17,$O$2=$O$26,$O$2=$O$27),Best1!$F$11,IF(OR($O$2=$O$14,$O$2=$O$15,$O$2=$O$20,$O$2=$O$21),Best1!$F$12,IF(OR($O$2=$O$7,$O$2=$O$8,$O$2=$O$18,$O$2=$O$19),Best1!$F$14,IF(OR($O$2=$O$5,$O$2=$O$6,$O$2=$O$12,$O$2=$O$13),Best1!$F$15,\"\")))))))","v":""},"","",{"$f":"IF(ISBLANK(K11),\"\",IF(Best1!$C$3=\"\",\"\",ROUND(SUM(Best1!$C$3:$C$6),1)))","v":""},"","",{"$f":"IF(ISBLANK(K11),\"\",IF(Best1!$B$3=\"\",\"\",ROUND(AVERAGE(Best1!$D$3:$D$6),1)))","v":""},"","",null,"",null,null,null,null,null,null,null,"","","","","","","","","","","","","","","","","","","","","","","",""]
[8,null,null,null,null,null,null,null,null,null,null,null,null,null,"BACD","","","","","","",0,0,"","","","","","","","",0,0,"","",0,0,"","",{"$f":"IF(ISBLANK(E12),\"\",IF(OR($O$2=$O$5,$O$2=$O$6,$O$2=$O$12,$O$2=$O$13),Best1!$F$10,IF(OR($O$2=$O$7,$O$2=$O$8,$O$2=$O$18,$O$2=$O$19),Best1!$F$11,IF(OR($O$2=$O$9,$O$2=$O$10,$O$2=$O$24,$O$2=$O$25),Best1!$F$12,IF(OR($O$2=$O$14,$O$2=$O$15,$O$2=$O$20,$O$2=$O$21),Best1!$F$13,IF(OR($O$2=$O$16,$O$2=$O$17,$O$2=$O$26,$O$2=$O$27),Best1!$F$14,IF(OR($O$2=$O$22,$O$2=$O$23,$O$2=$O$28,$O$2=$O$29),Best1!$F$15,\"\")))))))","v":""},"","",{"$f":"IF(ISBLANK(H12),\"\",IF(OR($O$2=$O$5,$O$2=$O$7,$O$2=$O$27,$O$2=$O$29),Best1!$F$13,IF(OR($O$2=$O$18,$O$2=$O$20,$O$2=$O$24,$O$2=$O$26),Best1!$F$10,IF(OR($O$2=$O$12,$O$2=$O$14,$O$2=$O$25,$O$2=$O$28),Best1!$F$11,IF(OR($O$2=$O$13,$O$2=$O$16,$O$2=$O$19,$O$2=$O$22),Best1!$F$12,IF(OR($O$2=$O$6,$O$2=$O$9,$O$2=$O$21,$O$2=$O$23),Best1!$F$14,IF(OR($O$2=$O$8,$O$2=$O$10,$O$2=$O$15,$O$2=$O$17),Best1!$F$15,\"\")))))))","v":""},"","",{"$f":"IF(ISBLANK(I12),\"\",IF(OR($O$2=$O$9,$O$2=$O$10,$O$2=$O$24,$O$2=$O$25),Best1!$F$13,IF(OR($O$2=$O$22,$O$2=$O$23,$O$2=$O$28,$O$2=$O$29),Best1!$F$10,IF(OR($O$2=$O$16,$O$2=$O$17,$O$2=$O$26,$O$2=$O$27),Best1!$F$11,IF(OR($O$2=$O$14,$O$2=$O$15,$O$2=$O$20,$O$2=$O$21),Best1!$F$12,IF(OR($O$2=$O$7,$O$2=$O$8,$O$2=$O$18,$O$2=$O$19),Best1!$F$14,IF(OR($O$2=$O$5,$O$2=$O$6,$O$2=$O$12,$O$2=$O$13),Best1!$F$15,\"\")))))))","v":""},"","",{"$f":"IF(ISBLANK(K12),\"\",IF(Best1!$C$3=\"\",\"\",ROUND(SUM(Best1!$C$3:$C$6),1)))","v":""},"","",{"$f":"IF(ISBLANK(K12),\"\",IF(Best1!$B$3=\"\",\"\",ROUND(AVERAGE(Best1!$D$3:$D$6),1)))","v":""},"","",null,"",null,null,null,null,null,null,null,"","","","","","","","","","","","","","","","","","","","","","","",""]
[9,null,null,null,null,null,null,null,null,null,null,null,null,null,"BADC","","","","","","",0,0,"","","","","","","","",0,0,"","",0,0,"","",{"$f":"IF(ISBLANK(E13),\"\",IF(OR($O$2=$O$5,$O$2=$O$6,$O$2=$O$12,$O$2=$O$13),Best1!$F$10,IF(OR($O$2=$O$7,$O$2=$O$8,$O$2=$O$18,$O$2=$O$19),Best1!$F$11,IF(OR($O$2=$O$9,$O$2=$O$10,$O$2=$O$24,$O$2=$O$25),Best1!$F$12,IF(OR($O$2=$O$14,$O$2=$O$15,$O$2=$O$20,$O$2=$O$21),Best1!$F$13,IF(OR($O$2=$O$16,$O$2=$O$17,$O$2=$O$26,$O$2=$O$27),Best1!$F$14,IF(OR($O$2=$O$22,$O$2=$O$23,$O$2=$O$28,$O$2=$O$29),Best1!$F$15,\"\")))))))","v":""},"","",{"$f":"IF(ISBLANK(H13),\"\",IF(OR($O$2=$O$5,$O$2=$O$7,$O$2=$O$27,$O$2=$O$29),Best1!$F$13,IF(OR($O$2=$O$18,$O$2=$O$20,$O$2=$O$24,$O$2=$O$26),Best1!$F$10,IF(OR($O$2=$O$12,$O$2=$O$14,$O$2=$O$25,$O$2=$O$28),Best1!$F$11,IF(OR($O$2=$O$13,$O$2=$O$16,$O$2=$O$19,$O$2=$O$22),Best1!$F$12,IF(OR($O$2=$O$6,$O$2=$O$9,$O$2=$O$21,$O$2=$O$23),Best1!$F$14,IF(OR($O$2=$O$8,$O$2=$O$10,$O$2=$O$15,$O$2=$O$17),Best1!$F$15,\"\")))))))","v":""},"","",{"$f":"IF(ISBLANK(I13),\"\",IF(OR($O$2=$O$9,$O$2=$O$10,$O$2=$O$24,$O$2=$O$25),Best1!$F$13,IF(OR($O$2=$O$22,$O$2=$O$23,$O$2=$O$28,$O$2=$O$29),Best1!$F$10,IF(OR($O$2=$O$16,$O$2=$O$17,$O$2=$O$26,$O$2=$O$27),Best1!$F$11,IF(OR($O$2=$O$14,$O$2=$O$15,$O$2=$O$20,$O$2=$O$21),Best1!$F$12,IF(OR($O$2=$O$7,$O$2=$O$8,$O$2=$O$18,$O$2=$O$19),Best1!$F$14,IF(OR($O$2=$O$5,$O$2=$O$6,$O$2=$O$12,$O$2=$O$13),Best1!$F$15,\"\")))))))","v":""},"","",{"$f":"IF(ISBLANK(K13),\"\",IF(Best1!$C$3=\"\",\"\",ROUND(SUM(Best1!$C$3:$C$6),1)))","v":""},"","",{"$f":"IF(ISBLANK(K13),\"\",IF(Best1!$B$3=\"\",\"\",ROUND(AVERAGE(Best1!$D$3:$D$6),1)))","v":""},"","",null,"",null,null,null,null,null,null,null,"","","","","","","","","","","","","","","","","","","","","","","",""]
[10,null,null,null,null,null,null,null,null,null,null,null,null,null,"BCAD","","","","","","",0,0,"","","","","","","","",0,0,"","",0,0,"","",{"$f":"IF(ISBLANK(E14),\"\",IF(OR($O$2=$O$5,$O$2=$O$6,$O$2=$O$12,$O$2=$O$13),Best1!$F$10,IF(OR($O$2=$O$7,$O$2=$O$8,$O$2=$O$18,$O$2=$O$19),Best1!$F$11,IF(OR($O$2=$O$9,$O$2=$O$10,$O$2=$O$24,$O$2=$O$25),Best1!$F$12,IF(OR($O$2=$O$14,$O$2=$O$15,$O$2=$O$20,$O$2=$O$21),Best1!$F$13,IF(OR($O$2=$O$16,$O$2=$O$17,$O$2=$O$26,$O$2=$O$27),Best1!$F$14,IF(OR($O$2=$O$22,$O$2=$O$23,$O$2=$O$28,$O$2=$O$29),Best1!$F$15,\"\")))))))","v":""},"","",{"$f":"IF(ISBLANK(H14),\"\",IF(OR($O$2=$O$5,$O$2=$O$7,$O$2=$O$27,$O$2=$O$29),Best1!$F$13,IF(OR($O$2=$O$18,$O$2=$O$20,$O$2=$O$24,$O$2=$O$26),Best1!$F$10,IF(OR($O$2=$O$12,$O$2=$O$14,$O$2=$O$25,$O$2=$O$28),Best1!$F$11,IF(OR($O$2=$O$13,$O$2=$O$16,$O$2=$O$19,$O$2=$O$22),Best1!$F$12,IF(OR($O$2=$O$6,$O$2=$O$9,$O$2=$O$21,$O$2=$O$23),Best1!$F$14,IF(OR($O$2=$O$8,$O$2=$O$10,$O$2=$O$15,$O$2=$O$17),Best1!$F$15,\"\")))))))","v":""},"","",{"$f":"IF(ISBLANK(I14),\"\",IF(OR($O$2=$O$9,$O$2=$O$10,$O$2=$O$24,$O$2=$O$25),Best1!$F$13,IF(OR($O$2=$O$22,$O$2=$O$23,$O$2=$O$28,$O$2=$O$29),Best1!$F$10,IF(OR($O$2=$O$16,$O$2=$O$17,$O$2=$O$26,$O$2=$O$27),Best1!$F$11,IF(OR($O$2=$O$14,$O$2=$O$15,$O$2=$O$20,$O$2=$O$21),Best1!$F$12,IF(OR($O$2=$O$7,$O$2=$O$8,$O$2=$O$18,$O$2=$O$19),Best1!$F$14,IF(OR($O$2=$O$5,$O$2=$O$6,$O$2=$O$12,$O$2=$O$13),Best1!$F$15,\"\")))))))","v":""},"","",{"$f":"IF(ISBLANK(K14),\"\",IF(Best1!$C$3=\"\",\"\",ROUND(SUM(Best1!$C$3:$C$6),1)))","v":""},"","",{"$f":"IF(ISBLANK(K14),\"\",IF(Best1!$B$3=\"\",\"\",ROUND(AVERAGE(Best1!$D$3:$D$6),1)))","v":""},"","",null,"",null,null,null,null,null,null,null,"","","","","","","","","","","","","","","","","","","","","","","",""]
[11,null,null,null,null,null,null,null,null,null,null,null,null,null,"BCDA","","","","","","",0,0,"","","","","","","","",0,0,"","",0,0,"","",{"$f":"IF(ISBLANK(E15),\"\",IF(OR($O$2=$O$5,$O$2=$O$6,$O$2=$O$12,$O$2=$O$13),Best1!$F$10,IF(OR($O$2=$O$7,$O$2=$O$8,$O$2=$O$18,$O$2=$O$19),Best1!$F$11,IF(OR($O$2=$O$9,$O$2=$O$10,$O$2=$O$24,$O$2=$O$25),Best1!$F$12,IF(OR($O$2=$O$14,$O$2=$O$15,$O$2=$O$20,$O$2=$O$21),Best1!$F$13,IF(OR($O$2=$O$16,$O$2=$O$17,$O$2=$O$26,$O$2=$O$27),Best1!$F$14,IF(OR($O$2=$O$22,$O$2=$O$23,$O$2=$O$28,$O$2=$O$29),Best1!$F$15,\"\")))))))","v":""},"","",{"$f":"IF(ISBLANK(H15),\"\",IF(OR($O$2=$O$5,$O$2=$O$7,$O$2=$O$27,$O$2=$O$29),Best1!$F$13,IF(OR($O$2=$O$18,$O$2=$O$20,$O$2=$O$24,$O$2=$O$26),Best1!$F$10,IF(OR($O$2=$O$12,$O$2=$O$14,$O$2=$O$25,$O$2=$O$28),Best1!$F$11,IF(OR($O$2=$O$13,$O$2=$O$16,$O$2=$O$19,$O$2=$O$22),Best1!$F$12,IF(OR($O$2=$O$6,$O$2=$O$9,$O$2=$O$21,$O$2=$O$23),Best1!$F$14,IF(OR($O$2=$O$8,$O$2=$O$10,$O$2=$O$15,$O$2=$O$17),Best1!$F$15,\"\")))))))","v":""},"","",{"$f":"IF(ISBLANK(I15),\"\",IF(OR($O$2=$O$9,$O$2=$O$10,$O$2=$O$24,$O$2=$O$25),Best1!$F$13,IF(OR($O$2=$O$22,$O$2=$O$23,$O$2=$O$28,$O$2=$O$29),Best1!$F$10,IF(OR($O$2=$O$16,$O$2=$O$17,$O$2=$O$26,$O$2=$O$27),Best1!$F$11,IF(OR($O$2=$O$14,$O$2=$O$15,$O$2=$O$20,$O$2=$O$21),Best1!$F$12,IF(OR($O$2=$O$7,$O$2=$O$8,$O$2=$O$18,$O$2=$O$19),Best1!$F$14,IF(OR($O$2=$O$5,$O$2=$O$6,$O$2=$O$12,$O$2=$O$13),Best1!$F$15,\"\")))))))","v":""},"","",{"$f":"IF(ISBLANK(K15),\"\",IF(Best1!$C$3=\"\",\"\",ROUND(SUM(Best1!$C$3:$C$6),1)))","v":""},"","",{"$f":"IF(ISBLANK(K15),\"\",IF(Best1!$B$3=\"\",\"\",ROUND(AVERAGE(Best1!$D$3:$D$6),1)))","v":""},"","",null,"",null,null,null,null,null,null,null,"","","","","","","","","","","","","","","","","","","","","","","",""]
[12,null,null,null,null,null,null,null,null,null,null,null,null,null,"BDAC","","","","","","",0,0,"","","","","","","","",0,0,"","",0,0,"","",{"$f":"IF(ISBLANK(E16),\"\",IF(OR($O$2=$O$5,$O$2=$O$6,$O$2=$O$12,$O$2=$O$13),Best1!$F$10,IF(OR($O$2=$O$7,$O$2=$O$8,$O$2=$O$18,$O$2=$O$19),Best1!$F$11,IF(OR($O$2=$O$9,$O$2=$O$10,$O$2=$O$24,$O$2=$O$25),Best1!$F$12,IF(OR($O$2=$O$14,$O$2=$O$15,$O$2=$O$20,$O$2=$O$21),Best1!$F$13,IF(OR($O$2=$O$16,$O$2=$O$17,$O$2=$O$26,$O$2=$O$27),Best1!$F$14,IF(OR($O$2=$O$22,$O$2=$O$23,$O$2=$O$28,$O$2=$O$29),Best1!$F$15,\"\")))))))","v":""},"","",{"$f":"IF(ISBLANK(H16),\"\",IF(OR($O$2=$O$5,$O$2=$O$7,$O$2=$O$27,$O$2=$O$29),Best1!$F$13,IF(OR($O$2=$O$18,$O$2=$O$20,$O$2=$O$24,$O$2=$O$26),Best1!$F$10,IF(OR($O$2=$O$12,$O$2=$O$14,$O$2=$O$25,$O$2=$O$28),Best1!$F$11,IF(OR($O$2=$O$13,$O$2=$O$16,$O$2=$O$19,$O$2=$O$22),Best1!$F$12,IF(OR($O$2=$O$6,$O$2=$O$9,$O$2=$O$21,$O$2=$O$23),Best1!$F$14,IF(OR($O$2=$O$8,$O$2=$O$10,$O$2=$O$15,$O$2=$O$17),Best1!$F$15,\"\")))))))","v":""},"","",{"$f":"IF(ISBLANK(I16),\"\",IF(OR($O$2=$O$9,$O$2=$O$10,$O$2=$O$24,$O$2=$O$25),Best1!$F$13,IF(OR($O$2=$O$22,$O$2=$O$23,$O$2=$O$28,$O$2=$O$29),Best1!$F$10,IF(OR($O$2=$O$16,$O$2=$O$17,$O$2=$O$26,$O$2=$O$27),Best1!$F$11,IF(OR($O$2=$O$14,$O$2=$O$15,$O$2=$O$20,$O$2=$O$21),Best1!$F$12,IF(OR($O$2=$O$7,$O$2=$O$8,$O$2=$O$18,$O$2=$O$19),Best1!$F$14,IF(OR($O$2=$O$5,$O$2=$O$6,$O$2=$O$12,$O$2=$O$13),Best1!$F$15,\"\")))))))","v":""},"","",{"$f":"IF(ISBLANK(K16),\"\",IF(Best1!$C$3=\"\",\"\",ROUND(SUM(Best1!$C$3:$C$6),1)))","v":""},"","",{"$f":"IF(ISBLANK(K16),\"\",IF(Best1!$B$3=\"\",\"\",ROUND(AVERAGE(Best1!$D$3:$D$6),1)))","v":""},"","",null,"",null,null,null,null,null,null,null,"","","",{"$f":"IF(OR(S16=\"\",S16=0),\"\",S16*1)","v":""},"","","","","","","","","","","","","","","",{"$f":"IF(OR(AI16=\"\",AI16=0),\"\",AI16*1)","v":""},"","","",""]
[13,null,null,null,null,null,null,null,null,null,null,null,null,null,"BDCA","","","","","","",0,0,"","","","","","","","",0,0,"","",0,0,"","",{"$f":"IF(ISBLANK(E17),\"\",IF(OR($O$2=$O$5,$O$2=$O$6,$O$2=$O$12,$O$2=$O$13),Best1!$F$10,IF(OR($O$2=$O$7,$O$2=$O$8,$O$2=$O$18,$O$2=$O$19),Best1!$F$11,IF(OR($O$2=$O$9,$O$2=$O$10,$O$2=$O$24,$O$2=$O$25),Best1!$F$12,IF(OR($O$2=$O$14,$O$2=$O$15,$O$2=$O$20,$O$2=$O$21),Best1!$F$13,IF(OR($O$2=$O$16,$O$2=$O$17,$O$2=$O$26,$O$2=$O$27),Best1!$F$14,IF(OR($O$2=$O$22,$O$2=$O$23,$O$2=$O$28,$O$2=$O$29),Best1!$F$15,\"\")))))))","v":""},"","",{"$f":"IF(ISBLANK(H17),\"\",IF(OR($O$2=$O$5,$O$2=$O$7,$O$2=$O$27,$O$2=$O$29),Best1!$F$13,IF(OR($O$2=$O$18,$O$2=$O$20,$O$2=$O$24,$O$2=$O$26),Best1!$F$10,IF(OR($O$2=$O$12,$O$2=$O$14,$O$2=$O$25,$O$2=$O$28),Best1!$F$11,IF(OR($O$2=$O$13,$O$2=$O$16,$O$2=$O$19,$O$2=$O$22),Best1!$F$12,IF(OR($O$2=$O$6,$O$2=$O$9,$O$2=$O$21,$O$2=$O$23),Best1!$F$14,IF(OR($O$2=$O$8,$O$2=$O$10,$O$2=$O$15,$O$2=$O$17),Best1!$F$15,\"\")))))))","v":""},"","",{"$f":"IF(ISBLANK(I17),\"\",IF(OR($O$2=$O$9,$O$2=$O$10,$O$2=$O$24,$O$2=$O$25),Best1!$F$13,IF(OR($O$2=$O$22,$O$2=$O$23,$O$2=$O$28,$O$2=$O$29),Best1!$F$10,IF(OR($O$2=$O$16,$O$2=$O$17,$O$2=$O$26,$O$2=$O$27),Best1!$F$11,IF(OR($O$2=$O$14,$O$2=$O$15,$O$2=$O$20,$O$2=$O$21),Best1!$F$12,IF(OR($O$2=$O$7,$O$2=$O$8,$O$2=$O$18,$O$2=$O$19),Best1!$F$14,IF(OR($O$2=$O$5,$O$2=$O$6,$O$2=$O$12,$O$2=$O$13),Best1!$F$15,\"\")))))))","v":""},"","",{"$f":"IF(ISBLANK(K17),\"\",IF(Best1!$C$3=\"\",\"\",ROUND(SUM(Best1!$C$3:$C$6),1)))","v":""},"","",{"$f":"IF(ISBLANK(K17),\"\",IF(Best1!$B$3=\"\",\"\",ROUND(AVERAGE(Best1!$D$3:$D$6),1)))","v":""},"","",null,"",null,null,null,null,null,null,null,"","","","","","","","","","","","","","","","","","","","","","","",""]
[14,null,null,null,null,null,null,null,null,null,null,null,null,null,"CABD","","","","","","",0,0,"","","","","","","","",0,0,"","",0,0,"","",{"$f":"IF(ISBLANK(E18),\"\",IF(OR($O$2=$O$5,$O$2=$O$6,$O$2=$O$12,$O$2=$O$13),Best1!$F$10,IF(OR($O$2=$O$7,$O$2=$O$8,$O$2=$O$18,$O$2=$O$19),Best1!$F$11,IF(OR($O$2=$O$9,$O$2=$O$10,$O$2=$O$24,$O$2=$O$25),Best1!$F$12,IF(OR($O$2=$O$14,$O$2=$O$15,$O$2=$O$20,$O$2=$O$21),Best1!$F$13,IF(OR($O$2=$O$16,$O$2=$O$17,$O$2=$O$26,$O$2=$O$27),Best1!$F$14,IF(OR($O$2=$O$22,$O$2=$O$23,$O$2=$O$28,$O$2=$O$29),Best1!$F$15,\"\")))))))","v":""},"","",{"$f":"IF(ISBLANK(H18),\"\",IF(OR($O$2=$O$5,$O$2=$O$7,$O$2=$O$27,$O$2=$O$29),Best1!$F$13,IF(OR($O$2=$O$18,$O$2=$O$20,$O$2=$O$24,$O$2=$O$26),Best1!$F$10,IF(OR($O$2=$O$12,$O$2=$O$14,$O$2=$O$25,$O$2=$O$28),Best1!$F$11,IF(OR($O$2=$O$13,$O$2=$O$16,$O$2=$O$19,$O$2=$O$22),Best1!$F$12,IF(OR($O$2=$O$6,$O$2=$O$9,$O$2=$O$21,$O$2=$O$23),Best1!$F$14,IF(OR($O$2=$O$8,$O$2=$O$10,$O$2=$O$15,$O$2=$O$17),Best1!$F$15,\"\")))))))","v":""},"","",{"$f":"IF(ISBLANK(I18),\"\",IF(OR($O$2=$O$9,$O$2=$O$10,$O$2=$O$24,$O$2=$O$25),Best1!$F$13,IF(OR($O$2=$O$22,$O$2=$O$23,$O$2=$O$28,$O$2=$O$29),Best1!$F$10,IF(OR($O$2=$O$16,$O$2=$O$17,$O$2=$O$26,$O$2=$O$27),Best1!$F$11,IF(OR($O$2=$O$14,$O$2=$O$15,$O$2=$O$20,$O$2=$O$21),Best1!$F$12,IF(OR($O$2=$O$7,$O$2=$O$8,$O$2=$O$18,$O$2=$O$19),Best1!$F$14,IF(OR($O$2=$O$5,$O$2=$O$6,$O$2=$O$12,$O$2=$O$13),Best1!$F$15,\"\")))))))","v":""},"","",{"$f":"IF(ISBLANK(K18),\"\",IF(Best1!$C$3=\"\",\"\",ROUND(SUM(Best1!$C$3:$C$6),1)))","v":""},"","",{"$f":"IF(ISBLANK(K18),\"\",IF(Best1!$B$3=\"\",\"\",ROUND(AVERAGE(Best1!$D$3:$D$6),1)))","v":""},"","",null,"",null,null,null,null,null,null,null,"","","","","","","","","","","","","","","","","","","","","","","",""]
[15,null,null,null,null,null,null,null,null,null,null,null,null,null,"CADB","","","","","","",0,0,"","","","","","","","",0,0,"","",0,0,"","",{"$f":"IF(ISBLANK(E19),\"\",IF(OR($O$2=$O$5,$O$2=$O$6,$O$2=$O$12,$O$2=$O$13),Best1!$F$10,IF(OR($O$2=$O$7,$O$2=$O$8,$O$2=$O$18,$O$2=$O$19),Best1!$F$11,IF(OR($O$2=$O$9,$O$2=$O$10,$O$2=$O$24,$O$2=$O$25),Best1!$F$12,IF(OR($O$2=$O$14,$O$2=$O$15,$O$2=$O$20,$O$2=$O$21),Best1!$F$13,IF(OR($O$2=$O$16,$O$2=$O$17,$O$2=$O$26,$O$2=$O$27),Best1!$F$14,IF(OR($O$2=$O$22,$O$2=$O$23,$O$2=$O$28,$O$2=$O$29),Best1!$F$15,\"\")))))))","v":""},"","",{"$f":"IF(ISBLANK(H19),\"\",IF(OR($O$2=$O$5,$O$2=$O$7,$O$2=$O$27,$O$2=$O$29),Best1!$F$13,IF(OR($O$2=$O$18,$O$2=$O$20,$O$2=$O$24,$O$2=$O$26),Best1!$F$10,IF(OR($O$2=$O$12,$O$2=$O$14,$O$2=$O$25,$O$2=$O$28),Best1!$F$11,IF(OR($O$2=$O$13,$O$2=$O$16,$O$2=$O$19,$O$2=$O$22),Best1!$F$12,IF(OR($O$2=$O$6,$O$2=$O$9,$O$2=$O$21,$O$2=$O$23),Best1!$F$14,IF(OR($O$2=$O$8,$O$2=$O$10,$O$2=$O$15,$O$2=$O$17),Best1!$F$15,\"\")))))))","v":""},"","",{"$f":"IF(ISBLANK(I19),\"\",IF(OR($O$2=$O$9,$O$2=$O$10,$O$2=$O$24,$O$2=$O$25),Best1!$F$13,IF(OR($O$2=$O$22,$O$2=$O$23,$O$2=$O$28,$O$2=$O$29),Best1!$F$10,IF(OR($O$2=$O$16,$O$2=$O$17,$O$2=$O$26,$O$2=$O$27),Best1!$F$11,IF(OR($O$2=$O$14,$O$2=$O$15,$O$2=$O$20,$O$2=$O$21),Best1!$F$12,IF(OR($O$2=$O$7,$O$2=$O$8,$O$2=$O$18,$O$2=$O$19),Best1!$F$14,IF(OR($O$2=$O$5,$O$2=$O$6,$O$2=$O$12,$O$2=$O$13),Best1!$F$15,\"\")))))))","v":""},"","",{"$f":"IF(ISBLANK(K19),\"\",IF(Best1!$C$3=\"\",\"\",ROUND(SUM(Best1!$C$3:$C$6),1)))","v":""},"","",{"$f":"IF(ISBLANK(K19),\"\",IF(Best1!$B$3=\"\",\"\",ROUND(AVERAGE(Best1!$D$3:$D$6),1)))","v":""},"","",null,"",null,null,null,null,null,null,null,"","","","","","","","","","","","","","","","","","","","","","","",""]
[16,null,null,null,null,null,null,null,null,null,null,null,null,null,"CBAD","","","","","","",0,0,"","","","","","","","",0,0,"","",0,0,"","",{"$f":"IF(ISBLANK(E20),\"\",IF(OR($O$2=$O$5,$O$2=$O$6,$O$2=$O$12,$O$2=$O$13),Best1!$F$10,IF(OR($O$2=$O$7,$O$2=$O$8,$O$2=$O$18,$O$2=$O$19),Best1!$F$11,IF(OR($O$2=$O$9,$O$2=$O$10,$O$2=$O$24,$O$2=$O$25),Best1!$F$12,IF(OR($O$2=$O$14,$O$2=$O$15,$O$2=$O$20,$O$2=$O$21),Best1!$F$13,IF(OR($O$2=$O$16,$O$2=$O$17,$O$2=$O$26,$O$2=$O$27),Best1!$F$14,IF(OR($O$2=$O$22,$O$2=$O$23,$O$2=$O$28,$O$2=$O$29),Best1!$F$15,\"\")))))))","v":""},"","",{"$f":"IF(ISBLANK(H20),\"\",IF(OR($O$2=$O$5,$O$2=$O$7,$O$2=$O$27,$O$2=$O$29),Best1!$F$13,IF(OR($O$2=$O$18,$O$2=$O$20,$O$2=$O$24,$O$2=$O$26),Best1!$F$10,IF(OR($O$2=$O$12,$O$2=$O$14,$O$2=$O$25,$O$2=$O$28),Best1!$F$11,IF(OR($O$2=$O$13,$O$2=$O$16,$O$2=$O$19,$O$2=$O$22),Best1!$F$12,IF(OR($O$2=$O$6,$O$2=$O$9,$O$2=$O$21,$O$2=$O$23),Best1!$F$14,IF(OR($O$2=$O$8,$O$2=$O$10,$O$2=$O$15,$O$2=$O$17),Best1!$F$15,\"\")))))))","v":""},"","",{"$f":"IF(ISBLANK(I20),\"\",IF(OR($O$2=$O$9,$O$2=$O$10,$O$2=$O$24,$O$2=$O$25),Best1!$F$13,IF(OR($O$2=$O$22,$O$2=$O$23,$O$2=$O$28,$O$2=$O$29),Best1!$F$10,IF(OR($O$2=$O$16,$O$2=$O$17,$O$2=$O$26,$O$2=$O$27),Best1!$F$11,IF(OR($O$2=$O$14,$O$2=$O$15,$O$2=$O$20,$O$2=$O$21),Best1!$F$12,IF(OR($O$2=$O$7,$O$2=$O$8,$O$2=$O$18,$O$2=$O$19),Best1!$F$14,IF(OR($O$2=$O$5,$O$2=$O$6,$O$2=$O$12,$O$2=$O$13),Best1!$F$15,\"\")))))))","v":""},"","",{"$f":"IF(ISBLANK(K20),\"\",IF(Best1!$C$3=\"\",\"\",ROUND(SUM(Best1!$C$3:$C$6),1)))","v":""},"","",{"$f":"IF(ISBLANK(K20),\"\",IF(Best1!$B$3=\"\",\"\",ROUND(AVERAGE(Best1!$D$3:$D$6),1)))","v":""},"","",null,"",null,null,null,null,null,null,null,"","","","","","","","","","","","","","","","","","","","","","","",""]
[17,null,null,null,null,null,null,null,null,null,null,null,null,null,"CBDA","","","","","","",0,0,"","","","","","","","",0,0,"","",0,0,"","",{"$f":"IF(ISBLANK(E21),\"\",IF(OR($O$2=$O$5,$O$2=$O$6,$O$2=$O$12,$O$2=$O$13),Best1!$F$10,IF(OR($O$2=$O$7,$O$2=$O$8,$O$2=$O$18,$O$2=$O$19),Best1!$F$11,IF(OR($O$2=$O$9,$O$2=$O$10,$O$2=$O$24,$O$2=$O$25),Best1!$F$12,IF(OR($O$2=$O$14,$O$2=$O$15,$O$2=$O$20,$O$2=$O$21),Best1!$F$13,IF(OR($O$2=$O$16,$O$2=$O$17,$O$2=$O$26,$O$2=$O$27),Best1!$F$14,IF(OR($O$2=$O$22,$O$2=$O$23,$O$2=$O$28,$O$2=$O$29),Best1!$F$15,\"\")))))))","v":""},"","",{"$f":"IF(ISBLANK(H21),\"\",IF(OR($O$2=$O$5,$O$2=$O$7,$O$2=$O$27,$O$2=$O$29),Best1!$F$13,IF(OR($O$2=$O$18,$O$2=$O$20,$O$2=$O$24,$O$2=$O$26),Best1!$F$10,IF(OR($O$2=$O$12,$O$2=$O$14,$O$2=$O$25,$O$2=$O$28),Best1!$F$11,IF(OR($O$2=$O$13,$O$2=$O$16,$O$2=$O$19,$O$2=$O$22),Best1!$F$12,IF(OR($O$2=$O$6,$O$2=$O$9,$O$2=$O$21,$O$2=$O$23),Best1!$F$14,IF(OR($O$2=$O$8,$O$2=$O$10,$O$2=$O$15,$O$2=$O$17),Best1!$F$15,\"\")))))))","v":""},"","",{"$f":"IF(ISBLANK(I21),\"\",IF(OR($O$2=$O$9,$O$2=$O$10,$O$2=$O$24,$O$2=$O$25),Best1!$F$13,IF(OR($O$2=$O$22,$O$2=$O$23,$O$2=$O$28,$O$2=$O$29),Best1!$F$10,IF(OR($O$2=$O$16,$O$2=$O$17,$O$2=$O$26,$O$2=$O$27),Best1!$F$11,IF(OR($O$2=$O$14,$O$2=$O$15,$O$2=$O$20,$O$2=$O$21),Best1!$F$12,IF(OR($O$2=$O$7,$O$2=$O$8,$O$2=$O$18,$O$2=$O$19),Best1!$F$14,IF(OR($O$2=$O$5,$O$2=$O$6,$O$2=$O$12,$O$2=$O$13),Best1!$F$15,\"\")))))))","v":""},"","",{"$f":"IF(ISBLANK(K21),\"\",IF(Best1!$C$3=\"\",\"\",ROUND(SUM(Best1!$C$3:$C$6),1)))","v":""},"","",{"$f":"IF(ISBLANK(K21),\"\",IF(Best1!$B$3=\"\",\"\",ROUND(AVERAGE(Best1!$D$3:$D$6),1)))","v":""},"","",null,"",null,null,null,null,null,null,null,"","","","","","","","","","","","","","","","","","","","","","","",""]
[18,null,null,null,null,null,null,null,null,null,null,null,null,null,"CDAB","","","","","","",0,0,"","","","","","","","",0,0,"","",0,0,"","",{"$f":"IF(ISBLANK(E22),\"\",IF(OR($O$2=$O$5,$O$2=$O$6,$O$2=$O$12,$O$2=$O$13),Best1!$F$10,IF(OR($O$2=$O$7,$O$2=$O$8,$O$2=$O$18,$O$2=$O$19),Best1!$F$11,IF(OR($O$2=$O$9,$O$2=$O$10,$O$2=$O$24,$O$2=$O$25),Best1!$F$12,IF(OR($O$2=$O$14,$O$2=$O$15,$O$2=$O$20,$O$2=$O$21),Best1!$F$13,IF(OR($O$2=$O$16,$O$2=$O$17,$O$2=$O$26,$O$2=$O$27),Best1!$F$14,IF(OR($O$2=$O$22,$O$2=$O$23,$O$2=$O$28,$O$2=$O$29),Best1!$F$15,\"\")))))))","v":""},"","",{"$f":"IF(ISBLANK(H22),\"\",IF(OR($O$2=$O$5,$O$2=$O$7,$O$2=$O$27,$O$2=$O$29),Best1!$F$13,IF(OR($O$2=$O$18,$O$2=$O$20,$O$2=$O$24,$O$2=$O$26),Best1!$F$10,IF(OR($O$2=$O$12,$O$2=$O$14,$O$2=$O$25,$O$2=$O$28),Best1!$F$11,IF(OR($O$2=$O$13,$O$2=$O$16,$O$2=$O$19,$O$2=$O$22),Best1!$F$12,IF(OR($O$2=$O$6,$O$2=$O$9,$O$2=$O$21,$O$2=$O$23),Best1!$F$14,IF(OR($O$2=$O$8,$O$2=$O$10,$O$2=$O$15,$O$2=$O$17),Best1!$F$15,\"\")))))))","v":""},"","",{"$f":"IF(ISBLANK(I22),\"\",IF(OR($O$2=$O$9,$O$2=$O$10,$O$2=$O$24,$O$2=$O$25),Best1!$F$13,IF(OR($O$2=$O$22,$O$2=$O$23,$O$2=$O$28,$O$2=$O$29),Best1!$F$10,IF(OR($O$2=$O$16,$O$2=$O$17,$O$2=$O$26,$O$2=$O$27),Best1!$F$11,IF(OR($O$2=$O$14,$O$2=$O$15,$O$2=$O$20,$O$2=$O$21),Best1!$F$12,IF(OR($O$2=$O$7,$O$2=$O$8,$O$2=$O$18,$O$2=$O$19),Best1!$F$14,IF(OR($O$2=$O$5,$O$2=$O$6,$O$2=$O$12,$O$2=$O$13),Best1!$F$15,\"\")))))))","v":""},"","",{"$f":"IF(ISBLANK(K22),\"\",IF(Best1!$C$3=\"\",\"\",ROUND(SUM(Best1!$C$3:$C$6),1)))","v":""},"","",{"$f":"IF(ISBLANK(K22),\"\",IF(Best1!$B$3=\"\",\"\",ROUND(AVERAGE(Best1!$D$3:$D$6),1)))","v":""},"","",null,"",null,null,null,null,null,null,null,"","","","","","","","","","","","","","","","","","","","","","","",""]
[19,null,null,null,null,null,null,null,null,null,null,null,null,null,"CDBA","","","","","","",0,0,"","","","","","","","",0,0,"","",0,0,"","",{"$f":"IF(ISBLANK(E23),\"\",IF(OR($O$2=$O$5,$O$2=$O$6,$O$2=$O$12,$O$2=$O$13),Best1!$F$10,IF(OR($O$2=$O$7,$O$2=$O$8,$O$2=$O$18,$O$2=$O$19),Best1!$F$11,IF(OR($O$2=$O$9,$O$2=$O$10,$O$2=$O$24,$O$2=$O$25),Best1!$F$12,IF(OR($O$2=$O$14,$O$2=$O$15,$O$2=$O$20,$O$2=$O$21),Best1!$F$13,IF(OR($O$2=$O$16,$O$2=$O$17,$O$2=$O$26,$O$2=$O$27),Best1!$F$14,IF(OR($O$2=$O$22,$O$2=$O$23,$O$2=$O$28,$O$2=$O$29),Best1!$F$15,\"\")))))))","v":""},"","",{"$f":"IF(ISBLANK(H23),\"\",IF(OR($O$2=$O$5,$O$2=$O$7,$O$2=$O$27,$O$2=$O$29),Best1!$F$13,IF(OR($O$2=$O$18,$O$2=$O$20,$O$2=$O$24,$O$2=$O$26),Best1!$F$10,IF(OR($O$2=$O$12,$O$2=$O$14,$O$2=$O$25,$O$2=$O$28),Best1!$F$11,IF(OR($O$2=$O$13,$O$2=$O$16,$O$2=$O$19,$O$2=$O$22),Best1!$F$12,IF(OR($O$2=$O$6,$O$2=$O$9,$O$2=$O$21,$O$2=$O$23),Best1!$F$14,IF(OR($O$2=$O$8,$O$2=$O$10,$O$2=$O$15,$O$2=$O$17),Best1!$F$15,\"\")))))))","v":""},"","",{"$f":"IF(ISBLANK(I23),\"\",IF(OR($O$2=$O$9,$O$2=$O$10,$O$2=$O$24,$O$2=$O$25),Best1!$F$13,IF(OR($O$2=$O$22,$O$2=$O$23,$O$2=$O$28,$O$2=$O$29),Best1!$F$10,IF(OR($O$2=$O$16,$O$2=$O$17,$O$2=$O$26,$O$2=$O$27),Best1!$F$11,IF(OR($O$2=$O$14,$O$2=$O$15,$O$2=$O$20,$O$2=$O$21),Best1!$F$12,IF(OR($O$2=$O$7,$O$2=$O$8,$O$2=$O$18,$O$2=$O$19),Best1!$F$14,IF(OR($O$2=$O$5,$O$2=$O$6,$O$2=$O$12,$O$2=$O$13),Best1!$F$15,\"\")))))))","v":""},"","",{"$f":"IF(ISBLANK(K23),\"\",IF(Best1!$C$3=\"\",\"\",ROUND(SUM(Best1!$C$3:$C$6),1)))","v":""},"","",{"$f":"IF(ISBLANK(K23),\"\",IF(Best1!$B$3=\"\",\"\",ROUND(AVERAGE(Best1!$D$3:$D$6),1)))","v":""},"","",null,"",null,null,null,null,null,null,null,"","","","","","","","","","","","","","","","","","","","","","","",""]
[20,null,null,null,null,null,null,null,null,null,null,null,null,null,"DABC","","","","","","",0,0,"","","","","","","","",0,0,"","",0,0,"","",{"$f":"IF(ISBLANK(E24),\"\",IF(OR($O$2=$O$5,$O$2=$O$6,$O$2=$O$12,$O$2=$O$13),Best1!$F$10,IF(OR($O$2=$O$7,$O$2=$O$8,$O$2=$O$18,$O$2=$O$19),Best1!$F$11,IF(OR($O$2=$O$9,$O$2=$O$10,$O$2=$O$24,$O$2=$O$25),Best1!$F$12,IF(OR($O$2=$O$14,$O$2=$O$15,$O$2=$O$20,$O$2=$O$21),Best1!$F$13,IF(OR($O$2=$O$16,$O$2=$O$17,$O$2=$O$26,$O$2=$O$27),Best1!$F$14,IF(OR($O$2=$O$22,$O$2=$O$23,$O$2=$O$28,$O$2=$O$29),Best1!$F$15,\"\")))))))","v":""},"","",{"$f":"IF(ISBLANK(H24),\"\",IF(OR($O$2=$O$5,$O$2=$O$7,$O$2=$O$27,$O$2=$O$29),Best1!$F$13,IF(OR($O$2=$O$18,$O$2=$O$20,$O$2=$O$24,$O$2=$O$26),Best1!$F$10,IF(OR($O$2=$O$12,$O$2=$O$14,$O$2=$O$25,$O$2=$O$28),Best1!$F$11,IF(OR($O$2=$O$13,$O$2=$O$16,$O$2=$O$19,$O$2=$O$22),Best1!$F$12,IF(OR($O$2=$O$6,$O$2=$O$9,$O$2=$O$21,$O$2=$O$23),Best1!$F$14,IF(OR($O$2=$O$8,$O$2=$O$10,$O$2=$O$15,$O$2=$O$17),Best1!$F$15,\"\")))))))","v":""},"","",{"$f":"IF(ISBLANK(I24),\"\",IF(OR($O$2=$O$9,$O$2=$O$10,$O$2=$O$24,$O$2=$O$25),Best1!$F$13,IF(OR($O$2=$O$22,$O$2=$O$23,$O$2=$O$28,$O$2=$O$29),Best1!$F$10,IF(OR($O$2=$O$16,$O$2=$O$17,$O$2=$O$26,$O$2=$O$27),Best1!$F$11,IF(OR($O$2=$O$14,$O$2=$O$15,$O$2=$O$20,$O$2=$O$21),Best1!$F$12,IF(OR($O$2=$O$7,$O$2=$O$8,$O$2=$O$18,$O$2=$O$19),Best1!$F$14,IF(OR($O$2=$O$5,$O$2=$O$6,$O$2=$O$12,$O$2=$O$13),Best1!$F$15,\"\")))))))","v":""},"","",{"$f":"IF(ISBLANK(K24),\"\",IF(Best1!$C$3=\"\",\"\",ROUND(SUM(Best1!$C$3:$C$6),1)))","v":""},"","",{"$f":"IF(ISBLANK(K24),\"\",IF(Best1!$B$3=\"\",\"\",ROUND(AVERAGE(Best1!$D$3:$D$6),1)))","v":""},"","",null,"",null,null,null,null,null,null,null,"","","","","","","","","","","","","","","","","","","","","","","",""]
[21,null,null,null,null,null,null,null,null,null,null,null,null,null,"DACB","","","","","","",0,0,"","","","","","","","",0,0,"","",0,0,"","",{"$f":"IF(ISBLANK(E25),\"\",IF(OR($O$2=$O$5,$O$2=$O$6,$O$2=$O$12,$O$2=$O$13),Best1!$F$10,IF(OR($O$2=$O$7,$O$2=$O$8,$O$2=$O$18,$O$2=$O$19),Best1!$F$11,IF(OR($O$2=$O$9,$O$2=$O$10,$O$2=$O$24,$O$2=$O$25),Best1!$F$12,IF(OR($O$2=$O$14,$O$2=$O$15,$O$2=$O$20,$O$2=$O$21),Best1!$F$13,IF(OR($O$2=$O$16,$O$2=$O$17,$O$2=$O$26,$O$2=$O$27),Best1!$F$14,IF(OR($O$2=$O$22,$O$2=$O$23,$O$2=$O$28,$O$2=$O$29),Best1!$F$15,\"\")))))))","v":""},"","",{"$f":"IF(ISBLANK(H25),\"\",IF(OR($O$2=$O$5,$O$2=$O$7,$O$2=$O$27,$O$2=$O$29),Best1!$F$13,IF(OR($O$2=$O$18,$O$2=$O$20,$O$2=$O$24,$O$2=$O$26),Best1!$F$10,IF(OR($O$2=$O$12,$O$2=$O$14,$O$2=$O$25,$O$2=$O$28),Best1!$F$11,IF(OR($O$2=$O$13,$O$2=$O$16,$O$2=$O$19,$O$2=$O$22),Best1!$F$12,IF(OR($O$2=$O$6,$O$2=$O$9,$O$2=$O$21,$O$2=$O$23),Best1!$F$14,IF(OR($O$2=$O$8,$O$2=$O$10,$O$2=$O$15,$O$2=$O$17),Best1!$F$15,\"\")))))))","v":""},"","",{"$f":"IF(ISBLANK(I25),\"\",IF(OR($O$2=$O$9,$O$2=$O$10,$O$2=$O$24,$O$2=$O$25),Best1!$F$13,IF(OR($O$2=$O$22,$O$2=$O$23,$O$2=$O$28,$O$2=$O$29),Best1!$F$10,IF(OR($O$2=$O$16,$O$2=$O$17,$O$2=$O$26,$O$2=$O$27),Best1!$F$11,IF(OR($O$2=$O$14,$O$2=$O$15,$O$2=$O$20,$O$2=$O$21),Best1!$F$12,IF(OR($O$2=$O$7,$O$2=$O$8,$O$2=$O$18,$O$2=$O$19),Best1!$F$14,IF(OR($O$2=$O$5,$O$2=$O$6,$O$2=$O$12,$O$2=$O$13),Best1!$F$15,\"\")))))))","v":""},"","",{"$f":"IF(ISBLANK(K25),\"\",IF(Best1!$C$3=\"\",\"\",ROUND(SUM(Best1!$C$3:$C$6),1)))","v":""},"","",{"$f":"IF(ISBLANK(K25),\"\",IF(Best1!$B$3=\"\",\"\",ROUND(AVERAGE(Best1!$D$3:$D$6),1)))","v":""},"","",null,"",null,null,null,null,null,null,null,"","","","","","","","","","","","","","","","","","","","","","","",""]
[22,null,null,null,null,null,null,null,null,null,null,null,null,null,"DBAC","","","","","","",0,0,"","","","","","","","",0,0,"","",0,0,"","",{"$f":"IF(ISBLANK(E26),\"\",IF(OR($O$2=$O$5,$O$2=$O$6,$O$2=$O$12,$O$2=$O$13),Best1!$F$10,IF(OR($O$2=$O$7,$O$2=$O$8,$O$2=$O$18,$O$2=$O$19),Best1!$F$11,IF(OR($O$2=$O$9,$O$2=$O$10,$O$2=$O$24,$O$2=$O$25),Best1!$F$12,IF(OR($O$2=$O$14,$O$2=$O$15,$O$2=$O$20,$O$2=$O$21),Best1!$F$13,IF(OR($O$2=$O$16,$O$2=$O$17,$O$2=$O$26,$O$2=$O$27),Best1!$F$14,IF(OR($O$2=$O$22,$O$2=$O$23,$O$2=$O$28,$O$2=$O$29),Best1!$F$15,\"\")))))))","v":""},"","",{"$f":"IF(ISBLANK(H26),\"\",IF(OR($O$2=$O$5,$O$2=$O$7,$O$2=$O$27,$O$2=$O$29),Best1!$F$13,IF(OR($O$2=$O$18,$O$2=$O$20,$O$2=$O$24,$O$2=$O$26),Best1!$F$10,IF(OR($O$2=$O$12,$O$2=$O$14,$O$2=$O$25,$O$2=$O$28),Best1!$F$11,IF(OR($O$2=$O$13,$O$2=$O$16,$O$2=$O$19,$O$2=$O$22),Best1!$F$12,IF(OR($O$2=$O$6,$O$2=$O$9,$O$2=$O$21,$O$2=$O$23),Best1!$F$14,IF(OR($O$2=$O$8,$O$2=$O$10,$O$2=$O$15,$O$2=$O$17),Best1!$F$15,\"\")))))))","v":""},"","",{"$f":"IF(ISBLANK(I26),\"\",IF(OR($O$2=$O$9,$O$2=$O$10,$O$2=$O$24,$O$2=$O$25),Best1!$F$13,IF(OR($O$2=$O$22,$O$2=$O$23,$O$2=$O$28,$O$2=$O$29),Best1!$F$10,IF(OR($O$2=$O$16,$O$2=$O$17,$O$2=$O$26,$O$2=$O$27),Best1!$F$11,IF(OR($O$2=$O$14,$O$2=$O$15,$O$2=$O$20,$O$2=$O$21),Best1!$F$12,IF(OR($O$2=$O$7,$O$2=$O$8,$O$2=$O$18,$O$2=$O$19),Best1!$F$14,IF(OR($O$2=$O$5,$O$2=$O$6,$O$2=$O$12,$O$2=$O$13),Best1!$F$15,\"\")))))))","v":""},"","",{"$f":"IF(ISBLANK(K26),\"\",IF(Best1!$C$3=\"\",\"\",ROUND(SUM(Best1!$C$3:$C$6),1)))","v":""},"","",{"$f":"IF(ISBLANK(K26),\"\",IF(Best1!$B$3=\"\",\"\",ROUND(AVERAGE(Best1!$D$3:$D$6),1)))","v":""},"","",null,"",null,null,null,null,null,null,null,"","","","","","","","","","","","","","","","","","","","","","","",""]
[23,null,null,null,null,null,null,null,null,null,null,null,null,null,"DBCA","","","","","","",0,0,"","","","","","","","",0,0,"","",0,0,"","",{"$f":"IF(ISBLANK(E27),\"\",IF(OR($O$2=$O$5,$O$2=$O$6,$O$2=$O$12,$O$2=$O$13),Best1!$F$10,IF(OR($O$2=$O$7,$O$2=$O$8,$O$2=$O$18,$O$2=$O$19),Best1!$F$11,IF(OR($O$2=$O$9,$O$2=$O$10,$O$2=$O$24,$O$2=$O$25),Best1!$F$12,IF(OR($O$2=$O$14,$O$2=$O$15,$O$2=$O$20,$O$2=$O$21),Best1!$F$13,IF(OR($O$2=$O$16,$O$2=$O$17,$O$2=$O$26,$O$2=$O$27),Best1!$F$14,IF(OR($O$2=$O$22,$O$2=$O$23,$O$2=$O$28,$O$2=$O$29),Best1!$F$15,\"\")))))))","v":""},"","",{"$f":"IF(ISBLANK(H27),\"\",IF(OR($O$2=$O$5,$O$2=$O$7,$O$2=$O$27,$O$2=$O$29),Best1!$F$13,IF(OR($O$2=$O$18,$O$2=$O$20,$O$2=$O$24,$O$2=$O$26),Best1!$F$10,IF(OR($O$2=$O$12,$O$2=$O$14,$O$2=$O$25,$O$2=$O$28),Best1!$F$11,IF(OR($O$2=$O$13,$O$2=$O$16,$O$2=$O$19,$O$2=$O$22),Best1!$F$12,IF(OR($O$2=$O$6,$O$2=$O$9,$O$2=$O$21,$O$2=$O$23),Best1!$F$14,IF(OR($O$2=$O$8,$O$2=$O$10,$O$2=$O$15,$O$2=$O$17),Best1!$F$15,\"\")))))))","v":""},"","",{"$f":"IF(ISBLANK(I27),\"\",IF(OR($O$2=$O$9,$O$2=$O$10,$O$2=$O$24,$O$2=$O$25),Best1!$F$13,IF(OR($O$2=$O$22,$O$2=$O$23,$O$2=$O$28,$O$2=$O$29),Best1!$F$10,IF(OR($O$2=$O$16,$O$2=$O$17,$O$2=$O$26,$O$2=$O$27),Best1!$F$11,IF(OR($O$2=$O$14,$O$2=$O$15,$O$2=$O$20,$O$2=$O$21),Best1!$F$12,IF(OR($O$2=$O$7,$O$2=$O$8,$O$2=$O$18,$O$2=$O$19),Best1!$F$14,IF(OR($O$2=$O$5,$O$2=$O$6,$O$2=$O$12,$O$2=$O$13),Best1!$F$15,\"\")))))))","v":""},"","",{"$f":"IF(ISBLANK(K27),\"\",IF(Best1!$C$3=\"\",\"\",ROUND(SUM(Best1!$C$3:$C$6),1)))","v":""},"","",{"$f":"IF(ISBLANK(K27),\"\",IF(Best1!$B$3=\"\",\"\",ROUND(AVERAGE(Best1!$D$3:$D$6),1)))","v":""},"","",null,"",null,null,null,null,null,null,null,"","","","","","","","","","","","","","","","","","","","","","","",""]
[24,null,null,null,null,null,null,null,null,null,null,null,null,null,"DCAB","","","","","","",0,0,"","","","","","","","",0,0,"","",0,0,"","",{"$f":"IF(ISBLANK(E28),\"\",IF(OR($O$2=$O$5,$O$2=$O$6,$O$2=$O$12,$O$2=$O$13),Best1!$F$10,IF(OR($O$2=$O$7,$O$2=$O$8,$O$2=$O$18,$O$2=$O$19),Best1!$F$11,IF(OR($O$2=$O$9,$O$2=$O$10,$O$2=$O$24,$O$2=$O$25),Best1!$F$12,IF(OR($O$2=$O$14,$O$2=$O$15,$O$2=$O$20,$O$2=$O$21),Best1!$F$13,IF(OR($O$2=$O$16,$O$2=$O$17,$O$2=$O$26,$O$2=$O$27),Best1!$F$14,IF(OR($O$2=$O$22,$O$2=$O$23,$O$2=$O$28,$O$2=$O$29),Best1!$F$15,\"\")))))))","v":""},"","",{"$f":"IF(ISBLANK(H28),\"\",IF(OR($O$2=$O$5,$O$2=$O$7,$O$2=$O$27,$O$2=$O$29),Best1!$F$13,IF(OR($O$2=$O$18,$O$2=$O$20,$O$2=$O$24,$O$2=$O$26),Best1!$F$10,IF(OR($O$2=$O$12,$O$2=$O$14,$O$2=$O$25,$O$2=$O$28),Best1!$F$11,IF(OR($O$2=$O$13,$O$2=$O$16,$O$2=$O$19,$O$2=$O$22),Best1!$F$12,IF(OR($O$2=$O$6,$O$2=$O$9,$O$2=$O$21,$O$2=$O$23),Best1!$F$14,IF(OR($O$2=$O$8,$O$2=$O$10,$O$2=$O$15,$O$2=$O$17),Best1!$F$15,\"\")))))))","v":""},"","",{"$f":"IF(ISBLANK(I28),\"\",IF(OR($O$2=$O$9,$O$2=$O$10,$O$2=$O$24,$O$2=$O$25),Best1!$F$13,IF(OR($O$2=$O$22,$O$2=$O$23,$O$2=$O$28,$O$2=$O$29),Best1!$F$10,IF(OR($O$2=$O$16,$O$2=$O$17,$O$2=$O$26,$O$2=$O$27),Best1!$F$11,IF(OR($O$2=$O$14,$O$2=$O$15,$O$2=$O$20,$O$2=$O$21),Best1!$F$12,IF(OR($O$2=$O$7,$O$2=$O$8,$O$2=$O$18,$O$2=$O$19),Best1!$F$14,IF(OR($O$2=$O$5,$O$2=$O$6,$O$2=$O$12,$O$2=$O$13),Best1!$F$15,\"\")))))))","v":""},"","",{"$f":"IF(ISBLANK(K28),\"\",IF(Best1!$C$3=\"\",\"\",ROUND(SUM(Best1!$C$3:$C$6),1)))","v":""},"","",{"$f":"IF(ISBLANK(K28),\"\",IF(Best1!$B$3=\"\",\"\",ROUND(AVERAGE(Best1!$D$3:$D$6),1)))","v":""},"","",null,"",null,null,null,null,null,null,null,"","","","","","","","","","","","","","","","","","","","","","","",""]
[25,null,null,null,null,null,null,null,null,null,null,null,null,null,"DCBA","","","","","","",0,0,"","","","","","","","",0,0,"","",0,0,"","",{"$f":"IF(ISBLANK(E29),\"\",IF(OR($O$2=$O$5,$O$2=$O$6,$O$2=$O$12,$O$2=$O$13),Best1!$F$10,IF(OR($O$2=$O$7,$O$2=$O$8,$O$2=$O$18,$O$2=$O$19),Best1!$F$11,IF(OR($O$2=$O$9,$O$2=$O$10,$O$2=$O$24,$O$2=$O$25),Best1!$F$12,IF(OR($O$2=$O$14,$O$2=$O$15,$O$2=$O$20,$O$2=$O$21),Best1!$F$13,IF(OR($O$2=$O$16,$O$2=$O$17,$O$2=$O$26,$O$2=$O$27),Best1!$F$14,IF(OR($O$2=$O$22,$O$2=$O$23,$O$2=$O$28,$O$2=$O$29),Best1!$F$15,\"\")))))))","v":""},"","",{"$f":"IF(ISBLANK(H29),\"\",IF(OR($O$2=$O$5,$O$2=$O$7,$O$2=$O$27,$O$2=$O$29),Best1!$F$13,IF(OR($O$2=$O$18,$O$2=$O$20,$O$2=$O$24,$O$2=$O$26),Best1!$F$10,IF(OR($O$2=$O$12,$O$2=$O$14,$O$2=$O$25,$O$2=$O$28),Best1!$F$11,IF(OR($O$2=$O$13,$O$2=$O$16,$O$2=$O$19,$O$2=$O$22),Best1!$F$12,IF(OR($O$2=$O$6,$O$2=$O$9,$O$2=$O$21,$O$2=$O$23),Best1!$F$14,IF(OR($O$2=$O$8,$O$2=$O$10,$O$2=$O$15,$O$2=$O$17),Best1!$F$15,\"\")))))))","v":""},"","",{"$f":"IF(ISBLANK(I29),\"\",IF(OR($O$2=$O$9,$O$2=$O$10,$O$2=$O$24,$O$2=$O$25),Best1!$F$13,IF(OR($O$2=$O$22,$O$2=$O$23,$O$2=$O$28,$O$2=$O$29),Best1!$F$10,IF(OR($O$2=$O$16,$O$2=$O$17,$O$2=$O$26,$O$2=$O$27),Best1!$F$11,IF(OR($O$2=$O$14,$O$2=$O$15,$O$2=$O$20,$O$2=$O$21),Best1!$F$12,IF(OR($O$2=$O$7,$O$2=$O$8,$O$2=$O$18,$O$2=$O$19),Best1!$F$14,IF(OR($O$2=$O$5,$O$2=$O$6,$O$2=$O$12,$O$2=$O$13),Best1!$F$15,\"\")))))))","v":""},"","",{"$f":"IF(ISBLANK(K29),\"\",IF(Best1!$C$3=\"\",\"\",ROUND(SUM(Best1!$C$3:$C$6),1)))","v":""},"","",{"$f":"IF(ISBLANK(K29),\"\",IF(Best1!$B$3=\"\",\"\",ROUND(AVERAGE(Best1!$D$3:$D$6),1)))","v":""},"","",null,"",null,null,null,null,null,null,null,"","","","","","","","","","","","","","","","","","","","","","","",""]
[26,null,null,null,null,null,null,null,null,null,null,null,null,null,null,"","","","","","",0,0,"","","","","","","","",0,0,"","",0,0,"","",{"$f":"IF(ISBLANK(E30),\"\",IF(OR($O$2=$O$5,$O$2=$O$6,$O$2=$O$12,$O$2=$O$13),Best1!$F$10,IF(OR($O$2=$O$7,$O$2=$O$8,$O$2=$O$18,$O$2=$O$19),Best1!$F$11,IF(OR($O$2=$O$9,$O$2=$O$10,$O$2=$O$24,$O$2=$O$25),Best1!$F$12,IF(OR($O$2=$O$14,$O$2=$O$15,$O$2=$O$20,$O$2=$O$21),Best1!$F$13,IF(OR($O$2=$O$16,$O$2=$O$17,$O$2=$O$26,$O$2=$O$27),Best1!$F$14,IF(OR($O$2=$O$22,$O$2=$O$23,$O$2=$O$28,$O$2=$O$29),Best1!$F$15,\"\")))))))","v":""},"","",{"$f":"IF(ISBLANK(H30),\"\",IF(OR($O$2=$O$5,$O$2=$O$7,$O$2=$O$27,$O$2=$O$29),Best1!$F$13,IF(OR($O$2=$O$18,$O$2=$O$20,$O$2=$O$24,$O$2=$O$26),Best1!$F$10,IF(OR($O$2=$O$12,$O$2=$O$14,$O$2=$O$25,$O$2=$O$28),Best1!$F$11,IF(OR($O$2=$O$13,$O$2=$O$16,$O$2=$O$19,$O$2=$O$22),Best1!$F$12,IF(OR($O$2=$O$6,$O$2=$O$9,$O$2=$O$21,$O$2=$O$23),Best1!$F$14,IF(OR($O$2=$O$8,$O$2=$O$10,$O$2=$O$15,$O$2=$O$17),Best1!$F$15,\"\")))))))","v":""},"","",{"$f":"IF(ISBLANK(I30),\"\",IF(OR($O$2=$O$9,$O$2=$O$10,$O$2=$O$24,$O$2=$O$25),Best1!$F$13,IF(OR($O$2=$O$22,$O$2=$O$23,$O$2=$O$28,$O$2=$O$29),Best1!$F$10,IF(OR($O$2=$O$16,$O$2=$O$17,$O$2=$O$26,$O$2=$O$27),Best1!$F$11,IF(OR($O$2=$O$14,$O$2=$O$15,$O$2=$O$20,$O$2=$O$21),Best1!$F$12,IF(OR($O$2=$O$7,$O$2=$O$8,$O$2=$O$18,$O$2=$O$19),Best1!$F$14,IF(OR($O$2=$O$5,$O$2=$O$6,$O$2=$O$12,$O$2=$O$13),Best1!$F$15,\"\")))))))","v":""},"","",{"$f":"IF(ISBLANK(K30),\"\",IF(Best1!$C$3=\"\",\"\",ROUND(SUM(Best1!$C$3:$C$6),1)))","v":""},"","",{"$f":"IF(ISBLANK(K30),\"\",IF(Best1!$B$3=\"\",\"\",ROUND(AVERAGE(Best1!$D$3:$D$6),1)))","v":""},"","",null,"",null,null,null,null,null,null,null,"","","","","","","","","","","","","","","","","","","","","","","",""]
[27,null,null,null,null,null,null,null,null,null,null,null,null,null,null,"","","","","","",0,0,"","","","","","","","",0,0,"","",0,0,"","",{"$f":"IF(ISBLANK(E31),\"\",IF(OR($O$2=$O$5,$O$2=$O$6,$O$2=$O$12,$O$2=$O$13),Best1!$F$10,IF(OR($O$2=$O$7,$O$2=$O$8,$O$2=$O$18,$O$2=$O$19),Best1!$F$11,IF(OR($O$2=$O$9,$O$2=$O$10,$O$2=$O$24,$O$2=$O$25),Best1!$F$12,IF(OR($O$2=$O$14,$O$2=$O$15,$O$2=$O$20,$O$2=$O$21),Best1!$F$13,IF(OR($O$2=$O$16,$O$2=$O$17,$O$2=$O$26,$O$2=$O$27),Best1!$F$14,IF(OR($O$2=$O$22,$O$2=$O$23,$O$2=$O$28,$O$2=$O$29),Best1!$F$15,\"\")))))))","v":""},{"$f":"IF(F31=\"\",\"\",F31)","v":""},"",{"$f":"IF(ISBLANK(H31),\"\",IF(OR($O$2=$O$5,$O$2=$O$7,$O$2=$O$27,$O$2=$O$29),Best1!$F$13,IF(OR($O$2=$O$18,$O$2=$O$20,$O$2=$O$24,$O$2=$O$26),Best1!$F$10,IF(OR($O$2=$O$12,$O$2=$O$14,$O$2=$O$25,$O$2=$O$28),Best1!$F$11,IF(OR($O$2=$O$13,$O$2=$O$16,$O$2=$O$19,$O$2=$O$22),Best1!$F$12,IF(OR($O$2=$O$6,$O$2=$O$9,$O$2=$O$21,$O$2=$O$23),Best1!$F$14,IF(OR($O$2=$O$8,$O$2=$O$10,$O$2=$O$15,$O$2=$O$17),Best1!$F$15,\"\")))))))","v":""},{"$f":"IF(H31=\"\",\"\",H31)","v":""},"",{"$f":"IF(ISBLANK(I31),\"\",IF(OR($O$2=$O$9,$O$2=$O$10,$O$2=$O$24,$O$2=$O$25),Best1!$F$13,IF(OR($O$2=$O$22,$O$2=$O$23,$O$2=$O$28,$O$2=$O$29),Best1!$F$10,IF(OR($O$2=$O$16,$O$2=$O$17,$O$2=$O$26,$O$2=$O$27),Best1!$F$11,IF(OR($O$2=$O$14,$O$2=$O$15,$O$2=$O$20,$O$2=$O$21),Best1!$F$12,IF(OR($O$2=$O$7,$O$2=$O$8,$O$2=$O$18,$O$2=$O$19),Best1!$F$14,IF(OR($O$2=$O$5,$O$2=$O$6,$O$2=$O$12,$O$2=$O$13),Best1!$F$15,\"\")))))))","v":""},{"$f":"IF(J31=\"\",\"\",J31)","v":""},"",{"$f":"IF(ISBLANK(K31),\"\",IF(Best1!$C$3=\"\",\"\",ROUND(SUM(Best1!$C$3:$C$6),1)))","v":""},{"$f":"IF(K31=\"\",\"\",K31)","v":""},"",{"$f":"IF(ISBLANK(K31),\"\",IF(Best1!$B$3=\"\",\"\",ROUND(AVERAGE(Best1!$D$3:$D$6),1)))","v":""},{"$f":"IF(L31=\"\",\"\",L31)","v":""},"",null,"",null,null,null,null,null,null,null,"","","","","","","","","","","","","","","","","","",{"$f":"IF(OR(AH31=\"\",AH31=0),\"\",AH31*1)","v":""},"","","","",""]
[28,null,null,null,null,null,null,null,null,null,null,null,null,null,null,"","","","","","",0,0,"","","","","","","","",0,0,"","",0,0,"","",{"$f":"IF(ISBLANK(E32),\"\",IF(OR($O$2=$O$5,$O$2=$O$6,$O$2=$O$12,$O$2=$O$13),Best1!$F$10,IF(OR($O$2=$O$7,$O$2=$O$8,$O$2=$O$18,$O$2=$O$19),Best1!$F$11,IF(OR($O$2=$O$9,$O$2=$O$10,$O$2=$O$24,$O$2=$O$25),Best1!$F$12,IF(OR($O$2=$O$14,$O$2=$O$15,$O$2=$O$20,$O$2=$O$21),Best1!$F$13,IF(OR($O$2=$O$16,$O$2=$O$17,$O$2=$O$26,$O$2=$O$27),Best1!$F$14,IF(OR($O$2=$O$22,$O$2=$O$23,$O$2=$O$28,$O$2=$O$29),Best1!$F$15,\"\")))))))","v":""},"","",{"$f":"IF(ISBLANK(H32),\"\",IF(OR($O$2=$O$5,$O$2=$O$7,$O$2=$O$27,$O$2=$O$29),Best1!$F$13,IF(OR($O$2=$O$18,$O$2=$O$20,$O$2=$O$24,$O$2=$O$26),Best1!$F$10,IF(OR($O$2=$O$12,$O$2=$O$14,$O$2=$O$25,$O$2=$O$28),Best1!$F$11,IF(OR($O$2=$O$13,$O$2=$O$16,$O$2=$O$19,$O$2=$O$22),Best1!$F$12,IF(OR($O$2=$O$6,$O$2=$O$9,$O$2=$O$21,$O$2=$O$23),Best1!$F$14,IF(OR($O$2=$O$8,$O$2=$O$10,$O$2=$O$15,$O$2=$O$17),Best1!$F$15,\"\")))))))","v":""},"","",{"$f":"IF(ISBLANK(I32),\"\",IF(OR($O$2=$O$9,$O$2=$O$10,$O$2=$O$24,$O$2=$O$25),Best1!$F$13,IF(OR($O$2=$O$22,$O$2=$O$23,$O$2=$O$28,$O$2=$O$29),Best1!$F$10,IF(OR($O$2=$O$16,$O$2=$O$17,$O$2=$O$26,$O$2=$O$27),Best1!$F$11,IF(OR($O$2=$O$14,$O$2=$O$15,$O$2=$O$20,$O$2=$O$21),Best1!$F$12,IF(OR($O$2=$O$7,$O$2=$O$8,$O$2=$O$18,$O$2=$O$19),Best1!$F$14,IF(OR($O$2=$O$5,$O$2=$O$6,$O$2=$O$12,$O$2=$O$13),Best1!$F$15,\"\")))))))","v":""},"","",{"$f":"IF(ISBLANK(K32),\"\",IF(Best1!$C$3=\"\",\"\",ROUND(SUM(Best1!$C$3:$C$6),1)))","v":""},"","",{"$f":"IF(ISBLANK(K32),\"\",IF(Best1!$B$3=\"\",\"\",ROUND(AVERAGE(Best1!$D$3:$D$6),1)))","v":""},"","",null,"",null,null,null,null,null,null,null,"","","","","","","","","","","","","","","","",{"$f":"IF(OR(AF32=\"\",AF32=0),\"\",AF32*1)","v":""},"","","","","","",""]
[]
[null,null,null,null,null,null,null,null,null,null,null,null,null,null,null,{"$f":"MIN(BW5:BW32)","v":0},{"$f":"MIN(BX5:BX32)","v":0},{"$f":"MIN(BY5:BY32)","v":0},0,0,0,0,0,0,0,0,0,0,0,0,0,0,0,0,0,0,0,0,0,null,null,null,null,null,null,null,null,null,null,null,null,null,null,null,null,null,null,null,null,null,null,null,null,{"$f":"IF(MIN(BL5:BL32)=0,\"\",MIN(BL5:BL32))","v":""},{"$f":"IF(MIN(BM5:BM32)=0,\"\",MIN(BM5:BM32))","v":""},"","","","","","","","","","","","",{"$f":"IF(MIN(BZ5:BZ32)=0,\"\",MIN(BZ5:BZ32))","v":""},"","","","","","","","",""]
[]
[]
[]
[]
[]
[]
[]
[null,null,null,null,null,null,null,null,null,null,null,null,null,null,null,null,null,null,null,null,null,null,null,null,null,null,null,null,null,null,null,null,null,null,null,null,null,null,null,null,null,null,null,null,null,null,null,null,null,{"$f":"IF(AND(AX5=\"\",AX33=\"\"),\"\",MIN(AX5:AX41))","v":""},null,null,{"$f":"IF(AND(BA5=\"\",BA33=\"\"),\"\",MAX(BA5:BA41))","v":""}]
[]
[]
[]
[]
[]
[]
[]
[null,null,null,null,null,null,null,null,null,null,null,null,null,500,500,500,500,{"$f":"N50*1","v":500},{"$f":"O50*1","v":500},500,500]
[null,null,null,null,null,null,null,null,null,null,null,null,null,500,500,500,500,{"$f":"N51*1","v":500},{"$f":"O51*1","v":500},{"$f":"P51*1","v":500},{"$f":"Q51*1","v":500}]
[null,null,null,null,null,null,null,null,null,null,null,null,null,500,500,500,500,500,500,500,500]
[null,null,null,null,null,null,null,null,null,null,null,null,null,500,500,500,500,500,500,500,500]
[null,null,null,null,null,null,null,null,null,null,null,null,null,500,500,500,500,500,500,500,500]
[null,null,null,null,null,null,null,null,null,null,null,null,null,500,500,500,500,500,500,500,500]
[null,null,null,null,null,null,null,null,null,null,null,null,null,500,500,500,500,500,500,500,500]
[null,null,null,null,null,null,null,null,null,null,null,null,null,500,500,500,500,500,500,500,500]
[null,null,null,null,null,null,null,null,null,null,null,null,null,500,500,500,500,500,500,500,500]
[null,null,null,null,null,null,null,null,null,null,null,null,null,500,500,500,500,500,500,500,500]
[null,null,null,null,null,null,null,null,null,null,null,null,null,500,500,500,500,500,500,500,500]
[null,null,null,null,null,null,null,null,null,null,null,null,null,500,500,500,500,500,500,500,500]
[null,null,null,null,null,null,null,null,null,null,null,null,null,500,500,500,500,500,500,500,500]
[null,null,null,null,null,null,null,null,null,null,null,null,null,500,500,500,500,500,500,500,500]
[null,null,null,null,null,null,null,null,null,null,null,null,null,500,500,500,500,500,500,500,500]
[null,null,null,null,null,null,null,null,null,null,null,null,null,500,500,500,500,500,500,500,500]
[null,null,null,null,null,null,null,null,null,null,null,null,null,500,500,500,500,500,500,500,500]
[null,null,null,null,null,null,null,null,null,null,null,null,null,500,500,500,500,500,500,500,500]
[null,null,null,null,null,null,null,null,null,null,null,null,null,500,500,500,500,500,500,500,500]
[null,null,null,null,null,null,null,null,null,null,null,null,null,500,500,500,500,500,500,500,500]
[null,null,null,null,null,null,null,null,null,null,null,null,null,500,500,500,500,500,500,500,500]
[null,null,null,null,null,null,null,null,null,null,null,null,null,500,500,500,500,500,500,500,500]
[null,null,null,null,null,null,null,null,null,null,null,null,null,500,500,500,500,500,500,500,500]
[null,null,null,null,null,null,null,null,null,null,null,null,null,500,500,500,500,500,500,500,500]
[]
[]
[]
[]
[]
[]
[]
[]
[]
[]
[]
[]
[]
[]
[]
[null,null,null,null,null,null,null,null,null,null,null,null,null,{"$f":"IF(MIN(N50:N73)=0,\"\",MIN(N50:N73))","v":500},500,500,500,500,500,500,500]
[null,null,null,null,null,null,null,null,null,null,null,null,null,500,500,500,500,{"$f":"N90*1","v":500},{"$f":"O90*1","v":500},{"$f":"P90*1","v":500},{"$f":"Q90*1","v":500}]
[null,null,null,null,null,null,null,null,null,null,null,null,null,500,500,500,500,{"$f":"N91*1","v":500},{"$f":"O91*1","v":500},{"$f":"P91*1","v":500},{"$f":"Q91*1","v":500}]
[null,null,null,null,null,null,null,null,null,null,null,null,null,500,500,500,500,500,500,500,500]
[null,null,null,null,null,null,null,null,null,null,null,null,null,500,500,500,500,500,500,500,500]
[null,null,null,null,null,null,null,null,null,null,null,null,null,500,500,500,500,500,500,500,500]
[null,null,null,null,null,null,null,null,null,null,null,null,null,500,500,500,500,500,500,500,500]
[null,null,null,null,null,null,null,null,null,null,null,null,null,500,500,500,500,500,500,500,500]
[null,null,null,null,null,null,null,null,null,null,null,null,null,500,500,500,500,500,500,500,500]
[null,null,null,null,null,null,null,null,null,null,null,null,null,500,500,500,500,500,500,500,500]
[null,null,null,null,null,null,null,null,null,null,null,null,null,500,500,500,500,500,500,500,500]
[null,null,null,null,null,null,null,null,null,null,null,null,null,500,500,500,500,500,500,500,500]
[null,null,null,null,null,null,null,null,null,null,null,null,null,500,500,500,500,500,500,500,500]
[null,null,null,null,null,null,null,null,null,null,null,null,null,500,500,500,500,500,500,500,500]
[null,null,null,null,null,null,null,null,null,null,null,null,null,500,500,500,500,500,500,500,500]
[null,null,null,null,null,null,null,null,null,null,null,null,null,500,500,500,500,500,500,500,500]
[null,null,null,null,null,null,null,null,null,null,null,null,null,500,500,500,500,500,500,500,500]
[null,null,null,null,null,null,null,null,null,null,null,null,null,500,500,500,500,500,500,500,500]
[null,null,null,null,null,null,null,null,null,null,null,null,null,500,500,500,500,500,500,500,500]
[null,null,null,null,null,null,null,null,null,null,null,null,null,500,500,500,500,500,500,500,500]
[null,null,null,null,null,null,null,null,null,null,null,null,null,500,500,500,500,500,500,500,500]
[null,null,null,null,null,null,null,null,null,null,null,null,null,500,500,500,500,500,500,500,500]
[null,null,null,null,null,null,null,null,null,null,null,null,null,500,500,500,500,500,500,500,500]
[null,null,null,null,null,null,null,null,null,null,null,null,null,500,500,500,500,500,500,500,500]
[null,null,null,null,null,null,null,null,null,null,null,null,null,500,500,500,500,500,500,500,500]
[]
[]
[]
[]
[]
[]
[]
[]
[]
[]
[]
[]
[]
[]
[]
[null,null,null,null,null,null,null,null,null,null,null,null,null,{"$f":"IF(MIN(N90:N113)=0,\"\",MIN(N90:N113))","v":500},500,500,500,500,500,500,500]
[null,null,null,null,null,null,null,null,null,null,null,null,null,null,null,null,null,{"$f":"IF(MIN(R89,R129)=500,\"\",MIN(R89,R129))","v":""},{"$f":"IF(MIN(S89,S129)=500,\"\",MIN(S89,S129))","v":""},"",""]

{"sheet":"Archresultats5","index":8,"n_rows":130,"n_cols":87,"rows_kept":130,"cut":false,"hidden":false,"merged":[[0,0,2,11],[2,39,2,41],[2,42,2,44],[2,45,2,47],[2,48,2,53]]}
["Bilan équipe 5"]
[null,null,null,null,null,null,null,null,null,null,null,null,null,null,"DABC"]
[null,null,null,null,null,null,null,null,null,null,null,null,null,null,null,null,null,null,null,null,null,null,null,null,null,null,null,null,null,null,null,null,null,null,null,null,null,null,null,"ZONE 1",null,null,"ZONE 2",null,null,"ZONE 3",null,null,"TOTAL course"]
[null,"Dates","Heure","Coureur ou\nOrdre relais","Tps\n zone 1","Vitesse\nzone 1","Tps\n zone 2","Vitesse\nzone 2","Tps\n zone 3","Vitesse\nzone 3","Tps course\ntotale","Vitesse totale\ntotale","Remarques",null,null,"AB (t)","AB (v)","AC (t)","AC (v)","AD (t)","AD (v)","BA (v)","BA (t)","BC (t)","BC (v)","BD (t)","BD (v)","CA (t)","CA (v)","CB (t)","CB (v)","CD (t)","CD (v)","DA (t)","DA (v)","DB (t)","DB (v)","DC (t)","DC (v)","Vitesse\n moy. théorique  du binôme","Vitesse réelle\n du binôme","% \nEvolution","Vitesse\n moy. théorique  du binôme","Vitesse réelle\n du binôme","% \nEvolution","Vitesse\n moy. théorique  du binôme","Vitesse réelle\n du binôme","% \nEvolution","TEMPS\ntotal théorique\ndu groupe","TEMPS\ntotal réel\ndu groupe\n ","% \nEvolution","VITESSE\n théorique  du groupe","VITESSE réelle\n du groupe","% \nEvolution"]
[1,null,null,null,null,null,null,null,null,null,null,null,null,null,"ABCD",{"$f":"IF(OR($O$2=$O$5,$O$2=$O$6),E5,IF(OR($O$2=$O$18,$O$2=$O$24),G5,IF(OR($O$2=$O$22,$O$2=$O$28),I5,\"\")))","v":0},{"$f":"IF(OR($O$2=$O$5,$O$2=$O$6),F5,IF(OR($O$2=$O$18,$O$2=$O$24),H5,IF(OR($O$2=$O$22,$O$2=$O$28),J5,\"\")))","v":0},{"$f":"IF(OR($O$2=$O$7,$O$2=$O$8),E5,IF(OR($O$2=$O$12,$O$2=$O$25),G5,IF(OR($O$2=$O$16,$O$2=$O$26),I5,\"\")))","v":""},{"$f":"IF(OR($O$2=$O$7,$O$2=$O$8),F5,IF(OR($O$2=$O$12,$O$2=$O$25),H5,IF(OR($O$2=$O$16,$O$2=$O$26),J5,\"\")))","v":""},{"$f":"IF(OR($O$2=$O$9,$O$2=$O$10),E5,IF(OR($O$2=$O$13,$O$2=$O$19),G5,IF(OR($O$2=$O$14,$O$2=$O$20),I5,\"\")))","v":""},{"$f":"IF(OR($O$2=$O$9,$O$2=$O$10),F5,IF(OR($O$2=$O$13,$O$2=$O$19),H5,IF(OR($O$2=$O$14,$O$2=$O$20),J5,\"\")))","v":""},{"$f":"IF(OR($O$2=$O$12,$O$2=$O$13),E5,IF(OR($O$2=$O$20,$O$2=$O$26),G5,IF(OR($O$2=$O$23,$O$2=$O$29),I5,\"\")))","v":""},{"$f":"IF(OR($O$2=$O$12,$O$2=$O$13),F5,IF(OR($O$2=$O$20,$O$2=$O$26),H5,IF(OR($O$2=$O$23,$O$2=$O$29),J5,\"\")))","v":""},{"$f":"IF(OR($O$2=$O$14,$O$2=$O$15),E5,IF(OR($O$2=$O$5,$O$2=$O$27),G5,IF(OR($O$2=$O$9,$O$2=$O$24),I5,\"\")))","v":0},{"$f":"IF(OR($O$2=$O$14,$O$2=$O$15),F5,IF(OR($O$2=$O$5,$O$2=$O$27),H5,IF(OR($O$2=$O$9,$O$2=$O$24),J5,\"\")))","v":0},{"$f":"IF(OR($O$2=$O$16,$O$2=$O$17),E5,IF(OR($O$2=$O$6,$O$2=$O$21),G5,IF(OR($O$2=$O$7,$O$2=$O$18),I5,\"\")))","v":""},{"$f":"IF(OR($O$2=$O$16,$O$2=$O$17),F5,IF(OR($O$2=$O$6,$O$2=$O$21),H5,IF(OR($O$2=$O$7,$O$2=$O$18),J5,\"\")))","v":""},{"$f":"IF(OR($O$2=$O$18,$O$2=$O$19),E5,IF(OR($O$2=$O$14,$O$2=$O$28),G5,IF(OR($O$2=$O$17,$O$2=$O$27),I5,\"\")))","v":""},{"$f":"IF(OR($O$2=$O$18,$O$2=$O$19),F5,IF(OR($O$2=$O$14,$O$2=$O$28),H5,IF(OR($O$2=$O$17,$O$2=$O$27),J5,\"\")))","v":""},{"$f":"IF(OR($O$2=$O$20,$O$2=$O$21),E5,IF(OR($O$2=$O$7,$O$2=$O$29),G5,IF(OR($O$2=$O$10,$O$2=$O$11),I5,\"\")))","v":""},{"$f":"IF(OR($O$2=$O$20,$O$2=$O$21),F5,IF(OR($O$2=$O$7,$O$2=$O$29),H5,IF(OR($O$2=$O$10,$O$2=$O$11),J5,\"\")))","v":""},{"$f":"IF(OR($O$2=$O$22,$O$2=$O$23),E5,IF(OR($O$2=$O$8,$O$2=$O$15),G5,IF(OR($O$2=$O$5,$O$2=$O$12),I5,\"\")))","v":""},{"$f":"IF(OR($O$2=$O$22,$O$2=$O$23),F5,IF(OR($O$2=$O$8,$O$2=$O$15),H5,IF(OR($O$2=$O$5,$O$2=$O$12),J5,\"\")))","v":""},{"$f":"IF(OR($O$2=$O$24,$O$2=$O$25),E5,IF(OR($O$2=$O$16,$O$2=$O$22),G5,IF(OR($O$2=$O$15,$O$2=$O$21),I5,\"\")))","v":0},{"$f":"IF(OR($O$2=$O$24,$O$2=$O$25),F5,IF(OR($O$2=$O$16,$O$2=$O$22),H5,IF(OR($O$2=$O$15,$O$2=$O$21),J5,\"\")))","v":0},{"$f":"IF(OR($O$2=$O$26,$O$2=$O$27),E5,IF(OR($O$2=$O$9,$O$2=$O$23),G5,IF(OR($O$2=$O$8,$O$2=$O$19),I5,\"\")))","v":""},{"$f":"IF(OR($O$2=$O$26,$O$2=$O$27),F5,IF(OR($O$2=$O$9,$O$2=$O$23),H5,IF(OR($O$2=$O$8,$O$2=$O$19),J5,\"\")))","v":""},{"$f":"IF(OR($O$2=$O$28,$O$2=$O$29),E5,IF(OR($O$2=$O$10,$O$2=$O$11),G5,IF(OR($O$2=$O$6,$O$2=$O$13),I5,\"\")))","v":""},{"$f":"IF(OR($O$2=$O$28,$O$2=$O$29),F5,IF(OR($O$2=$O$10,$O$2=$O$11),H5,IF(OR($O$2=$O$6,$O$2=$O$13),J5,\"\")))","v":""},{"$f":"IF(ISBLANK(E5),\"\",IF(OR($O$2=$O$5,$O$2=$O$6,$O$2=$O$12,$O$2=$O$13),Best1!$F$10,IF(OR($O$2=$O$7,$O$2=$O$8,$O$2=$O$18,$O$2=$O$19),Best1!$F$11,IF(OR($O$2=$O$9,$O$2=$O$10,$O$2=$O$24,$O$2=$O$25),Best1!$F$12,IF(OR($O$2=$O$14,$O$2=$O$15,$O$2=$O$20,$O$2=$O$21),Best1!$F$13,IF(OR($O$2=$O$16,$O$2=$O$17,$O$2=$O$26,$O$2=$O$27),Best1!$F$14,IF(OR($O$2=$O$22,$O$2=$O$23,$O$2=$O$28,$O$2=$O$29),Best1!$F$15,\"\")))))))","v":""},{"$f":"IF(F5=\"\",\"\",F5)","v":""},{"$f":"IF(AO5=\"\",\"\",ROUND(((AO5-AN5)/AN5*100),1))","v":""},{"$f":"IF(ISBLANK(G5),\"\",IF(OR($O$2=$O$5,$O$2=$O$7,$O$2=$O$27,$O$2=$O$29),Best1!$F$13,IF(OR($O$2=$O$18,$O$2=$O$20,$O$2=$O$24,$O$2=$O$26),Best1!$F$10,IF(OR($O$2=$O$12,$O$2=$O$14,$O$2=$O$25,$O$2=$O$28),Best1!$F$11,IF(OR($O$2=$O$13,$O$2=$O$16,$O$2=$O$19,$O$2=$O$22),Best1!$F$12,IF(OR($O$2=$O$6,$O$2=$O$9,$O$2=$O$21,$O$2=$O$23),Best1!$F$14,IF(OR($O$2=$O$8,$O$2=$O$10,$O$2=$O$15,$O$2=$O$17),Best1!$F$15,\"\")))))))","v":""},{"$f":"IF(H5=\"\",\"\",H5)","v":""},{"$f":"IF(AR5=\"\",\"\",ROUND(((AR5-AQ5)/AQ5*100),1))","v":""},{"$f":"IF(ISBLANK(I5),\"\",IF(OR($O$2=$O$9,$O$2=$O$10,$O$2=$O$24,$O$2=$O$25),Best1!$F$13,IF(OR($O$2=$O$22,$O$2=$O$23,$O$2=$O$28,$O$2=$O$29),Best1!$F$10,IF(OR($O$2=$O$16,$O$2=$O$17,$O$2=$O$26,$O$2=$O$27),Best1!$F$11,IF(OR($O$2=$O$14,$O$2=$O$15,$O$2=$O$20,$O$2=$O$21),Best1!$F$12,IF(OR($O$2=$O$7,$O$2=$O$8,$O$2=$O$18,$O$2=$O$19),Best1!$F$14,IF(OR($O$2=$O$5,$O$2=$O$6,$O$2=$O$12,$O$2=$O$13),Best1!$F$15,\"\")))))))","v":""},{"$f":"IF(J5=\"\",\"\",J5)","v":""},{"$f":"IF(AU5=\"\",\"\",ROUND(((AU5-AT5)/AT5*100),1))","v":""},{"$f":"IF(ISBLANK(K5),\"\",IF(Best1!$C$3=\"\",\"\",ROUND(SUM(Best1!$C$3:$C$6),1)))","v":""},{"$f":"IF(K5=\"\",\"\",K5)","v":""},{"$f":"IF(AX5=\"\",\"\",ROUND(((AX5-AW5)/AW5*100),1))","v":""},{"$f":"IF(ISBLANK(K5),\"\",IF(Best1!$B$3=\"\",\"\",ROUND(AVERAGE(Best1!$D$3:$D$6),1)))","v":""},{"$f":"IF(L5=\"\",\"\",L5)","v":""},{"$f":"IF(BA5=\"\",\"\",ROUND(((BA5-AZ5)/AZ5*100),1))","v":""},null,{"$f":"AX5","v":""},null,null,null,null,null,null,null,{"$f":"IF(OR(P5=\"\",P5=0),\"\",P5*1)","v":""},{"$f":"IF(OR(Q5=\"\",Q5=0),\"\",Q5*1)","v":""},"","","","","","","","","","","","","","","","","","","","","",""]
[2,null,null,null,null,null,null,null,null,null,null,null,null,null,"ABDC",{"$f":"IF(OR($O$2=$O$5,$O$2=$O$6),E6,IF(OR($O$2=$O$18,$O$2=$O$24),G6,IF(OR($O$2=$O$22,$O$2=$O$28),I6,\"\")))","v":0},0,{"$f":"IF(OR($O$2=$O$7,$O$2=$O$8),E6,IF(OR($O$2=$O$12,$O$2=$O$25),G6,IF(OR($O$2=$O$16,$O$2=$O$26),I6,\"\")))","v":""},"",{"$f":"IF(OR($O$2=$O$9,$O$2=$O$10),E6,IF(OR($O$2=$O$13,$O$2=$O$19),G6,IF(OR($O$2=$O$14,$O$2=$O$20),I6,\"\")))","v":""},"",{"$f":"IF(OR($O$2=$O$12,$O$2=$O$13),E6,IF(OR($O$2=$O$20,$O$2=$O$26),G6,IF(OR($O$2=$O$23,$O$2=$O$29),I6,\"\")))","v":""},"",{"$f":"IF(OR($O$2=$O$14,$O$2=$O$15),E6,IF(OR($O$2=$O$5,$O$2=$O$27),G6,IF(OR($O$2=$O$9,$O$2=$O$24),I6,\"\")))","v":0},0,{"$f":"IF(OR($O$2=$O$16,$O$2=$O$17),E6,IF(OR($O$2=$O$6,$O$2=$O$21),G6,IF(OR($O$2=$O$7,$O$2=$O$18),I6,\"\")))","v":""},"",{"$f":"IF(OR($O$2=$O$18,$O$2=$O$19),E6,IF(OR($O$2=$O$14,$O$2=$O$28),G6,IF(OR($O$2=$O$17,$O$2=$O$27),I6,\"\")))","v":""},"",{"$f":"IF(OR($O$2=$O$20,$O$2=$O$21),E6,IF(OR($O$2=$O$7,$O$2=$O$29),G6,IF(OR($O$2=$O$10,$O$2=$O$11),I6,\"\")))","v":""},"",{"$f":"IF(OR($O$2=$O$22,$O$2=$O$23),E6,IF(OR($O$2=$O$8,$O$2=$O$15),G6,IF(OR($O$2=$O$5,$O$2=$O$12),I6,\"\")))","v":""},"",{"$f":"IF(OR($O$2=$O$24,$O$2=$O$25),E6,IF(OR($O$2=$O$16,$O$2=$O$22),G6,IF(OR($O$2=$O$15,$O$2=$O$21),I6,\"\")))","v":0},0,{"$f":"IF(OR($O$2=$O$26,$O$2=$O$27),E6,IF(OR($O$2=$O$9,$O$2=$O$23),G6,IF(OR($O$2=$O$8,$O$2=$O$19),I6,\"\")))","v":""},"",{"$f":"IF(OR($O$2=$O$28,$O$2=$O$29),E6,IF(OR($O$2=$O$10,$O$2=$O$11),G6,IF(OR($O$2=$O$6,$O$2=$O$13),I6,\"\")))","v":""},"",{"$f":"IF(ISBLANK(E6),\"\",IF(OR($O$2=$O$5,$O$2=$O$6,$O$2=$O$12,$O$2=$O$13),Best1!$F$10,IF(OR($O$2=$O$7,$O$2=$O$8,$O$2=$O$18,$O$2=$O$19),Best1!$F$11,IF(OR($O$2=$O$9,$O$2=$O$10,$O$2=$O$24,$O$2=$O$25),Best1!$F$12,IF(OR($O$2=$O$14,$O$2=$O$15,$O$2=$O$20,$O$2=$O$21),Best1!$F$13,IF(OR($O$2=$O$16,$O$2=$O$17,$O$2=$O$26,$O$2=$O$27),Best1!$F$14,IF(OR($O$2=$O$22,$O$2=$O$23,$O$2=$O$28,$O$2=$O$29),Best1!$F$15,\"\")))))))","v":""},{"$f":"IF(F6=\"\",\"\",F6)","v":""},{"$f":"IF(AO6=\"\",\"\",ROUND(((AO6-AN6)/AN6*100),1))","v":""},{"$f":"IF(ISBLANK(H6),\"\",IF(OR($O$2=$O$5,$O$2=$O$7,$O$2=$O$27,$O$2=$O$29),Best1!$F$13,IF(OR($O$2=$O$18,$O$2=$O$20,$O$2=$O$24,$O$2=$O$26),Best1!$F$10,IF(OR($O$2=$O$12,$O$2=$O$14,$O$2=$O$25,$O$2=$O$28),Best1!$F$11,IF(OR($O$2=$O$13,$O$2=$O$16,$O$2=$O$19,$O$2=$O$22),Best1!$F$12,IF(OR($O$2=$O$6,$O$2=$O$9,$O$2=$O$21,$O$2=$O$23),Best1!$F$14,IF(OR($O$2=$O$8,$O$2=$O$10,$O$2=$O$15,$O$2=$O$17),Best1!$F$15,\"\")))))))","v":""},{"$f":"IF(H6=\"\",\"\",H6)","v":""},{"$f":"IF(AR6=\"\",\"\",ROUND(((AR6-AQ6)/AQ6*100),1))","v":""},{"$f":"IF(ISBLANK(I6),\"\",IF(OR($O$2=$O$9,$O$2=$O$10,$O$2=$O$24,$O$2=$O$25),Best1!$F$13,IF(OR($O$2=$O$22,$O$2=$O$23,$O$2=$O$28,$O$2=$O$29),Best1!$F$10,IF(OR($O$2=$O$16,$O$2=$O$17,$O$2=$O$26,$O$2=$O$27),Best1!$F$11,IF(OR($O$2=$O$14,$O$2=$O$15,$O$2=$O$20,$O$2=$O$21),Best1!$F$12,IF(OR($O$2=$O$7,$O$2=$O$8,$O$2=$O$18,$O$2=$O$19),Best1!$F$14,IF(OR($O$2=$O$5,$O$2=$O$6,$O$2=$O$12,$O$2=$O$13),Best1!$F$15,\"\")))))))","v":""},{"$f":"IF(J6=\"\",\"\",J6)","v":""},{"$f":"IF(AU6=\"\",\"\",ROUND(((AU6-AT6)/AT6*100),1))","v":""},{"$f":"IF(ISBLANK(K6),\"\",IF(Best1!$C$3=\"\",\"\",ROUND(SUM(Best1!$C$3:$C$6),1)))","v":""},{"$f":"IF(K6=\"\",\"\",K6)","v":""},{"$f":"IF(AX6=\"\",\"\",ROUND(((AX6-AW6)/AW6*100),1))","v":""},{"$f":"IF(ISBLANK(K6),\"\",IF(Best1!$B$3=\"\",\"\",ROUND(AVERAGE(Best1!$D$3:$D$6),1)))","v":""},{"$f":"IF(L6=\"\",\"\",L6)","v":""},{"$f":"IF(BA6=\"\",\"\",ROUND(((BA6-AZ6)/AZ6*100),1))","v":""},null,{"$f":"AX6","v":""},null,null,null,null,null,null,null,{"$f":"IF(OR(P6=\"\",P6=0),\"\",P6*1)","v":""},"","","","","","","","","","","","","","","","","","","","","","",""]
[3,null,null,null,null,null,null,null,null,null,null,null,null,null,"ACBD",0,0,"","","","","","",0,0,"","","","","","","","",0,0,"","","","",{"$f":"IF(ISBLANK(E7),\"\",IF(OR($O$2=$O$5,$O$2=$O$6,$O$2=$O$12,$O$2=$O$13),Best1!$F$10,IF(OR($O$2=$O$7,$O$2=$O$8,$O$2=$O$18,$O$2=$O$19),Best1!$F$11,IF(OR($O$2=$O$9,$O$2=$O$10,$O$2=$O$24,$O$2=$O$25),Best1!$F$12,IF(OR($O$2=$O$14,$O$2=$O$15,$O$2=$O$20,$O$2=$O$21),Best1!$F$13,IF(OR($O$2=$O$16,$O$2=$O$17,$O$2=$O$26,$O$2=$O$27),Best1!$F$14,IF(OR($O$2=$O$22,$O$2=$O$23,$O$2=$O$28,$O$2=$O$29),Best1!$F$15,\"\")))))))","v":""},"","",{"$f":"IF(ISBLANK(H7),\"\",IF(OR($O$2=$O$5,$O$2=$O$7,$O$2=$O$27,$O$2=$O$29),Best1!$F$13,IF(OR($O$2=$O$18,$O$2=$O$20,$O$2=$O$24,$O$2=$O$26),Best1!$F$10,IF(OR($O$2=$O$12,$O$2=$O$14,$O$2=$O$25,$O$2=$O$28),Best1!$F$11,IF(OR($O$2=$O$13,$O$2=$O$16,$O$2=$O$19,$O$2=$O$22),Best1!$F$12,IF(OR($O$2=$O$6,$O$2=$O$9,$O$2=$O$21,$O$2=$O$23),Best1!$F$14,IF(OR($O$2=$O$8,$O$2=$O$10,$O$2=$O$15,$O$2=$O$17),Best1!$F$15,\"\")))))))","v":""},"","",{"$f":"IF(ISBLANK(I7),\"\",IF(OR($O$2=$O$9,$O$2=$O$10,$O$2=$O$24,$O$2=$O$25),Best1!$F$13,IF(OR($O$2=$O$22,$O$2=$O$23,$O$2=$O$28,$O$2=$O$29),Best1!$F$10,IF(OR($O$2=$O$16,$O$2=$O$17,$O$2=$O$26,$O$2=$O$27),Best1!$F$11,IF(OR($O$2=$O$14,$O$2=$O$15,$O$2=$O$20,$O$2=$O$21),Best1!$F$12,IF(OR($O$2=$O$7,$O$2=$O$8,$O$2=$O$18,$O$2=$O$19),Best1!$F$14,IF(OR($O$2=$O$5,$O$2=$O$6,$O$2=$O$12,$O$2=$O$13),Best1!$F$15,\"\")))))))","v":""},"","",{"$f":"IF(ISBLANK(K7),\"\",IF(Best1!$C$3=\"\",\"\",ROUND(SUM(Best1!$C$3:$C$6),1)))","v":""},"","",{"$f":"IF(ISBLANK(K7),\"\",IF(Best1!$B$3=\"\",\"\",ROUND(AVERAGE(Best1!$D$3:$D$6),1)))","v":""},"","",null,"",null,null,null,null,null,null,null,"","","","","","","","","","","","","","","","","","","","","","","",""]
[4,null,null,null,null,null,null,null,null,null,null,null,null,null,"ACDB",0,0,"","","","","","",0,0,"","","","","","","","",0,0,"","","","",{"$f":"IF(ISBLANK(E8),\"\",IF(OR($O$2=$O$5,$O$2=$O$6,$O$2=$O$12,$O$2=$O$13),Best1!$F$10,IF(OR($O$2=$O$7,$O$2=$O$8,$O$2=$O$18,$O$2=$O$19),Best1!$F$11,IF(OR($O$2=$O$9,$O$2=$O$10,$O$2=$O$24,$O$2=$O$25),Best1!$F$12,IF(OR($O$2=$O$14,$O$2=$O$15,$O$2=$O$20,$O$2=$O$21),Best1!$F$13,IF(OR($O$2=$O$16,$O$2=$O$17,$O$2=$O$26,$O$2=$O$27),Best1!$F$14,IF(OR($O$2=$O$22,$O$2=$O$23,$O$2=$O$28,$O$2=$O$29),Best1!$F$15,\"\")))))))","v":""},"","",{"$f":"IF(ISBLANK(H8),\"\",IF(OR($O$2=$O$5,$O$2=$O$7,$O$2=$O$27,$O$2=$O$29),Best1!$F$13,IF(OR($O$2=$O$18,$O$2=$O$20,$O$2=$O$24,$O$2=$O$26),Best1!$F$10,IF(OR($O$2=$O$12,$O$2=$O$14,$O$2=$O$25,$O$2=$O$28),Best1!$F$11,IF(OR($O$2=$O$13,$O$2=$O$16,$O$2=$O$19,$O$2=$O$22),Best1!$F$12,IF(OR($O$2=$O$6,$O$2=$O$9,$O$2=$O$21,$O$2=$O$23),Best1!$F$14,IF(OR($O$2=$O$8,$O$2=$O$10,$O$2=$O$15,$O$2=$O$17),Best1!$F$15,\"\")))))))","v":""},"","",{"$f":"IF(ISBLANK(I8),\"\",IF(OR($O$2=$O$9,$O$2=$O$10,$O$2=$O$24,$O$2=$O$25),Best1!$F$13,IF(OR($O$2=$O$22,$O$2=$O$23,$O$2=$O$28,$O$2=$O$29),Best1!$F$10,IF(OR($O$2=$O$16,$O$2=$O$17,$O$2=$O$26,$O$2=$O$27),Best1!$F$11,IF(OR($O$2=$O$14,$O$2=$O$15,$O$2=$O$20,$O$2=$O$21),Best1!$F$12,IF(OR($O$2=$O$7,$O$2=$O$8,$O$2=$O$18,$O$2=$O$19),Best1!$F$14,IF(OR($O$2=$O$5,$O$2=$O$6,$O$2=$O$12,$O$2=$O$13),Best1!$F$15,\"\")))))))","v":""},"","",{"$f":"IF(ISBLANK(K8),\"\",IF(Best1!$C$3=\"\",\"\",ROUND(SUM(Best1!$C$3:$C$6),1)))","v":""},"","",{"$f":"IF(ISBLANK(K8),\"\",IF(Best1!$B$3=\"\",\"\",ROUND(AVERAGE(Best1!$D$3:$D$6),1)))","v":""},"","",null,"",null,null,null,null,null,null,null,"","","","","","","","","","","","","","","","","","","","","","","",""]
[5,null,null,null,null,null,null,null,null,null,null,null,null,null,"ADBC",0,0,"","","","","","",0,0,"","","","","","","","",0,0,"","","","",{"$f":"IF(ISBLANK(E9),\"\",IF(OR($O$2=$O$5,$O$2=$O$6,$O$2=$O$12,$O$2=$O$13),Best1!$F$10,IF(OR($O$2=$O$7,$O$2=$O$8,$O$2=$O$18,$O$2=$O$19),Best1!$F$11,IF(OR($O$2=$O$9,$O$2=$O$10,$O$2=$O$24,$O$2=$O$25),Best1!$F$12,IF(OR($O$2=$O$14,$O$2=$O$15,$O$2=$O$20,$O$2=$O$21),Best1!$F$13,IF(OR($O$2=$O$16,$O$2=$O$17,$O$2=$O$26,$O$2=$O$27),Best1!$F$14,IF(OR($O$2=$O$22,$O$2=$O$23,$O$2=$O$28,$O$2=$O$29),Best1!$F$15,\"\")))))))","v":""},"","",{"$f":"IF(ISBLANK(H9),\"\",IF(OR($O$2=$O$5,$O$2=$O$7,$O$2=$O$27,$O$2=$O$29),Best1!$F$13,IF(OR($O$2=$O$18,$O$2=$O$20,$O$2=$O$24,$O$2=$O$26),Best1!$F$10,IF(OR($O$2=$O$12,$O$2=$O$14,$O$2=$O$25,$O$2=$O$28),Best1!$F$11,IF(OR($O$2=$O$13,$O$2=$O$16,$O$2=$O$19,$O$2=$O$22),Best1!$F$12,IF(OR($O$2=$O$6,$O$2=$O$9,$O$2=$O$21,$O$2=$O$23),Best1!$F$14,IF(OR($O$2=$O$8,$O$2=$O$10,$O$2=$O$15,$O$2=$O$17),Best1!$F$15,\"\")))))))","v":""},"","",{"$f":"IF(ISBLANK(I9),\"\",IF(OR($O$2=$O$9,$O$2=$O$10,$O$2=$O$24,$O$2=$O$25),Best1!$F$13,IF(OR($O$2=$O$22,$O$2=$O$23,$O$2=$O$28,$O$2=$O$29),Best1!$F$10,IF(OR($O$2=$O$16,$O$2=$O$17,$O$2=$O$26,$O$2=$O$27),Best1!$F$11,IF(OR($O$2=$O$14,$O$2=$O$15,$O$2=$O$20,$O$2=$O$21),Best1!$F$12,IF(OR($O$2=$O$7,$O$2=$O$8,$O$2=$O$18,$O$2=$O$19),Best1!$F$14,IF(OR($O$2=$O$5,$O$2=$O$6,$O$2=$O$12,$O$2=$O$13),Best1!$F$15,\"\")))))))","v":""},"","",{"$f":"IF(ISBLANK(K9),\"\",IF(Best1!$C$3=\"\",\"\",ROUND(SUM(Best1!$C$3:$C$6),1)))","v":""},"","",{"$f":"IF(ISBLANK(K9),\"\",IF(Best1!$B$3=\"\",\"\",ROUND(AVERAGE(Best1!$D$3:$D$6),1)))","v":""},"","",null,"",null,null,null,null,null,null,null,"","","","","","","","","","","","","","","","","","","","","","","",""]
[6,null,null,null,null,null,null,null,null,null,null,null,null,null,"ADCB",0,0,"","","","","","",0,0,"","","","","","","","",0,0,"","","","",{"$f":"IF(ISBLANK(E10),\"\",IF(OR($O$2=$O$5,$O$2=$O$6,$O$2=$O$12,$O$2=$O$13),Best1!$F$10,IF(OR($O$2=$O$7,$O$2=$O$8,$O$2=$O$18,$O$2=$O$19),Best1!$F$11,IF(OR($O$2=$O$9,$O$2=$O$10,$O$2=$O$24,$O$2=$O$25),Best1!$F$12,IF(OR($O$2=$O$14,$O$2=$O$15,$O$2=$O$20,$O$2=$O$21),Best1!$F$13,IF(OR($O$2=$O$16,$O$2=$O$17,$O$2=$O$26,$O$2=$O$27),Best1!$F$14,IF(OR($O$2=$O$22,$O$2=$O$23,$O$2=$O$28,$O$2=$O$29),Best1!$F$15,\"\")))))))","v":""},"","",{"$f":"IF(ISBLANK(H10),\"\",IF(OR($O$2=$O$5,$O$2=$O$7,$O$2=$O$27,$O$2=$O$29),Best1!$F$13,IF(OR($O$2=$O$18,$O$2=$O$20,$O$2=$O$24,$O$2=$O$26),Best1!$F$10,IF(OR($O$2=$O$12,$O$2=$O$14,$O$2=$O$25,$O$2=$O$28),Best1!$F$11,IF(OR($O$2=$O$13,$O$2=$O$16,$O$2=$O$19,$O$2=$O$22),Best1!$F$12,IF(OR($O$2=$O$6,$O$2=$O$9,$O$2=$O$21,$O$2=$O$23),Best1!$F$14,IF(OR($O$2=$O$8,$O$2=$O$10,$O$2=$O$15,$O$2=$O$17),Best1!$F$15,\"\")))))))","v":""},"","",{"$f":"IF(ISBLANK(I10),\"\",IF(OR($O$2=$O$9,$O$2=$O$10,$O$2=$O$24,$O$2=$O$25),Best1!$F$13,IF(OR($O$2=$O$22,$O$2=$O$23,$O$2=$O$28,$O$2=$O$29),Best1!$F$10,IF(OR($O$2=$O$16,$O$2=$O$17,$O$2=$O$26,$O$2=$O$27),Best1!$F$11,IF(OR($O$2=$O$14,$O$2=$O$15,$O$2=$O$20,$O$2=$O$21),Best1!$F$12,IF(OR($O$2=$O$7,$O$2=$O$8,$O$2=$O$18,$O$2=$O$19),Best1!$F$14,IF(OR($O$2=$O$5,$O$2=$O$6,$O$2=$O$12,$O$2=$O$13),Best1!$F$15,\"\")))))))","v":""},"","",{"$f":"IF(ISBLANK(K10),\"\",IF(Best1!$C$3=\"\",\"\",ROUND(SUM(Best1!$C$3:$C$6),1)))","v":""},"","",{"$f":"IF(ISBLANK(K10),\"\",IF(Best1!$B$3=\"\",\"\",ROUND(AVERAGE(Best1!$D$3:$D$6),1)))","v":""},"","",null,"",null,null,null,null,null,null,null,"","","","","","","","","","","","","","","","","","","","","","","",""]
[7,null,null,null,null,null,null,null,null,null,null,null,null,null,"ADCB",0,0,"","","","","","",0,0,"","","","","","","","",0,0,"","","","",{"$f":"IF(ISBLANK(E11),\"\",IF(OR($O$2=$O$5,$O$2=$O$6,$O$2=$O$12,$O$2=$O$13),Best1!$F$10,IF(OR($O$2=$O$7,$O$2=$O$8,$O$2=$O$18,$O$2=$O$19),Best1!$F$11,IF(OR($O$2=$O$9,$O$2=$O$10,$O$2=$O$24,$O$2=$O$25),Best1!$F$12,IF(OR($O$2=$O$14,$O$2=$O$15,$O$2=$O$20,$O$2=$O$21),Best1!$F$13,IF(OR($O$2=$O$16,$O$2=$O$17,$O$2=$O$26,$O$2=$O$27),Best1!$F$14,IF(OR($O$2=$O$22,$O$2=$O$23,$O$2=$O$28,$O$2=$O$29),Best1!$F$15,\"\")))))))","v":""},"","",{"$f":"IF(ISBLANK(H11),\"\",IF(OR($O$2=$O$5,$O$2=$O$7,$O$2=$O$27,$O$2=$O$29),Best1!$F$13,IF(OR($O$2=$O$18,$O$2=$O$20,$O$2=$O$24,$O$2=$O$26),Best1!$F$10,IF(OR($O$2=$O$12,$O$2=$O$14,$O$2=$O$25,$O$2=$O$28),Best1!$F$11,IF(OR($O$2=$O$13,$O$2=$O$16,$O$2=$O$19,$O$2=$O$22),Best1!$F$12,IF(OR($O$2=$O$6,$O$2=$O$9,$O$2=$O$21,$O$2=$O$23),Best1!$F$14,IF(OR($O$2=$O$8,$O$2=$O$10,$O$2=$O$15,$O$2=$O$17),Best1!$F$15,\"\")))))))","v":""},"","",{"$f":"IF(ISBLANK(I11),\"\",IF(OR($O$2=$O$9,$O$2=$O$10,$O$2=$O$24,$O$2=$O$25),Best1!$F$13,IF(OR($O$2=$O$22,$O$2=$O$23,$O$2=$O$28,$O$2=$O$29),Best1!$F$10,IF(OR($O$2=$O$16,$O$2=$O$17,$O$2=$O$26,$O$2=$O$27),Best1!$F$11,IF(OR($O$2=$O$14,$O$2=$O$15,$O$2=$O$20,$O$2=$O$21),Best1!$F$12,IF(OR($O$2=$O$7,$O$2=$O$8,$O$2=$O$18,$O$2=$O$19),Best1!$F$14,IF(OR($O$2=$O$5,$O$2=$O$6,$O$2=$O$12,$O$2=$O$13),Best1!$F$15,\"\")))))))","v":""},"","",{"$f":"IF(ISBLANK(K11),\"\",IF(Best1!$C$3=\"\",\"\",ROUND(SUM(Best1!$C$3:$C$6),1)))","v":""},"","",{"$f":"IF(ISBLANK(K11),\"\",IF(Best1!$B$3=\"\",\"\",ROUND(AVERAGE(Best1!$D$3:$D$6),1)))","v":""},"","",null,"",null,null,null,null,null,null,null,"","","","","","","","","","","","","","","","","","","","","","","",""]
[8,null,null,null,null,null,null,null,null,null,null,null,null,null,"BACD",0,0,"","","","","","",0,0,"","","","","","","","",0,0,"","","","",{"$f":"IF(ISBLANK(E12),\"\",IF(OR($O$2=$O$5,$O$2=$O$6,$O$2=$O$12,$O$2=$O$13),Best1!$F$10,IF(OR($O$2=$O$7,$O$2=$O$8,$O$2=$O$18,$O$2=$O$19),Best1!$F$11,IF(OR($O$2=$O$9,$O$2=$O$10,$O$2=$O$24,$O$2=$O$25),Best1!$F$12,IF(OR($O$2=$O$14,$O$2=$O$15,$O$2=$O$20,$O$2=$O$21),Best1!$F$13,IF(OR($O$2=$O$16,$O$2=$O$17,$O$2=$O$26,$O$2=$O$27),Best1!$F$14,IF(OR($O$2=$O$22,$O$2=$O$23,$O$2=$O$28,$O$2=$O$29),Best1!$F$15,\"\")))))))","v":""},"","",{"$f":"IF(ISBLANK(H12),\"\",IF(OR($O$2=$O$5,$O$2=$O$7,$O$2=$O$27,$O$2=$O$29),Best1!$F$13,IF(OR($O$2=$O$18,$O$2=$O$20,$O$2=$O$24,$O$2=$O$26),Best1!$F$10,IF(OR($O$2=$O$12,$O$2=$O$14,$O$2=$O$25,$O$2=$O$28),Best1!$F$11,IF(OR($O$2=$O$13,$O$2=$O$16,$O$2=$O$19,$O$2=$O$22),Best1!$F$12,IF(OR($O$2=$O$6,$O$2=$O$9,$O$2=$O$21,$O$2=$O$23),Best1!$F$14,IF(OR($O$2=$O$8,$O$2=$O$10,$O$2=$O$15,$O$2=$O$17),Best1!$F$15,\"\")))))))","v":""},"","",{"$f":"IF(ISBLANK(I12),\"\",IF(OR($O$2=$O$9,$O$2=$O$10,$O$2=$O$24,$O$2=$O$25),Best1!$F$13,IF(OR($O$2=$O$22,$O$2=$O$23,$O$2=$O$28,$O$2=$O$29),Best1!$F$10,IF(OR($O$2=$O$16,$O$2=$O$17,$O$2=$O$26,$O$2=$O$27),Best1!$F$11,IF(OR($O$2=$O$14,$O$2=$O$15,$O$2=$O$20,$O$2=$O$21),Best1!$F$12,IF(OR($O$2=$O$7,$O$2=$O$8,$O$2=$O$18,$O$2=$O$19),Best1!$F$14,IF(OR($O$2=$O$5,$O$2=$O$6,$O$2=$O$12,$O$2=$O$13),Best1!$F$15,\"\")))))))","v":""},"","",{"$f":"IF(ISBLANK(K12),\"\",IF(Best1!$C$3=\"\",\"\",ROUND(SUM(Best1!$C$3:$C$6),1)))","v":""},"","",{"$f":"IF(ISBLANK(K12),\"\",IF(Best1!$B$3=\"\",\"\",ROUND(AVERAGE(Best1!$D$3:$D$6),1)))","v":""},"","",null,"",null,null,null,null,null,null,null,"","","","","","","","","","","","","","","","","","","","","","","",""]
[9,null,null,null,null,null,null,null,null,null,null,null,null,null,"BADC",0,0,"","","","","","",0,0,"","","","","","","","",0,0,"","","","",{"$f":"IF(ISBLANK(E13),\"\",IF(OR($O$2=$O$5,$O$2=$O$6,$O$2=$O$12,$O$2=$O$13),Best1!$F$10,IF(OR($O$2=$O$7,$O$2=$O$8,$O$2=$O$18,$O$2=$O$19),Best1!$F$11,IF(OR($O$2=$O$9,$O$2=$O$10,$O$2=$O$24,$O$2=$O$25),Best1!$F$12,IF(OR($O$2=$O$14,$O$2=$O$15,$O$2=$O$20,$O$2=$O$21),Best1!$F$13,IF(OR($O$2=$O$16,$O$2=$O$17,$O$2=$O$26,$O$2=$O$27),Best1!$F$14,IF(OR($O$2=$O$22,$O$2=$O$23,$O$2=$O$28,$O$2=$O$29),Best1!$F$15,\"\")))))))","v":""},"","",{"$f":"IF(ISBLANK(H13),\"\",IF(OR($O$2=$O$5,$O$2=$O$7,$O$2=$O$27,$O$2=$O$29),Best1!$F$13,IF(OR($O$2=$O$18,$O$2=$O$20,$O$2=$O$24,$O$2=$O$26),Best1!$F$10,IF(OR($O$2=$O$12,$O$2=$O$14,$O$2=$O$25,$O$2=$O$28),Best1!$F$11,IF(OR($O$2=$O$13,$O$2=$O$16,$O$2=$O$19,$O$2=$O$22),Best1!$F$12,IF(OR($O$2=$O$6,$O$2=$O$9,$O$2=$O$21,$O$2=$O$23),Best1!$F$14,IF(OR($O$2=$O$8,$O$2=$O$10,$O$2=$O$15,$O$2=$O$17),Best1!$F$15,\"\")))))))","v":""},"","",{"$f":"IF(ISBLANK(I13),\"\",IF(OR($O$2=$O$9,$O$2=$O$10,$O$2=$O$24,$O$2=$O$25),Best1!$F$13,IF(OR($O$2=$O$22,$O$2=$O$23,$O$2=$O$28,$O$2=$O$29),Best1!$F$10,IF(OR($O$2=$O$16,$O$2=$O$17,$O$2=$O$26,$O$2=$O$27),Best1!$F$11,IF(OR($O$2=$O$14,$O$2=$O$15,$O$2=$O$20,$O$2=$O$21),Best1!$F$12,IF(OR($O$2=$O$7,$O$2=$O$8,$O$2=$O$18,$O$2=$O$19),Best1!$F$14,IF(OR($O$2=$O$5,$O$2=$O$6,$O$2=$O$12,$O$2=$O$13),Best1!$F$15,\"\")))))))","v":""},"","",{"$f":"IF(ISBLANK(K13),\"\",IF(Best1!$C$3=\"\",\"\",ROUND(SUM(Best1!$C$3:$C$6),1)))","v":""},"","",{"$f":"IF(ISBLANK(K13),\"\",IF(Best1!$B$3=\"\",\"\",ROUND(AVERAGE(Best1!$D$3:$D$6),1)))","v":""},"","",null,"",null,null,null,null,null,null,null,"","","","","","","","","","","","","","","","","","","","","","","",""]
[10,null,null,null,null,null,null,null,null,null,null,null,null,null,"BCAD",0,0,"","","","","","",0,0,"","","","","","","","",0,0,"","","","",{"$f":"IF(ISBLANK(E14),\"\",IF(OR($O$2=$O$5,$O$2=$O$6,$O$2=$O$12,$O$2=$O$13),Best1!$F$10,IF(OR($O$2=$O$7,$O$2=$O$8,$O$2=$O$18,$O$2=$O$19),Best1!$F$11,IF(OR($O$2=$O$9,$O$2=$O$10,$O$2=$O$24,$O$2=$O$25),Best1!$F$12,IF(OR($O$2=$O$14,$O$2=$O$15,$O$2=$O$20,$O$2=$O$21),Best1!$F$13,IF(OR($O$2=$O$16,$O$2=$O$17,$O$2=$O$26,$O$2=$O$27),Best1!$F$14,IF(OR($O$2=$O$22,$O$2=$O$23,$O$2=$O$28,$O$2=$O$29),Best1!$F$15,\"\")))))))","v":""},"","",{"$f":"IF(ISBLANK(H14),\"\",IF(OR($O$2=$O$5,$O$2=$O$7,$O$2=$O$27,$O$2=$O$29),Best1!$F$13,IF(OR($O$2=$O$18,$O$2=$O$20,$O$2=$O$24,$O$2=$O$26),Best1!$F$10,IF(OR($O$2=$O$12,$O$2=$O$14,$O$2=$O$25,$O$2=$O$28),Best1!$F$11,IF(OR($O$2=$O$13,$O$2=$O$16,$O$2=$O$19,$O$2=$O$22),Best1!$F$12,IF(OR($O$2=$O$6,$O$2=$O$9,$O$2=$O$21,$O$2=$O$23),Best1!$F$14,IF(OR($O$2=$O$8,$O$2=$O$10,$O$2=$O$15,$O$2=$O$17),Best1!$F$15,\"\")))))))","v":""},"","",{"$f":"IF(ISBLANK(I14),\"\",IF(OR($O$2=$O$9,$O$2=$O$10,$O$2=$O$24,$O$2=$O$25),Best1!$F$13,IF(OR($O$2=$O$22,$O$2=$O$23,$O$2=$O$28,$O$2=$O$29),Best1!$F$10,IF(OR($O$2=$O$16,$O$2=$O$17,$O$2=$O$26,$O$2=$O$27),Best1!$F$11,IF(OR($O$2=$O$14,$O$2=$O$15,$O$2=$O$20,$O$2=$O$21),Best1!$F$12,IF(OR($O$2=$O$7,$O$2=$O$8,$O$2=$O$18,$O$2=$O$19),Best1!$F$14,IF(OR($O$2=$O$5,$O$2=$O$6,$O$2=$O$12,$O$2=$O$13),Best1!$F$15,\"\")))))))","v":""},"","",{"$f":"IF(ISBLANK(K14),\"\",IF(Best1!$C$3=\"\",\"\",ROUND(SUM(Best1!$C$3:$C$6),1)))","v":""},"","",{"$f":"IF(ISBLANK(K14),\"\",IF(Best1!$B$3=\"\",\"\",ROUND(AVERAGE(Best1!$D$3:$D$6),1)))","v":""},"","",null,"",null,null,null,null,null,null,null,"","","","","","","","","","","","","","","","","","","","","","","",""]
[11,null,null,null,null,null,null,null,null,null,null,null,null,null,"BCDA",0,0,"","","","","","",0,0,"","","","","","","","",0,0,"","","","",{"$f":"IF(ISBLANK(E15),\"\",IF(OR($O$2=$O$5,$O$2=$O$6,$O$2=$O$12,$O$2=$O$13),Best1!$F$10,IF(OR($O$2=$O$7,$O$2=$O$8,$O$2=$O$18,$O$2=$O$19),Best1!$F$11,IF(OR($O$2=$O$9,$O$2=$O$10,$O$2=$O$24,$O$2=$O$25),Best1!$F$12,IF(OR($O$2=$O$14,$O$2=$O$15,$O$2=$O$20,$O$2=$O$21),Best1!$F$13,IF(OR($O$2=$O$16,$O$2=$O$17,$O$2=$O$26,$O$2=$O$27),Best1!$F$14,IF(OR($O$2=$O$22,$O$2=$O$23,$O$2=$O$28,$O$2=$O$29),Best1!$F$15,\"\")))))))","v":""},"","",{"$f":"IF(ISBLANK(H15),\"\",IF(OR($O$2=$O$5,$O$2=$O$7,$O$2=$O$27,$O$2=$O$29),Best1!$F$13,IF(OR($O$2=$O$18,$O$2=$O$20,$O$2=$O$24,$O$2=$O$26),Best1!$F$10,IF(OR($O$2=$O$12,$O$2=$O$14,$O$2=$O$25,$O$2=$O$28),Best1!$F$11,IF(OR($O$2=$O$13,$O$2=$O$16,$O$2=$O$19,$O$2=$O$22),Best1!$F$12,IF(OR($O$2=$O$6,$O$2=$O$9,$O$2=$O$21,$O$2=$O$23),Best1!$F$14,IF(OR($O$2=$O$8,$O$2=$O$10,$O$2=$O$15,$O$2=$O$17),Best1!$F$15,\"\")))))))","v":""},"","",{"$f":"IF(ISBLANK(I15),\"\",IF(OR($O$2=$O$9,$O$2=$O$10,$O$2=$O$24,$O$2=$O$25),Best1!$F$13,IF(OR($O$2=$O$22,$O$2=$O$23,$O$2=$O$28,$O$2=$O$29),Best1!$F$10,IF(OR($O$2=$O$16,$O$2=$O$17,$O$2=$O$26,$O$2=$O$27),Best1!$F$11,IF(OR($O$2=$O$14,$O$2=$O$15,$O$2=$O$20,$O$2=$O$21),Best1!$F$12,IF(OR($O$2=$O$7,$O$2=$O$8,$O$2=$O$18,$O$2=$O$19),Best1!$F$14,IF(OR($O$2=$O$5,$O$2=$O$6,$O$2=$O$12,$O$2=$O$13),Best1!$F$15,\"\")))))))","v":""},"","",{"$f":"IF(ISBLANK(K15),\"\",IF(Best1!$C$3=\"\",\"\",ROUND(SUM(Best1!$C$3:$C$6),1)))","v":""},"","",{"$f":"IF(ISBLANK(K15),\"\",IF(Best1!$B$3=\"\",\"\",ROUND(AVERAGE(Best1!$D$3:$D$6),1)))","v":""},"","",null,"",null,null,null,null,null,null,null,"","","","","","","","","","","","","","","","","","","","","","","",""]
[12,null,null,null,null,null,null,null,null,null,null,null,null,null,"BDAC",0,0,"","","","","","",0,0,"","","","","","","","",0,0,"","","","",{"$f":"IF(ISBLANK(E16),\"\",IF(OR($O$2=$O$5,$O$2=$O$6,$O$2=$O$12,$O$2=$O$13),Best1!$F$10,IF(OR($O$2=$O$7,$O$2=$O$8,$O$2=$O$18,$O$2=$O$19),Best1!$F$11,IF(OR($O$2=$O$9,$O$2=$O$10,$O$2=$O$24,$O$2=$O$25),Best1!$F$12,IF(OR($O$2=$O$14,$O$2=$O$15,$O$2=$O$20,$O$2=$O$21),Best1!$F$13,IF(OR($O$2=$O$16,$O$2=$O$17,$O$2=$O$26,$O$2=$O$27),Best1!$F$14,IF(OR($O$2=$O$22,$O$2=$O$23,$O$2=$O$28,$O$2=$O$29),Best1!$F$15,\"\")))))))","v":""},"","",{"$f":"IF(ISBLANK(H16),\"\",IF(OR($O$2=$O$5,$O$2=$O$7,$O$2=$O$27,$O$2=$O$29),Best1!$F$13,IF(OR($O$2=$O$18,$O$2=$O$20,$O$2=$O$24,$O$2=$O$26),Best1!$F$10,IF(OR($O$2=$O$12,$O$2=$O$14,$O$2=$O$25,$O$2=$O$28),Best1!$F$11,IF(OR($O$2=$O$13,$O$2=$O$16,$O$2=$O$19,$O$2=$O$22),Best1!$F$12,IF(OR($O$2=$O$6,$O$2=$O$9,$O$2=$O$21,$O$2=$O$23),Best1!$F$14,IF(OR($O$2=$O$8,$O$2=$O$10,$O$2=$O$15,$O$2=$O$17),Best1!$F$15,\"\")))))))","v":""},"","",{"$f":"IF(ISBLANK(I16),\"\",IF(OR($O$2=$O$9,$O$2=$O$10,$O$2=$O$24,$O$2=$O$25),Best1!$F$13,IF(OR($O$2=$O$22,$O$2=$O$23,$O$2=$O$28,$O$2=$O$29),Best1!$F$10,IF(OR($O$2=$O$16,$O$2=$O$17,$O$2=$O$26,$O$2=$O$27),Best1!$F$11,IF(OR($O$2=$O$14,$O$2=$O$15,$O$2=$O$20,$O$2=$O$21),Best1!$F$12,IF(OR($O$2=$O$7,$O$2=$O$8,$O$2=$O$18,$O$2=$O$19),Best1!$F$14,IF(OR($O$2=$O$5,$O$2=$O$6,$O$2=$O$12,$O$2=$O$13),Best1!$F$15,\"\")))))))","v":""},"","",{"$f":"IF(ISBLANK(K16),\"\",IF(Best1!$C$3=\"\",\"\",ROUND(SUM(Best1!$C$3:$C$6),1)))","v":""},"","",{"$f":"IF(ISBLANK(K16),\"\",IF(Best1!$B$3=\"\",\"\",ROUND(AVERAGE(Best1!$D$3:$D$6),1)))","v":""},"","",null,"",null,null,null,null,null,null,null,"","","",{"$f":"IF(OR(S16=\"\",S16=0),\"\",S16*1)","v":""},"","","","","","","","","","","","","","","",{"$f":"IF(OR(AI16=\"\",AI16=0),\"\",AI16*1)","v":""},"","","",""]
[13,null,null,null,null,null,null,null,null,null,null,null,null,null,"BDCA",0,0,"","","","","","",0,0,"","","","","","","","",0,0,"","","","",{"$f":"IF(ISBLANK(E17),\"\",IF(OR($O$2=$O$5,$O$2=$O$6,$O$2=$O$12,$O$2=$O$13),Best1!$F$10,IF(OR($O$2=$O$7,$O$2=$O$8,$O$2=$O$18,$O$2=$O$19),Best1!$F$11,IF(OR($O$2=$O$9,$O$2=$O$10,$O$2=$O$24,$O$2=$O$25),Best1!$F$12,IF(OR($O$2=$O$14,$O$2=$O$15,$O$2=$O$20,$O$2=$O$21),Best1!$F$13,IF(OR($O$2=$O$16,$O$2=$O$17,$O$2=$O$26,$O$2=$O$27),Best1!$F$14,IF(OR($O$2=$O$22,$O$2=$O$23,$O$2=$O$28,$O$2=$O$29),Best1!$F$15,\"\")))))))","v":""},"","",{"$f":"IF(ISBLANK(H17),\"\",IF(OR($O$2=$O$5,$O$2=$O$7,$O$2=$O$27,$O$2=$O$29),Best1!$F$13,IF(OR($O$2=$O$18,$O$2=$O$20,$O$2=$O$24,$O$2=$O$26),Best1!$F$10,IF(OR($O$2=$O$12,$O$2=$O$14,$O$2=$O$25,$O$2=$O$28),Best1!$F$11,IF(OR($O$2=$O$13,$O$2=$O$16,$O$2=$O$19,$O$2=$O$22),Best1!$F$12,IF(OR($O$2=$O$6,$O$2=$O$9,$O$2=$O$21,$O$2=$O$23),Best1!$F$14,IF(OR($O$2=$O$8,$O$2=$O$10,$O$2=$O$15,$O$2=$O$17),Best1!$F$15,\"\")))))))","v":""},"","",{"$f":"IF(ISBLANK(I17),\"\",IF(OR($O$2=$O$9,$O$2=$O$10,$O$2=$O$24,$O$2=$O$25),Best1!$F$13,IF(OR($O$2=$O$22,$O$2=$O$23,$O$2=$O$28,$O$2=$O$29),Best1!$F$10,IF(OR($O$2=$O$16,$O$2=$O$17,$O$2=$O$26,$O$2=$O$27),Best1!$F$11,IF(OR($O$2=$O$14,$O$2=$O$15,$O$2=$O$20,$O$2=$O$21),Best1!$F$12,IF(OR($O$2=$O$7,$O$2=$O$8,$O$2=$O$18,$O$2=$O$19),Best1!$F$14,IF(OR($O$2=$O$5,$O$2=$O$6,$O$2=$O$12,$O$2=$O$13),Best1!$F$15,\"\")))))))","v":""},"","",{"$f":"IF(ISBLANK(K17),\"\",IF(Best1!$C$3=\"\",\"\",ROUND(SUM(Best1!$C$3:$C$6),1)))","v":""},"","",{"$f":"IF(ISBLANK(K17),\"\",IF(Best1!$B$3=\"\",\"\",ROUND(AVERAGE(Best1!$D$3:$D$6),1)))","v":""},"","",null,"",null,null,null,null,null,null,null,"","","","","","","","","","","","","","","","","","","","","","","",""]
[14,null,null,null,null,null,null,null,null,null,null,null,null,null,"CABD",0,0,"","","","","","",0,0,"","","","","","","","",0,0,"","","","",{"$f":"IF(ISBLANK(E18),\"\",IF(OR($O$2=$O$5,$O$2=$O$6,$O$2=$O$12,$O$2=$O$13),Best1!$F$10,IF(OR($O$2=$O$7,$O$2=$O$8,$O$2=$O$18,$O$2=$O$19),Best1!$F$11,IF(OR($O$2=$O$9,$O$2=$O$10,$O$2=$O$24,$O$2=$O$25),Best1!$F$12,IF(OR($O$2=$O$14,$O$2=$O$15,$O$2=$O$20,$O$2=$O$21),Best1!$F$13,IF(OR($O$2=$O$16,$O$2=$O$17,$O$2=$O$26,$O$2=$O$27),Best1!$F$14,IF(OR($O$2=$O$22,$O$2=$O$23,$O$2=$O$28,$O$2=$O$29),Best1!$F$15,\"\")))))))","v":""},"","",{"$f":"IF(ISBLANK(H18),\"\",IF(OR($O$2=$O$5,$O$2=$O$7,$O$2=$O$27,$O$2=$O$29),Best1!$F$13,IF(OR($O$2=$O$18,$O$2=$O$20,$O$2=$O$24,$O$2=$O$26),Best1!$F$10,IF(OR($O$2=$O$12,$O$2=$O$14,$O$2=$O$25,$O$2=$O$28),Best1!$F$11,IF(OR($O$2=$O$13,$O$2=$O$16,$O$2=$O$19,$O$2=$O$22),Best1!$F$12,IF(OR($O$2=$O$6,$O$2=$O$9,$O$2=$O$21,$O$2=$O$23),Best1!$F$14,IF(OR($O$2=$O$8,$O$2=$O$10,$O$2=$O$15,$O$2=$O$17),Best1!$F$15,\"\")))))))","v":""},"","",{"$f":"IF(ISBLANK(I18),\"\",IF(OR($O$2=$O$9,$O$2=$O$10,$O$2=$O$24,$O$2=$O$25),Best1!$F$13,IF(OR($O$2=$O$22,$O$2=$O$23,$O$2=$O$28,$O$2=$O$29),Best1!$F$10,IF(OR($O$2=$O$16,$O$2=$O$17,$O$2=$O$26,$O$2=$O$27),Best1!$F$11,IF(OR($O$2=$O$14,$O$2=$O$15,$O$2=$O$20,$O$2=$O$21),Best1!$F$12,IF(OR($O$2=$O$7,$O$2=$O$8,$O$2=$O$18,$O$2=$O$19),Best1!$F$14,IF(OR($O$2=$O$5,$O$2=$O$6,$O$2=$O$12,$O$2=$O$13),Best1!$F$15,\"\")))))))","v":""},"","",{"$f":"IF(ISBLANK(K18),\"\",IF(Best1!$C$3=\"\",\"\",ROUND(SUM(Best1!$C$3:$C$6),1)))","v":""},"","",{"$f":"IF(ISBLANK(K18),\"\",IF(Best1!$B$3=\"\",\"\",ROUND(AVERAGE(Best1!$D$3:$D$6),1)))","v":""},"","",null,"",null,null,null,null,null,null,null,"","","","","","","","","","","","","","","","","","","","","","","",""]
[15,null,null,null,null,null,null,null,null,null,null,null,null,null,"CADB",0,0,"","","","","","",0,0,"","","","","","","","",0,0,"","","","",{"$f":"IF(ISBLANK(E19),\"\",IF(OR($O$2=$O$5,$O$2=$O$6,$O$2=$O$12,$O$2=$O$13),Best1!$F$10,IF(OR($O$2=$O$7,$O$2=$O$8,$O$2=$O$18,$O$2=$O$19),Best1!$F$11,IF(OR($O$2=$O$9,$O$2=$O$10,$O$2=$O$24,$O$2=$O$25),Best1!$F$12,IF(OR($O$2=$O$14,$O$2=$O$15,$O$2=$O$20,$O$2=$O$21),Best1!$F$13,IF(OR($O$2=$O$16,$O$2=$O$17,$O$2=$O$26,$O$2=$O$27),Best1!$F$14,IF(OR($O$2=$O$22,$O$2=$O$23,$O$2=$O$28,$O$2=$O$29),Best1!$F$15,\"\")))))))","v":""},"","",{"$f":"IF(ISBLANK(H19),\"\",IF(OR($O$2=$O$5,$O$2=$O$7,$O$2=$O$27,$O$2=$O$29),Best1!$F$13,IF(OR($O$2=$O$18,$O$2=$O$20,$O$2=$O$24,$O$2=$O$26),Best1!$F$10,IF(OR($O$2=$O$12,$O$2=$O$14,$O$2=$O$25,$O$2=$O$28),Best1!$F$11,IF(OR($O$2=$O$13,$O$2=$O$16,$O$2=$O$19,$O$2=$O$22),Best1!$F$12,IF(OR($O$2=$O$6,$O$2=$O$9,$O$2=$O$21,$O$2=$O$23),Best1!$F$14,IF(OR($O$2=$O$8,$O$2=$O$10,$O$2=$O$15,$O$2=$O$17),Best1!$F$15,\"\")))))))","v":""},"","",{"$f":"IF(ISBLANK(I19),\"\",IF(OR($O$2=$O$9,$O$2=$O$10,$O$2=$O$24,$O$2=$O$25),Best1!$F$13,IF(OR($O$2=$O$22,$O$2=$O$23,$O$2=$O$28,$O$2=$O$29),Best1!$F$10,IF(OR($O$2=$O$16,$O$2=$O$17,$O$2=$O$26,$O$2=$O$27),Best1!$F$11,IF(OR($O$2=$O$14,$O$2=$O$15,$O$2=$O$20,$O$2=$O$21),Best1!$F$12,IF(OR($O$2=$O$7,$O$2=$O$8,$O$2=$O$18,$O$2=$O$19),Best1!$F$14,IF(OR($O$2=$O$5,$O$2=$O$6,$O$2=$O$12,$O$2=$O$13),Best1!$F$15,\"\")))))))","v":""},"","",{"$f":"IF(ISBLANK(K19),\"\",IF(Best1!$C$3=\"\",\"\",ROUND(SUM(Best1!$C$3:$C$6),1)))","v":""},"","",{"$f":"IF(ISBLANK(K19),\"\",IF(Best1!$B$3=\"\",\"\",ROUND(AVERAGE(Best1!$D$3:$D$6),1)))","v":""},"","",null,"",null,null,null,null,null,null,null,"","","","","","","","","","","","","","","","","","","","","","","",""]
[16,null,null,null,null,null,null,null,null,null,null,null,null,null,"CBAD",0,0,"","","","","","",0,0,"","","","","","","","",0,0,"","","","",{"$f":"IF(ISBLANK(E20),\"\",IF(OR($O$2=$O$5,$O$2=$O$6,$O$2=$O$12,$O$2=$O$13),Best1!$F$10,IF(OR($O$2=$O$7,$O$2=$O$8,$O$2=$O$18,$O$2=$O$19),Best1!$F$11,IF(OR($O$2=$O$9,$O$2=$O$10,$O$2=$O$24,$O$2=$O$25),Best1!$F$12,IF(OR($O$2=$O$14,$O$2=$O$15,$O$2=$O$20,$O$2=$O$21),Best1!$F$13,IF(OR($O$2=$O$16,$O$2=$O$17,$O$2=$O$26,$O$2=$O$27),Best1!$F$14,IF(OR($O$2=$O$22,$O$2=$O$23,$O$2=$O$28,$O$2=$O$29),Best1!$F$15,\"\")))))))","v":""},"","",{"$f":"IF(ISBLANK(H20),\"\",IF(OR($O$2=$O$5,$O$2=$O$7,$O$2=$O$27,$O$2=$O$29),Best1!$F$13,IF(OR($O$2=$O$18,$O$2=$O$20,$O$2=$O$24,$O$2=$O$26),Best1!$F$10,IF(OR($O$2=$O$12,$O$2=$O$14,$O$2=$O$25,$O$2=$O$28),Best1!$F$11,IF(OR($O$2=$O$13,$O$2=$O$16,$O$2=$O$19,$O$2=$O$22),Best1!$F$12,IF(OR($O$2=$O$6,$O$2=$O$9,$O$2=$O$21,$O$2=$O$23),Best1!$F$14,IF(OR($O$2=$O$8,$O$2=$O$10,$O$2=$O$15,$O$2=$O$17),Best1!$F$15,\"\")))))))","v":""},"","",{"$f":"IF(ISBLANK(I20),\"\",IF(OR($O$2=$O$9,$O$2=$O$10,$O$2=$O$24,$O$2=$O$25),Best1!$F$13,IF(OR($O$2=$O$22,$O$2=$O$23,$O$2=$O$28,$O$2=$O$29),Best1!$F$10,IF(OR($O$2=$O$16,$O$2=$O$17,$O$2=$O$26,$O$2=$O$27),Best1!$F$11,IF(OR($O$2=$O$14,$O$2=$O$15,$O$2=$O$20,$O$2=$O$21),Best1!$F$12,IF(OR($O$2=$O$7,$O$2=$O$8,$O$2=$O$18,$O$2=$O$19),Best1!$F$14,IF(OR($O$2=$O$5,$O$2=$O$6,$O$2=$O$12,$O$2=$O$13),Best1!$F$15,\"\")))))))","v":""},"","",{"$f":"IF(ISBLANK(K20),\"\",IF(Best1!$C$3=\"\",\"\",ROUND(SUM(Best1!$C$3:$C$6),1)))","v":""},"","",{"$f":"IF(ISBLANK(K20),\"\",IF(Best1!$B$3=\"\",\"\",ROUND(AVERAGE(Best1!$D$3:$D$6),1)))","v":""},"","",null,"",null,null,null,null,null,null,null,"","","","","","","","","","","","","","","","","","","","","","","",""]
[17,null,null,null,null,null,null,null,null,null,null,null,null,null,"CBDA",0,0,"","","","","","",0,0,"","","","","","","","",0,0,"","","","",{"$f":"IF(ISBLANK(E21),\"\",IF(OR($O$2=$O$5,$O$2=$O$6,$O$2=$O$12,$O$2=$O$13),Best1!$F$10,IF(OR($O$2=$O$7,$O$2=$O$8,$O$2=$O$18,$O$2=$O$19),Best1!$F$11,IF(OR($O$2=$O$9,$O$2=$O$10,$O$2=$O$24,$O$2=$O$25),Best1!$F$12,IF(OR($O$2=$O$14,$O$2=$O$15,$O$2=$O$20,$O$2=$O$21),Best1!$F$13,IF(OR($O$2=$O$16,$O$2=$O$17,$O$2=$O$26,$O$2=$O$27),Best1!$F$14,IF(OR($O$2=$O$22,$O$2=$O$23,$O$2=$O$28,$O$2=$O$29),Best1!$F$15,\"\")))))))","v":""},"","",{"$f":"IF(ISBLANK(H21),\"\",IF(OR($O$2=$O$5,$O$2=$O$7,$O$2=$O$27,$O$2=$O$29),Best1!$F$13,IF(OR($O$2=$O$18,$O$2=$O$20,$O$2=$O$24,$O$2=$O$26),Best1!$F$10,IF(OR($O$2=$O$12,$O$2=$O$14,$O$2=$O$25,$O$2=$O$28),Best1!$F$11,IF(OR($O$2=$O$13,$O$2=$O$16,$O$2=$O$19,$O$2=$O$22),Best1!$F$12,IF(OR($O$2=$O$6,$O$2=$O$9,$O$2=$O$21,$O$2=$O$23),Best1!$F$14,IF(OR($O$2=$O$8,$O$2=$O$10,$O$2=$O$15,$O$2=$O$17),Best1!$F$15,\"\")))))))","v":""},"","",{"$f":"IF(ISBLANK(I21),\"\",IF(OR($O$2=$O$9,$O$2=$O$10,$O$2=$O$24,$O$2=$O$25),Best1!$F$13,IF(OR($O$2=$O$22,$O$2=$O$23,$O$2=$O$28,$O$2=$O$29),Best1!$F$10,IF(OR($O$2=$O$16,$O$2=$O$17,$O$2=$O$26,$O$2=$O$27),Best1!$F$11,IF(OR($O$2=$O$14,$O$2=$O$15,$O$2=$O$20,$O$2=$O$21),Best1!$F$12,IF(OR($O$2=$O$7,$O$2=$O$8,$O$2=$O$18,$O$2=$O$19),Best1!$F$14,IF(OR($O$2=$O$5,$O$2=$O$6,$O$2=$O$12,$O$2=$O$13),Best1!$F$15,\"\")))))))","v":""},"","",{"$f":"IF(ISBLANK(K21),\"\",IF(Best1!$C$3=\"\",\"\",ROUND(SUM(Best1!$C$3:$C$6),1)))","v":""},"","",{"$f":"IF(ISBLANK(K21),\"\",IF(Best1!$B$3=\"\",\"\",ROUND(AVERAGE(Best1!$D$3:$D$6),1)))","v":""},"","",null,"",null,null,null,null,null,null,null,"","","","","","","","","","","","","","","","","","","","","","","",""]
[18,null,null,null,null,null,null,null,null,null,null,null,null,null,"CDAB",0,0,"","","","","","",0,0,"","","","","","","","",0,0,"","","","",{"$f":"IF(ISBLANK(E22),\"\",IF(OR($O$2=$O$5,$O$2=$O$6,$O$2=$O$12,$O$2=$O$13),Best1!$F$10,IF(OR($O$2=$O$7,$O$2=$O$8,$O$2=$O$18,$O$2=$O$19),Best1!$F$11,IF(OR($O$2=$O$9,$O$2=$O$10,$O$2=$O$24,$O$2=$O$25),Best1!$F$12,IF(OR($O$2=$O$14,$O$2=$O$15,$O$2=$O$20,$O$2=$O$21),Best1!$F$13,IF(OR($O$2=$O$16,$O$2=$O$17,$O$2=$O$26,$O$2=$O$27),Best1!$F$14,IF(OR($O$2=$O$22,$O$2=$O$23,$O$2=$O$28,$O$2=$O$29),Best1!$F$15,\"\")))))))","v":""},"","",{"$f":"IF(ISBLANK(H22),\"\",IF(OR($O$2=$O$5,$O$2=$O$7,$O$2=$O$27,$O$2=$O$29),Best1!$F$13,IF(OR($O$2=$O$18,$O$2=$O$20,$O$2=$O$24,$O$2=$O$26),Best1!$F$10,IF(OR($O$2=$O$12,$O$2=$O$14,$O$2=$O$25,$O$2=$O$28),Best1!$F$11,IF(OR($O$2=$O$13,$O$2=$O$16,$O$2=$O$19,$O$2=$O$22),Best1!$F$12,IF(OR($O$2=$O$6,$O$2=$O$9,$O$2=$O$21,$O$2=$O$23),Best1!$F$14,IF(OR($O$2=$O$8,$O$2=$O$10,$O$2=$O$15,$O$2=$O$17),Best1!$F$15,\"\")))))))","v":""},"","",{"$f":"IF(ISBLANK(I22),\"\",IF(OR($O$2=$O$9,$O$2=$O$10,$O$2=$O$24,$O$2=$O$25),Best1!$F$13,IF(OR($O$2=$O$22,$O$2=$O$23,$O$2=$O$28,$O$2=$O$29),Best1!$F$10,IF(OR($O$2=$O$16,$O$2=$O$17,$O$2=$O$26,$O$2=$O$27),Best1!$F$11,IF(OR($O$2=$O$14,$O$2=$O$15,$O$2=$O$20,$O$2=$O$21),Best1!$F$12,IF(OR($O$2=$O$7,$O$2=$O$8,$O$2=$O$18,$O$2=$O$19),Best1!$F$14,IF(OR($O$2=$O$5,$O$2=$O$6,$O$2=$O$12,$O$2=$O$13),Best1!$F$15,\"\")))))))","v":""},"","",{"$f":"IF(ISBLANK(K22),\"\",IF(Best1!$C$3=\"\",\"\",ROUND(SUM(Best1!$C$3:$C$6),1)))","v":""},"","",{"$f":"IF(ISBLANK(K22),\"\",IF(Best1!$B$3=\"\",\"\",ROUND(AVERAGE(Best1!$D$3:$D$6),1)))","v":""},"","",null,"",null,null,null,null,null,null,null,"","","","","","","","","","","","","","","","","","","","","","","",""]
[19,null,null,null,null,null,null,null,null,null,null,null,null,null,"CDBA",0,0,"","","","","","",0,0,"","","","","","","","",0,0,"","","","",{"$f":"IF(ISBLANK(E23),\"\",IF(OR($O$2=$O$5,$O$2=$O$6,$O$2=$O$12,$O$2=$O$13),Best1!$F$10,IF(OR($O$2=$O$7,$O$2=$O$8,$O$2=$O$18,$O$2=$O$19),Best1!$F$11,IF(OR($O$2=$O$9,$O$2=$O$10,$O$2=$O$24,$O$2=$O$25),Best1!$F$12,IF(OR($O$2=$O$14,$O$2=$O$15,$O$2=$O$20,$O$2=$O$21),Best1!$F$13,IF(OR($O$2=$O$16,$O$2=$O$17,$O$2=$O$26,$O$2=$O$27),Best1!$F$14,IF(OR($O$2=$O$22,$O$2=$O$23,$O$2=$O$28,$O$2=$O$29),Best1!$F$15,\"\")))))))","v":""},"","",{"$f":"IF(ISBLANK(H23),\"\",IF(OR($O$2=$O$5,$O$2=$O$7,$O$2=$O$27,$O$2=$O$29),Best1!$F$13,IF(OR($O$2=$O$18,$O$2=$O$20,$O$2=$O$24,$O$2=$O$26),Best1!$F$10,IF(OR($O$2=$O$12,$O$2=$O$14,$O$2=$O$25,$O$2=$O$28),Best1!$F$11,IF(OR($O$2=$O$13,$O$2=$O$16,$O$2=$O$19,$O$2=$O$22),Best1!$F$12,IF(OR($O$2=$O$6,$O$2=$O$9,$O$2=$O$21,$O$2=$O$23),Best1!$F$14,IF(OR($O$2=$O$8,$O$2=$O$10,$O$2=$O$15,$O$2=$O$17),Best1!$F$15,\"\")))))))","v":""},"","",{"$f":"IF(ISBLANK(I23),\"\",IF(OR($O$2=$O$9,$O$2=$O$10,$O$2=$O$24,$O$2=$O$25),Best1!$F$13,IF(OR($O$2=$O$22,$O$2=$O$23,$O$2=$O$28,$O$2=$O$29),Best1!$F$10,IF(OR($O$2=$O$16,$O$2=$O$17,$O$2=$O$26,$O$2=$O$27),Best1!$F$11,IF(OR($O$2=$O$14,$O$2=$O$15,$O$2=$O$20,$O$2=$O$21),Best1!$F$12,IF(OR($O$2=$O$7,$O$2=$O$8,$O$2=$O$18,$O$2=$O$19),Best1!$F$14,IF(OR($O$2=$O$5,$O$2=$O$6,$O$2=$O$12,$O$2=$O$13),Best1!$F$15,\"\")))))))","v":""},"","",{"$f":"IF(ISBLANK(K23),\"\",IF(Best1!$C$3=\"\",\"\",ROUND(SUM(Best1!$C$3:$C$6),1)))","v":""},"","",{"$f":"IF(ISBLANK(K23),\"\",IF(Best1!$B$3=\"\",\"\",ROUND(AVERAGE(Best1!$D$3:$D$6),1)))","v":""},"","",null,"",null,null,null,null,null,null,null,"","","","","","","","","","","","","","","","","","","","","","","",""]
[20,null,null,null,null,null,null,null,null,null,null,null,null,null,"DABC",0,0,"","","","","","",0,0,"","","","","","","","",0,0,"","","","",{"$f":"IF(ISBLANK(E24),\"\",IF(OR($O$2=$O$5,$O$2=$O$6,$O$2=$O$12,$O$2=$O$13),Best1!$F$10,IF(OR($O$2=$O$7,$O$2=$O$8,$O$2=$O$18,$O$2=$O$19),Best1!$F$11,IF(OR($O$2=$O$9,$O$2=$O$10,$O$2=$O$24,$O$2=$O$25),Best1!$F$12,IF(OR($O$2=$O$14,$O$2=$O$15,$O$2=$O$20,$O$2=$O$21),Best1!$F$13,IF(OR($O$2=$O$16,$O$2=$O$17,$O$2=$O$26,$O$2=$O$27),Best1!$F$14,IF(OR($O$2=$O$22,$O$2=$O$23,$O$2=$O$28,$O$2=$O$29),Best1!$F$15,\"\")))))))","v":""},"","",{"$f":"IF(ISBLANK(H24),\"\",IF(OR($O$2=$O$5,$O$2=$O$7,$O$2=$O$27,$O$2=$O$29),Best1!$F$13,IF(OR($O$2=$O$18,$O$2=$O$20,$O$2=$O$24,$O$2=$O$26),Best1!$F$10,IF(OR($O$2=$O$12,$O$2=$O$14,$O$2=$O$25,$O$2=$O$28),Best1!$F$11,IF(OR($O$2=$O$13,$O$2=$O$16,$O$2=$O$19,$O$2=$O$22),Best1!$F$12,IF(OR($O$2=$O$6,$O$2=$O$9,$O$2=$O$21,$O$2=$O$23),Best1!$F$14,IF(OR($O$2=$O$8,$O$2=$O$10,$O$2=$O$15,$O$2=$O$17),Best1!$F$15,\"\")))))))","v":""},"","",{"$f":"IF(ISBLANK(I24),\"\",IF(OR($O$2=$O$9,$O$2=$O$10,$O$2=$O$24,$O$2=$O$25),Best1!$F$13,IF(OR($O$2=$O$22,$O$2=$O$23,$O$2=$O$28,$O$2=$O$29),Best1!$F$10,IF(OR($O$2=$O$16,$O$2=$O$17,$O$2=$O$26,$O$2=$O$27),Best1!$F$11,IF(OR($O$2=$O$14,$O$2=$O$15,$O$2=$O$20,$O$2=$O$21),Best1!$F$12,IF(OR($O$2=$O$7,$O$2=$O$8,$O$2=$O$18,$O$2=$O$19),Best1!$F$14,IF(OR($O$2=$O$5,$O$2=$O$6,$O$2=$O$12,$O$2=$O$13),Best1!$F$15,\"\")))))))","v":""},"","",{"$f":"IF(ISBLANK(K24),\"\",IF(Best1!$C$3=\"\",\"\",ROUND(SUM(Best1!$C$3:$C$6),1)))","v":""},"","",{"$f":"IF(ISBLANK(K24),\"\",IF(Best1!$B$3=\"\",\"\",ROUND(AVERAGE(Best1!$D$3:$D$6),1)))","v":""},"","",null,"",null,null,null,null,null,null,null,"","","","","","","","","","","","","","","","","","","","","","","",""]
[21,null,null,null,null,null,null,null,null,null,null,null,null,null,"DACB",0,0,"","","","","","",0,0,"","","","","","","","",0,0,"","","","",{"$f":"IF(ISBLANK(E25),\"\",IF(OR($O$2=$O$5,$O$2=$O$6,$O$2=$O$12,$O$2=$O$13),Best1!$F$10,IF(OR($O$2=$O$7,$O$2=$O$8,$O$2=$O$18,$O$2=$O$19),Best1!$F$11,IF(OR($O$2=$O$9,$O$2=$O$10,$O$2=$O$24,$O$2=$O$25),Best1!$F$12,IF(OR($O$2=$O$14,$O$2=$O$15,$O$2=$O$20,$O$2=$O$21),Best1!$F$13,IF(OR($O$2=$O$16,$O$2=$O$17,$O$2=$O$26,$O$2=$O$27),Best1!$F$14,IF(OR($O$2=$O$22,$O$2=$O$23,$O$2=$O$28,$O$2=$O$29),Best1!$F$15,\"\")))))))","v":""},"","",{"$f":"IF(ISBLANK(H25),\"\",IF(OR($O$2=$O$5,$O$2=$O$7,$O$2=$O$27,$O$2=$O$29),Best1!$F$13,IF(OR($O$2=$O$18,$O$2=$O$20,$O$2=$O$24,$O$2=$O$26),Best1!$F$10,IF(OR($O$2=$O$12,$O$2=$O$14,$O$2=$O$25,$O$2=$O$28),Best1!$F$11,IF(OR($O$2=$O$13,$O$2=$O$16,$O$2=$O$19,$O$2=$O$22),Best1!$F$12,IF(OR($O$2=$O$6,$O$2=$O$9,$O$2=$O$21,$O$2=$O$23),Best1!$F$14,IF(OR($O$2=$O$8,$O$2=$O$10,$O$2=$O$15,$O$2=$O$17),Best1!$F$15,\"\")))))))","v":""},"","",{"$f":"IF(ISBLANK(I25),\"\",IF(OR($O$2=$O$9,$O$2=$O$10,$O$2=$O$24,$O$2=$O$25),Best1!$F$13,IF(OR($O$2=$O$22,$O$2=$O$23,$O$2=$O$28,$O$2=$O$29),Best1!$F$10,IF(OR($O$2=$O$16,$O$2=$O$17,$O$2=$O$26,$O$2=$O$27),Best1!$F$11,IF(OR($O$2=$O$14,$O$2=$O$15,$O$2=$O$20,$O$2=$O$21),Best1!$F$12,IF(OR($O$2=$O$7,$O$2=$O$8,$O$2=$O$18,$O$2=$O$19),Best1!$F$14,IF(OR($O$2=$O$5,$O$2=$O$6,$O$2=$O$12,$O$2=$O$13),Best1!$F$15,\"\")))))))","v":""},"","",{"$f":"IF(ISBLANK(K25),\"\",IF(Best1!$C$3=\"\",\"\",ROUND(SUM(Best1!$C$3:$C$6),1)))","v":""},"","",{"$f":"IF(ISBLANK(K25),\"\",IF(Best1!$B$3=\"\",\"\",ROUND(AVERAGE(Best1!$D$3:$D$6),1)))","v":""},"","",null,"",null,null,null,null,null,null,null,"","","","","","","","","","","","","","","","","","","","","","","",""]
[22,null,null,null,null,null,null,null,null,null,null,null,null,null,"DBAC",0,0,"","","","","","",0,0,"","","","","","","","",0,0,"","","","",{"$f":"IF(ISBLANK(E26),\"\",IF(OR($O$2=$O$5,$O$2=$O$6,$O$2=$O$12,$O$2=$O$13),Best1!$F$10,IF(OR($O$2=$O$7,$O$2=$O$8,$O$2=$O$18,$O$2=$O$19),Best1!$F$11,IF(OR($O$2=$O$9,$O$2=$O$10,$O$2=$O$24,$O$2=$O$25),Best1!$F$12,IF(OR($O$2=$O$14,$O$2=$O$15,$O$2=$O$20,$O$2=$O$21),Best1!$F$13,IF(OR($O$2=$O$16,$O$2=$O$17,$O$2=$O$26,$O$2=$O$27),Best1!$F$14,IF(OR($O$2=$O$22,$O$2=$O$23,$O$2=$O$28,$O$2=$O$29),Best1!$F$15,\"\")))))))","v":""},"","",{"$f":"IF(ISBLANK(H26),\"\",IF(OR($O$2=$O$5,$O$2=$O$7,$O$2=$O$27,$O$2=$O$29),Best1!$F$13,IF(OR($O$2=$O$18,$O$2=$O$20,$O$2=$O$24,$O$2=$O$26),Best1!$F$10,IF(OR($O$2=$O$12,$O$2=$O$14,$O$2=$O$25,$O$2=$O$28),Best1!$F$11,IF(OR($O$2=$O$13,$O$2=$O$16,$O$2=$O$19,$O$2=$O$22),Best1!$F$12,IF(OR($O$2=$O$6,$O$2=$O$9,$O$2=$O$21,$O$2=$O$23),Best1!$F$14,IF(OR($O$2=$O$8,$O$2=$O$10,$O$2=$O$15,$O$2=$O$17),Best1!$F$15,\"\")))))))","v":""},"","",{"$f":"IF(ISBLANK(I26),\"\",IF(OR($O$2=$O$9,$O$2=$O$10,$O$2=$O$24,$O$2=$O$25),Best1!$F$13,IF(OR($O$2=$O$22,$O$2=$O$23,$O$2=$O$28,$O$2=$O$29),Best1!$F$10,IF(OR($O$2=$O$16,$O$2=$O$17,$O$2=$O$26,$O$2=$O$27),Best1!$F$11,IF(OR($O$2=$O$14,$O$2=$O$15,$O$2=$O$20,$O$2=$O$21),Best1!$F$12,IF(OR($O$2=$O$7,$O$2=$O$8,$O$2=$O$18,$O$2=$O$19),Best1!$F$14,IF(OR($O$2=$O$5,$O$2=$O$6,$O$2=$O$12,$O$2=$O$13),Best1!$F$15,\"\")))))))","v":""},"","",{"$f":"IF(ISBLANK(K26),\"\",IF(Best1!$C$3=\"\",\"\",ROUND(SUM(Best1!$C$3:$C$6),1)))","v":""},"","",{"$f":"IF(ISBLANK(K26),\"\",IF(Best1!$B$3=\"\",\"\",ROUND(AVERAGE(Best1!$D$3:$D$6),1)))","v":""},"","",null,"",null,null,null,null,null,null,null,"","","","","","","","","","","","","","","","","","","","","","","",""]
[23,null,null,null,null,null,null,null,null,null,null,null,null,null,"DBCA",0,0,"","","","","","",0,0,"","","","","","","","",0,0,"","","","",{"$f":"IF(ISBLANK(E27),\"\",IF(OR($O$2=$O$5,$O$2=$O$6,$O$2=$O$12,$O$2=$O$13),Best1!$F$10,IF(OR($O$2=$O$7,$O$2=$O$8,$O$2=$O$18,$O$2=$O$19),Best1!$F$11,IF(OR($O$2=$O$9,$O$2=$O$10,$O$2=$O$24,$O$2=$O$25),Best1!$F$12,IF(OR($O$2=$O$14,$O$2=$O$15,$O$2=$O$20,$O$2=$O$21),Best1!$F$13,IF(OR($O$2=$O$16,$O$2=$O$17,$O$2=$O$26,$O$2=$O$27),Best1!$F$14,IF(OR($O$2=$O$22,$O$2=$O$23,$O$2=$O$28,$O$2=$O$29),Best1!$F$15,\"\")))))))","v":""},"","",{"$f":"IF(ISBLANK(H27),\"\",IF(OR($O$2=$O$5,$O$2=$O$7,$O$2=$O$27,$O$2=$O$29),Best1!$F$13,IF(OR($O$2=$O$18,$O$2=$O$20,$O$2=$O$24,$O$2=$O$26),Best1!$F$10,IF(OR($O$2=$O$12,$O$2=$O$14,$O$2=$O$25,$O$2=$O$28),Best1!$F$11,IF(OR($O$2=$O$13,$O$2=$O$16,$O$2=$O$19,$O$2=$O$22),Best1!$F$12,IF(OR($O$2=$O$6,$O$2=$O$9,$O$2=$O$21,$O$2=$O$23),Best1!$F$14,IF(OR($O$2=$O$8,$O$2=$O$10,$O$2=$O$15,$O$2=$O$17),Best1!$F$15,\"\")))))))","v":""},"","",{"$f":"IF(ISBLANK(I27),\"\",IF(OR($O$2=$O$9,$O$2=$O$10,$O$2=$O$24,$O$2=$O$25),Best1!$F$13,IF(OR($O$2=$O$22,$O$2=$O$23,$O$2=$O$28,$O$2=$O$29),Best1!$F$10,IF(OR($O$2=$O$16,$O$2=$O$17,$O$2=$O$26,$O$2=$O$27),Best1!$F$11,IF(OR($O$2=$O$14,$O$2=$O$15,$O$2=$O$20,$O$2=$O$21),Best1!$F$12,IF(OR($O$2=$O$7,$O$2=$O$8,$O$2=$O$18,$O$2=$O$19),Best1!$F$14,IF(OR($O$2=$O$5,$O$2=$O$6,$O$2=$O$12,$O$2=$O$13),Best1!$F$15,\"\")))))))","v":""},"","",{"$f":"IF(ISBLANK(K27),\"\",IF(Best1!$C$3=\"\",\"\",ROUND(SUM(Best1!$C$3:$C$6),1)))","v":""},"","",{"$f":"IF(ISBLANK(K27),\"\",IF(Best1!$B$3=\"\",\"\",ROUND(AVERAGE(Best1!$D$3:$D$6),1)))","v":""},"","",null,"",null,null,null,null,null,null,null,"","","","","","","","","","","","","","","","","","","","","","","",""]
[24,null,null,null,null,null,null,null,null,null,null,null,null,null,"DCAB",0,0,"","","","","","",0,0,"","","","","","","","",0,0,"","","","",{"$f":"IF(ISBLANK(E28),\"\",IF(OR($O$2=$O$5,$O$2=$O$6,$O$2=$O$12,$O$2=$O$13),Best1!$F$10,IF(OR($O$2=$O$7,$O$2=$O$8,$O$2=$O$18,$O$2=$O$19),Best1!$F$11,IF(OR($O$2=$O$9,$O$2=$O$10,$O$2=$O$24,$O$2=$O$25),Best1!$F$12,IF(OR($O$2=$O$14,$O$2=$O$15,$O$2=$O$20,$O$2=$O$21),Best1!$F$13,IF(OR($O$2=$O$16,$O$2=$O$17,$O$2=$O$26,$O$2=$O$27),Best1!$F$14,IF(OR($O$2=$O$22,$O$2=$O$23,$O$2=$O$28,$O$2=$O$29),Best1!$F$15,\"\")))))))","v":""},"","",{"$f":"IF(ISBLANK(H28),\"\",IF(OR($O$2=$O$5,$O$2=$O$7,$O$2=$O$27,$O$2=$O$29),Best1!$F$13,IF(OR($O$2=$O$18,$O$2=$O$20,$O$2=$O$24,$O$2=$O$26),Best1!$F$10,IF(OR($O$2=$O$12,$O$2=$O$14,$O$2=$O$25,$O$2=$O$28),Best1!$F$11,IF(OR($O$2=$O$13,$O$2=$O$16,$O$2=$O$19,$O$2=$O$22),Best1!$F$12,IF(OR($O$2=$O$6,$O$2=$O$9,$O$2=$O$21,$O$2=$O$23),Best1!$F$14,IF(OR($O$2=$O$8,$O$2=$O$10,$O$2=$O$15,$O$2=$O$17),Best1!$F$15,\"\")))))))","v":""},"","",{"$f":"IF(ISBLANK(I28),\"\",IF(OR($O$2=$O$9,$O$2=$O$10,$O$2=$O$24,$O$2=$O$25),Best1!$F$13,IF(OR($O$2=$O$22,$O$2=$O$23,$O$2=$O$28,$O$2=$O$29),Best1!$F$10,IF(OR($O$2=$O$16,$O$2=$O$17,$O$2=$O$26,$O$2=$O$27),Best1!$F$11,IF(OR($O$2=$O$14,$O$2=$O$15,$O$2=$O$20,$O$2=$O$21),Best1!$F$12,IF(OR($O$2=$O$7,$O$2=$O$8,$O$2=$O$18,$O$2=$O$19),Best1!$F$14,IF(OR($O$2=$O$5,$O$2=$O$6,$O$2=$O$12,$O$2=$O$13),Best1!$F$15,\"\")))))))","v":""},"","",{"$f":"IF(ISBLANK(K28),\"\",IF(Best1!$C$3=\"\",\"\",ROUND(SUM(Best1!$C$3:$C$6),1)))","v":""},"","",{"$f":"IF(ISBLANK(K28),\"\",IF(Best1!$B$3=\"\",\"\",ROUND(AVERAGE(Best1!$D$3:$D$6),1)))","v":""},"","",null,"",null,null,null,null,null,null,null,"","","","","","","","","","","","","","","","","","","","","","","",""]
[25,null,null,null,null,null,null,null,null,null,null,null,null,null,"DCBA",0,0,"","","","","","",0,0,"","","","","","","","",0,0,"","","","",{"$f":"IF(ISBLANK(E29),\"\",IF(OR($O$2=$O$5,$O$2=$O$6,$O$2=$O$12,$O$2=$O$13),Best1!$F$10,IF(OR($O$2=$O$7,$O$2=$O$8,$O$2=$O$18,$O$2=$O$19),Best1!$F$11,IF(OR($O$2=$O$9,$O$2=$O$10,$O$2=$O$24,$O$2=$O$25),Best1!$F$12,IF(OR($O$2=$O$14,$O$2=$O$15,$O$2=$O$20,$O$2=$O$21),Best1!$F$13,IF(OR($O$2=$O$16,$O$2=$O$17,$O$2=$O$26,$O$2=$O$27),Best1!$F$14,IF(OR($O$2=$O$22,$O$2=$O$23,$O$2=$O$28,$O$2=$O$29),Best1!$F$15,\"\")))))))","v":""},"","",{"$f":"IF(ISBLANK(H29),\"\",IF(OR($O$2=$O$5,$O$2=$O$7,$O$2=$O$27,$O$2=$O$29),Best1!$F$13,IF(OR($O$2=$O$18,$O$2=$O$20,$O$2=$O$24,$O$2=$O$26),Best1!$F$10,IF(OR($O$2=$O$12,$O$2=$O$14,$O$2=$O$25,$O$2=$O$28),Best1!$F$11,IF(OR($O$2=$O$13,$O$2=$O$16,$O$2=$O$19,$O$2=$O$22),Best1!$F$12,IF(OR($O$2=$O$6,$O$2=$O$9,$O$2=$O$21,$O$2=$O$23),Best1!$F$14,IF(OR($O$2=$O$8,$O$2=$O$10,$O$2=$O$15,$O$2=$O$17),Best1!$F$15,\"\")))))))","v":""},"","",{"$f":"IF(ISBLANK(I29),\"\",IF(OR($O$2=$O$9,$O$2=$O$10,$O$2=$O$24,$O$2=$O$25),Best1!$F$13,IF(OR($O$2=$O$22,$O$2=$O$23,$O$2=$O$28,$O$2=$O$29),Best1!$F$10,IF(OR($O$2=$O$16,$O$2=$O$17,$O$2=$O$26,$O$2=$O$27),Best1!$F$11,IF(OR($O$2=$O$14,$O$2=$O$15,$O$2=$O$20,$O$2=$O$21),Best1!$F$12,IF(OR($O$2=$O$7,$O$2=$O$8,$O$2=$O$18,$O$2=$O$19),Best1!$F$14,IF(OR($O$2=$O$5,$O$2=$O$6,$O$2=$O$12,$O$2=$O$13),Best1!$F$15,\"\")))))))","v":""},"","",{"$f":"IF(ISBLANK(K29),\"\",IF(Best1!$C$3=\"\",\"\",ROUND(SUM(Best1!$C$3:$C$6),1)))","v":""},"","",{"$f":"IF(ISBLANK(K29),\"\",IF(Best1!$B$3=\"\",\"\",ROUND(AVERAGE(Best1!$D$3:$D$6),1)))","v":""},"","",null,"",null,null,null,null,null,null,null,"","","","","","","","","","","","","","","","","","","","","","","",""]
[26,null,null,null,null,null,null,null,null,null,null,null,null,null,null,0,0,"","","","","","",0,0,"","","","","","","","",0,0,"","","","",{"$f":"IF(ISBLANK(E30),\"\",IF(OR($O$2=$O$5,$O$2=$O$6,$O$2=$O$12,$O$2=$O$13),Best1!$F$10,IF(OR($O$2=$O$7,$O$2=$O$8,$O$2=$O$18,$O$2=$O$19),Best1!$F$11,IF(OR($O$2=$O$9,$O$2=$O$10,$O$2=$O$24,$O$2=$O$25),Best1!$F$12,IF(OR($O$2=$O$14,$O$2=$O$15,$O$2=$O$20,$O$2=$O$21),Best1!$F$13,IF(OR($O$2=$O$16,$O$2=$O$17,$O$2=$O$26,$O$2=$O$27),Best1!$F$14,IF(OR($O$2=$O$22,$O$2=$O$23,$O$2=$O$28,$O$2=$O$29),Best1!$F$15,\"\")))))))","v":""},"","",{"$f":"IF(ISBLANK(H30),\"\",IF(OR($O$2=$O$5,$O$2=$O$7,$O$2=$O$27,$O$2=$O$29),Best1!$F$13,IF(OR($O$2=$O$18,$O$2=$O$20,$O$2=$O$24,$O$2=$O$26),Best1!$F$10,IF(OR($O$2=$O$12,$O$2=$O$14,$O$2=$O$25,$O$2=$O$28),Best1!$F$11,IF(OR($O$2=$O$13,$O$2=$O$16,$O$2=$O$19,$O$2=$O$22),Best1!$F$12,IF(OR($O$2=$O$6,$O$2=$O$9,$O$2=$O$21,$O$2=$O$23),Best1!$F$14,IF(OR($O$2=$O$8,$O$2=$O$10,$O$2=$O$15,$O$2=$O$17),Best1!$F$15,\"\")))))))","v":""},"","",{"$f":"IF(ISBLANK(I30),\"\",IF(OR($O$2=$O$9,$O$2=$O$10,$O$2=$O$24,$O$2=$O$25),Best1!$F$13,IF(OR($O$2=$O$22,$O$2=$O$23,$O$2=$O$28,$O$2=$O$29),Best1!$F$10,IF(OR($O$2=$O$16,$O$2=$O$17,$O$2=$O$26,$O$2=$O$27),Best1!$F$11,IF(OR($O$2=$O$14,$O$2=$O$15,$O$2=$O$20,$O$2=$O$21),Best1!$F$12,IF(OR($O$2=$O$7,$O$2=$O$8,$O$2=$O$18,$O$2=$O$19),Best1!$F$14,IF(OR($O$2=$O$5,$O$2=$O$6,$O$2=$O$12,$O$2=$O$13),Best1!$F$15,\"\")))))))","v":""},"","",{"$f":"IF(ISBLANK(K30),\"\",IF(Best1!$C$3=\"\",\"\",ROUND(SUM(Best1!$C$3:$C$6),1)))","v":""},"","",{"$f":"IF(ISBLANK(K30),\"\",IF(Best1!$B$3=\"\",\"\",ROUND(AVERAGE(Best1!$D$3:$D$6),1)))","v":""},"","",null,"",null,null,null,null,null,null,null,"","","","","","","","","","","","","","","","","","","","","","","",""]
[27,null,null,null,null,null,null,null,null,null,null,null,null,null,null,0,0,"","","","","","",0,0,"","","","","","","","",0,0,"","","","",{"$f":"IF(ISBLANK(E31),\"\",IF(OR($O$2=$O$5,$O$2=$O$6,$O$2=$O$12,$O$2=$O$13),Best1!$F$10,IF(OR($O$2=$O$7,$O$2=$O$8,$O$2=$O$18,$O$2=$O$19),Best1!$F$11,IF(OR($O$2=$O$9,$O$2=$O$10,$O$2=$O$24,$O$2=$O$25),Best1!$F$12,IF(OR($O$2=$O$14,$O$2=$O$15,$O$2=$O$20,$O$2=$O$21),Best1!$F$13,IF(OR($O$2=$O$16,$O$2=$O$17,$O$2=$O$26,$O$2=$O$27),Best1!$F$14,IF(OR($O$2=$O$22,$O$2=$O$23,$O$2=$O$28,$O$2=$O$29),Best1!$F$15,\"\")))))))","v":""},{"$f":"IF(F31=\"\",\"\",F31)","v":""},"",{"$f":"IF(ISBLANK(H31),\"\",IF(OR($O$2=$O$5,$O$2=$O$7,$O$2=$O$27,$O$2=$O$29),Best1!$F$13,IF(OR($O$2=$O$18,$O$2=$O$20,$O$2=$O$24,$O$2=$O$26),Best1!$F$10,IF(OR($O$2=$O$12,$O$2=$O$14,$O$2=$O$25,$O$2=$O$28),Best1!$F$11,IF(OR($O$2=$O$13,$O$2=$O$16,$O$2=$O$19,$O$2=$O$22),Best1!$F$12,IF(OR($O$2=$O$6,$O$2=$O$9,$O$2=$O$21,$O$2=$O$23),Best1!$F$14,IF(OR($O$2=$O$8,$O$2=$O$10,$O$2=$O$15,$O$2=$O$17),Best1!$F$15,\"\")))))))","v":""},{"$f":"IF(H31=\"\",\"\",H31)","v":""},"",{"$f":"IF(ISBLANK(I31),\"\",IF(OR($O$2=$O$9,$O$2=$O$10,$O$2=$O$24,$O$2=$O$25),Best1!$F$13,IF(OR($O$2=$O$22,$O$2=$O$23,$O$2=$O$28,$O$2=$O$29),Best1!$F$10,IF(OR($O$2=$O$16,$O$2=$O$17,$O$2=$O$26,$O$2=$O$27),Best1!$F$11,IF(OR($O$2=$O$14,$O$2=$O$15,$O$2=$O$20,$O$2=$O$21),Best1!$F$12,IF(OR($O$2=$O$7,$O$2=$O$8,$O$2=$O$18,$O$2=$O$19),Best1!$F$14,IF(OR($O$2=$O$5,$O$2=$O$6,$O$2=$O$12,$O$2=$O$13),Best1!$F$15,\"\")))))))","v":""},{"$f":"IF(J31=\"\",\"\",J31)","v":""},"",{"$f":"IF(ISBLANK(K31),\"\",IF(Best1!$C$3=\"\",\"\",ROUND(SUM(Best1!$C$3:$C$6),1)))","v":""},{"$f":"IF(K31=\"\",\"\",K31)","v":""},"",{"$f":"IF(ISBLANK(K31),\"\",IF(Best1!$B$3=\"\",\"\",ROUND(AVERAGE(Best1!$D$3:$D$6),1)))","v":""},{"$f":"IF(L31=\"\",\"\",L31)","v":""},"",null,"",null,null,null,null,null,null,null,"","","","","","","","","","","","","","","","","","",{"$f":"IF(OR(AH31=\"\",AH31=0),\"\",AH31*1)","v":""},"","","","",""]
[28,null,null,null,null,null,null,null,null,null,null,null,null,null,null,0,0,"","","","","","",0,0,"","","","","","","","",0,0,"","","","",{"$f":"IF(ISBLANK(E32),\"\",IF(OR($O$2=$O$5,$O$2=$O$6,$O$2=$O$12,$O$2=$O$13),Best1!$F$10,IF(OR($O$2=$O$7,$O$2=$O$8,$O$2=$O$18,$O$2=$O$19),Best1!$F$11,IF(OR($O$2=$O$9,$O$2=$O$10,$O$2=$O$24,$O$2=$O$25),Best1!$F$12,IF(OR($O$2=$O$14,$O$2=$O$15,$O$2=$O$20,$O$2=$O$21),Best1!$F$13,IF(OR($O$2=$O$16,$O$2=$O$17,$O$2=$O$26,$O$2=$O$27),Best1!$F$14,IF(OR($O$2=$O$22,$O$2=$O$23,$O$2=$O$28,$O$2=$O$29),Best1!$F$15,\"\")))))))","v":""},"","",{"$f":"IF(ISBLANK(H32),\"\",IF(OR($O$2=$O$5,$O$2=$O$7,$O$2=$O$27,$O$2=$O$29),Best1!$F$13,IF(OR($O$2=$O$18,$O$2=$O$20,$O$2=$O$24,$O$2=$O$26),Best1!$F$10,IF(OR($O$2=$O$12,$O$2=$O$14,$O$2=$O$25,$O$2=$O$28),Best1!$F$11,IF(OR($O$2=$O$13,$O$2=$O$16,$O$2=$O$19,$O$2=$O$22),Best1!$F$12,IF(OR($O$2=$O$6,$O$2=$O$9,$O$2=$O$21,$O$2=$O$23),Best1!$F$14,IF(OR($O$2=$O$8,$O$2=$O$10,$O$2=$O$15,$O$2=$O$17),Best1!$F$15,\"\")))))))","v":""},"","",{"$f":"IF(ISBLANK(I32),\"\",IF(OR($O$2=$O$9,$O$2=$O$10,$O$2=$O$24,$O$2=$O$25),Best1!$F$13,IF(OR($O$2=$O$22,$O$2=$O$23,$O$2=$O$28,$O$2=$O$29),Best1!$F$10,IF(OR($O$2=$O$16,$O$2=$O$17,$O$2=$O$26,$O$2=$O$27),Best1!$F$11,IF(OR($O$2=$O$14,$O$2=$O$15,$O$2=$O$20,$O$2=$O$21),Best1!$F$12,IF(OR($O$2=$O$7,$O$2=$O$8,$O$2=$O$18,$O$2=$O$19),Best1!$F$14,IF(OR($O$2=$O$5,$O$2=$O$6,$O$2=$O$12,$O$2=$O$13),Best1!$F$15,\"\")))))))","v":""},"","",{"$f":"IF(ISBLANK(K32),\"\",IF(Best1!$C$3=\"\",\"\",ROUND(SUM(Best1!$C$3:$C$6),1)))","v":""},"","",{"$f":"IF(ISBLANK(K32),\"\",IF(Best1!$B$3=\"\",\"\",ROUND(AVERAGE(Best1!$D$3:$D$6),1)))","v":""},"","",null,"",null,null,null,null,null,null,null,"","","","","","","","","","","","","","","","",{"$f":"IF(OR(AF32=\"\",AF32=0),\"\",AF32*1)","v":""},"","","","","","",""]
[]
[null,null,null,null,null,null,null,null,null,null,null,null,null,null,null,{"$f":"MIN(BW5:BW32)","v":0},{"$f":"MIN(BX5:BX32)","v":0},{"$f":"MIN(BY5:BY32)","v":0},0,0,0,0,0,0,0,0,0,0,0,0,0,0,0,0,0,0,0,0,0,null,null,null,null,null,null,null,null,null,null,null,null,null,null,null,null,null,null,null,null,null,null,null,null,{"$f":"IF(MIN(BL5:BL32)=0,\"\",MIN(BL5:BL32))","v":""},{"$f":"IF(MIN(BM5:BM32)=0,\"\",MIN(BM5:BM32))","v":""},"","","","","","","","","","","","",{"$f":"IF(MIN(BZ5:BZ32)=0,\"\",MIN(BZ5:BZ32))","v":""},"","","","","","","","",""]
[]
[]
[]
[]
[]
[]
[]
[null,null,null,null,null,null,null,null,null,null,null,null,null,null,null,null,null,null,null,null,null,null,null,null,null,null,null,null,null,null,null,null,null,null,null,null,null,null,null,null,null,null,null,null,null,null,null,null,null,{"$f":"IF(AND(AX5=\"\",AX33=\"\"),\"\",MIN(AX5:AX41))","v":""},null,null,{"$f":"IF(AND(BA5=\"\",BA33=\"\"),\"\",MAX(BA5:BA41))","v":""}]
[]
[]
[]
[]
[]
[]
[]
[null,null,null,null,null,null,null,null,null,null,null,null,null,null,null,null,null,500,500,500,500,{"$f":"R50*1","v":500},{"$f":"S50*1","v":500},{"$f":"T50*1","v":500},{"$f":"U50*1","v":500}]
[null,null,null,null,null,null,null,null,null,null,null,null,null,null,null,null,null,500,500,500,500,{"$f":"R51*1","v":500},{"$f":"S51*1","v":500},{"$f":"T51*1","v":500},{"$f":"U51*1","v":500}]
[null,null,null,null,null,null,null,null,null,null,null,null,null,null,null,null,null,500,500,500,500,500,500,500,500]
[null,null,null,null,null,null,null,null,null,null,null,null,null,null,null,null,null,500,500,500,500,500,500,500,500]
[null,null,null,null,null,null,null,null,null,null,null,null,null,null,null,null,null,500,500,500,500,500,500,500,500]
[null,null,null,null,null,null,null,null,null,null,null,null,null,null,null,null,null,500,500,500,500,500,500,500,500]
[null,null,null,null,null,null,null,null,null,null,null,null,null,null,null,null,null,500,500,500,500,500,500,500,500]
[null,null,null,null,null,null,null,null,null,null,null,null,null,null,null,null,null,500,500,500,500,500,500,500,500]
[null,null,null,null,null,null,null,null,null,null,null,null,null,null,null,null,null,500,500,500,500,500,500,500,500]
[null,null,null,null,null,null,null,null,null,null,null,null,null,null,null,null,null,500,500,500,500,500,500,500,500]
[null,null,null,null,null,null,null,null,null,null,null,null,null,null,null,null,null,500,500,500,500,500,500,500,500]
[null,null,null,null,null,null,null,null,null,null,null,null,null,null,null,null,null,500,500,500,500,500,500,500,500]
[null,null,null,null,null,null,null,null,null,null,null,null,null,null,null,null,null,500,500,500,500,500,500,500,500]
[null,null,null,null,null,null,null,null,null,null,null,null,null,null,null,null,null,500,500,500,500,500,500,500,500]
[null,null,null,null,null,null,null,null,null,null,null,null,null,null,null,null,null,500,500,500,500,500,500,500,500]
[null,null,null,null,null,null,null,null,null,null,null,null,null,null,null,null,null,500,500,500,500,500,500,500,500]
[null,null,null,null,null,null,null,null,null,null,null,null,null,null,null,null,null,500,500,500,500,500,500,500,500]
[null,null,null,null,null,null,null,null,null,null,null,null,null,null,null,null,null,500,500,500,500,500,500,500,500]
[null,null,null,null,null,null,null,null,null,null,null,null,null,null,null,null,null,500,500,500,500,500,500,500,500]
[null,null,null,null,null,null,null,null,null,null,null,null,null,null,null,null,null,500,500,500,500,500,500,500,500]
[null,null,null,null,null,null,null,null,null,null,null,null,null,null,null,null,null,500,500,500,500,500,500,500,500]
[null,null,null,null,null,null,null,null,null,null,null,null,null,null,null,null,null,500,500,500,500,500,500,500,500]
[null,null,null,null,null,null,null,null,null,null,null,null,null,null,null,null,null,500,500,500,500,500,500,500,500]
[null,null,null,null,null,null,null,null,null,null,null,null,null,null,null,null,null,500,500,500,500,500,500,500,500]
[]
[]
[]
[]
[]
[]
[]
[]
[]
[]
[]
[]
[]
[]
[]
[null,null,null,null,null,null,null,null,null,null,null,null,null,null,null,null,null,{"$f":"IF(MIN(R50:R73)=0,\"\",MIN(R50:R73))","v":500},500,500,500,500,500,500,500]
[null,null,null,null,null,null,null,null,null,null,null,null,null,null,null,null,null,500,500,500,500,{"$f":"R90*1","v":500},{"$f":"S90*1","v":500},{"$f":"T90*1","v":500},{"$f":"U90*1","v":500}]
[null,null,null,null,null,null,null,null,null,null,null,null,null,null,null,null,null,500,500,500,500,{"$f":"R91*1","v":500},{"$f":"S91*1","v":500},{"$f":"T91*1","v":500},{"$f":"U91*1","v":500}]
[null,null,null,null,null,null,null,null,null,null,null,null,null,null,null,null,null,500,500,500,500,500,500,500,500]
[null,null,null,null,null,null,null,null,null,null,null,null,null,null,null,null,null,500,500,500,500,500,500,500,500]
[null,null,null,null,null,null,null,null,null,null,null,null,null,null,null,null,null,500,500,500,500,500,500,500,500]
[null,null,null,null,null,null,null,null,null,null,null,null,null,null,null,null,null,500,500,500,500,500,500,500,500]
[null,null,null,null,null,null,null,null,null,null,null,null,null,null,null,null,null,500,500,500,500,500,500,500,500]
[null,null,null,null,null,null,null,null,null,null,null,null,null,null,null,null,null,500,500,500,500,500,500,500,500]
[null,null,null,null,null,null,null,null,null,null,null,null,null,null,null,null,null,500,500,500,500,500,500,500,500]
[null,null,null,null,null,null,null,null,null,null,null,null,null,null,null,null,null,500,500,500,500,500,500,500,500]
[null,null,null,null,null,null,null,null,null,null,null,null,null,null,null,null,null,500,500,500,500,500,500,500,500]
[null,null,null,null,null,null,null,null,null,null,null,null,null,null,null,null,null,500,500,500,500,500,500,500,500]
[null,null,null,null,null,null,null,null,null,null,null,null,null,null,null,null,null,500,500,500,500,500,500,500,500]
[null,null,null,null,null,null,null,null,null,null,null,null,null,null,null,null,null,500,500,500,500,500,500,500,500]
[null,null,null,null,null,null,null,null,null,null,null,null,null,null,null,null,null,500,500,500,500,500,500,500,500]
[null,null,null,null,null,null,null,null,null,null,null,null,null,null,null,null,null,500,500,500,500,500,500,500,500]
[null,null,null,null,null,null,null,null,null,null,null,null,null,null,null,null,null,500,500,500,500,500,500,500,500]
[null,null,null,null,null,null,null,null,null,null,null,null,null,null,null,null,null,500,500,500,500,500,500,500,500]
[null,null,null,null,null,null,null,null,null,null,null,null,null,null,null,null,null,500,500,500,500,500,500,500,500]
[null,null,null,null,null,null,null,null,null,null,null,null,null,null,null,null,null,500,500,500,500,500,500,500,500]
[null,null,null,null,null,null,null,null,null,null,null,null,null,null,null,null,null,500,500,500,500,500,500,500,500]
[null,null,null,null,null,null,null,null,null,null,null,null,null,null,null,null,null,500,500,500,500,500,500,500,500]
[null,null,null,null,null,null,null,null,null,null,null,null,null,null,null,null,null,500,500,500,500,500,500,500,500]
[null,null,null,null,null,null,null,null,null,null,null,null,null,null,null,null,null,500,500,500,500,500,500,500,500]
[]
[]
[]
[]
[]
[]
[]
[]
[]
[]
[]
[]
[]
[]
[]
[null,null,null,null,null,null,null,null,null,null,null,null,null,null,null,null,null,{"$f":"IF(MIN(R90:R113)=0,\"\",MIN(R90:R113))","v":500},500,500,500,500,500,500,500]
[null,null,null,null,null,null,null,null,null,null,null,null,null,null,null,null,null,null,null,null,null,{"$f":"IF(MIN(V89,V129)=500,\"\",MIN(V89,V129))","v":""},{"$f":"IF(MIN(W89,W129)=500,\"\",MIN(W89,W129))","v":""},"",""]

{"sheet":"Archresultats6","index":9,"n_rows":130,"n_cols":87,"rows_kept":130,"cut":false,"hidden":false,"merged":[[0,0,2,11],[2,39,2,41],[2,42,2,44],[2,45,2,47],[2,48,2,53]]}
["Bilan équipe 6"]
[null,null,null,null,null,null,null,null,null,null,null,null,null,null,"CBAD"]
[null,null,null,null,null,null,null,null,null,null,null,null,null,null,null,null,null,null,null,null,null,null,null,null,null,null,null,null,null,null,null,null,null,null,null,null,null,null,null,"ZONE 1",null,null,"ZONE 2",null,null,"ZONE 3",null,null,"TOTAL course"]
[null,"Dates","Heure","Coureur ou\nOrdre relais","Tps\n zone 1","Vitesse\nzone 1","Tps\n zone 2","Vitesse\nzone 2","Tps\n zone 3","Vitesse\nzone 3","Tps course\ntotale","Vitesse totale\ntotale","Remarques",null,null,"AB (t)","AB (v)","AC (t)","AC (v)","AD (t)","AD (v)","BA (v)","BA (t)","BC (t)","BC (v)","BD (t)","BD (v)","CA (t)","CA (v)","CB (t)","CB (v)","CD (t)","CD (v)","DA (t)","DA (v)","DB (t)","DB (v)","DC (t)","DC (v)","Vitesse\n moy. théorique  du binôme","Vitesse réelle\n du binôme","% \nEvolution","Vitesse\n moy. théorique  du binôme","Vitesse réelle\n du binôme","% \nEvolution","Vitesse\n moy. théorique  du binôme","Vitesse réelle\n du binôme","% \nEvolution","TEMPS\ntotal théorique\ndu groupe","TEMPS\ntotal réel\ndu groupe\n ","% \nEvolution","VITESSE\n théorique  du groupe","VITESSE réelle\n du groupe","% \nEvolution"]
[1,null,null,null,null,null,null,null,null,null,null,null,null,null,"ABCD",{"$f":"IF(OR($O$2=$O$5,$O$2=$O$6),E5,IF(OR($O$2=$O$18,$O$2=$O$24),G5,IF(OR($O$2=$O$22,$O$2=$O$28),I5,\"\")))","v":""},{"$f":"IF(OR($O$2=$O$5,$O$2=$O$6),F5,IF(OR($O$2=$O$18,$O$2=$O$24),H5,IF(OR($O$2=$O$22,$O$2=$O$28),J5,\"\")))","v":""},{"$f":"IF(OR($O$2=$O$7,$O$2=$O$8),E5,IF(OR($O$2=$O$12,$O$2=$O$25),G5,IF(OR($O$2=$O$16,$O$2=$O$26),I5,\"\")))","v":""},{"$f":"IF(OR($O$2=$O$7,$O$2=$O$8),F5,IF(OR($O$2=$O$12,$O$2=$O$25),H5,IF(OR($O$2=$O$16,$O$2=$O$26),J5,\"\")))","v":""},{"$f":"IF(OR($O$2=$O$9,$O$2=$O$10),E5,IF(OR($O$2=$O$13,$O$2=$O$19),G5,IF(OR($O$2=$O$14,$O$2=$O$20),I5,\"\")))","v":0},{"$f":"IF(OR($O$2=$O$9,$O$2=$O$10),F5,IF(OR($O$2=$O$13,$O$2=$O$19),H5,IF(OR($O$2=$O$14,$O$2=$O$20),J5,\"\")))","v":0},{"$f":"IF(OR($O$2=$O$12,$O$2=$O$13),E5,IF(OR($O$2=$O$20,$O$2=$O$26),G5,IF(OR($O$2=$O$23,$O$2=$O$29),I5,\"\")))","v":0},{"$f":"IF(OR($O$2=$O$12,$O$2=$O$13),F5,IF(OR($O$2=$O$20,$O$2=$O$26),H5,IF(OR($O$2=$O$23,$O$2=$O$29),J5,\"\")))","v":0},{"$f":"IF(OR($O$2=$O$14,$O$2=$O$15),E5,IF(OR($O$2=$O$5,$O$2=$O$27),G5,IF(OR($O$2=$O$9,$O$2=$O$24),I5,\"\")))","v":""},{"$f":"IF(OR($O$2=$O$14,$O$2=$O$15),F5,IF(OR($O$2=$O$5,$O$2=$O$27),H5,IF(OR($O$2=$O$9,$O$2=$O$24),J5,\"\")))","v":""},{"$f":"IF(OR($O$2=$O$16,$O$2=$O$17),E5,IF(OR($O$2=$O$6,$O$2=$O$21),G5,IF(OR($O$2=$O$7,$O$2=$O$18),I5,\"\")))","v":""},{"$f":"IF(OR($O$2=$O$16,$O$2=$O$17),F5,IF(OR($O$2=$O$6,$O$2=$O$21),H5,IF(OR($O$2=$O$7,$O$2=$O$18),J5,\"\")))","v":""},{"$f":"IF(OR($O$2=$O$18,$O$2=$O$19),E5,IF(OR($O$2=$O$14,$O$2=$O$28),G5,IF(OR($O$2=$O$17,$O$2=$O$27),I5,\"\")))","v":""},{"$f":"IF(OR($O$2=$O$18,$O$2=$O$19),F5,IF(OR($O$2=$O$14,$O$2=$O$28),H5,IF(OR($O$2=$O$17,$O$2=$O$27),J5,\"\")))","v":""},{"$f":"IF(OR($O$2=$O$20,$O$2=$O$21),E5,IF(OR($O$2=$O$7,$O$2=$O$29),G5,IF(OR($O$2=$O$10,$O$2=$O$11),I5,\"\")))","v":0},{"$f":"IF(OR($O$2=$O$20,$O$2=$O$21),F5,IF(OR($O$2=$O$7,$O$2=$O$29),H5,IF(OR($O$2=$O$10,$O$2=$O$11),J5,\"\")))","v":0},{"$f":"IF(OR($O$2=$O$22,$O$2=$O$23),E5,IF(OR($O$2=$O$8,$O$2=$O$15),G5,IF(OR($O$2=$O$5,$O$2=$O$12),I5,\"\")))","v":""},{"$f":"IF(OR($O$2=$O$22,$O$2=$O$23),F5,IF(OR($O$2=$O$8,$O$2=$O$15),H5,IF(OR($O$2=$O$5,$O$2=$O$12),J5,\"\")))","v":""},{"$f":"IF(OR($O$2=$O$24,$O$2=$O$25),E5,IF(OR($O$2=$O$16,$O$2=$O$22),G5,IF(OR($O$2=$O$15,$O$2=$O$21),I5,\"\")))","v":""},{"$f":"IF(OR($O$2=$O$24,$O$2=$O$25),F5,IF(OR($O$2=$O$16,$O$2=$O$22),H5,IF(OR($O$2=$O$15,$O$2=$O$21),J5,\"\")))","v":""},{"$f":"IF(OR($O$2=$O$26,$O$2=$O$27),E5,IF(OR($O$2=$O$9,$O$2=$O$23),G5,IF(OR($O$2=$O$8,$O$2=$O$19),I5,\"\")))","v":""},{"$f":"IF(OR($O$2=$O$26,$O$2=$O$27),F5,IF(OR($O$2=$O$9,$O$2=$O$23),H5,IF(OR($O$2=$O$8,$O$2=$O$19),J5,\"\")))","v":""},{"$f":"IF(OR($O$2=$O$28,$O$2=$O$29),E5,IF(OR($O$2=$O$10,$O$2=$O$11),G5,IF(OR($O$2=$O$6,$O$2=$O$13),I5,\"\")))","v":""},{"$f":"IF(OR($O$2=$O$28,$O$2=$O$29),F5,IF(OR($O$2=$O$10,$O$2=$O$11),H5,IF(OR($O$2=$O$6,$O$2=$O$13),J5,\"\")))","v":""},{"$f":"IF(ISBLANK(E5),\"\",IF(OR($O$2=$O$5,$O$2=$O$6,$O$2=$O$12,$O$2=$O$13),Best1!$F$10,IF(OR($O$2=$O$7,$O$2=$O$8,$O$2=$O$18,$O$2=$O$19),Best1!$F$11,IF(OR($O$2=$O$9,$O$2=$O$10,$O$2=$O$24,$O$2=$O$25),Best1!$F$12,IF(OR($O$2=$O$14,$O$2=$O$15,$O$2=$O$20,$O$2=$O$21),Best1!$F$13,IF(OR($O$2=$O$16,$O$2=$O$17,$O$2=$O$26,$O$2=$O$27),Best1!$F$14,IF(OR($O$2=$O$22,$O$2=$O$23,$O$2=$O$28,$O$2=$O$29),Best1!$F$15,\"\")))))))","v":""},{"$f":"IF(F5=\"\",\"\",F5)","v":""},{"$f":"IF(AO5=\"\",\"\",ROUND(((AO5-AN5)/AN5*100),1))","v":""},{"$f":"IF(ISBLANK(G5),\"\",IF(OR($O$2=$O$5,$O$2=$O$7,$O$2=$O$27,$O$2=$O$29),Best1!$F$13,IF(OR($O$2=$O$18,$O$2=$O$20,$O$2=$O$24,$O$2=$O$26),Best1!$F$10,IF(OR($O$2=$O$12,$O$2=$O$14,$O$2=$O$25,$O$2=$O$28),Best1!$F$11,IF(OR($O$2=$O$13,$O$2=$O$16,$O$2=$O$19,$O$2=$O$22),Best1!$F$12,IF(OR($O$2=$O$6,$O$2=$O$9,$O$2=$O$21,$O$2=$O$23),Best1!$F$14,IF(OR($O$2=$O$8,$O$2=$O$10,$O$2=$O$15,$O$2=$O$17),Best1!$F$15,\"\")))))))","v":""},{"$f":"IF(H5=\"\",\"\",H5)","v":""},{"$f":"IF(AR5=\"\",\"\",ROUND(((AR5-AQ5)/AQ5*100),1))","v":""},{"$f":"IF(ISBLANK(I5),\"\",IF(OR($O$2=$O$9,$O$2=$O$10,$O$2=$O$24,$O$2=$O$25),Best1!$F$13,IF(OR($O$2=$O$22,$O$2=$O$23,$O$2=$O$28,$O$2=$O$29),Best1!$F$10,IF(OR($O$2=$O$16,$O$2=$O$17,$O$2=$O$26,$O$2=$O$27),Best1!$F$11,IF(OR($O$2=$O$14,$O$2=$O$15,$O$2=$O$20,$O$2=$O$21),Best1!$F$12,IF(OR($O$2=$O$7,$O$2=$O$8,$O$2=$O$18,$O$2=$O$19),Best1!$F$14,IF(OR($O$2=$O$5,$O$2=$O$6,$O$2=$O$12,$O$2=$O$13),Best1!$F$15,\"\")))))))","v":""},{"$f":"IF(J5=\"\",\"\",J5)","v":""},{"$f":"IF(AU5=\"\",\"\",ROUND(((AU5-AT5)/AT5*100),1))","v":""},{"$f":"IF(ISBLANK(K5),\"\",IF(Best1!$C$3=\"\",\"\",ROUND(SUM(Best1!$C$3:$C$6),1)))","v":""},{"$f":"IF(K5=\"\",\"\",K5)","v":""},{"$f":"IF(AX5=\"\",\"\",ROUND(((AX5-AW5)/AW5*100),1))","v":""},{"$f":"IF(ISBLANK(K5),\"\",IF(Best1!$B$3=\"\",\"\",ROUND(AVERAGE(Best1!$D$3:$D$6),1)))","v":""},{"$f":"IF(L5=\"\",\"\",L5)","v":""},{"$f":"IF(BA5=\"\",\"\",ROUND(((BA5-AZ5)/AZ5*100),1))","v":""},null,{"$f":"AX5","v":""},null,null,null,null,null,null,null,{"$f":"IF(OR(P5=\"\",P5=0),\"\",P5*1)","v":""},{"$f":"IF(OR(Q5=\"\",Q5=0),\"\",Q5*1)","v":""},"","","","","","","","","","","","","","","","","","","","","",""]
[2,null,null,null,null,null,null,null,null,null,null,null,null,null,"ABDC",{"$f":"IF(OR($O$2=$O$5,$O$2=$O$6),E6,IF(OR($O$2=$O$18,$O$2=$O$24),G6,IF(OR($O$2=$O$22,$O$2=$O$28),I6,\"\")))","v":""},"",{"$f":"IF(OR($O$2=$O$7,$O$2=$O$8),E6,IF(OR($O$2=$O$12,$O$2=$O$25),G6,IF(OR($O$2=$O$16,$O$2=$O$26),I6,\"\")))","v":""},"",{"$f":"IF(OR($O$2=$O$9,$O$2=$O$10),E6,IF(OR($O$2=$O$13,$O$2=$O$19),G6,IF(OR($O$2=$O$14,$O$2=$O$20),I6,\"\")))","v":0},0,{"$f":"IF(OR($O$2=$O$12,$O$2=$O$13),E6,IF(OR($O$2=$O$20,$O$2=$O$26),G6,IF(OR($O$2=$O$23,$O$2=$O$29),I6,\"\")))","v":0},0,{"$f":"IF(OR($O$2=$O$14,$O$2=$O$15),E6,IF(OR($O$2=$O$5,$O$2=$O$27),G6,IF(OR($O$2=$O$9,$O$2=$O$24),I6,\"\")))","v":""},"",{"$f":"IF(OR($O$2=$O$16,$O$2=$O$17),E6,IF(OR($O$2=$O$6,$O$2=$O$21),G6,IF(OR($O$2=$O$7,$O$2=$O$18),I6,\"\")))","v":""},"",{"$f":"IF(OR($O$2=$O$18,$O$2=$O$19),E6,IF(OR($O$2=$O$14,$O$2=$O$28),G6,IF(OR($O$2=$O$17,$O$2=$O$27),I6,\"\")))","v":""},"",{"$f":"IF(OR($O$2=$O$20,$O$2=$O$21),E6,IF(OR($O$2=$O$7,$O$2=$O$29),G6,IF(OR($O$2=$O$10,$O$2=$O$11),I6,\"\")))","v":0},0,{"$f":"IF(OR($O$2=$O$22,$O$2=$O$23),E6,IF(OR($O$2=$O$8,$O$2=$O$15),G6,IF(OR($O$2=$O$5,$O$2=$O$12),I6,\"\")))","v":""},"",{"$f":"IF(OR($O$2=$O$24,$O$2=$O$25),E6,IF(OR($O$2=$O$16,$O$2=$O$22),G6,IF(OR($O$2=$O$15,$O$2=$O$21),I6,\"\")))","v":""},"",{"$f":"IF(OR($O$2=$O$26,$O$2=$O$27),E6,IF(OR($O$2=$O$9,$O$2=$O$23),G6,IF(OR($O$2=$O$8,$O$2=$O$19),I6,\"\")))","v":""},"",{"$f":"IF(OR($O$2=$O$28,$O$2=$O$29),E6,IF(OR($O$2=$O$10,$O$2=$O$11),G6,IF(OR($O$2=$O$6,$O$2=$O$13),I6,\"\")))","v":""},"",{"$f":"IF(ISBLANK(E6),\"\",IF(OR($O$2=$O$5,$O$2=$O$6,$O$2=$O$12,$O$2=$O$13),Best1!$F$10,IF(OR($O$2=$O$7,$O$2=$O$8,$O$2=$O$18,$O$2=$O$19),Best1!$F$11,IF(OR($O$2=$O$9,$O$2=$O$10,$O$2=$O$24,$O$2=$O$25),Best1!$F$12,IF(OR($O$2=$O$14,$O$2=$O$15,$O$2=$O$20,$O$2=$O$21),Best1!$F$13,IF(OR($O$2=$O$16,$O$2=$O$17,$O$2=$O$26,$O$2=$O$27),Best1!$F$14,IF(OR($O$2=$O$22,$O$2=$O$23,$O$2=$O$28,$O$2=$O$29),Best1!$F$15,\"\")))))))","v":""},{"$f":"IF(F6=\"\",\"\",F6)","v":""},{"$f":"IF(AO6=\"\",\"\",ROUND(((AO6-AN6)/AN6*100),1))","v":""},{"$f":"IF(ISBLANK(H6),\"\",IF(OR($O$2=$O$5,$O$2=$O$7,$O$2=$O$27,$O$2=$O$29),Best1!$F$13,IF(OR($O$2=$O$18,$O$2=$O$20,$O$2=$O$24,$O$2=$O$26),Best1!$F$10,IF(OR($O$2=$O$12,$O$2=$O$14,$O$2=$O$25,$O$2=$O$28),Best1!$F$11,IF(OR($O$2=$O$13,$O$2=$O$16,$O$2=$O$19,$O$2=$O$22),Best1!$F$12,IF(OR($O$2=$O$6,$O$2=$O$9,$O$2=$O$21,$O$2=$O$23),Best1!$F$14,IF(OR($O$2=$O$8,$O$2=$O$10,$O$2=$O$15,$O$2=$O$17),Best1!$F$15,\"\")))))))","v":""},{"$f":"IF(H6=\"\",\"\",H6)","v":""},{"$f":"IF(AR6=\"\",\"\",ROUND(((AR6-AQ6)/AQ6*100),1))","v":""},{"$f":"IF(ISBLANK(I6),\"\",IF(OR($O$2=$O$9,$O$2=$O$10,$O$2=$O$24,$O$2=$O$25),Best1!$F$13,IF(OR($O$2=$O$22,$O$2=$O$23,$O$2=$O$28,$O$2=$O$29),Best1!$F$10,IF(OR($O$2=$O$16,$O$2=$O$17,$O$2=$O$26,$O$2=$O$27),Best1!$F$11,IF(OR($O$2=$O$14,$O$2=$O$15,$O$2=$O$20,$O$2=$O$21),Best1!$F$12,IF(OR($O$2=$O$7,$O$2=$O$8,$O$2=$O$18,$O$2=$O$19),Best1!$F$14,IF(OR($O$2=$O$5,$O$2=$O$6,$O$2=$O$12,$O$2=$O$13),Best1!$F$15,\"\")))))))","v":""},{"$f":"IF(J6=\"\",\"\",J6)","v":""},{"$f":"IF(AU6=\"\",\"\",ROUND(((AU6-AT6)/AT6*100),1))","v":""},{"$f":"IF(ISBLANK(K6),\"\",IF(Best1!$C$3=\"\",\"\",ROUND(SUM(Best1!$C$3:$C$6),1)))","v":""},{"$f":"IF(K6=\"\",\"\",K6)","v":""},{"$f":"IF(AX6=\"\",\"\",ROUND(((AX6-AW6)/AW6*100),1))","v":""},{"$f":"IF(ISBLANK(K6),\"\",IF(Best1!$B$3=\"\",\"\",ROUND(AVERAGE(Best1!$D$3:$D$6),1)))","v":""},{"$f":"IF(L6=\"\",\"\",L6)","v":""},{"$f":"IF(BA6=\"\",\"\",ROUND(((BA6-AZ6)/AZ6*100),1))","v":""},null,{"$f":"AX6","v":""},null,null,null,null,null,null,null,{"$f":"IF(OR(P6=\"\",P6=0),\"\",P6*1)","v":""},"","","","","","","","","","","","","","","","","","","","","","",""]
[3,null,null,null,null,null,null,null,null,null,null,null,null,null,"ACBD","","","","",0,0,0,0,"","","","","","",0,0,"","","","","","","","",{"$f":"IF(ISBLANK(E7),\"\",IF(OR($O$2=$O$5,$O$2=$O$6,$O$2=$O$12,$O$2=$O$13),Best1!$F$10,IF(OR($O$2=$O$7,$O$2=$O$8,$O$2=$O$18,$O$2=$O$19),Best1!$F$11,IF(OR($O$2=$O$9,$O$2=$O$10,$O$2=$O$24,$O$2=$O$25),Best1!$F$12,IF(OR($O$2=$O$14,$O$2=$O$15,$O$2=$O$20,$O$2=$O$21),Best1!$F$13,IF(OR($O$2=$O$16,$O$2=$O$17,$O$2=$O$26,$O$2=$O$27),Best1!$F$14,IF(OR($O$2=$O$22,$O$2=$O$23,$O$2=$O$28,$O$2=$O$29),Best1!$F$15,\"\")))))))","v":""},"","",{"$f":"IF(ISBLANK(H7),\"\",IF(OR($O$2=$O$5,$O$2=$O$7,$O$2=$O$27,$O$2=$O$29),Best1!$F$13,IF(OR($O$2=$O$18,$O$2=$O$20,$O$2=$O$24,$O$2=$O$26),Best1!$F$10,IF(OR($O$2=$O$12,$O$2=$O$14,$O$2=$O$25,$O$2=$O$28),Best1!$F$11,IF(OR($O$2=$O$13,$O$2=$O$16,$O$2=$O$19,$O$2=$O$22),Best1!$F$12,IF(OR($O$2=$O$6,$O$2=$O$9,$O$2=$O$21,$O$2=$O$23),Best1!$F$14,IF(OR($O$2=$O$8,$O$2=$O$10,$O$2=$O$15,$O$2=$O$17),Best1!$F$15,\"\")))))))","v":""},"","",{"$f":"IF(ISBLANK(I7),\"\",IF(OR($O$2=$O$9,$O$2=$O$10,$O$2=$O$24,$O$2=$O$25),Best1!$F$13,IF(OR($O$2=$O$22,$O$2=$O$23,$O$2=$O$28,$O$2=$O$29),Best1!$F$10,IF(OR($O$2=$O$16,$O$2=$O$17,$O$2=$O$26,$O$2=$O$27),Best1!$F$11,IF(OR($O$2=$O$14,$O$2=$O$15,$O$2=$O$20,$O$2=$O$21),Best1!$F$12,IF(OR($O$2=$O$7,$O$2=$O$8,$O$2=$O$18,$O$2=$O$19),Best1!$F$14,IF(OR($O$2=$O$5,$O$2=$O$6,$O$2=$O$12,$O$2=$O$13),Best1!$F$15,\"\")))))))","v":""},"","",{"$f":"IF(ISBLANK(K7),\"\",IF(Best1!$C$3=\"\",\"\",ROUND(SUM(Best1!$C$3:$C$6),1)))","v":""},"","",{"$f":"IF(ISBLANK(K7),\"\",IF(Best1!$B$3=\"\",\"\",ROUND(AVERAGE(Best1!$D$3:$D$6),1)))","v":""},"","",null,"",null,null,null,null,null,null,null,"","","","","","","","","","","","","","","","","","","","","","","",""]
[4,null,null,null,null,null,null,null,null,null,null,null,null,null,"ACDB","","","","",0,0,0,0,"","","","","","",0,0,"","","","","","","","",{"$f":"IF(ISBLANK(E8),\"\",IF(OR($O$2=$O$5,$O$2=$O$6,$O$2=$O$12,$O$2=$O$13),Best1!$F$10,IF(OR($O$2=$O$7,$O$2=$O$8,$O$2=$O$18,$O$2=$O$19),Best1!$F$11,IF(OR($O$2=$O$9,$O$2=$O$10,$O$2=$O$24,$O$2=$O$25),Best1!$F$12,IF(OR($O$2=$O$14,$O$2=$O$15,$O$2=$O$20,$O$2=$O$21),Best1!$F$13,IF(OR($O$2=$O$16,$O$2=$O$17,$O$2=$O$26,$O$2=$O$27),Best1!$F$14,IF(OR($O$2=$O$22,$O$2=$O$23,$O$2=$O$28,$O$2=$O$29),Best1!$F$15,\"\")))))))","v":""},"","",{"$f":"IF(ISBLANK(H8),\"\",IF(OR($O$2=$O$5,$O$2=$O$7,$O$2=$O$27,$O$2=$O$29),Best1!$F$13,IF(OR($O$2=$O$18,$O$2=$O$20,$O$2=$O$24,$O$2=$O$26),Best1!$F$10,IF(OR($O$2=$O$12,$O$2=$O$14,$O$2=$O$25,$O$2=$O$28),Best1!$F$11,IF(OR($O$2=$O$13,$O$2=$O$16,$O$2=$O$19,$O$2=$O$22),Best1!$F$12,IF(OR($O$2=$O$6,$O$2=$O$9,$O$2=$O$21,$O$2=$O$23),Best1!$F$14,IF(OR($O$2=$O$8,$O$2=$O$10,$O$2=$O$15,$O$2=$O$17),Best1!$F$15,\"\")))))))","v":""},"","",{"$f":"IF(ISBLANK(I8),\"\",IF(OR($O$2=$O$9,$O$2=$O$10,$O$2=$O$24,$O$2=$O$25),Best1!$F$13,IF(OR($O$2=$O$22,$O$2=$O$23,$O$2=$O$28,$O$2=$O$29),Best1!$F$10,IF(OR($O$2=$O$16,$O$2=$O$17,$O$2=$O$26,$O$2=$O$27),Best1!$F$11,IF(OR($O$2=$O$14,$O$2=$O$15,$O$2=$O$20,$O$2=$O$21),Best1!$F$12,IF(OR($O$2=$O$7,$O$2=$O$8,$O$2=$O$18,$O$2=$O$19),Best1!$F$14,IF(OR($O$2=$O$5,$O$2=$O$6,$O$2=$O$12,$O$2=$O$13),Best1!$F$15,\"\")))))))","v":""},"","",{"$f":"IF(ISBLANK(K8),\"\",IF(Best1!$C$3=\"\",\"\",ROUND(SUM(Best1!$C$3:$C$6),1)))","v":""},"","",{"$f":"IF(ISBLANK(K8),\"\",IF(Best1!$B$3=\"\",\"\",ROUND(AVERAGE(Best1!$D$3:$D$6),1)))","v":""},"","",null,"",null,null,null,null,null,null,null,"","","","","","","","","","","","","","","","","","","","","","","",""]
[5,null,null,null,null,null,null,null,null,null,null,null,null,null,"ADBC","","","","",0,0,0,0,"","","","","","",0,0,"","","","","","","","",{"$f":"IF(ISBLANK(E9),\"\",IF(OR($O$2=$O$5,$O$2=$O$6,$O$2=$O$12,$O$2=$O$13),Best1!$F$10,IF(OR($O$2=$O$7,$O$2=$O$8,$O$2=$O$18,$O$2=$O$19),Best1!$F$11,IF(OR($O$2=$O$9,$O$2=$O$10,$O$2=$O$24,$O$2=$O$25),Best1!$F$12,IF(OR($O$2=$O$14,$O$2=$O$15,$O$2=$O$20,$O$2=$O$21),Best1!$F$13,IF(OR($O$2=$O$16,$O$2=$O$17,$O$2=$O$26,$O$2=$O$27),Best1!$F$14,IF(OR($O$2=$O$22,$O$2=$O$23,$O$2=$O$28,$O$2=$O$29),Best1!$F$15,\"\")))))))","v":""},"","",{"$f":"IF(ISBLANK(H9),\"\",IF(OR($O$2=$O$5,$O$2=$O$7,$O$2=$O$27,$O$2=$O$29),Best1!$F$13,IF(OR($O$2=$O$18,$O$2=$O$20,$O$2=$O$24,$O$2=$O$26),Best1!$F$10,IF(OR($O$2=$O$12,$O$2=$O$14,$O$2=$O$25,$O$2=$O$28),Best1!$F$11,IF(OR($O$2=$O$13,$O$2=$O$16,$O$2=$O$19,$O$2=$O$22),Best1!$F$12,IF(OR($O$2=$O$6,$O$2=$O$9,$O$2=$O$21,$O$2=$O$23),Best1!$F$14,IF(OR($O$2=$O$8,$O$2=$O$10,$O$2=$O$15,$O$2=$O$17),Best1!$F$15,\"\")))))))","v":""},"","",{"$f":"IF(ISBLANK(I9),\"\",IF(OR($O$2=$O$9,$O$2=$O$10,$O$2=$O$24,$O$2=$O$25),Best1!$F$13,IF(OR($O$2=$O$22,$O$2=$O$23,$O$2=$O$28,$O$2=$O$29),Best1!$F$10,IF(OR($O$2=$O$16,$O$2=$O$17,$O$2=$O$26,$O$2=$O$27),Best1!$F$11,IF(OR($O$2=$O$14,$O$2=$O$15,$O$2=$O$20,$O$2=$O$21),Best1!$F$12,IF(OR($O$2=$O$7,$O$2=$O$8,$O$2=$O$18,$O$2=$O$19),Best1!$F$14,IF(OR($O$2=$O$5,$O$2=$O$6,$O$2=$O$12,$O$2=$O$13),Best1!$F$15,\"\")))))))","v":""},"","",{"$f":"IF(ISBLANK(K9),\"\",IF(Best1!$C$3=\"\",\"\",ROUND(SUM(Best1!$C$3:$C$6),1)))","v":""},"","",{"$f":"IF(ISBLANK(K9),\"\",IF(Best1!$B$3=\"\",\"\",ROUND(AVERAGE(Best1!$D$3:$D$6),1)))","v":""},"","",null,"",null,null,null,null,null,null,null,"","","","","","","","","","","","","","","","","","","","","","","",""]
[6,null,null,null,null,null,null,null,null,null,null,null,null,null,"ADCB","","","","",0,0,0,0,"","","","","","",0,0,"","","","","","","","",{"$f":"IF(ISBLANK(E10),\"\",IF(OR($O$2=$O$5,$O$2=$O$6,$O$2=$O$12,$O$2=$O$13),Best1!$F$10,IF(OR($O$2=$O$7,$O$2=$O$8,$O$2=$O$18,$O$2=$O$19),Best1!$F$11,IF(OR($O$2=$O$9,$O$2=$O$10,$O$2=$O$24,$O$2=$O$25),Best1!$F$12,IF(OR($O$2=$O$14,$O$2=$O$15,$O$2=$O$20,$O$2=$O$21),Best1!$F$13,IF(OR($O$2=$O$16,$O$2=$O$17,$O$2=$O$26,$O$2=$O$27),Best1!$F$14,IF(OR($O$2=$O$22,$O$2=$O$23,$O$2=$O$28,$O$2=$O$29),Best1!$F$15,\"\")))))))","v":""},"","",{"$f":"IF(ISBLANK(H10),\"\",IF(OR($O$2=$O$5,$O$2=$O$7,$O$2=$O$27,$O$2=$O$29),Best1!$F$13,IF(OR($O$2=$O$18,$O$2=$O$20,$O$2=$O$24,$O$2=$O$26),Best1!$F$10,IF(OR($O$2=$O$12,$O$2=$O$14,$O$2=$O$25,$O$2=$O$28),Best1!$F$11,IF(OR($O$2=$O$13,$O$2=$O$16,$O$2=$O$19,$O$2=$O$22),Best1!$F$12,IF(OR($O$2=$O$6,$O$2=$O$9,$O$2=$O$21,$O$2=$O$23),Best1!$F$14,IF(OR($O$2=$O$8,$O$2=$O$10,$O$2=$O$15,$O$2=$O$17),Best1!$F$15,\"\")))))))","v":""},"","",{"$f":"IF(ISBLANK(I10),\"\",IF(OR($O$2=$O$9,$O$2=$O$10,$O$2=$O$24,$O$2=$O$25),Best1!$F$13,IF(OR($O$2=$O$22,$O$2=$O$23,$O$2=$O$28,$O$2=$O$29),Best1!$F$10,IF(OR($O$2=$O$16,$O$2=$O$17,$O$2=$O$26,$O$2=$O$27),Best1!$F$11,IF(OR($O$2=$O$14,$O$2=$O$15,$O$2=$O$20,$O$2=$O$21),Best1!$F$12,IF(OR($O$2=$O$7,$O$2=$O$8,$O$2=$O$18,$O$2=$O$19),Best1!$F$14,IF(OR($O$2=$O$5,$O$2=$O$6,$O$2=$O$12,$O$2=$O$13),Best1!$F$15,\"\")))))))","v":""},"","",{"$f":"IF(ISBLANK(K10),\"\",IF(Best1!$C$3=\"\",\"\",ROUND(SUM(Best1!$C$3:$C$6),1)))","v":""},"","",{"$f":"IF(ISBLANK(K10),\"\",IF(Best1!$B$3=\"\",\"\",ROUND(AVERAGE(Best1!$D$3:$D$6),1)))","v":""},"","",null,"",null,null,null,null,null,null,null,"","","","","","","","","","","","","","","","","","","","","","","",""]
[7,null,null,null,null,null,null,null,null,null,null,null,null,null,"ADCB","","","","",0,0,0,0,"","","","","","",0,0,"","","","","","","","",{"$f":"IF(ISBLANK(E11),\"\",IF(OR($O$2=$O$5,$O$2=$O$6,$O$2=$O$12,$O$2=$O$13),Best1!$F$10,IF(OR($O$2=$O$7,$O$2=$O$8,$O$2=$O$18,$O$2=$O$19),Best1!$F$11,IF(OR($O$2=$O$9,$O$2=$O$10,$O$2=$O$24,$O$2=$O$25),Best1!$F$12,IF(OR($O$2=$O$14,$O$2=$O$15,$O$2=$O$20,$O$2=$O$21),Best1!$F$13,IF(OR($O$2=$O$16,$O$2=$O$17,$O$2=$O$26,$O$2=$O$27),Best1!$F$14,IF(OR($O$2=$O$22,$O$2=$O$23,$O$2=$O$28,$O$2=$O$29),Best1!$F$15,\"\")))))))","v":""},"","",{"$f":"IF(ISBLANK(H11),\"\",IF(OR($O$2=$O$5,$O$2=$O$7,$O$2=$O$27,$O$2=$O$29),Best1!$F$13,IF(OR($O$2=$O$18,$O$2=$O$20,$O$2=$O$24,$O$2=$O$26),Best1!$F$10,IF(OR($O$2=$O$12,$O$2=$O$14,$O$2=$O$25,$O$2=$O$28),Best1!$F$11,IF(OR($O$2=$O$13,$O$2=$O$16,$O$2=$O$19,$O$2=$O$22),Best1!$F$12,IF(OR($O$2=$O$6,$O$2=$O$9,$O$2=$O$21,$O$2=$O$23),Best1!$F$14,IF(OR($O$2=$O$8,$O$2=$O$10,$O$2=$O$15,$O$2=$O$17),Best1!$F$15,\"\")))))))","v":""},"","",{"$f":"IF(ISBLANK(I11),\"\",IF(OR($O$2=$O$9,$O$2=$O$10,$O$2=$O$24,$O$2=$O$25),Best1!$F$13,IF(OR($O$2=$O$22,$O$2=$O$23,$O$2=$O$28,$O$2=$O$29),Best1!$F$10,IF(OR($O$2=$O$16,$O$2=$O$17,$O$2=$O$26,$O$2=$O$27),Best1!$F$11,IF(OR($O$2=$O$14,$O$2=$O$15,$O$2=$O$20,$O$2=$O$21),Best1!$F$12,IF(OR($O$2=$O$7,$O$2=$O$8,$O$2=$O$18,$O$2=$O$19),Best1!$F$14,IF(OR($O$2=$O$5,$O$2=$O$6,$O$2=$O$12,$O$2=$O$13),Best1!$F$15,\"\")))))))","v":""},"","",{"$f":"IF(ISBLANK(K11),\"\",IF(Best1!$C$3=\"\",\"\",ROUND(SUM(Best1!$C$3:$C$6),1)))","v":""},"","",{"$f":"IF(ISBLANK(K11),\"\",IF(Best1!$B$3=\"\",\"\",ROUND(AVERAGE(Best1!$D$3:$D$6),1)))","v":""},"","",null,"",null,null,null,null,null,null,null,"","","","","","","","","","","","","","","","","","","","","","","",""]
[8,null,null,null,null,null,null,null,null,null,null,null,null,null,"BACD","","","","",0,0,0,0,"","","","","","",0,0,"","","","","","","","",{"$f":"IF(ISBLANK(E12),\"\",IF(OR($O$2=$O$5,$O$2=$O$6,$O$2=$O$12,$O$2=$O$13),Best1!$F$10,IF(OR($O$2=$O$7,$O$2=$O$8,$O$2=$O$18,$O$2=$O$19),Best1!$F$11,IF(OR($O$2=$O$9,$O$2=$O$10,$O$2=$O$24,$O$2=$O$25),Best1!$F$12,IF(OR($O$2=$O$14,$O$2=$O$15,$O$2=$O$20,$O$2=$O$21),Best1!$F$13,IF(OR($O$2=$O$16,$O$2=$O$17,$O$2=$O$26,$O$2=$O$27),Best1!$F$14,IF(OR($O$2=$O$22,$O$2=$O$23,$O$2=$O$28,$O$2=$O$29),Best1!$F$15,\"\")))))))","v":""},"","",{"$f":"IF(ISBLANK(H12),\"\",IF(OR($O$2=$O$5,$O$2=$O$7,$O$2=$O$27,$O$2=$O$29),Best1!$F$13,IF(OR($O$2=$O$18,$O$2=$O$20,$O$2=$O$24,$O$2=$O$26),Best1!$F$10,IF(OR($O$2=$O$12,$O$2=$O$14,$O$2=$O$25,$O$2=$O$28),Best1!$F$11,IF(OR($O$2=$O$13,$O$2=$O$16,$O$2=$O$19,$O$2=$O$22),Best1!$F$12,IF(OR($O$2=$O$6,$O$2=$O$9,$O$2=$O$21,$O$2=$O$23),Best1!$F$14,IF(OR($O$2=$O$8,$O$2=$O$10,$O$2=$O$15,$O$2=$O$17),Best1!$F$15,\"\")))))))","v":""},"","",{"$f":"IF(ISBLANK(I12),\"\",IF(OR($O$2=$O$9,$O$2=$O$10,$O$2=$O$24,$O$2=$O$25),Best1!$F$13,IF(OR($O$2=$O$22,$O$2=$O$23,$O$2=$O$28,$O$2=$O$29),Best1!$F$10,IF(OR($O$2=$O$16,$O$2=$O$17,$O$2=$O$26,$O$2=$O$27),Best1!$F$11,IF(OR($O$2=$O$14,$O$2=$O$15,$O$2=$O$20,$O$2=$O$21),Best1!$F$12,IF(OR($O$2=$O$7,$O$2=$O$8,$O$2=$O$18,$O$2=$O$19),Best1!$F$14,IF(OR($O$2=$O$5,$O$2=$O$6,$O$2=$O$12,$O$2=$O$13),Best1!$F$15,\"\")))))))","v":""},"","",{"$f":"IF(ISBLANK(K12),\"\",IF(Best1!$C$3=\"\",\"\",ROUND(SUM(Best1!$C$3:$C$6),1)))","v":""},"","",{"$f":"IF(ISBLANK(K12),\"\",IF(Best1!$B$3=\"\",\"\",ROUND(AVERAGE(Best1!$D$3:$D$6),1)))","v":""},"","",null,"",null,null,null,null,null,null,null,"","","","","","","","","","","","","","","","","","","","","","","",""]
[9,null,null,null,null,null,null,null,null,null,null,null,null,null,"BADC","","","","",0,0,0,0,"","","","","","",0,0,"","","","","","","","",{"$f":"IF(ISBLANK(E13),\"\",IF(OR($O$2=$O$5,$O$2=$O$6,$O$2=$O$12,$O$2=$O$13),Best1!$F$10,IF(OR($O$2=$O$7,$O$2=$O$8,$O$2=$O$18,$O$2=$O$19),Best1!$F$11,IF(OR($O$2=$O$9,$O$2=$O$10,$O$2=$O$24,$O$2=$O$25),Best1!$F$12,IF(OR($O$2=$O$14,$O$2=$O$15,$O$2=$O$20,$O$2=$O$21),Best1!$F$13,IF(OR($O$2=$O$16,$O$2=$O$17,$O$2=$O$26,$O$2=$O$27),Best1!$F$14,IF(OR($O$2=$O$22,$O$2=$O$23,$O$2=$O$28,$O$2=$O$29),Best1!$F$15,\"\")))))))","v":""},"","",{"$f":"IF(ISBLANK(H13),\"\",IF(OR($O$2=$O$5,$O$2=$O$7,$O$2=$O$27,$O$2=$O$29),Best1!$F$13,IF(OR($O$2=$O$18,$O$2=$O$20,$O$2=$O$24,$O$2=$O$26),Best1!$F$10,IF(OR($O$2=$O$12,$O$2=$O$14,$O$2=$O$25,$O$2=$O$28),Best1!$F$11,IF(OR($O$2=$O$13,$O$2=$O$16,$O$2=$O$19,$O$2=$O$22),Best1!$F$12,IF(OR($O$2=$O$6,$O$2=$O$9,$O$2=$O$21,$O$2=$O$23),Best1!$F$14,IF(OR($O$2=$O$8,$O$2=$O$10,$O$2=$O$15,$O$2=$O$17),Best1!$F$15,\"\")))))))","v":""},"","",{"$f":"IF(ISBLANK(I13),\"\",IF(OR($O$2=$O$9,$O$2=$O$10,$O$2=$O$24,$O$2=$O$25),Best1!$F$13,IF(OR($O$2=$O$22,$O$2=$O$23,$O$2=$O$28,$O$2=$O$29),Best1!$F$10,IF(OR($O$2=$O$16,$O$2=$O$17,$O$2=$O$26,$O$2=$O$27),Best1!$F$11,IF(OR($O$2=$O$14,$O$2=$O$15,$O$2=$O$20,$O$2=$O$21),Best1!$F$12,IF(OR($O$2=$O$7,$O$2=$O$8,$O$2=$O$18,$O$2=$O$19),Best1!$F$14,IF(OR($O$2=$O$5,$O$2=$O$6,$O$2=$O$12,$O$2=$O$13),Best1!$F$15,\"\")))))))","v":""},"","",{"$f":"IF(ISBLANK(K13),\"\",IF(Best1!$C$3=\"\",\"\",ROUND(SUM(Best1!$C$3:$C$6),1)))","v":""},"","",{"$f":"IF(ISBLANK(K13),\"\",IF(Best1!$B$3=\"\",\"\",ROUND(AVERAGE(Best1!$D$3:$D$6),1)))","v":""},"","",null,"",null,null,null,null,null,null,null,"","","","","","","","","","","","","","","","","","","","","","","",""]
[10,null,null,null,null,null,null,null,null,null,null,null,null,null,"BCAD","","","","",0,0,0,0,"","","","","","",0,0,"","","","","","","","",{"$f":"IF(ISBLANK(E14),\"\",IF(OR($O$2=$O$5,$O$2=$O$6,$O$2=$O$12,$O$2=$O$13),Best1!$F$10,IF(OR($O$2=$O$7,$O$2=$O$8,$O$2=$O$18,$O$2=$O$19),Best1!$F$11,IF(OR($O$2=$O$9,$O$2=$O$10,$O$2=$O$24,$O$2=$O$25),Best1!$F$12,IF(OR($O$2=$O$14,$O$2=$O$15,$O$2=$O$20,$O$2=$O$21),Best1!$F$13,IF(OR($O$2=$O$16,$O$2=$O$17,$O$2=$O$26,$O$2=$O$27),Best1!$F$14,IF(OR($O$2=$O$22,$O$2=$O$23,$O$2=$O$28,$O$2=$O$29),Best1!$F$15,\"\")))))))","v":""},"","",{"$f":"IF(ISBLANK(H14),\"\",IF(OR($O$2=$O$5,$O$2=$O$7,$O$2=$O$27,$O$2=$O$29),Best1!$F$13,IF(OR($O$2=$O$18,$O$2=$O$20,$O$2=$O$24,$O$2=$O$26),Best1!$F$10,IF(OR($O$2=$O$12,$O$2=$O$14,$O$2=$O$25,$O$2=$O$28),Best1!$F$11,IF(OR($O$2=$O$13,$O$2=$O$16,$O$2=$O$19,$O$2=$O$22),Best1!$F$12,IF(OR($O$2=$O$6,$O$2=$O$9,$O$2=$O$21,$O$2=$O$23),Best1!$F$14,IF(OR($O$2=$O$8,$O$2=$O$10,$O$2=$O$15,$O$2=$O$17),Best1!$F$15,\"\")))))))","v":""},"","",{"$f":"IF(ISBLANK(I14),\"\",IF(OR($O$2=$O$9,$O$2=$O$10,$O$2=$O$24,$O$2=$O$25),Best1!$F$13,IF(OR($O$2=$O$22,$O$2=$O$23,$O$2=$O$28,$O$2=$O$29),Best1!$F$10,IF(OR($O$2=$O$16,$O$2=$O$17,$O$2=$O$26,$O$2=$O$27),Best1!$F$11,IF(OR($O$2=$O$14,$O$2=$O$15,$O$2=$O$20,$O$2=$O$21),Best1!$F$12,IF(OR($O$2=$O$7,$O$2=$O$8,$O$2=$O$18,$O$2=$O$19),Best1!$F$14,IF(OR($O$2=$O$5,$O$2=$O$6,$O$2=$O$12,$O$2=$O$13),Best1!$F$15,\"\")))))))","v":""},"","",{"$f":"IF(ISBLANK(K14),\"\",IF(Best1!$C$3=\"\",\"\",ROUND(SUM(Best1!$C$3:$C$6),1)))","v":""},"","",{"$f":"IF(ISBLANK(K14),\"\",IF(Best1!$B$3=\"\",\"\",ROUND(AVERAGE(Best1!$D$3:$D$6),1)))","v":""},"","",null,"",null,null,null,null,null,null,null,"","","","","","","","","","","","","","","","","","","","","","","",""]
[11,null,null,null,null,null,null,null,null,null,null,null,null,null,"BCDA","","","","",0,0,0,0,"","","","","","",0,0,"","","","","","","","",{"$f":"IF(ISBLANK(E15),\"\",IF(OR($O$2=$O$5,$O$2=$O$6,$O$2=$O$12,$O$2=$O$13),Best1!$F$10,IF(OR($O$2=$O$7,$O$2=$O$8,$O$2=$O$18,$O$2=$O$19),Best1!$F$11,IF(OR($O$2=$O$9,$O$2=$O$10,$O$2=$O$24,$O$2=$O$25),Best1!$F$12,IF(OR($O$2=$O$14,$O$2=$O$15,$O$2=$O$20,$O$2=$O$21),Best1!$F$13,IF(OR($O$2=$O$16,$O$2=$O$17,$O$2=$O$26,$O$2=$O$27),Best1!$F$14,IF(OR($O$2=$O$22,$O$2=$O$23,$O$2=$O$28,$O$2=$O$29),Best1!$F$15,\"\")))))))","v":""},"","",{"$f":"IF(ISBLANK(H15),\"\",IF(OR($O$2=$O$5,$O$2=$O$7,$O$2=$O$27,$O$2=$O$29),Best1!$F$13,IF(OR($O$2=$O$18,$O$2=$O$20,$O$2=$O$24,$O$2=$O$26),Best1!$F$10,IF(OR($O$2=$O$12,$O$2=$O$14,$O$2=$O$25,$O$2=$O$28),Best1!$F$11,IF(OR($O$2=$O$13,$O$2=$O$16,$O$2=$O$19,$O$2=$O$22),Best1!$F$12,IF(OR($O$2=$O$6,$O$2=$O$9,$O$2=$O$21,$O$2=$O$23),Best1!$F$14,IF(OR($O$2=$O$8,$O$2=$O$10,$O$2=$O$15,$O$2=$O$17),Best1!$F$15,\"\")))))))","v":""},"","",{"$f":"IF(ISBLANK(I15),\"\",IF(OR($O$2=$O$9,$O$2=$O$10,$O$2=$O$24,$O$2=$O$25),Best1!$F$13,IF(OR($O$2=$O$22,$O$2=$O$23,$O$2=$O$28,$O$2=$O$29),Best1!$F$10,IF(OR($O$2=$O$16,$O$2=$O$17,$O$2=$O$26,$O$2=$O$27),Best1!$F$11,IF(OR($O$2=$O$14,$O$2=$O$15,$O$2=$O$20,$O$2=$O$21),Best1!$F$12,IF(OR($O$2=$O$7,$O$2=$O$8,$O$2=$O$18,$O$2=$O$19),Best1!$F$14,IF(OR($O$2=$O$5,$O$2=$O$6,$O$2=$O$12,$O$2=$O$13),Best1!$F$15,\"\")))))))","v":""},"","",{"$f":"IF(ISBLANK(K15),\"\",IF(Best1!$C$3=\"\",\"\",ROUND(SUM(Best1!$C$3:$C$6),1)))","v":""},"","",{"$f":"IF(ISBLANK(K15),\"\",IF(Best1!$B$3=\"\",\"\",ROUND(AVERAGE(Best1!$D$3:$D$6),1)))","v":""},"","",null,"",null,null,null,null,null,null,null,"","","","","","","","","","","","","","","","","","","","","","","",""]
[12,null,null,null,null,null,null,null,null,null,null,null,null,null,"BDAC","","","","",0,0,0,0,"","","","","","",0,0,"","","","","","","","",{"$f":"IF(ISBLANK(E16),\"\",IF(OR($O$2=$O$5,$O$2=$O$6,$O$2=$O$12,$O$2=$O$13),Best1!$F$10,IF(OR($O$2=$O$7,$O$2=$O$8,$O$2=$O$18,$O$2=$O$19),Best1!$F$11,IF(OR($O$2=$O$9,$O$2=$O$10,$O$2=$O$24,$O$2=$O$25),Best1!$F$12,IF(OR($O$2=$O$14,$O$2=$O$15,$O$2=$O$20,$O$2=$O$21),Best1!$F$13,IF(OR($O$2=$O$16,$O$2=$O$17,$O$2=$O$26,$O$2=$O$27),Best1!$F$14,IF(OR($O$2=$O$22,$O$2=$O$23,$O$2=$O$28,$O$2=$O$29),Best1!$F$15,\"\")))))))","v":""},"","",{"$f":"IF(ISBLANK(H16),\"\",IF(OR($O$2=$O$5,$O$2=$O$7,$O$2=$O$27,$O$2=$O$29),Best1!$F$13,IF(OR($O$2=$O$18,$O$2=$O$20,$O$2=$O$24,$O$2=$O$26),Best1!$F$10,IF(OR($O$2=$O$12,$O$2=$O$14,$O$2=$O$25,$O$2=$O$28),Best1!$F$11,IF(OR($O$2=$O$13,$O$2=$O$16,$O$2=$O$19,$O$2=$O$22),Best1!$F$12,IF(OR($O$2=$O$6,$O$2=$O$9,$O$2=$O$21,$O$2=$O$23),Best1!$F$14,IF(OR($O$2=$O$8,$O$2=$O$10,$O$2=$O$15,$O$2=$O$17),Best1!$F$15,\"\")))))))","v":""},"","",{"$f":"IF(ISBLANK(I16),\"\",IF(OR($O$2=$O$9,$O$2=$O$10,$O$2=$O$24,$O$2=$O$25),Best1!$F$13,IF(OR($O$2=$O$22,$O$2=$O$23,$O$2=$O$28,$O$2=$O$29),Best1!$F$10,IF(OR($O$2=$O$16,$O$2=$O$17,$O$2=$O$26,$O$2=$O$27),Best1!$F$11,IF(OR($O$2=$O$14,$O$2=$O$15,$O$2=$O$20,$O$2=$O$21),Best1!$F$12,IF(OR($O$2=$O$7,$O$2=$O$8,$O$2=$O$18,$O$2=$O$19),Best1!$F$14,IF(OR($O$2=$O$5,$O$2=$O$6,$O$2=$O$12,$O$2=$O$13),Best1!$F$15,\"\")))))))","v":""},"","",{"$f":"IF(ISBLANK(K16),\"\",IF(Best1!$C$3=\"\",\"\",ROUND(SUM(Best1!$C$3:$C$6),1)))","v":""},"","",{"$f":"IF(ISBLANK(K16),\"\",IF(Best1!$B$3=\"\",\"\",ROUND(AVERAGE(Best1!$D$3:$D$6),1)))","v":""},"","",null,"",null,null,null,null,null,null,null,"","","",{"$f":"IF(OR(S16=\"\",S16=0),\"\",S16*1)","v":""},"","","","","","","","","","","","","","","",{"$f":"IF(OR(AI16=\"\",AI16=0),\"\",AI16*1)","v":""},"","","",""]
[13,null,null,null,null,null,null,null,null,null,null,null,null,null,"BDCA","","","","",0,0,0,0,"","","","","","",0,0,"","","","","","","","",{"$f":"IF(ISBLANK(E17),\"\",IF(OR($O$2=$O$5,$O$2=$O$6,$O$2=$O$12,$O$2=$O$13),Best1!$F$10,IF(OR($O$2=$O$7,$O$2=$O$8,$O$2=$O$18,$O$2=$O$19),Best1!$F$11,IF(OR($O$2=$O$9,$O$2=$O$10,$O$2=$O$24,$O$2=$O$25),Best1!$F$12,IF(OR($O$2=$O$14,$O$2=$O$15,$O$2=$O$20,$O$2=$O$21),Best1!$F$13,IF(OR($O$2=$O$16,$O$2=$O$17,$O$2=$O$26,$O$2=$O$27),Best1!$F$14,IF(OR($O$2=$O$22,$O$2=$O$23,$O$2=$O$28,$O$2=$O$29),Best1!$F$15,\"\")))))))","v":""},"","",{"$f":"IF(ISBLANK(H17),\"\",IF(OR($O$2=$O$5,$O$2=$O$7,$O$2=$O$27,$O$2=$O$29),Best1!$F$13,IF(OR($O$2=$O$18,$O$2=$O$20,$O$2=$O$24,$O$2=$O$26),Best1!$F$10,IF(OR($O$2=$O$12,$O$2=$O$14,$O$2=$O$25,$O$2=$O$28),Best1!$F$11,IF(OR($O$2=$O$13,$O$2=$O$16,$O$2=$O$19,$O$2=$O$22),Best1!$F$12,IF(OR($O$2=$O$6,$O$2=$O$9,$O$2=$O$21,$O$2=$O$23),Best1!$F$14,IF(OR($O$2=$O$8,$O$2=$O$10,$O$2=$O$15,$O$2=$O$17),Best1!$F$15,\"\")))))))","v":""},"","",{"$f":"IF(ISBLANK(I17),\"\",IF(OR($O$2=$O$9,$O$2=$O$10,$O$2=$O$24,$O$2=$O$25),Best1!$F$13,IF(OR($O$2=$O$22,$O$2=$O$23,$O$2=$O$28,$O$2=$O$29),Best1!$F$10,IF(OR($O$2=$O$16,$O$2=$O$17,$O$2=$O$26,$O$2=$O$27),Best1!$F$11,IF(OR($O$2=$O$14,$O$2=$O$15,$O$2=$O$20,$O$2=$O$21),Best1!$F$12,IF(OR($O$2=$O$7,$O$2=$O$8,$O$2=$O$18,$O$2=$O$19),Best1!$F$14,IF(OR($O$2=$O$5,$O$2=$O$6,$O$2=$O$12,$O$2=$O$13),Best1!$F$15,\"\")))))))","v":""},"","",{"$f":"IF(ISBLANK(K17),\"\",IF(Best1!$C$3=\"\",\"\",ROUND(SUM(Best1!$C$3:$C$6),1)))","v":""},"","",{"$f":"IF(ISBLANK(K17),\"\",IF(Best1!$B$3=\"\",\"\",ROUND(AVERAGE(Best1!$D$3:$D$6),1)))","v":""},"","",null,"",null,null,null,null,null,null,null,"","","","","","","","","","","","","","","","","","","","","","","",""]
[14,null,null,null,null,null,null,null,null,null,null,null,null,null,"CABD","","","","",0,0,0,0,"","","","","","",0,0,"","","","","","","","",{"$f":"IF(ISBLANK(E18),\"\",IF(OR($O$2=$O$5,$O$2=$O$6,$O$2=$O$12,$O$2=$O$13),Best1!$F$10,IF(OR($O$2=$O$7,$O$2=$O$8,$O$2=$O$18,$O$2=$O$19),Best1!$F$11,IF(OR($O$2=$O$9,$O$2=$O$10,$O$2=$O$24,$O$2=$O$25),Best1!$F$12,IF(OR($O$2=$O$14,$O$2=$O$15,$O$2=$O$20,$O$2=$O$21),Best1!$F$13,IF(OR($O$2=$O$16,$O$2=$O$17,$O$2=$O$26,$O$2=$O$27),Best1!$F$14,IF(OR($O$2=$O$22,$O$2=$O$23,$O$2=$O$28,$O$2=$O$29),Best1!$F$15,\"\")))))))","v":""},"","",{"$f":"IF(ISBLANK(H18),\"\",IF(OR($O$2=$O$5,$O$2=$O$7,$O$2=$O$27,$O$2=$O$29),Best1!$F$13,IF(OR($O$2=$O$18,$O$2=$O$20,$O$2=$O$24,$O$2=$O$26),Best1!$F$10,IF(OR($O$2=$O$12,$O$2=$O$14,$O$2=$O$25,$O$2=$O$28),Best1!$F$11,IF(OR($O$2=$O$13,$O$2=$O$16,$O$2=$O$19,$O$2=$O$22),Best1!$F$12,IF(OR($O$2=$O$6,$O$2=$O$9,$O$2=$O$21,$O$2=$O$23),Best1!$F$14,IF(OR($O$2=$O$8,$O$2=$O$10,$O$2=$O$15,$O$2=$O$17),Best1!$F$15,\"\")))))))","v":""},"","",{"$f":"IF(ISBLANK(I18),\"\",IF(OR($O$2=$O$9,$O$2=$O$10,$O$2=$O$24,$O$2=$O$25),Best1!$F$13,IF(OR($O$2=$O$22,$O$2=$O$23,$O$2=$O$28,$O$2=$O$29),Best1!$F$10,IF(OR($O$2=$O$16,$O$2=$O$17,$O$2=$O$26,$O$2=$O$27),Best1!$F$11,IF(OR($O$2=$O$14,$O$2=$O$15,$O$2=$O$20,$O$2=$O$21),Best1!$F$12,IF(OR($O$2=$O$7,$O$2=$O$8,$O$2=$O$18,$O$2=$O$19),Best1!$F$14,IF(OR($O$2=$O$5,$O$2=$O$6,$O$2=$O$12,$O$2=$O$13),Best1!$F$15,\"\")))))))","v":""},"","",{"$f":"IF(ISBLANK(K18),\"\",IF(Best1!$C$3=\"\",\"\",ROUND(SUM(Best1!$C$3:$C$6),1)))","v":""},"","",{"$f":"IF(ISBLANK(K18),\"\",IF(Best1!$B$3=\"\",\"\",ROUND(AVERAGE(Best1!$D$3:$D$6),1)))","v":""},"","",null,"",null,null,null,null,null,null,null,"","","","","","","","","","","","","","","","","","","","","","","",""]
[15,null,null,null,null,null,null,null,null,null,null,null,null,null,"CADB","","","","",0,0,0,0,"","","","","","",0,0,"","","","","","","","",{"$f":"IF(ISBLANK(E19),\"\",IF(OR($O$2=$O$5,$O$2=$O$6,$O$2=$O$12,$O$2=$O$13),Best1!$F$10,IF(OR($O$2=$O$7,$O$2=$O$8,$O$2=$O$18,$O$2=$O$19),Best1!$F$11,IF(OR($O$2=$O$9,$O$2=$O$10,$O$2=$O$24,$O$2=$O$25),Best1!$F$12,IF(OR($O$2=$O$14,$O$2=$O$15,$O$2=$O$20,$O$2=$O$21),Best1!$F$13,IF(OR($O$2=$O$16,$O$2=$O$17,$O$2=$O$26,$O$2=$O$27),Best1!$F$14,IF(OR($O$2=$O$22,$O$2=$O$23,$O$2=$O$28,$O$2=$O$29),Best1!$F$15,\"\")))))))","v":""},"","",{"$f":"IF(ISBLANK(H19),\"\",IF(OR($O$2=$O$5,$O$2=$O$7,$O$2=$O$27,$O$2=$O$29),Best1!$F$13,IF(OR($O$2=$O$18,$O$2=$O$20,$O$2=$O$24,$O$2=$O$26),Best1!$F$10,IF(OR($O$2=$O$12,$O$2=$O$14,$O$2=$O$25,$O$2=$O$28),Best1!$F$11,IF(OR($O$2=$O$13,$O$2=$O$16,$O$2=$O$19,$O$2=$O$22),Best1!$F$12,IF(OR($O$2=$O$6,$O$2=$O$9,$O$2=$O$21,$O$2=$O$23),Best1!$F$14,IF(OR($O$2=$O$8,$O$2=$O$10,$O$2=$O$15,$O$2=$O$17),Best1!$F$15,\"\")))))))","v":""},"","",{"$f":"IF(ISBLANK(I19),\"\",IF(OR($O$2=$O$9,$O$2=$O$10,$O$2=$O$24,$O$2=$O$25),Best1!$F$13,IF(OR($O$2=$O$22,$O$2=$O$23,$O$2=$O$28,$O$2=$O$29),Best1!$F$10,IF(OR($O$2=$O$16,$O$2=$O$17,$O$2=$O$26,$O$2=$O$27),Best1!$F$11,IF(OR($O$2=$O$14,$O$2=$O$15,$O$2=$O$20,$O$2=$O$21),Best1!$F$12,IF(OR($O$2=$O$7,$O$2=$O$8,$O$2=$O$18,$O$2=$O$19),Best1!$F$14,IF(OR($O$2=$O$5,$O$2=$O$6,$O$2=$O$12,$O$2=$O$13),Best1!$F$15,\"\")))))))","v":""},"","",{"$f":"IF(ISBLANK(K19),\"\",IF(Best1!$C$3=\"\",\"\",ROUND(SUM(Best1!$C$3:$C$6),1)))","v":""},"","",{"$f":"IF(ISBLANK(K19),\"\",IF(Best1!$B$3=\"\",\"\",ROUND(AVERAGE(Best1!$D$3:$D$6),1)))","v":""},"","",null,"",null,null,null,null,null,null,null,"","","","","","","","","","","","","","","","","","","","","","","",""]
[16,null,null,null,null,null,null,null,null,null,null,null,null,null,"CBAD","","","","",0,0,0,0,"","","","","","",0,0,"","","","","","","","",{"$f":"IF(ISBLANK(E20),\"\",IF(OR($O$2=$O$5,$O$2=$O$6,$O$2=$O$12,$O$2=$O$13),Best1!$F$10,IF(OR($O$2=$O$7,$O$2=$O$8,$O$2=$O$18,$O$2=$O$19),Best1!$F$11,IF(OR($O$2=$O$9,$O$2=$O$10,$O$2=$O$24,$O$2=$O$25),Best1!$F$12,IF(OR($O$2=$O$14,$O$2=$O$15,$O$2=$O$20,$O$2=$O$21),Best1!$F$13,IF(OR($O$2=$O$16,$O$2=$O$17,$O$2=$O$26,$O$2=$O$27),Best1!$F$14,IF(OR($O$2=$O$22,$O$2=$O$23,$O$2=$O$28,$O$2=$O$29),Best1!$F$15,\"\")))))))","v":""},"","",{"$f":"IF(ISBLANK(H20),\"\",IF(OR($O$2=$O$5,$O$2=$O$7,$O$2=$O$27,$O$2=$O$29),Best1!$F$13,IF(OR($O$2=$O$18,$O$2=$O$20,$O$2=$O$24,$O$2=$O$26),Best1!$F$10,IF(OR($O$2=$O$12,$O$2=$O$14,$O$2=$O$25,$O$2=$O$28),Best1!$F$11,IF(OR($O$2=$O$13,$O$2=$O$16,$O$2=$O$19,$O$2=$O$22),Best1!$F$12,IF(OR($O$2=$O$6,$O$2=$O$9,$O$2=$O$21,$O$2=$O$23),Best1!$F$14,IF(OR($O$2=$O$8,$O$2=$O$10,$O$2=$O$15,$O$2=$O$17),Best1!$F$15,\"\")))))))","v":""},"","",{"$f":"IF(ISBLANK(I20),\"\",IF(OR($O$2=$O$9,$O$2=$O$10,$O$2=$O$24,$O$2=$O$25),Best1!$F$13,IF(OR($O$2=$O$22,$O$2=$O$23,$O$2=$O$28,$O$2=$O$29),Best1!$F$10,IF(OR($O$2=$O$16,$O$2=$O$17,$O$2=$O$26,$O$2=$O$27),Best1!$F$11,IF(OR($O$2=$O$14,$O$2=$O$15,$O$2=$O$20,$O$2=$O$21),Best1!$F$12,IF(OR($O$2=$O$7,$O$2=$O$8,$O$2=$O$18,$O$2=$O$19),Best1!$F$14,IF(OR($O$2=$O$5,$O$2=$O$6,$O$2=$O$12,$O$2=$O$13),Best1!$F$15,\"\")))))))","v":""},"","",{"$f":"IF(ISBLANK(K20),\"\",IF(Best1!$C$3=\"\",\"\",ROUND(SUM(Best1!$C$3:$C$6),1)))","v":""},"","",{"$f":"IF(ISBLANK(K20),\"\",IF(Best1!$B$3=\"\",\"\",ROUND(AVERAGE(Best1!$D$3:$D$6),1)))","v":""},"","",null,"",null,null,null,null,null,null,null,"","","","","","","","","","","","","","","","","","","","","","","",""]
[17,null,null,null,null,null,null,null,null,null,null,null,null,null,"CBDA","","","","",0,0,0,0,"","","","","","",0,0,"","","","","","","","",{"$f":"IF(ISBLANK(E21),\"\",IF(OR($O$2=$O$5,$O$2=$O$6,$O$2=$O$12,$O$2=$O$13),Best1!$F$10,IF(OR($O$2=$O$7,$O$2=$O$8,$O$2=$O$18,$O$2=$O$19),Best1!$F$11,IF(OR($O$2=$O$9,$O$2=$O$10,$O$2=$O$24,$O$2=$O$25),Best1!$F$12,IF(OR($O$2=$O$14,$O$2=$O$15,$O$2=$O$20,$O$2=$O$21),Best1!$F$13,IF(OR($O$2=$O$16,$O$2=$O$17,$O$2=$O$26,$O$2=$O$27),Best1!$F$14,IF(OR($O$2=$O$22,$O$2=$O$23,$O$2=$O$28,$O$2=$O$29),Best1!$F$15,\"\")))))))","v":""},"","",{"$f":"IF(ISBLANK(H21),\"\",IF(OR($O$2=$O$5,$O$2=$O$7,$O$2=$O$27,$O$2=$O$29),Best1!$F$13,IF(OR($O$2=$O$18,$O$2=$O$20,$O$2=$O$24,$O$2=$O$26),Best1!$F$10,IF(OR($O$2=$O$12,$O$2=$O$14,$O$2=$O$25,$O$2=$O$28),Best1!$F$11,IF(OR($O$2=$O$13,$O$2=$O$16,$O$2=$O$19,$O$2=$O$22),Best1!$F$12,IF(OR($O$2=$O$6,$O$2=$O$9,$O$2=$O$21,$O$2=$O$23),Best1!$F$14,IF(OR($O$2=$O$8,$O$2=$O$10,$O$2=$O$15,$O$2=$O$17),Best1!$F$15,\"\")))))))","v":""},"","",{"$f":"IF(ISBLANK(I21),\"\",IF(OR($O$2=$O$9,$O$2=$O$10,$O$2=$O$24,$O$2=$O$25),Best1!$F$13,IF(OR($O$2=$O$22,$O$2=$O$23,$O$2=$O$28,$O$2=$O$29),Best1!$F$10,IF(OR($O$2=$O$16,$O$2=$O$17,$O$2=$O$26,$O$2=$O$27),Best1!$F$11,IF(OR($O$2=$O$14,$O$2=$O$15,$O$2=$O$20,$O$2=$O$21),Best1!$F$12,IF(OR($O$2=$O$7,$O$2=$O$8,$O$2=$O$18,$O$2=$O$19),Best1!$F$14,IF(OR($O$2=$O$5,$O$2=$O$6,$O$2=$O$12,$O$2=$O$13),Best1!$F$15,\"\")))))))","v":""},"","",{"$f":"IF(ISBLANK(K21),\"\",IF(Best1!$C$3=\"\",\"\",ROUND(SUM(Best1!$C$3:$C$6),1)))","v":""},"","",{"$f":"IF(ISBLANK(K21),\"\",IF(Best1!$B$3=\"\",\"\",ROUND(AVERAGE(Best1!$D$3:$D$6),1)))","v":""},"","",null,"",null,null,null,null,null,null,null,"","","","","","","","","","","","","","","","","","","","","","","",""]
[18,null,null,null,null,null,null,null,null,null,null,null,null,null,"CDAB","","","","",0,0,0,0,"","","","","","",0,0,"","","","","","","","",{"$f":"IF(ISBLANK(E22),\"\",IF(OR($O$2=$O$5,$O$2=$O$6,$O$2=$O$12,$O$2=$O$13),Best1!$F$10,IF(OR($O$2=$O$7,$O$2=$O$8,$O$2=$O$18,$O$2=$O$19),Best1!$F$11,IF(OR($O$2=$O$9,$O$2=$O$10,$O$2=$O$24,$O$2=$O$25),Best1!$F$12,IF(OR($O$2=$O$14,$O$2=$O$15,$O$2=$O$20,$O$2=$O$21),Best1!$F$13,IF(OR($O$2=$O$16,$O$2=$O$17,$O$2=$O$26,$O$2=$O$27),Best1!$F$14,IF(OR($O$2=$O$22,$O$2=$O$23,$O$2=$O$28,$O$2=$O$29),Best1!$F$15,\"\")))))))","v":""},"","",{"$f":"IF(ISBLANK(H22),\"\",IF(OR($O$2=$O$5,$O$2=$O$7,$O$2=$O$27,$O$2=$O$29),Best1!$F$13,IF(OR($O$2=$O$18,$O$2=$O$20,$O$2=$O$24,$O$2=$O$26),Best1!$F$10,IF(OR($O$2=$O$12,$O$2=$O$14,$O$2=$O$25,$O$2=$O$28),Best1!$F$11,IF(OR($O$2=$O$13,$O$2=$O$16,$O$2=$O$19,$O$2=$O$22),Best1!$F$12,IF(OR($O$2=$O$6,$O$2=$O$9,$O$2=$O$21,$O$2=$O$23),Best1!$F$14,IF(OR($O$2=$O$8,$O$2=$O$10,$O$2=$O$15,$O$2=$O$17),Best1!$F$15,\"\")))))))","v":""},"","",{"$f":"IF(ISBLANK(I22),\"\",IF(OR($O$2=$O$9,$O$2=$O$10,$O$2=$O$24,$O$2=$O$25),Best1!$F$13,IF(OR($O$2=$O$22,$O$2=$O$23,$O$2=$O$28,$O$2=$O$29),Best1!$F$10,IF(OR($O$2=$O$16,$O$2=$O$17,$O$2=$O$26,$O$2=$O$27),Best1!$F$11,IF(OR($O$2=$O$14,$O$2=$O$15,$O$2=$O$20,$O$2=$O$21),Best1!$F$12,IF(OR($O$2=$O$7,$O$2=$O$8,$O$2=$O$18,$O$2=$O$19),Best1!$F$14,IF(OR($O$2=$O$5,$O$2=$O$6,$O$2=$O$12,$O$2=$O$13),Best1!$F$15,\"\")))))))","v":""},"","",{"$f":"IF(ISBLANK(K22),\"\",IF(Best1!$C$3=\"\",\"\",ROUND(SUM(Best1!$C$3:$C$6),1)))","v":""},"","",{"$f":"IF(ISBLANK(K22),\"\",IF(Best1!$B$3=\"\",\"\",ROUND(AVERAGE(Best1!$D$3:$D$6),1)))","v":""},"","",null,"",null,null,null,null,null,null,null,"","","","","","","","","","","","","","","","","","","","","","","",""]
[19,null,null,null,null,null,null,null,null,null,null,null,null,null,"CDBA","","","","",0,0,0,0,"","","","","","",0,0,"","","","","","","","",{"$f":"IF(ISBLANK(E23),\"\",IF(OR($O$2=$O$5,$O$2=$O$6,$O$2=$O$12,$O$2=$O$13),Best1!$F$10,IF(OR($O$2=$O$7,$O$2=$O$8,$O$2=$O$18,$O$2=$O$19),Best1!$F$11,IF(OR($O$2=$O$9,$O$2=$O$10,$O$2=$O$24,$O$2=$O$25),Best1!$F$12,IF(OR($O$2=$O$14,$O$2=$O$15,$O$2=$O$20,$O$2=$O$21),Best1!$F$13,IF(OR($O$2=$O$16,$O$2=$O$17,$O$2=$O$26,$O$2=$O$27),Best1!$F$14,IF(OR($O$2=$O$22,$O$2=$O$23,$O$2=$O$28,$O$2=$O$29),Best1!$F$15,\"\")))))))","v":""},"","",{"$f":"IF(ISBLANK(H23),\"\",IF(OR($O$2=$O$5,$O$2=$O$7,$O$2=$O$27,$O$2=$O$29),Best1!$F$13,IF(OR($O$2=$O$18,$O$2=$O$20,$O$2=$O$24,$O$2=$O$26),Best1!$F$10,IF(OR($O$2=$O$12,$O$2=$O$14,$O$2=$O$25,$O$2=$O$28),Best1!$F$11,IF(OR($O$2=$O$13,$O$2=$O$16,$O$2=$O$19,$O$2=$O$22),Best1!$F$12,IF(OR($O$2=$O$6,$O$2=$O$9,$O$2=$O$21,$O$2=$O$23),Best1!$F$14,IF(OR($O$2=$O$8,$O$2=$O$10,$O$2=$O$15,$O$2=$O$17),Best1!$F$15,\"\")))))))","v":""},"","",{"$f":"IF(ISBLANK(I23),\"\",IF(OR($O$2=$O$9,$O$2=$O$10,$O$2=$O$24,$O$2=$O$25),Best1!$F$13,IF(OR($O$2=$O$22,$O$2=$O$23,$O$2=$O$28,$O$2=$O$29),Best1!$F$10,IF(OR($O$2=$O$16,$O$2=$O$17,$O$2=$O$26,$O$2=$O$27),Best1!$F$11,IF(OR($O$2=$O$14,$O$2=$O$15,$O$2=$O$20,$O$2=$O$21),Best1!$F$12,IF(OR($O$2=$O$7,$O$2=$O$8,$O$2=$O$18,$O$2=$O$19),Best1!$F$14,IF(OR($O$2=$O$5,$O$2=$O$6,$O$2=$O$12,$O$2=$O$13),Best1!$F$15,\"\")))))))","v":""},"","",{"$f":"IF(ISBLANK(K23),\"\",IF(Best1!$C$3=\"\",\"\",ROUND(SUM(Best1!$C$3:$C$6),1)))","v":""},"","",{"$f":"IF(ISBLANK(K23),\"\",IF(Best1!$B$3=\"\",\"\",ROUND(AVERAGE(Best1!$D$3:$D$6),1)))","v":""},"","",null,"",null,null,null,null,null,null,null,"","","","","","","","","","","","","","","","","","","","","","","",""]
[20,null,null,null,null,null,null,null,null,null,null,null,null,null,"DABC","","","","",0,0,0,0,"","","","","","",0,0,"","","","","","","","",{"$f":"IF(ISBLANK(E24),\"\",IF(OR($O$2=$O$5,$O$2=$O$6,$O$2=$O$12,$O$2=$O$13),Best1!$F$10,IF(OR($O$2=$O$7,$O$2=$O$8,$O$2=$O$18,$O$2=$O$19),Best1!$F$11,IF(OR($O$2=$O$9,$O$2=$O$10,$O$2=$O$24,$O$2=$O$25),Best1!$F$12,IF(OR($O$2=$O$14,$O$2=$O$15,$O$2=$O$20,$O$2=$O$21),Best1!$F$13,IF(OR($O$2=$O$16,$O$2=$O$17,$O$2=$O$26,$O$2=$O$27),Best1!$F$14,IF(OR($O$2=$O$22,$O$2=$O$23,$O$2=$O$28,$O$2=$O$29),Best1!$F$15,\"\")))))))","v":""},"","",{"$f":"IF(ISBLANK(H24),\"\",IF(OR($O$2=$O$5,$O$2=$O$7,$O$2=$O$27,$O$2=$O$29),Best1!$F$13,IF(OR($O$2=$O$18,$O$2=$O$20,$O$2=$O$24,$O$2=$O$26),Best1!$F$10,IF(OR($O$2=$O$12,$O$2=$O$14,$O$2=$O$25,$O$2=$O$28),Best1!$F$11,IF(OR($O$2=$O$13,$O$2=$O$16,$O$2=$O$19,$O$2=$O$22),Best1!$F$12,IF(OR($O$2=$O$6,$O$2=$O$9,$O$2=$O$21,$O$2=$O$23),Best1!$F$14,IF(OR($O$2=$O$8,$O$2=$O$10,$O$2=$O$15,$O$2=$O$17),Best1!$F$15,\"\")))))))","v":""},"","",{"$f":"IF(ISBLANK(I24),\"\",IF(OR($O$2=$O$9,$O$2=$O$10,$O$2=$O$24,$O$2=$O$25),Best1!$F$13,IF(OR($O$2=$O$22,$O$2=$O$23,$O$2=$O$28,$O$2=$O$29),Best1!$F$10,IF(OR($O$2=$O$16,$O$2=$O$17,$O$2=$O$26,$O$2=$O$27),Best1!$F$11,IF(OR($O$2=$O$14,$O$2=$O$15,$O$2=$O$20,$O$2=$O$21),Best1!$F$12,IF(OR($O$2=$O$7,$O$2=$O$8,$O$2=$O$18,$O$2=$O$19),Best1!$F$14,IF(OR($O$2=$O$5,$O$2=$O$6,$O$2=$O$12,$O$2=$O$13),Best1!$F$15,\"\")))))))","v":""},"","",{"$f":"IF(ISBLANK(K24),\"\",IF(Best1!$C$3=\"\",\"\",ROUND(SUM(Best1!$C$3:$C$6),1)))","v":""},"","",{"$f":"IF(ISBLANK(K24),\"\",IF(Best1!$B$3=\"\",\"\",ROUND(AVERAGE(Best1!$D$3:$D$6),1)))","v":""},"","",null,"",null,null,null,null,null,null,null,"","","","","","","","","","","","","","","","","","","","","","","",""]
[21,null,null,null,null,null,null,null,null,null,null,null,null,null,"DACB","","","","",0,0,0,0,"","","","","","",0,0,"","","","","","","","",{"$f":"IF(ISBLANK(E25),\"\",IF(OR($O$2=$O$5,$O$2=$O$6,$O$2=$O$12,$O$2=$O$13),Best1!$F$10,IF(OR($O$2=$O$7,$O$2=$O$8,$O$2=$O$18,$O$2=$O$19),Best1!$F$11,IF(OR($O$2=$O$9,$O$2=$O$10,$O$2=$O$24,$O$2=$O$25),Best1!$F$12,IF(OR($O$2=$O$14,$O$2=$O$15,$O$2=$O$20,$O$2=$O$21),Best1!$F$13,IF(OR($O$2=$O$16,$O$2=$O$17,$O$2=$O$26,$O$2=$O$27),Best1!$F$14,IF(OR($O$2=$O$22,$O$2=$O$23,$O$2=$O$28,$O$2=$O$29),Best1!$F$15,\"\")))))))","v":""},"","",{"$f":"IF(ISBLANK(H25),\"\",IF(OR($O$2=$O$5,$O$2=$O$7,$O$2=$O$27,$O$2=$O$29),Best1!$F$13,IF(OR($O$2=$O$18,$O$2=$O$20,$O$2=$O$24,$O$2=$O$26),Best1!$F$10,IF(OR($O$2=$O$12,$O$2=$O$14,$O$2=$O$25,$O$2=$O$28),Best1!$F$11,IF(OR($O$2=$O$13,$O$2=$O$16,$O$2=$O$19,$O$2=$O$22),Best1!$F$12,IF(OR($O$2=$O$6,$O$2=$O$9,$O$2=$O$21,$O$2=$O$23),Best1!$F$14,IF(OR($O$2=$O$8,$O$2=$O$10,$O$2=$O$15,$O$2=$O$17),Best1!$F$15,\"\")))))))","v":""},"","",{"$f":"IF(ISBLANK(I25),\"\",IF(OR($O$2=$O$9,$O$2=$O$10,$O$2=$O$24,$O$2=$O$25),Best1!$F$13,IF(OR($O$2=$O$22,$O$2=$O$23,$O$2=$O$28,$O$2=$O$29),Best1!$F$10,IF(OR($O$2=$O$16,$O$2=$O$17,$O$2=$O$26,$O$2=$O$27),Best1!$F$11,IF(OR($O$2=$O$14,$O$2=$O$15,$O$2=$O$20,$O$2=$O$21),Best1!$F$12,IF(OR($O$2=$O$7,$O$2=$O$8,$O$2=$O$18,$O$2=$O$19),Best1!$F$14,IF(OR($O$2=$O$5,$O$2=$O$6,$O$2=$O$12,$O$2=$O$13),Best1!$F$15,\"\")))))))","v":""},"","",{"$f":"IF(ISBLANK(K25),\"\",IF(Best1!$C$3=\"\",\"\",ROUND(SUM(Best1!$C$3:$C$6),1)))","v":""},"","",{"$f":"IF(ISBLANK(K25),\"\",IF(Best1!$B$3=\"\",\"\",ROUND(AVERAGE(Best1!$D$3:$D$6),1)))","v":""},"","",null,"",null,null,null,null,null,null,null,"","","","","","","","","","","","","","","","","","","","","","","",""]
[22,null,null,null,null,null,null,null,null,null,null,null,null,null,"DBAC","","","","",0,0,0,0,"","","","","","",0,0,"","","","","","","","",{"$f":"IF(ISBLANK(E26),\"\",IF(OR($O$2=$O$5,$O$2=$O$6,$O$2=$O$12,$O$2=$O$13),Best1!$F$10,IF(OR($O$2=$O$7,$O$2=$O$8,$O$2=$O$18,$O$2=$O$19),Best1!$F$11,IF(OR($O$2=$O$9,$O$2=$O$10,$O$2=$O$24,$O$2=$O$25),Best1!$F$12,IF(OR($O$2=$O$14,$O$2=$O$15,$O$2=$O$20,$O$2=$O$21),Best1!$F$13,IF(OR($O$2=$O$16,$O$2=$O$17,$O$2=$O$26,$O$2=$O$27),Best1!$F$14,IF(OR($O$2=$O$22,$O$2=$O$23,$O$2=$O$28,$O$2=$O$29),Best1!$F$15,\"\")))))))","v":""},"","",{"$f":"IF(ISBLANK(H26),\"\",IF(OR($O$2=$O$5,$O$2=$O$7,$O$2=$O$27,$O$2=$O$29),Best1!$F$13,IF(OR($O$2=$O$18,$O$2=$O$20,$O$2=$O$24,$O$2=$O$26),Best1!$F$10,IF(OR($O$2=$O$12,$O$2=$O$14,$O$2=$O$25,$O$2=$O$28),Best1!$F$11,IF(OR($O$2=$O$13,$O$2=$O$16,$O$2=$O$19,$O$2=$O$22),Best1!$F$12,IF(OR($O$2=$O$6,$O$2=$O$9,$O$2=$O$21,$O$2=$O$23),Best1!$F$14,IF(OR($O$2=$O$8,$O$2=$O$10,$O$2=$O$15,$O$2=$O$17),Best1!$F$15,\"\")))))))","v":""},"","",{"$f":"IF(ISBLANK(I26),\"\",IF(OR($O$2=$O$9,$O$2=$O$10,$O$2=$O$24,$O$2=$O$25),Best1!$F$13,IF(OR($O$2=$O$22,$O$2=$O$23,$O$2=$O$28,$O$2=$O$29),Best1!$F$10,IF(OR($O$2=$O$16,$O$2=$O$17,$O$2=$O$26,$O$2=$O$27),Best1!$F$11,IF(OR($O$2=$O$14,$O$2=$O$15,$O$2=$O$20,$O$2=$O$21),Best1!$F$12,IF(OR($O$2=$O$7,$O$2=$O$8,$O$2=$O$18,$O$2=$O$19),Best1!$F$14,IF(OR($O$2=$O$5,$O$2=$O$6,$O$2=$O$12,$O$2=$O$13),Best1!$F$15,\"\")))))))","v":""},"","",{"$f":"IF(ISBLANK(K26),\"\",IF(Best1!$C$3=\"\",\"\",ROUND(SUM(Best1!$C$3:$C$6),1)))","v":""},"","",{"$f":"IF(ISBLANK(K26),\"\",IF(Best1!$B$3=\"\",\"\",ROUND(AVERAGE(Best1!$D$3:$D$6),1)))","v":""},"","",null,"",null,null,null,null,null,null,null,"","","","","","","","","","","","","","","","","","","","","","","",""]
[23,null,null,null,null,null,null,null,null,null,null,null,null,null,"DBCA","","","","",0,0,0,0,"","","","","","",0,0,"","","","","","","","",{"$f":"IF(ISBLANK(E27),\"\",IF(OR($O$2=$O$5,$O$2=$O$6,$O$2=$O$12,$O$2=$O$13),Best1!$F$10,IF(OR($O$2=$O$7,$O$2=$O$8,$O$2=$O$18,$O$2=$O$19),Best1!$F$11,IF(OR($O$2=$O$9,$O$2=$O$10,$O$2=$O$24,$O$2=$O$25),Best1!$F$12,IF(OR($O$2=$O$14,$O$2=$O$15,$O$2=$O$20,$O$2=$O$21),Best1!$F$13,IF(OR($O$2=$O$16,$O$2=$O$17,$O$2=$O$26,$O$2=$O$27),Best1!$F$14,IF(OR($O$2=$O$22,$O$2=$O$23,$O$2=$O$28,$O$2=$O$29),Best1!$F$15,\"\")))))))","v":""},"","",{"$f":"IF(ISBLANK(H27),\"\",IF(OR($O$2=$O$5,$O$2=$O$7,$O$2=$O$27,$O$2=$O$29),Best1!$F$13,IF(OR($O$2=$O$18,$O$2=$O$20,$O$2=$O$24,$O$2=$O$26),Best1!$F$10,IF(OR($O$2=$O$12,$O$2=$O$14,$O$2=$O$25,$O$2=$O$28),Best1!$F$11,IF(OR($O$2=$O$13,$O$2=$O$16,$O$2=$O$19,$O$2=$O$22),Best1!$F$12,IF(OR($O$2=$O$6,$O$2=$O$9,$O$2=$O$21,$O$2=$O$23),Best1!$F$14,IF(OR($O$2=$O$8,$O$2=$O$10,$O$2=$O$15,$O$2=$O$17),Best1!$F$15,\"\")))))))","v":""},"","",{"$f":"IF(ISBLANK(I27),\"\",IF(OR($O$2=$O$9,$O$2=$O$10,$O$2=$O$24,$O$2=$O$25),Best1!$F$13,IF(OR($O$2=$O$22,$O$2=$O$23,$O$2=$O$28,$O$2=$O$29),Best1!$F$10,IF(OR($O$2=$O$16,$O$2=$O$17,$O$2=$O$26,$O$2=$O$27),Best1!$F$11,IF(OR($O$2=$O$14,$O$2=$O$15,$O$2=$O$20,$O$2=$O$21),Best1!$F$12,IF(OR($O$2=$O$7,$O$2=$O$8,$O$2=$O$18,$O$2=$O$19),Best1!$F$14,IF(OR($O$2=$O$5,$O$2=$O$6,$O$2=$O$12,$O$2=$O$13),Best1!$F$15,\"\")))))))","v":""},"","",{"$f":"IF(ISBLANK(K27),\"\",IF(Best1!$C$3=\"\",\"\",ROUND(SUM(Best1!$C$3:$C$6),1)))","v":""},"","",{"$f":"IF(ISBLANK(K27),\"\",IF(Best1!$B$3=\"\",\"\",ROUND(AVERAGE(Best1!$D$3:$D$6),1)))","v":""},"","",null,"",null,null,null,null,null,null,null,"","","","","","","","","","","","","","","","","","","","","","","",""]
[24,null,null,null,null,null,null,null,null,null,null,null,null,null,"DCAB","","","","",0,0,0,0,"","","","","","",0,0,"","","","","","","","",{"$f":"IF(ISBLANK(E28),\"\",IF(OR($O$2=$O$5,$O$2=$O$6,$O$2=$O$12,$O$2=$O$13),Best1!$F$10,IF(OR($O$2=$O$7,$O$2=$O$8,$O$2=$O$18,$O$2=$O$19),Best1!$F$11,IF(OR($O$2=$O$9,$O$2=$O$10,$O$2=$O$24,$O$2=$O$25),Best1!$F$12,IF(OR($O$2=$O$14,$O$2=$O$15,$O$2=$O$20,$O$2=$O$21),Best1!$F$13,IF(OR($O$2=$O$16,$O$2=$O$17,$O$2=$O$26,$O$2=$O$27),Best1!$F$14,IF(OR($O$2=$O$22,$O$2=$O$23,$O$2=$O$28,$O$2=$O$29),Best1!$F$15,\"\")))))))","v":""},"","",{"$f":"IF(ISBLANK(H28),\"\",IF(OR($O$2=$O$5,$O$2=$O$7,$O$2=$O$27,$O$2=$O$29),Best1!$F$13,IF(OR($O$2=$O$18,$O$2=$O$20,$O$2=$O$24,$O$2=$O$26),Best1!$F$10,IF(OR($O$2=$O$12,$O$2=$O$14,$O$2=$O$25,$O$2=$O$28),Best1!$F$11,IF(OR($O$2=$O$13,$O$2=$O$16,$O$2=$O$19,$O$2=$O$22),Best1!$F$12,IF(OR($O$2=$O$6,$O$2=$O$9,$O$2=$O$21,$O$2=$O$23),Best1!$F$14,IF(OR($O$2=$O$8,$O$2=$O$10,$O$2=$O$15,$O$2=$O$17),Best1!$F$15,\"\")))))))","v":""},"","",{"$f":"IF(ISBLANK(I28),\"\",IF(OR($O$2=$O$9,$O$2=$O$10,$O$2=$O$24,$O$2=$O$25),Best1!$F$13,IF(OR($O$2=$O$22,$O$2=$O$23,$O$2=$O$28,$O$2=$O$29),Best1!$F$10,IF(OR($O$2=$O$16,$O$2=$O$17,$O$2=$O$26,$O$2=$O$27),Best1!$F$11,IF(OR($O$2=$O$14,$O$2=$O$15,$O$2=$O$20,$O$2=$O$21),Best1!$F$12,IF(OR($O$2=$O$7,$O$2=$O$8,$O$2=$O$18,$O$2=$O$19),Best1!$F$14,IF(OR($O$2=$O$5,$O$2=$O$6,$O$2=$O$12,$O$2=$O$13),Best1!$F$15,\"\")))))))","v":""},"","",{"$f":"IF(ISBLANK(K28),\"\",IF(Best1!$C$3=\"\",\"\",ROUND(SUM(Best1!$C$3:$C$6),1)))","v":""},"","",{"$f":"IF(ISBLANK(K28),\"\",IF(Best1!$B$3=\"\",\"\",ROUND(AVERAGE(Best1!$D$3:$D$6),1)))","v":""},"","",null,"",null,null,null,null,null,null,null,"","","","","","","","","","","","","","","","","","","","","","","",""]
[25,null,null,null,null,null,null,null,null,null,null,null,null,null,"DCBA","","","","",0,0,0,0,"","","","","","",0,0,"","","","","","","","",{"$f":"IF(ISBLANK(E29),\"\",IF(OR($O$2=$O$5,$O$2=$O$6,$O$2=$O$12,$O$2=$O$13),Best1!$F$10,IF(OR($O$2=$O$7,$O$2=$O$8,$O$2=$O$18,$O$2=$O$19),Best1!$F$11,IF(OR($O$2=$O$9,$O$2=$O$10,$O$2=$O$24,$O$2=$O$25),Best1!$F$12,IF(OR($O$2=$O$14,$O$2=$O$15,$O$2=$O$20,$O$2=$O$21),Best1!$F$13,IF(OR($O$2=$O$16,$O$2=$O$17,$O$2=$O$26,$O$2=$O$27),Best1!$F$14,IF(OR($O$2=$O$22,$O$2=$O$23,$O$2=$O$28,$O$2=$O$29),Best1!$F$15,\"\")))))))","v":""},"","",{"$f":"IF(ISBLANK(H29),\"\",IF(OR($O$2=$O$5,$O$2=$O$7,$O$2=$O$27,$O$2=$O$29),Best1!$F$13,IF(OR($O$2=$O$18,$O$2=$O$20,$O$2=$O$24,$O$2=$O$26),Best1!$F$10,IF(OR($O$2=$O$12,$O$2=$O$14,$O$2=$O$25,$O$2=$O$28),Best1!$F$11,IF(OR($O$2=$O$13,$O$2=$O$16,$O$2=$O$19,$O$2=$O$22),Best1!$F$12,IF(OR($O$2=$O$6,$O$2=$O$9,$O$2=$O$21,$O$2=$O$23),Best1!$F$14,IF(OR($O$2=$O$8,$O$2=$O$10,$O$2=$O$15,$O$2=$O$17),Best1!$F$15,\"\")))))))","v":""},"","",{"$f":"IF(ISBLANK(I29),\"\",IF(OR($O$2=$O$9,$O$2=$O$10,$O$2=$O$24,$O$2=$O$25),Best1!$F$13,IF(OR($O$2=$O$22,$O$2=$O$23,$O$2=$O$28,$O$2=$O$29),Best1!$F$10,IF(OR($O$2=$O$16,$O$2=$O$17,$O$2=$O$26,$O$2=$O$27),Best1!$F$11,IF(OR($O$2=$O$14,$O$2=$O$15,$O$2=$O$20,$O$2=$O$21),Best1!$F$12,IF(OR($O$2=$O$7,$O$2=$O$8,$O$2=$O$18,$O$2=$O$19),Best1!$F$14,IF(OR($O$2=$O$5,$O$2=$O$6,$O$2=$O$12,$O$2=$O$13),Best1!$F$15,\"\")))))))","v":""},"","",{"$f":"IF(ISBLANK(K29),\"\",IF(Best1!$C$3=\"\",\"\",ROUND(SUM(Best1!$C$3:$C$6),1)))","v":""},"","",{"$f":"IF(ISBLANK(K29),\"\",IF(Best1!$B$3=\"\",\"\",ROUND(AVERAGE(Best1!$D$3:$D$6),1)))","v":""},"","",null,"",null,null,null,null,null,null,null,"","","","","","","","","","","","","","","","","","","","","","","",""]
[26,null,null,null,null,null,null,null,null,null,null,null,null,null,null,"","","","",0,0,0,0,"","","","","","",0,0,"","","","","","","","",{"$f":"IF(ISBLANK(E30),\"\",IF(OR($O$2=$O$5,$O$2=$O$6,$O$2=$O$12,$O$2=$O$13),Best1!$F$10,IF(OR($O$2=$O$7,$O$2=$O$8,$O$2=$O$18,$O$2=$O$19),Best1!$F$11,IF(OR($O$2=$O$9,$O$2=$O$10,$O$2=$O$24,$O$2=$O$25),Best1!$F$12,IF(OR($O$2=$O$14,$O$2=$O$15,$O$2=$O$20,$O$2=$O$21),Best1!$F$13,IF(OR($O$2=$O$16,$O$2=$O$17,$O$2=$O$26,$O$2=$O$27),Best1!$F$14,IF(OR($O$2=$O$22,$O$2=$O$23,$O$2=$O$28,$O$2=$O$29),Best1!$F$15,\"\")))))))","v":""},"","",{"$f":"IF(ISBLANK(H30),\"\",IF(OR($O$2=$O$5,$O$2=$O$7,$O$2=$O$27,$O$2=$O$29),Best1!$F$13,IF(OR($O$2=$O$18,$O$2=$O$20,$O$2=$O$24,$O$2=$O$26),Best1!$F$10,IF(OR($O$2=$O$12,$O$2=$O$14,$O$2=$O$25,$O$2=$O$28),Best1!$F$11,IF(OR($O$2=$O$13,$O$2=$O$16,$O$2=$O$19,$O$2=$O$22),Best1!$F$12,IF(OR($O$2=$O$6,$O$2=$O$9,$O$2=$O$21,$O$2=$O$23),Best1!$F$14,IF(OR($O$2=$O$8,$O$2=$O$10,$O$2=$O$15,$O$2=$O$17),Best1!$F$15,\"\")))))))","v":""},"","",{"$f":"IF(ISBLANK(I30),\"\",IF(OR($O$2=$O$9,$O$2=$O$10,$O$2=$O$24,$O$2=$O$25),Best1!$F$13,IF(OR($O$2=$O$22,$O$2=$O$23,$O$2=$O$28,$O$2=$O$29),Best1!$F$10,IF(OR($O$2=$O$16,$O$2=$O$17,$O$2=$O$26,$O$2=$O$27),Best1!$F$11,IF(OR($O$2=$O$14,$O$2=$O$15,$O$2=$O$20,$O$2=$O$21),Best1!$F$12,IF(OR($O$2=$O$7,$O$2=$O$8,$O$2=$O$18,$O$2=$O$19),Best1!$F$14,IF(OR($O$2=$O$5,$O$2=$O$6,$O$2=$O$12,$O$2=$O$13),Best1!$F$15,\"\")))))))","v":""},"","",{"$f":"IF(ISBLANK(K30),\"\",IF(Best1!$C$3=\"\",\"\",ROUND(SUM(Best1!$C$3:$C$6),1)))","v":""},"","",{"$f":"IF(ISBLANK(K30),\"\",IF(Best1!$B$3=\"\",\"\",ROUND(AVERAGE(Best1!$D$3:$D$6),1)))","v":""},"","",null,"",null,null,null,null,null,null,null,"","","","","","","","","","","","","","","","","","","","","","","",""]
[27,null,null,null,null,null,null,null,null,null,null,null,null,null,null,"","","","",0,0,0,0,"","","","","","",0,0,"","","","","","","","",{"$f":"IF(ISBLANK(E31),\"\",IF(OR($O$2=$O$5,$O$2=$O$6,$O$2=$O$12,$O$2=$O$13),Best1!$F$10,IF(OR($O$2=$O$7,$O$2=$O$8,$O$2=$O$18,$O$2=$O$19),Best1!$F$11,IF(OR($O$2=$O$9,$O$2=$O$10,$O$2=$O$24,$O$2=$O$25),Best1!$F$12,IF(OR($O$2=$O$14,$O$2=$O$15,$O$2=$O$20,$O$2=$O$21),Best1!$F$13,IF(OR($O$2=$O$16,$O$2=$O$17,$O$2=$O$26,$O$2=$O$27),Best1!$F$14,IF(OR($O$2=$O$22,$O$2=$O$23,$O$2=$O$28,$O$2=$O$29),Best1!$F$15,\"\")))))))","v":""},{"$f":"IF(F31=\"\",\"\",F31)","v":""},"",{"$f":"IF(ISBLANK(H31),\"\",IF(OR($O$2=$O$5,$O$2=$O$7,$O$2=$O$27,$O$2=$O$29),Best1!$F$13,IF(OR($O$2=$O$18,$O$2=$O$20,$O$2=$O$24,$O$2=$O$26),Best1!$F$10,IF(OR($O$2=$O$12,$O$2=$O$14,$O$2=$O$25,$O$2=$O$28),Best1!$F$11,IF(OR($O$2=$O$13,$O$2=$O$16,$O$2=$O$19,$O$2=$O$22),Best1!$F$12,IF(OR($O$2=$O$6,$O$2=$O$9,$O$2=$O$21,$O$2=$O$23),Best1!$F$14,IF(OR($O$2=$O$8,$O$2=$O$10,$O$2=$O$15,$O$2=$O$17),Best1!$F$15,\"\")))))))","v":""},{"$f":"IF(H31=\"\",\"\",H31)","v":""},"",{"$f":"IF(ISBLANK(I31),\"\",IF(OR($O$2=$O$9,$O$2=$O$10,$O$2=$O$24,$O$2=$O$25),Best1!$F$13,IF(OR($O$2=$O$22,$O$2=$O$23,$O$2=$O$28,$O$2=$O$29),Best1!$F$10,IF(OR($O$2=$O$16,$O$2=$O$17,$O$2=$O$26,$O$2=$O$27),Best1!$F$11,IF(OR($O$2=$O$14,$O$2=$O$15,$O$2=$O$20,$O$2=$O$21),Best1!$F$12,IF(OR($O$2=$O$7,$O$2=$O$8,$O$2=$O$18,$O$2=$O$19),Best1!$F$14,IF(OR($O$2=$O$5,$O$2=$O$6,$O$2=$O$12,$O$2=$O$13),Best1!$F$15,\"\")))))))","v":""},{"$f":"IF(J31=\"\",\"\",J31)","v":""},"",{"$f":"IF(ISBLANK(K31),\"\",IF(Best1!$C$3=\"\",\"\",ROUND(SUM(Best1!$C$3:$C$6),1)))","v":""},{"$f":"IF(K31=\"\",\"\",K31)","v":""},"",{"$f":"IF(ISBLANK(K31),\"\",IF(Best1!$B$3=\"\",\"\",ROUND(AVERAGE(Best1!$D$3:$D$6),1)))","v":""},{"$f":"IF(L31=\"\",\"\",L31)","v":""},"",null,"",null,null,null,null,null,null,null,"","","","","","","","","","","","","","","","","","",{"$f":"IF(OR(AH31=\"\",AH31=0),\"\",AH31*1)","v":""},"","","","",""]
[28,null,null,null,null,null,null,null,null,null,null,null,null,null,null,"","","","",0,0,0,0,"","","","","","",0,0,"","","","","","","","",{"$f":"IF(ISBLANK(E32),\"\",IF(OR($O$2=$O$5,$O$2=$O$6,$O$2=$O$12,$O$2=$O$13),Best1!$F$10,IF(OR($O$2=$O$7,$O$2=$O$8,$O$2=$O$18,$O$2=$O$19),Best1!$F$11,IF(OR($O$2=$O$9,$O$2=$O$10,$O$2=$O$24,$O$2=$O$25),Best1!$F$12,IF(OR($O$2=$O$14,$O$2=$O$15,$O$2=$O$20,$O$2=$O$21),Best1!$F$13,IF(OR($O$2=$O$16,$O$2=$O$17,$O$2=$O$26,$O$2=$O$27),Best1!$F$14,IF(OR($O$2=$O$22,$O$2=$O$23,$O$2=$O$28,$O$2=$O$29),Best1!$F$15,\"\")))))))","v":""},"","",{"$f":"IF(ISBLANK(H32),\"\",IF(OR($O$2=$O$5,$O$2=$O$7,$O$2=$O$27,$O$2=$O$29),Best1!$F$13,IF(OR($O$2=$O$18,$O$2=$O$20,$O$2=$O$24,$O$2=$O$26),Best1!$F$10,IF(OR($O$2=$O$12,$O$2=$O$14,$O$2=$O$25,$O$2=$O$28),Best1!$F$11,IF(OR($O$2=$O$13,$O$2=$O$16,$O$2=$O$19,$O$2=$O$22),Best1!$F$12,IF(OR($O$2=$O$6,$O$2=$O$9,$O$2=$O$21,$O$2=$O$23),Best1!$F$14,IF(OR($O$2=$O$8,$O$2=$O$10,$O$2=$O$15,$O$2=$O$17),Best1!$F$15,\"\")))))))","v":""},"","",{"$f":"IF(ISBLANK(I32),\"\",IF(OR($O$2=$O$9,$O$2=$O$10,$O$2=$O$24,$O$2=$O$25),Best1!$F$13,IF(OR($O$2=$O$22,$O$2=$O$23,$O$2=$O$28,$O$2=$O$29),Best1!$F$10,IF(OR($O$2=$O$16,$O$2=$O$17,$O$2=$O$26,$O$2=$O$27),Best1!$F$11,IF(OR($O$2=$O$14,$O$2=$O$15,$O$2=$O$20,$O$2=$O$21),Best1!$F$12,IF(OR($O$2=$O$7,$O$2=$O$8,$O$2=$O$18,$O$2=$O$19),Best1!$F$14,IF(OR($O$2=$O$5,$O$2=$O$6,$O$2=$O$12,$O$2=$O$13),Best1!$F$15,\"\")))))))","v":""},"","",{"$f":"IF(ISBLANK(K32),\"\",IF(Best1!$C$3=\"\",\"\",ROUND(SUM(Best1!$C$3:$C$6),1)))","v":""},"","",{"$f":"IF(ISBLANK(K32),\"\",IF(Best1!$B$3=\"\",\"\",ROUND(AVERAGE(Best1!$D$3:$D$6),1)))","v":""},"","",null,"",null,null,null,null,null,null,null,"","","","","","","","","","","","","","","","",{"$f":"IF(OR(AF32=\"\",AF32=0),\"\",AF32*1)","v":""},"","","","","","",""]
[]
[null,null,null,null,null,null,null,null,null,null,null,null,null,null,null,{"$f":"MIN(BW5:BW32)","v":0},{"$f":"MIN(BX5:BX32)","v":0},{"$f":"MIN(BY5:BY32)","v":0},0,0,0,0,0,0,0,0,0,0,0,0,0,0,0,0,0,0,0,0,0,null,null,null,null,null,null,null,null,null,null,null,null,null,null,null,null,null,null,null,null,null,null,null,null,{"$f":"IF(MIN(BL5:BL32)=0,\"\",MIN(BL5:BL32))","v":""},{"$f":"IF(MIN(BM5:BM32)=0,\"\",MIN(BM5:BM32))","v":""},"","","","","","","","","","","","",{"$f":"IF(MIN(BZ5:BZ32)=0,\"\",MIN(BZ5:BZ32))","v":""},"","","","","","","","",""]
[]
[]
[]
[]
[]
[]
[]
[null,null,null,null,null,null,null,null,null,null,null,null,null,null,null,null,null,null,null,null,null,null,null,null,null,null,null,null,null,null,null,null,null,null,null,null,null,null,null,null,null,null,null,null,null,null,null,null,null,{"$f":"IF(AND(AX5=\"\",AX33=\"\"),\"\",MIN(AX5:AX41))","v":""},null,null,{"$f":"IF(AND(BA5=\"\",BA33=\"\"),\"\",MAX(BA5:BA41))","v":""}]
[]
[]
[]
[]
[]
[]
[]
[null,null,null,null,null,null,null,null,null,null,null,null,null,null,null,null,null,null,null,null,null,500,500,500,500,{"$f":"V50*1","v":500},{"$f":"W50*1","v":500},{"$f":"X50*1","v":500},{"$f":"Y50*1","v":500}]
[null,null,null,null,null,null,null,null,null,null,null,null,null,null,null,null,null,null,null,null,null,500,500,500,500,{"$f":"V51*1","v":500},{"$f":"W51*1","v":500},{"$f":"X51*1","v":500},{"$f":"Y51*1","v":500}]
[null,null,null,null,null,null,null,null,null,null,null,null,null,null,null,null,null,null,null,null,null,500,500,500,500,500,500,500,500]
[null,null,null,null,null,null,null,null,null,null,null,null,null,null,null,null,null,null,null,null,null,500,500,500,500,500,500,500,500]
[null,null,null,null,null,null,null,null,null,null,null,null,null,null,null,null,null,null,null,null,null,500,500,500,500,500,500,500,500]
[null,null,null,null,null,null,null,null,null,null,null,null,null,null,null,null,null,null,null,null,null,500,500,500,500,500,500,500,500]
[null,null,null,null,null,null,null,null,null,null,null,null,null,null,null,null,null,null,null,null,null,500,500,500,500,500,500,500,500]
[null,null,null,null,null,null,null,null,null,null,null,null,null,null,null,null,null,null,null,null,null,500,500,500,500,500,500,500,500]
[null,null,null,null,null,null,null,null,null,null,null,null,null,null,null,null,null,null,null,null,null,500,500,500,500,500,500,500,500]
[null,null,null,null,null,null,null,null,null,null,null,null,null,null,null,null,null,null,null,null,null,500,500,500,500,500,500,500,500]
[null,null,null,null,null,null,null,null,null,null,null,null,null,null,null,null,null,null,null,null,null,500,500,500,500,500,500,500,500]
[null,null,null,null,null,null,null,null,null,null,null,null,null,null,null,null,null,null,null,null,null,500,500,500,500,500,500,500,500]
[null,null,null,null,null,null,null,null,null,null,null,null,null,null,null,null,null,null,null,null,null,500,500,500,500,500,500,500,500]
[null,null,null,null,null,null,null,null,null,null,null,null,null,null,null,null,null,null,null,null,null,500,500,500,500,500,500,500,500]
[null,null,null,null,null,null,null,null,null,null,null,null,null,null,null,null,null,null,null,null,null,500,500,500,500,500,500,500,500]
[null,null,null,null,null,null,null,null,null,null,null,null,null,null,null,null,null,null,null,null,null,500,500,500,500,500,500,500,500]
[null,null,null,null,null,null,null,null,null,null,null,null,null,null,null,null,null,null,null,null,null,500,500,500,500,500,500,500,500]
[null,null,null,null,null,null,null,null,null,null,null,null,null,null,null,null,null,null,null,null,null,500,500,500,500,500,500,500,500]
[null,null,null,null,null,null,null,null,null,null,null,null,null,null,null,null,null,null,null,null,null,500,500,500,500,500,500,500,500]
[null,null,null,null,null,null,null,null,null,null,null,null,null,null,null,null,null,null,null,null,null,500,500,500,500,500,500,500,500]
[null,null,null,null,null,null,null,null,null,null,null,null,null,null,null,null,null,null,null,null,null,500,500,500,500,500,500,500,500]
[null,null,null,null,null,null,null,null,null,null,null,null,null,null,null,null,null,null,null,null,null,500,500,500,500,500,500,500,500]
[null,null,null,null,null,null,null,null,null,null,null,null,null,null,null,null,null,null,null,null,null,500,500,500,500,500,500,500,500]
[null,null,null,null,null,null,null,null,null,null,null,null,null,null,null,null,null,null,null,null,null,500,500,500,500,500,500,500,500]
[]
[]
[]
[]
[]
[]
[]
[]
[]
[]
[]
[]
[]
[]
[]
[null,null,null,null,null,null,null,null,null,null,null,null,null,null,null,null,null,null,null,null,null,{"$f":"IF(MIN(V50:V73)=0,\"\",MIN(V50:V73))","v":500},500,500,500,500,500,500,500]
[null,null,null,null,null,null,null,null,null,null,null,null,null,null,null,null,null,null,null,null,null,500,500,500,500,{"$f":"V90*1","v":500},{"$f":"W90*1","v":500},{"$f":"X90*1","v":500},{"$f":"Y90*1","v":500}]
[null,null,null,null,null,null,null,null,null,null,null,null,null,null,null,null,null,null,null,null,null,500,500,500,500,{"$f":"V91*1","v":500},{"$f":"W91*1","v":500},{"$f":"X91*1","v":500},{"$f":"Y91*1","v":500}]
[null,null,null,null,null,null,null,null,null,null,null,null,null,null,null,null,null,null,null,null,null,500,500,500,500,500,500,500,500]
[null,null,null,null,null,null,null,null,null,null,null,null,null,null,null,null,null,null,null,null,null,500,500,500,500,500,500,500,500]
[null,null,null,null,null,null,null,null,null,null,null,null,null,null,null,null,null,null,null,null,null,500,500,500,500,500,500,500,500]
[null,null,null,null,null,null,null,null,null,null,null,null,null,null,null,null,null,null,null,null,null,500,500,500,500,500,500,500,500]
[null,null,null,null,null,null,null,null,null,null,null,null,null,null,null,null,null,null,null,null,null,500,500,500,500,500,500,500,500]
[null,null,null,null,null,null,null,null,null,null,null,null,null,null,null,null,null,null,null,null,null,500,500,500,500,500,500,500,500]
[null,null,null,null,null,null,null,null,null,null,null,null,null,null,null,null,null,null,null,null,null,500,500,500,500,500,500,500,500]
[null,null,null,null,null,null,null,null,null,null,null,null,null,null,null,null,null,null,null,null,null,500,500,500,500,500,500,500,500]
[null,null,null,null,null,null,null,null,null,null,null,null,null,null,null,null,null,null,null,null,null,500,500,500,500,500,500,500,500]
[null,null,null,null,null,null,null,null,null,null,null,null,null,null,null,null,null,null,null,null,null,500,500,500,500,500,500,500,500]
[null,null,null,null,null,null,null,null,null,null,null,null,null,null,null,null,null,null,null,null,null,500,500,500,500,500,500,500,500]
[null,null,null,null,null,null,null,null,null,null,null,null,null,null,null,null,null,null,null,null,null,500,500,500,500,500,500,500,500]
[null,null,null,null,null,null,null,null,null,null,null,null,null,null,null,null,null,null,null,null,null,500,500,500,500,500,500,500,500]
[null,null,null,null,null,null,null,null,null,null,null,null,null,null,null,null,null,null,null,null,null,500,500,500,500,500,500,500,500]
[null,null,null,null,null,null,null,null,null,null,null,null,null,null,null,null,null,null,null,null,null,500,500,500,500,500,500,500,500]
[null,null,null,null,null,null,null,null,null,null,null,null,null,null,null,null,null,null,null,null,null,500,500,500,500,500,500,500,500]
[null,null,null,null,null,null,null,null,null,null,null,null,null,null,null,null,null,null,null,null,null,500,500,500,500,500,500,500,500]
[null,null,null,null,null,null,null,null,null,null,null,null,null,null,null,null,null,null,null,null,null,500,500,500,500,500,500,500,500]
[null,null,null,null,null,null,null,null,null,null,null,null,null,null,null,null,null,null,null,null,null,500,500,500,500,500,500,500,500]
[null,null,null,null,null,null,null,null,null,null,null,null,null,null,null,null,null,null,null,null,null,500,500,500,500,500,500,500,500]
[null,null,null,null,null,null,null,null,null,null,null,null,null,null,null,null,null,null,null,null,null,500,500,500,500,500,500,500,500]
[null,null,null,null,null,null,null,null,null,null,null,null,null,null,null,null,null,null,null,null,null,500,500,500,500,500,500,500,500]
[]
[]
[]
[]
[]
[]
[]
[]
[]
[]
[]
[]
[]
[]
[]
[null,null,null,null,null,null,null,null,null,null,null,null,null,null,null,null,null,null,null,null,null,{"$f":"IF(MIN(V90:V113)=0,\"\",MIN(V90:V113))","v":500},500,500,500,500,500,500,500]
[null,null,null,null,null,null,null,null,null,null,null,null,null,null,null,null,null,null,null,null,null,null,null,null,null,{"$f":"IF(MIN(Z89,Z129)=500,\"\",MIN(Z89,Z129))","v":""},{"$f":"IF(MIN(AA89,AA129)=500,\"\",MIN(AA89,AA129))","v":""},"",""]

{"sheet":"Archresultats7","index":10,"n_rows":130,"n_cols":87,"rows_kept":130,"cut":false,"hidden":false,"merged":[[0,0,2,11],[2,39,2,41],[2,42,2,44],[2,45,2,47],[2,48,2,53]]}
["Bilan équipe 7"]
[null,null,null,null,null,null,null,null,null,null,null,null,null,null,"CDBA"]
[null,null,null,null,null,null,null,null,null,null,null,null,null,null,null,null,null,null,null,null,null,null,null,null,null,null,null,null,null,null,null,null,null,null,null,null,null,null,null,"ZONE 1",null,null,"ZONE 2",null,null,"ZONE 3",null,null,"TOTAL course"]
[null,"Dates","Heure","Coureur ou\nOrdre relais","Tps\n zone 1","Vitesse\nzone 1","Tps\n zone 2","Vitesse\nzone 2","Tps\n zone 3","Vitesse\nzone 3","Tps course\ntotale","Vitesse totale\ntotale","Remarques",null,null,"AB (t)","AB (v)","AC (t)","AC (v)","AD (t)","AD (v)","BA (v)","BA (t)","BC (t)","BC (v)","BD (t)","BD (v)","CA (t)","CA (v)","CB (t)","CB (v)","CD (t)","CD (v)","DA (t)","DA (v)","DB (t)","DB (v)","DC (t)","DC (v)","Vitesse\n moy. théorique  du binôme","Vitesse réelle\n du binôme","% \nEvolution","Vitesse\n moy. théorique  du binôme","Vitesse réelle\n du binôme","% \nEvolution","Vitesse\n moy. théorique  du binôme","Vitesse réelle\n du binôme","% \nEvolution","TEMPS\ntotal théorique\ndu groupe","TEMPS\ntotal réel\ndu groupe\n ","% \nEvolution","VITESSE\n théorique  du groupe","VITESSE réelle\n du groupe","% \nEvolution"]
[1,null,null,null,null,null,null,null,null,null,null,null,null,null,"ABCD",{"$f":"IF(OR($O$2=$O$5,$O$2=$O$6),E5,IF(OR($O$2=$O$18,$O$2=$O$24),G5,IF(OR($O$2=$O$22,$O$2=$O$28),I5,\"\")))","v":""},{"$f":"IF(OR($O$2=$O$5,$O$2=$O$6),F5,IF(OR($O$2=$O$18,$O$2=$O$24),H5,IF(OR($O$2=$O$22,$O$2=$O$28),J5,\"\")))","v":""},{"$f":"IF(OR($O$2=$O$7,$O$2=$O$8),E5,IF(OR($O$2=$O$12,$O$2=$O$25),G5,IF(OR($O$2=$O$16,$O$2=$O$26),I5,\"\")))","v":""},{"$f":"IF(OR($O$2=$O$7,$O$2=$O$8),F5,IF(OR($O$2=$O$12,$O$2=$O$25),H5,IF(OR($O$2=$O$16,$O$2=$O$26),J5,\"\")))","v":""},{"$f":"IF(OR($O$2=$O$9,$O$2=$O$10),E5,IF(OR($O$2=$O$13,$O$2=$O$19),G5,IF(OR($O$2=$O$14,$O$2=$O$20),I5,\"\")))","v":""},{"$f":"IF(OR($O$2=$O$9,$O$2=$O$10),F5,IF(OR($O$2=$O$13,$O$2=$O$19),H5,IF(OR($O$2=$O$14,$O$2=$O$20),J5,\"\")))","v":""},{"$f":"IF(OR($O$2=$O$12,$O$2=$O$13),E5,IF(OR($O$2=$O$20,$O$2=$O$26),G5,IF(OR($O$2=$O$23,$O$2=$O$29),I5,\"\")))","v":0},{"$f":"IF(OR($O$2=$O$12,$O$2=$O$13),F5,IF(OR($O$2=$O$20,$O$2=$O$26),H5,IF(OR($O$2=$O$23,$O$2=$O$29),J5,\"\")))","v":0},{"$f":"IF(OR($O$2=$O$14,$O$2=$O$15),E5,IF(OR($O$2=$O$5,$O$2=$O$27),G5,IF(OR($O$2=$O$9,$O$2=$O$24),I5,\"\")))","v":""},{"$f":"IF(OR($O$2=$O$14,$O$2=$O$15),F5,IF(OR($O$2=$O$5,$O$2=$O$27),H5,IF(OR($O$2=$O$9,$O$2=$O$24),J5,\"\")))","v":""},{"$f":"IF(OR($O$2=$O$16,$O$2=$O$17),E5,IF(OR($O$2=$O$6,$O$2=$O$21),G5,IF(OR($O$2=$O$7,$O$2=$O$18),I5,\"\")))","v":""},{"$f":"IF(OR($O$2=$O$16,$O$2=$O$17),F5,IF(OR($O$2=$O$6,$O$2=$O$21),H5,IF(OR($O$2=$O$7,$O$2=$O$18),J5,\"\")))","v":""},{"$f":"IF(OR($O$2=$O$18,$O$2=$O$19),E5,IF(OR($O$2=$O$14,$O$2=$O$28),G5,IF(OR($O$2=$O$17,$O$2=$O$27),I5,\"\")))","v":""},{"$f":"IF(OR($O$2=$O$18,$O$2=$O$19),F5,IF(OR($O$2=$O$14,$O$2=$O$28),H5,IF(OR($O$2=$O$17,$O$2=$O$27),J5,\"\")))","v":""},{"$f":"IF(OR($O$2=$O$20,$O$2=$O$21),E5,IF(OR($O$2=$O$7,$O$2=$O$29),G5,IF(OR($O$2=$O$10,$O$2=$O$11),I5,\"\")))","v":""},{"$f":"IF(OR($O$2=$O$20,$O$2=$O$21),F5,IF(OR($O$2=$O$7,$O$2=$O$29),H5,IF(OR($O$2=$O$10,$O$2=$O$11),J5,\"\")))","v":""},{"$f":"IF(OR($O$2=$O$22,$O$2=$O$23),E5,IF(OR($O$2=$O$8,$O$2=$O$15),G5,IF(OR($O$2=$O$5,$O$2=$O$12),I5,\"\")))","v":0},{"$f":"IF(OR($O$2=$O$22,$O$2=$O$23),F5,IF(OR($O$2=$O$8,$O$2=$O$15),H5,IF(OR($O$2=$O$5,$O$2=$O$12),J5,\"\")))","v":0},{"$f":"IF(OR($O$2=$O$24,$O$2=$O$25),E5,IF(OR($O$2=$O$16,$O$2=$O$22),G5,IF(OR($O$2=$O$15,$O$2=$O$21),I5,\"\")))","v":""},{"$f":"IF(OR($O$2=$O$24,$O$2=$O$25),F5,IF(OR($O$2=$O$16,$O$2=$O$22),H5,IF(OR($O$2=$O$15,$O$2=$O$21),J5,\"\")))","v":""},{"$f":"IF(OR($O$2=$O$26,$O$2=$O$27),E5,IF(OR($O$2=$O$9,$O$2=$O$23),G5,IF(OR($O$2=$O$8,$O$2=$O$19),I5,\"\")))","v":0},{"$f":"IF(OR($O$2=$O$26,$O$2=$O$27),F5,IF(OR($O$2=$O$9,$O$2=$O$23),H5,IF(OR($O$2=$O$8,$O$2=$O$19),J5,\"\")))","v":0},{"$f":"IF(OR($O$2=$O$28,$O$2=$O$29),E5,IF(OR($O$2=$O$10,$O$2=$O$11),G5,IF(OR($O$2=$O$6,$O$2=$O$13),I5,\"\")))","v":""},{"$f":"IF(OR($O$2=$O$28,$O$2=$O$29),F5,IF(OR($O$2=$O$10,$O$2=$O$11),H5,IF(OR($O$2=$O$6,$O$2=$O$13),J5,\"\")))","v":""},{"$f":"IF(ISBLANK(E5),\"\",IF(OR($O$2=$O$5,$O$2=$O$6,$O$2=$O$12,$O$2=$O$13),Best1!$F$10,IF(OR($O$2=$O$7,$O$2=$O$8,$O$2=$O$18,$O$2=$O$19),Best1!$F$11,IF(OR($O$2=$O$9,$O$2=$O$10,$O$2=$O$24,$O$2=$O$25),Best1!$F$12,IF(OR($O$2=$O$14,$O$2=$O$15,$O$2=$O$20,$O$2=$O$21),Best1!$F$13,IF(OR($O$2=$O$16,$O$2=$O$17,$O$2=$O$26,$O$2=$O$27),Best1!$F$14,IF(OR($O$2=$O$22,$O$2=$O$23,$O$2=$O$28,$O$2=$O$29),Best1!$F$15,\"\")))))))","v":""},{"$f":"IF(F5=\"\",\"\",F5)","v":""},{"$f":"IF(AO5=\"\",\"\",ROUND(((AO5-AN5)/AN5*100),1))","v":""},{"$f":"IF(ISBLANK(G5),\"\",IF(OR($O$2=$O$5,$O$2=$O$7,$O$2=$O$27,$O$2=$O$29),Best1!$F$13,IF(OR($O$2=$O$18,$O$2=$O$20,$O$2=$O$24,$O$2=$O$26),Best1!$F$10,IF(OR($O$2=$O$12,$O$2=$O$14,$O$2=$O$25,$O$2=$O$28),Best1!$F$11,IF(OR($O$2=$O$13,$O$2=$O$16,$O$2=$O$19,$O$2=$O$22),Best1!$F$12,IF(OR($O$2=$O$6,$O$2=$O$9,$O$2=$O$21,$O$2=$O$23),Best1!$F$14,IF(OR($O$2=$O$8,$O$2=$O$10,$O$2=$O$15,$O$2=$O$17),Best1!$F$15,\"\")))))))","v":""},{"$f":"IF(H5=\"\",\"\",H5)","v":""},{"$f":"IF(AR5=\"\",\"\",ROUND(((AR5-AQ5)/AQ5*100),1))","v":""},{"$f":"IF(ISBLANK(I5),\"\",IF(OR($O$2=$O$9,$O$2=$O$10,$O$2=$O$24,$O$2=$O$25),Best1!$F$13,IF(OR($O$2=$O$22,$O$2=$O$23,$O$2=$O$28,$O$2=$O$29),Best1!$F$10,IF(OR($O$2=$O$16,$O$2=$O$17,$O$2=$O$26,$O$2=$O$27),Best1!$F$11,IF(OR($O$2=$O$14,$O$2=$O$15,$O$2=$O$20,$O$2=$O$21),Best1!$F$12,IF(OR($O$2=$O$7,$O$2=$O$8,$O$2=$O$18,$O$2=$O$19),Best1!$F$14,IF(OR($O$2=$O$5,$O$2=$O$6,$O$2=$O$12,$O$2=$O$13),Best1!$F$15,\"\")))))))","v":""},{"$f":"IF(J5=\"\",\"\",J5)","v":""},{"$f":"IF(AU5=\"\",\"\",ROUND(((AU5-AT5)/AT5*100),1))","v":""},{"$f":"IF(ISBLANK(K5),\"\",IF(Best1!$C$3=\"\",\"\",ROUND(SUM(Best1!$C$3:$C$6),1)))","v":""},{"$f":"IF(K5=\"\",\"\",K5)","v":""},{"$f":"IF(AX5=\"\",\"\",ROUND(((AX5-AW5)/AW5*100),1))","v":""},{"$f":"IF(ISBLANK(K5),\"\",IF(Best1!$B$3=\"\",\"\",ROUND(AVERAGE(Best1!$D$3:$D$6),1)))","v":""},{"$f":"IF(L5=\"\",\"\",L5)","v":""},{"$f":"IF(BA5=\"\",\"\",ROUND(((BA5-AZ5)/AZ5*100),1))","v":""},null,{"$f":"AX5","v":""},null,null,null,null,null,null,null,{"$f":"IF(OR(P5=\"\",P5=0),\"\",P5*1)","v":""},{"$f":"IF(OR(Q5=\"\",Q5=0),\"\",Q5*1)","v":""},"","","","","","","","","","","","","","","","","","","","","",""]
[2,null,null,null,null,null,null,null,null,null,null,null,null,null,"ABDC",{"$f":"IF(OR($O$2=$O$5,$O$2=$O$6),E6,IF(OR($O$2=$O$18,$O$2=$O$24),G6,IF(OR($O$2=$O$22,$O$2=$O$28),I6,\"\")))","v":""},"",{"$f":"IF(OR($O$2=$O$7,$O$2=$O$8),E6,IF(OR($O$2=$O$12,$O$2=$O$25),G6,IF(OR($O$2=$O$16,$O$2=$O$26),I6,\"\")))","v":""},"",{"$f":"IF(OR($O$2=$O$9,$O$2=$O$10),E6,IF(OR($O$2=$O$13,$O$2=$O$19),G6,IF(OR($O$2=$O$14,$O$2=$O$20),I6,\"\")))","v":""},"",{"$f":"IF(OR($O$2=$O$12,$O$2=$O$13),E6,IF(OR($O$2=$O$20,$O$2=$O$26),G6,IF(OR($O$2=$O$23,$O$2=$O$29),I6,\"\")))","v":0},0,{"$f":"IF(OR($O$2=$O$14,$O$2=$O$15),E6,IF(OR($O$2=$O$5,$O$2=$O$27),G6,IF(OR($O$2=$O$9,$O$2=$O$24),I6,\"\")))","v":""},"",{"$f":"IF(OR($O$2=$O$16,$O$2=$O$17),E6,IF(OR($O$2=$O$6,$O$2=$O$21),G6,IF(OR($O$2=$O$7,$O$2=$O$18),I6,\"\")))","v":""},"",{"$f":"IF(OR($O$2=$O$18,$O$2=$O$19),E6,IF(OR($O$2=$O$14,$O$2=$O$28),G6,IF(OR($O$2=$O$17,$O$2=$O$27),I6,\"\")))","v":""},"",{"$f":"IF(OR($O$2=$O$20,$O$2=$O$21),E6,IF(OR($O$2=$O$7,$O$2=$O$29),G6,IF(OR($O$2=$O$10,$O$2=$O$11),I6,\"\")))","v":""},"",{"$f":"IF(OR($O$2=$O$22,$O$2=$O$23),E6,IF(OR($O$2=$O$8,$O$2=$O$15),G6,IF(OR($O$2=$O$5,$O$2=$O$12),I6,\"\")))","v":0},0,{"$f":"IF(OR($O$2=$O$24,$O$2=$O$25),E6,IF(OR($O$2=$O$16,$O$2=$O$22),G6,IF(OR($O$2=$O$15,$O$2=$O$21),I6,\"\")))","v":""},"",{"$f":"IF(OR($O$2=$O$26,$O$2=$O$27),E6,IF(OR($O$2=$O$9,$O$2=$O$23),G6,IF(OR($O$2=$O$8,$O$2=$O$19),I6,\"\")))","v":0},0,{"$f":"IF(OR($O$2=$O$28,$O$2=$O$29),E6,IF(OR($O$2=$O$10,$O$2=$O$11),G6,IF(OR($O$2=$O$6,$O$2=$O$13),I6,\"\")))","v":""},"",{"$f":"IF(ISBLANK(E6),\"\",IF(OR($O$2=$O$5,$O$2=$O$6,$O$2=$O$12,$O$2=$O$13),Best1!$F$10,IF(OR($O$2=$O$7,$O$2=$O$8,$O$2=$O$18,$O$2=$O$19),Best1!$F$11,IF(OR($O$2=$O$9,$O$2=$O$10,$O$2=$O$24,$O$2=$O$25),Best1!$F$12,IF(OR($O$2=$O$14,$O$2=$O$15,$O$2=$O$20,$O$2=$O$21),Best1!$F$13,IF(OR($O$2=$O$16,$O$2=$O$17,$O$2=$O$26,$O$2=$O$27),Best1!$F$14,IF(OR($O$2=$O$22,$O$2=$O$23,$O$2=$O$28,$O$2=$O$29),Best1!$F$15,\"\")))))))","v":""},{"$f":"IF(F6=\"\",\"\",F6)","v":""},{"$f":"IF(AO6=\"\",\"\",ROUND(((AO6-AN6)/AN6*100),1))","v":""},{"$f":"IF(ISBLANK(H6),\"\",IF(OR($O$2=$O$5,$O$2=$O$7,$O$2=$O$27,$O$2=$O$29),Best1!$F$13,IF(OR($O$2=$O$18,$O$2=$O$20,$O$2=$O$24,$O$2=$O$26),Best1!$F$10,IF(OR($O$2=$O$12,$O$2=$O$14,$O$2=$O$25,$O$2=$O$28),Best1!$F$11,IF(OR($O$2=$O$13,$O$2=$O$16,$O$2=$O$19,$O$2=$O$22),Best1!$F$12,IF(OR($O$2=$O$6,$O$2=$O$9,$O$2=$O$21,$O$2=$O$23),Best1!$F$14,IF(OR($O$2=$O$8,$O$2=$O$10,$O$2=$O$15,$O$2=$O$17),Best1!$F$15,\"\")))))))","v":""},{"$f":"IF(H6=\"\",\"\",H6)","v":""},{"$f":"IF(AR6=\"\",\"\",ROUND(((AR6-AQ6)/AQ6*100),1))","v":""},{"$f":"IF(ISBLANK(I6),\"\",IF(OR($O$2=$O$9,$O$2=$O$10,$O$2=$O$24,$O$2=$O$25),Best1!$F$13,IF(OR($O$2=$O$22,$O$2=$O$23,$O$2=$O$28,$O$2=$O$29),Best1!$F$10,IF(OR($O$2=$O$16,$O$2=$O$17,$O$2=$O$26,$O$2=$O$27),Best1!$F$11,IF(OR($O$2=$O$14,$O$2=$O$15,$O$2=$O$20,$O$2=$O$21),Best1!$F$12,IF(OR($O$2=$O$7,$O$2=$O$8,$O$2=$O$18,$O$2=$O$19),Best1!$F$14,IF(OR($O$2=$O$5,$O$2=$O$6,$O$2=$O$12,$O$2=$O$13),Best1!$F$15,\"\")))))))","v":""},{"$f":"IF(J6=\"\",\"\",J6)","v":""},{"$f":"IF(AU6=\"\",\"\",ROUND(((AU6-AT6)/AT6*100),1))","v":""},{"$f":"IF(ISBLANK(K6),\"\",IF(Best1!$C$3=\"\",\"\",ROUND(SUM(Best1!$C$3:$C$6),1)))","v":""},{"$f":"IF(K6=\"\",\"\",K6)","v":""},{"$f":"IF(AX6=\"\",\"\",ROUND(((AX6-AW6)/AW6*100),1))","v":""},{"$f":"IF(ISBLANK(K6),\"\",IF(Best1!$B$3=\"\",\"\",ROUND(AVERAGE(Best1!$D$3:$D$6),1)))","v":""},{"$f":"IF(L6=\"\",\"\",L6)","v":""},{"$f":"IF(BA6=\"\",\"\",ROUND(((BA6-AZ6)/AZ6*100),1))","v":""},null,{"$f":"AX6","v":""},null,null,null,null,null,null,null,{"$f":"IF(OR(P6=\"\",P6=0),\"\",P6*1)","v":""},"","","","","","","","","","","","","","","","","","","","","","",""]
[3,null,null,null,null,null,null,null,null,null,null,null,null,null,"ACBD","","","","","","",0,0,"","","","","","","","",0,0,"","",0,0,"","",{"$f":"IF(ISBLANK(E7),\"\",IF(OR($O$2=$O$5,$O$2=$O$6,$O$2=$O$12,$O$2=$O$13),Best1!$F$10,IF(OR($O$2=$O$7,$O$2=$O$8,$O$2=$O$18,$O$2=$O$19),Best1!$F$11,IF(OR($O$2=$O$9,$O$2=$O$10,$O$2=$O$24,$O$2=$O$25),Best1!$F$12,IF(OR($O$2=$O$14,$O$2=$O$15,$O$2=$O$20,$O$2=$O$21),Best1!$F$13,IF(OR($O$2=$O$16,$O$2=$O$17,$O$2=$O$26,$O$2=$O$27),Best1!$F$14,IF(OR($O$2=$O$22,$O$2=$O$23,$O$2=$O$28,$O$2=$O$29),Best1!$F$15,\"\")))))))","v":""},"","",{"$f":"IF(ISBLANK(H7),\"\",IF(OR($O$2=$O$5,$O$2=$O$7,$O$2=$O$27,$O$2=$O$29),Best1!$F$13,IF(OR($O$2=$O$18,$O$2=$O$20,$O$2=$O$24,$O$2=$O$26),Best1!$F$10,IF(OR($O$2=$O$12,$O$2=$O$14,$O$2=$O$25,$O$2=$O$28),Best1!$F$11,IF(OR($O$2=$O$13,$O$2=$O$16,$O$2=$O$19,$O$2=$O$22),Best1!$F$12,IF(OR($O$2=$O$6,$O$2=$O$9,$O$2=$O$21,$O$2=$O$23),Best1!$F$14,IF(OR($O$2=$O$8,$O$2=$O$10,$O$2=$O$15,$O$2=$O$17),Best1!$F$15,\"\")))))))","v":""},"","",{"$f":"IF(ISBLANK(I7),\"\",IF(OR($O$2=$O$9,$O$2=$O$10,$O$2=$O$24,$O$2=$O$25),Best1!$F$13,IF(OR($O$2=$O$22,$O$2=$O$23,$O$2=$O$28,$O$2=$O$29),Best1!$F$10,IF(OR($O$2=$O$16,$O$2=$O$17,$O$2=$O$26,$O$2=$O$27),Best1!$F$11,IF(OR($O$2=$O$14,$O$2=$O$15,$O$2=$O$20,$O$2=$O$21),Best1!$F$12,IF(OR($O$2=$O$7,$O$2=$O$8,$O$2=$O$18,$O$2=$O$19),Best1!$F$14,IF(OR($O$2=$O$5,$O$2=$O$6,$O$2=$O$12,$O$2=$O$13),Best1!$F$15,\"\")))))))","v":""},"","",{"$f":"IF(ISBLANK(K7),\"\",IF(Best1!$C$3=\"\",\"\",ROUND(SUM(Best1!$C$3:$C$6),1)))","v":""},"","",{"$f":"IF(ISBLANK(K7),\"\",IF(Best1!$B$3=\"\",\"\",ROUND(AVERAGE(Best1!$D$3:$D$6),1)))","v":""},"","",null,"",null,null,null,null,null,null,null,"","","","","","","","","","","","","","","","","","","","","","","",""]
[4,null,null,null,null,null,null,null,null,null,null,null,null,null,"ACDB","","","","","","",0,0,"","","","","","","","",0,0,"","",0,0,"","",{"$f":"IF(ISBLANK(E8),\"\",IF(OR($O$2=$O$5,$O$2=$O$6,$O$2=$O$12,$O$2=$O$13),Best1!$F$10,IF(OR($O$2=$O$7,$O$2=$O$8,$O$2=$O$18,$O$2=$O$19),Best1!$F$11,IF(OR($O$2=$O$9,$O$2=$O$10,$O$2=$O$24,$O$2=$O$25),Best1!$F$12,IF(OR($O$2=$O$14,$O$2=$O$15,$O$2=$O$20,$O$2=$O$21),Best1!$F$13,IF(OR($O$2=$O$16,$O$2=$O$17,$O$2=$O$26,$O$2=$O$27),Best1!$F$14,IF(OR($O$2=$O$22,$O$2=$O$23,$O$2=$O$28,$O$2=$O$29),Best1!$F$15,\"\")))))))","v":""},"","",{"$f":"IF(ISBLANK(H8),\"\",IF(OR($O$2=$O$5,$O$2=$O$7,$O$2=$O$27,$O$2=$O$29),Best1!$F$13,IF(OR($O$2=$O$18,$O$2=$O$20,$O$2=$O$24,$O$2=$O$26),Best1!$F$10,IF(OR($O$2=$O$12,$O$2=$O$14,$O$2=$O$25,$O$2=$O$28),Best1!$F$11,IF(OR($O$2=$O$13,$O$2=$O$16,$O$2=$O$19,$O$2=$O$22),Best1!$F$12,IF(OR($O$2=$O$6,$O$2=$O$9,$O$2=$O$21,$O$2=$O$23),Best1!$F$14,IF(OR($O$2=$O$8,$O$2=$O$10,$O$2=$O$15,$O$2=$O$17),Best1!$F$15,\"\")))))))","v":""},"","",{"$f":"IF(ISBLANK(I8),\"\",IF(OR($O$2=$O$9,$O$2=$O$10,$O$2=$O$24,$O$2=$O$25),Best1!$F$13,IF(OR($O$2=$O$22,$O$2=$O$23,$O$2=$O$28,$O$2=$O$29),Best1!$F$10,IF(OR($O$2=$O$16,$O$2=$O$17,$O$2=$O$26,$O$2=$O$27),Best1!$F$11,IF(OR($O$2=$O$14,$O$2=$O$15,$O$2=$O$20,$O$2=$O$21),Best1!$F$12,IF(OR($O$2=$O$7,$O$2=$O$8,$O$2=$O$18,$O$2=$O$19),Best1!$F$14,IF(OR($O$2=$O$5,$O$2=$O$6,$O$2=$O$12,$O$2=$O$13),Best1!$F$15,\"\")))))))","v":""},"","",{"$f":"IF(ISBLANK(K8),\"\",IF(Best1!$C$3=\"\",\"\",ROUND(SUM(Best1!$C$3:$C$6),1)))","v":""},"","",{"$f":"IF(ISBLANK(K8),\"\",IF(Best1!$B$3=\"\",\"\",ROUND(AVERAGE(Best1!$D$3:$D$6),1)))","v":""},"","",null,"",null,null,null,null,null,null,null,"","","","","","","","","","","","","","","","","","","","","","","",""]
[5,null,null,null,null,null,null,null,null,null,null,null,null,null,"ADBC","","","","","","",0,0,"","","","","","","","",0,0,"","",0,0,"","",{"$f":"IF(ISBLANK(E9),\"\",IF(OR($O$2=$O$5,$O$2=$O$6,$O$2=$O$12,$O$2=$O$13),Best1!$F$10,IF(OR($O$2=$O$7,$O$2=$O$8,$O$2=$O$18,$O$2=$O$19),Best1!$F$11,IF(OR($O$2=$O$9,$O$2=$O$10,$O$2=$O$24,$O$2=$O$25),Best1!$F$12,IF(OR($O$2=$O$14,$O$2=$O$15,$O$2=$O$20,$O$2=$O$21),Best1!$F$13,IF(OR($O$2=$O$16,$O$2=$O$17,$O$2=$O$26,$O$2=$O$27),Best1!$F$14,IF(OR($O$2=$O$22,$O$2=$O$23,$O$2=$O$28,$O$2=$O$29),Best1!$F$15,\"\")))))))","v":""},"","",{"$f":"IF(ISBLANK(H9),\"\",IF(OR($O$2=$O$5,$O$2=$O$7,$O$2=$O$27,$O$2=$O$29),Best1!$F$13,IF(OR($O$2=$O$18,$O$2=$O$20,$O$2=$O$24,$O$2=$O$26),Best1!$F$10,IF(OR($O$2=$O$12,$O$2=$O$14,$O$2=$O$25,$O$2=$O$28),Best1!$F$11,IF(OR($O$2=$O$13,$O$2=$O$16,$O$2=$O$19,$O$2=$O$22),Best1!$F$12,IF(OR($O$2=$O$6,$O$2=$O$9,$O$2=$O$21,$O$2=$O$23),Best1!$F$14,IF(OR($O$2=$O$8,$O$2=$O$10,$O$2=$O$15,$O$2=$O$17),Best1!$F$15,\"\")))))))","v":""},"","",{"$f":"IF(ISBLANK(I9),\"\",IF(OR($O$2=$O$9,$O$2=$O$10,$O$2=$O$24,$O$2=$O$25),Best1!$F$13,IF(OR($O$2=$O$22,$O$2=$O$23,$O$2=$O$28,$O$2=$O$29),Best1!$F$10,IF(OR($O$2=$O$16,$O$2=$O$17,$O$2=$O$26,$O$2=$O$27),Best1!$F$11,IF(OR($O$2=$O$14,$O$2=$O$15,$O$2=$O$20,$O$2=$O$21),Best1!$F$12,IF(OR($O$2=$O$7,$O$2=$O$8,$O$2=$O$18,$O$2=$O$19),Best1!$F$14,IF(OR($O$2=$O$5,$O$2=$O$6,$O$2=$O$12,$O$2=$O$13),Best1!$F$15,\"\")))))))","v":""},"","",{"$f":"IF(ISBLANK(K9),\"\",IF(Best1!$C$3=\"\",\"\",ROUND(SUM(Best1!$C$3:$C$6),1)))","v":""},"","",{"$f":"IF(ISBLANK(K9),\"\",IF(Best1!$B$3=\"\",\"\",ROUND(AVERAGE(Best1!$D$3:$D$6),1)))","v":""},"","",null,"",null,null,null,null,null,null,null,"","","","","","","","","","","","","","","","","","","","","","","",""]
[6,null,null,null,null,null,null,null,null,null,null,null,null,null,"ADCB","","","","","","",0,0,"","","","","","","","",0,0,"","",0,0,"","",{"$f":"IF(ISBLANK(E10),\"\",IF(OR($O$2=$O$5,$O$2=$O$6,$O$2=$O$12,$O$2=$O$13),Best1!$F$10,IF(OR($O$2=$O$7,$O$2=$O$8,$O$2=$O$18,$O$2=$O$19),Best1!$F$11,IF(OR($O$2=$O$9,$O$2=$O$10,$O$2=$O$24,$O$2=$O$25),Best1!$F$12,IF(OR($O$2=$O$14,$O$2=$O$15,$O$2=$O$20,$O$2=$O$21),Best1!$F$13,IF(OR($O$2=$O$16,$O$2=$O$17,$O$2=$O$26,$O$2=$O$27),Best1!$F$14,IF(OR($O$2=$O$22,$O$2=$O$23,$O$2=$O$28,$O$2=$O$29),Best1!$F$15,\"\")))))))","v":""},"","",{"$f":"IF(ISBLANK(H10),\"\",IF(OR($O$2=$O$5,$O$2=$O$7,$O$2=$O$27,$O$2=$O$29),Best1!$F$13,IF(OR($O$2=$O$18,$O$2=$O$20,$O$2=$O$24,$O$2=$O$26),Best1!$F$10,IF(OR($O$2=$O$12,$O$2=$O$14,$O$2=$O$25,$O$2=$O$28),Best1!$F$11,IF(OR($O$2=$O$13,$O$2=$O$16,$O$2=$O$19,$O$2=$O$22),Best1!$F$12,IF(OR($O$2=$O$6,$O$2=$O$9,$O$2=$O$21,$O$2=$O$23),Best1!$F$14,IF(OR($O$2=$O$8,$O$2=$O$10,$O$2=$O$15,$O$2=$O$17),Best1!$F$15,\"\")))))))","v":""},"","",{"$f":"IF(ISBLANK(I10),\"\",IF(OR($O$2=$O$9,$O$2=$O$10,$O$2=$O$24,$O$2=$O$25),Best1!$F$13,IF(OR($O$2=$O$22,$O$2=$O$23,$O$2=$O$28,$O$2=$O$29),Best1!$F$10,IF(OR($O$2=$O$16,$O$2=$O$17,$O$2=$O$26,$O$2=$O$27),Best1!$F$11,IF(OR($O$2=$O$14,$O$2=$O$15,$O$2=$O$20,$O$2=$O$21),Best1!$F$12,IF(OR($O$2=$O$7,$O$2=$O$8,$O$2=$O$18,$O$2=$O$19),Best1!$F$14,IF(OR($O$2=$O$5,$O$2=$O$6,$O$2=$O$12,$O$2=$O$13),Best1!$F$15,\"\")))))))","v":""},"","",{"$f":"IF(ISBLANK(K10),\"\",IF(Best1!$C$3=\"\",\"\",ROUND(SUM(Best1!$C$3:$C$6),1)))","v":""},"","",{"$f":"IF(ISBLANK(K10),\"\",IF(Best1!$B$3=\"\",\"\",ROUND(AVERAGE(Best1!$D$3:$D$6),1)))","v":""},"","",null,"",null,null,null,null,null,null,null,"","","","","","","","","","","","","","","","","","","","","","","",""]
[7,null,null,null,null,null,null,null,null,null,null,null,null,null,"ADCB","","","","","","",0,0,"","","","","","","","",0,0,"","",0,0,"","",{"$f":"IF(ISBLANK(E11),\"\",IF(OR($O$2=$O$5,$O$2=$O$6,$O$2=$O$12,$O$2=$O$13),Best1!$F$10,IF(OR($O$2=$O$7,$O$2=$O$8,$O$2=$O$18,$O$2=$O$19),Best1!$F$11,IF(OR($O$2=$O$9,$O$2=$O$10,$O$2=$O$24,$O$2=$O$25),Best1!$F$12,IF(OR($O$2=$O$14,$O$2=$O$15,$O$2=$O$20,$O$2=$O$21),Best1!$F$13,IF(OR($O$2=$O$16,$O$2=$O$17,$O$2=$O$26,$O$2=$O$27),Best1!$F$14,IF(OR($O$2=$O$22,$O$2=$O$23,$O$2=$O$28,$O$2=$O$29),Best1!$F$15,\"\")))))))","v":""},"","",{"$f":"IF(ISBLANK(H11),\"\",IF(OR($O$2=$O$5,$O$2=$O$7,$O$2=$O$27,$O$2=$O$29),Best1!$F$13,IF(OR($O$2=$O$18,$O$2=$O$20,$O$2=$O$24,$O$2=$O$26),Best1!$F$10,IF(OR($O$2=$O$12,$O$2=$O$14,$O$2=$O$25,$O$2=$O$28),Best1!$F$11,IF(OR($O$2=$O$13,$O$2=$O$16,$O$2=$O$19,$O$2=$O$22),Best1!$F$12,IF(OR($O$2=$O$6,$O$2=$O$9,$O$2=$O$21,$O$2=$O$23),Best1!$F$14,IF(OR($O$2=$O$8,$O$2=$O$10,$O$2=$O$15,$O$2=$O$17),Best1!$F$15,\"\")))))))","v":""},"","",{"$f":"IF(ISBLANK(I11),\"\",IF(OR($O$2=$O$9,$O$2=$O$10,$O$2=$O$24,$O$2=$O$25),Best1!$F$13,IF(OR($O$2=$O$22,$O$2=$O$23,$O$2=$O$28,$O$2=$O$29),Best1!$F$10,IF(OR($O$2=$O$16,$O$2=$O$17,$O$2=$O$26,$O$2=$O$27),Best1!$F$11,IF(OR($O$2=$O$14,$O$2=$O$15,$O$2=$O$20,$O$2=$O$21),Best1!$F$12,IF(OR($O$2=$O$7,$O$2=$O$8,$O$2=$O$18,$O$2=$O$19),Best1!$F$14,IF(OR($O$2=$O$5,$O$2=$O$6,$O$2=$O$12,$O$2=$O$13),Best1!$F$15,\"\")))))))","v":""},"","",{"$f":"IF(ISBLANK(K11),\"\",IF(Best1!$C$3=\"\",\"\",ROUND(SUM(Best1!$C$3:$C$6),1)))","v":""},"","",{"$f":"IF(ISBLANK(K11),\"\",IF(Best1!$B$3=\"\",\"\",ROUND(AVERAGE(Best1!$D$3:$D$6),1)))","v":""},"","",null,"",null,null,null,null,null,null,null,"","","","","","","","","","","","","","","","","","","","","","","",""]
[8,null,null,null,null,null,null,null,null,null,null,null,null,null,"BACD","","","","","","",0,0,"","","","","","","","",0,0,"","",0,0,"","",{"$f":"IF(ISBLANK(E12),\"\",IF(OR($O$2=$O$5,$O$2=$O$6,$O$2=$O$12,$O$2=$O$13),Best1!$F$10,IF(OR($O$2=$O$7,$O$2=$O$8,$O$2=$O$18,$O$2=$O$19),Best1!$F$11,IF(OR($O$2=$O$9,$O$2=$O$10,$O$2=$O$24,$O$2=$O$25),Best1!$F$12,IF(OR($O$2=$O$14,$O$2=$O$15,$O$2=$O$20,$O$2=$O$21),Best1!$F$13,IF(OR($O$2=$O$16,$O$2=$O$17,$O$2=$O$26,$O$2=$O$27),Best1!$F$14,IF(OR($O$2=$O$22,$O$2=$O$23,$O$2=$O$28,$O$2=$O$29),Best1!$F$15,\"\")))))))","v":""},"","",{"$f":"IF(ISBLANK(H12),\"\",IF(OR($O$2=$O$5,$O$2=$O$7,$O$2=$O$27,$O$2=$O$29),Best1!$F$13,IF(OR($O$2=$O$18,$O$2=$O$20,$O$2=$O$24,$O$2=$O$26),Best1!$F$10,IF(OR($O$2=$O$12,$O$2=$O$14,$O$2=$O$25,$O$2=$O$28),Best1!$F$11,IF(OR($O$2=$O$13,$O$2=$O$16,$O$2=$O$19,$O$2=$O$22),Best1!$F$12,IF(OR($O$2=$O$6,$O$2=$O$9,$O$2=$O$21,$O$2=$O$23),Best1!$F$14,IF(OR($O$2=$O$8,$O$2=$O$10,$O$2=$O$15,$O$2=$O$17),Best1!$F$15,\"\")))))))","v":""},"","",{"$f":"IF(ISBLANK(I12),\"\",IF(OR($O$2=$O$9,$O$2=$O$10,$O$2=$O$24,$O$2=$O$25),Best1!$F$13,IF(OR($O$2=$O$22,$O$2=$O$23,$O$2=$O$28,$O$2=$O$29),Best1!$F$10,IF(OR($O$2=$O$16,$O$2=$O$17,$O$2=$O$26,$O$2=$O$27),Best1!$F$11,IF(OR($O$2=$O$14,$O$2=$O$15,$O$2=$O$20,$O$2=$O$21),Best1!$F$12,IF(OR($O$2=$O$7,$O$2=$O$8,$O$2=$O$18,$O$2=$O$19),Best1!$F$14,IF(OR($O$2=$O$5,$O$2=$O$6,$O$2=$O$12,$O$2=$O$13),Best1!$F$15,\"\")))))))","v":""},"","",{"$f":"IF(ISBLANK(K12),\"\",IF(Best1!$C$3=\"\",\"\",ROUND(SUM(Best1!$C$3:$C$6),1)))","v":""},"","",{"$f":"IF(ISBLANK(K12),\"\",IF(Best1!$B$3=\"\",\"\",ROUND(AVERAGE(Best1!$D$3:$D$6),1)))","v":""},"","",null,"",null,null,null,null,null,null,null,"","","","","","","","","","","","","","","","","","","","","","","",""]
[9,null,null,null,null,null,null,null,null,null,null,null,null,null,"BADC","","","","","","",0,0,"","","","","","","","",0,0,"","",0,0,"","",{"$f":"IF(ISBLANK(E13),\"\",IF(OR($O$2=$O$5,$O$2=$O$6,$O$2=$O$12,$O$2=$O$13),Best1!$F$10,IF(OR($O$2=$O$7,$O$2=$O$8,$O$2=$O$18,$O$2=$O$19),Best1!$F$11,IF(OR($O$2=$O$9,$O$2=$O$10,$O$2=$O$24,$O$2=$O$25),Best1!$F$12,IF(OR($O$2=$O$14,$O$2=$O$15,$O$2=$O$20,$O$2=$O$21),Best1!$F$13,IF(OR($O$2=$O$16,$O$2=$O$17,$O$2=$O$26,$O$2=$O$27),Best1!$F$14,IF(OR($O$2=$O$22,$O$2=$O$23,$O$2=$O$28,$O$2=$O$29),Best1!$F$15,\"\")))))))","v":""},"","",{"$f":"IF(ISBLANK(H13),\"\",IF(OR($O$2=$O$5,$O$2=$O$7,$O$2=$O$27,$O$2=$O$29),Best1!$F$13,IF(OR($O$2=$O$18,$O$2=$O$20,$O$2=$O$24,$O$2=$O$26),Best1!$F$10,IF(OR($O$2=$O$12,$O$2=$O$14,$O$2=$O$25,$O$2=$O$28),Best1!$F$11,IF(OR($O$2=$O$13,$O$2=$O$16,$O$2=$O$19,$O$2=$O$22),Best1!$F$12,IF(OR($O$2=$O$6,$O$2=$O$9,$O$2=$O$21,$O$2=$O$23),Best1!$F$14,IF(OR($O$2=$O$8,$O$2=$O$10,$O$2=$O$15,$O$2=$O$17),Best1!$F$15,\"\")))))))","v":""},"","",{"$f":"IF(ISBLANK(I13),\"\",IF(OR($O$2=$O$9,$O$2=$O$10,$O$2=$O$24,$O$2=$O$25),Best1!$F$13,IF(OR($O$2=$O$22,$O$2=$O$23,$O$2=$O$28,$O$2=$O$29),Best1!$F$10,IF(OR($O$2=$O$16,$O$2=$O$17,$O$2=$O$26,$O$2=$O$27),Best1!$F$11,IF(OR($O$2=$O$14,$O$2=$O$15,$O$2=$O$20,$O$2=$O$21),Best1!$F$12,IF(OR($O$2=$O$7,$O$2=$O$8,$O$2=$O$18,$O$2=$O$19),Best1!$F$14,IF(OR($O$2=$O$5,$O$2=$O$6,$O$2=$O$12,$O$2=$O$13),Best1!$F$15,\"\")))))))","v":""},"","",{"$f":"IF(ISBLANK(K13),\"\",IF(Best1!$C$3=\"\",\"\",ROUND(SUM(Best1!$C$3:$C$6),1)))","v":""},"","",{"$f":"IF(ISBLANK(K13),\"\",IF(Best1!$B$3=\"\",\"\",ROUND(AVERAGE(Best1!$D$3:$D$6),1)))","v":""},"","",null,"",null,null,null,null,null,null,null,"","","","","","","","","","","","","","","","","","","","","","","",""]
[10,null,null,null,null,null,null,null,null,null,null,null,null,null,"BCAD","","","","","","",0,0,"","","","","","","","",0,0,"","",0,0,"","",{"$f":"IF(ISBLANK(E14),\"\",IF(OR($O$2=$O$5,$O$2=$O$6,$O$2=$O$12,$O$2=$O$13),Best1!$F$10,IF(OR($O$2=$O$7,$O$2=$O$8,$O$2=$O$18,$O$2=$O$19),Best1!$F$11,IF(OR($O$2=$O$9,$O$2=$O$10,$O$2=$O$24,$O$2=$O$25),Best1!$F$12,IF(OR($O$2=$O$14,$O$2=$O$15,$O$2=$O$20,$O$2=$O$21),Best1!$F$13,IF(OR($O$2=$O$16,$O$2=$O$17,$O$2=$O$26,$O$2=$O$27),Best1!$F$14,IF(OR($O$2=$O$22,$O$2=$O$23,$O$2=$O$28,$O$2=$O$29),Best1!$F$15,\"\")))))))","v":""},"","",{"$f":"IF(ISBLANK(H14),\"\",IF(OR($O$2=$O$5,$O$2=$O$7,$O$2=$O$27,$O$2=$O$29),Best1!$F$13,IF(OR($O$2=$O$18,$O$2=$O$20,$O$2=$O$24,$O$2=$O$26),Best1!$F$10,IF(OR($O$2=$O$12,$O$2=$O$14,$O$2=$O$25,$O$2=$O$28),Best1!$F$11,IF(OR($O$2=$O$13,$O$2=$O$16,$O$2=$O$19,$O$2=$O$22),Best1!$F$12,IF(OR($O$2=$O$6,$O$2=$O$9,$O$2=$O$21,$O$2=$O$23),Best1!$F$14,IF(OR($O$2=$O$8,$O$2=$O$10,$O$2=$O$15,$O$2=$O$17),Best1!$F$15,\"\")))))))","v":""},"","",{"$f":"IF(ISBLANK(I14),\"\",IF(OR($O$2=$O$9,$O$2=$O$10,$O$2=$O$24,$O$2=$O$25),Best1!$F$13,IF(OR($O$2=$O$22,$O$2=$O$23,$O$2=$O$28,$O$2=$O$29),Best1!$F$10,IF(OR($O$2=$O$16,$O$2=$O$17,$O$2=$O$26,$O$2=$O$27),Best1!$F$11,IF(OR($O$2=$O$14,$O$2=$O$15,$O$2=$O$20,$O$2=$O$21),Best1!$F$12,IF(OR($O$2=$O$7,$O$2=$O$8,$O$2=$O$18,$O$2=$O$19),Best1!$F$14,IF(OR($O$2=$O$5,$O$2=$O$6,$O$2=$O$12,$O$2=$O$13),Best1!$F$15,\"\")))))))","v":""},"","",{"$f":"IF(ISBLANK(K14),\"\",IF(Best1!$C$3=\"\",\"\",ROUND(SUM(Best1!$C$3:$C$6),1)))","v":""},"","",{"$f":"IF(ISBLANK(K14),\"\",IF(Best1!$B$3=\"\",\"\",ROUND(AVERAGE(Best1!$D$3:$D$6),1)))","v":""},"","",null,"",null,null,null,null,null,null,null,"","","","","","","","","","","","","","","","","","","","","","","",""]
[11,null,null,null,null,null,null,null,null,null,null,null,null,null,"BCDA","","","","","","",0,0,"","","","","","","","",0,0,"","",0,0,"","",{"$f":"IF(ISBLANK(E15),\"\",IF(OR($O$2=$O$5,$O$2=$O$6,$O$2=$O$12,$O$2=$O$13),Best1!$F$10,IF(OR($O$2=$O$7,$O$2=$O$8,$O$2=$O$18,$O$2=$O$19),Best1!$F$11,IF(OR($O$2=$O$9,$O$2=$O$10,$O$2=$O$24,$O$2=$O$25),Best1!$F$12,IF(OR($O$2=$O$14,$O$2=$O$15,$O$2=$O$20,$O$2=$O$21),Best1!$F$13,IF(OR($O$2=$O$16,$O$2=$O$17,$O$2=$O$26,$O$2=$O$27),Best1!$F$14,IF(OR($O$2=$O$22,$O$2=$O$23,$O$2=$O$28,$O$2=$O$29),Best1!$F$15,\"\")))))))","v":""},"","",{"$f":"IF(ISBLANK(H15),\"\",IF(OR($O$2=$O$5,$O$2=$O$7,$O$2=$O$27,$O$2=$O$29),Best1!$F$13,IF(OR($O$2=$O$18,$O$2=$O$20,$O$2=$O$24,$O$2=$O$26),Best1!$F$10,IF(OR($O$2=$O$12,$O$2=$O$14,$O$2=$O$25,$O$2=$O$28),Best1!$F$11,IF(OR($O$2=$O$13,$O$2=$O$16,$O$2=$O$19,$O$2=$O$22),Best1!$F$12,IF(OR($O$2=$O$6,$O$2=$O$9,$O$2=$O$21,$O$2=$O$23),Best1!$F$14,IF(OR($O$2=$O$8,$O$2=$O$10,$O$2=$O$15,$O$2=$O$17),Best1!$F$15,\"\")))))))","v":""},"","",{"$f":"IF(ISBLANK(I15),\"\",IF(OR($O$2=$O$9,$O$2=$O$10,$O$2=$O$24,$O$2=$O$25),Best1!$F$13,IF(OR($O$2=$O$22,$O$2=$O$23,$O$2=$O$28,$O$2=$O$29),Best1!$F$10,IF(OR($O$2=$O$16,$O$2=$O$17,$O$2=$O$26,$O$2=$O$27),Best1!$F$11,IF(OR($O$2=$O$14,$O$2=$O$15,$O$2=$O$20,$O$2=$O$21),Best1!$F$12,IF(OR($O$2=$O$7,$O$2=$O$8,$O$2=$O$18,$O$2=$O$19),Best1!$F$14,IF(OR($O$2=$O$5,$O$2=$O$6,$O$2=$O$12,$O$2=$O$13),Best1!$F$15,\"\")))))))","v":""},"","",{"$f":"IF(ISBLANK(K15),\"\",IF(Best1!$C$3=\"\",\"\",ROUND(SUM(Best1!$C$3:$C$6),1)))","v":""},"","",{"$f":"IF(ISBLANK(K15),\"\",IF(Best1!$B$3=\"\",\"\",ROUND(AVERAGE(Best1!$D$3:$D$6),1)))","v":""},"","",null,"",null,null,null,null,null,null,null,"","","","","","","","","","","","","","","","","","","","","","","",""]
[12,null,null,null,null,null,null,null,null,null,null,null,null,null,"BDAC","","","","","","",0,0,"","","","","","","","",0,0,"","",0,0,"","",{"$f":"IF(ISBLANK(E16),\"\",IF(OR($O$2=$O$5,$O$2=$O$6,$O$2=$O$12,$O$2=$O$13),Best1!$F$10,IF(OR($O$2=$O$7,$O$2=$O$8,$O$2=$O$18,$O$2=$O$19),Best1!$F$11,IF(OR($O$2=$O$9,$O$2=$O$10,$O$2=$O$24,$O$2=$O$25),Best1!$F$12,IF(OR($O$2=$O$14,$O$2=$O$15,$O$2=$O$20,$O$2=$O$21),Best1!$F$13,IF(OR($O$2=$O$16,$O$2=$O$17,$O$2=$O$26,$O$2=$O$27),Best1!$F$14,IF(OR($O$2=$O$22,$O$2=$O$23,$O$2=$O$28,$O$2=$O$29),Best1!$F$15,\"\")))))))","v":""},"","",{"$f":"IF(ISBLANK(H16),\"\",IF(OR($O$2=$O$5,$O$2=$O$7,$O$2=$O$27,$O$2=$O$29),Best1!$F$13,IF(OR($O$2=$O$18,$O$2=$O$20,$O$2=$O$24,$O$2=$O$26),Best1!$F$10,IF(OR($O$2=$O$12,$O$2=$O$14,$O$2=$O$25,$O$2=$O$28),Best1!$F$11,IF(OR($O$2=$O$13,$O$2=$O$16,$O$2=$O$19,$O$2=$O$22),Best1!$F$12,IF(OR($O$2=$O$6,$O$2=$O$9,$O$2=$O$21,$O$2=$O$23),Best1!$F$14,IF(OR($O$2=$O$8,$O$2=$O$10,$O$2=$O$15,$O$2=$O$17),Best1!$F$15,\"\")))))))","v":""},"","",{"$f":"IF(ISBLANK(I16),\"\",IF(OR($O$2=$O$9,$O$2=$O$10,$O$2=$O$24,$O$2=$O$25),Best1!$F$13,IF(OR($O$2=$O$22,$O$2=$O$23,$O$2=$O$28,$O$2=$O$29),Best1!$F$10,IF(OR($O$2=$O$16,$O$2=$O$17,$O$2=$O$26,$O$2=$O$27),Best1!$F$11,IF(OR($O$2=$O$14,$O$2=$O$15,$O$2=$O$20,$O$2=$O$21),Best1!$F$12,IF(OR($O$2=$O$7,$O$2=$O$8,$O$2=$O$18,$O$2=$O$19),Best1!$F$14,IF(OR($O$2=$O$5,$O$2=$O$6,$O$2=$O$12,$O$2=$O$13),Best1!$F$15,\"\")))))))","v":""},"","",{"$f":"IF(ISBLANK(K16),\"\",IF(Best1!$C$3=\"\",\"\",ROUND(SUM(Best1!$C$3:$C$6),1)))","v":""},"","",{"$f":"IF(ISBLANK(K16),\"\",IF(Best1!$B$3=\"\",\"\",ROUND(AVERAGE(Best1!$D$3:$D$6),1)))","v":""},"","",null,"",null,null,null,null,null,null,null,"","","",{"$f":"IF(OR(S16=\"\",S16=0),\"\",S16*1)","v":""},"","","","","","","","","","","","","","","",{"$f":"IF(OR(AI16=\"\",AI16=0),\"\",AI16*1)","v":""},"","","",""]
[13,null,null,null,null,null,null,null,null,null,null,null,null,null,"BDCA","","","","","","",0,0,"","","","","","","","",0,0,"","",0,0,"","",{"$f":"IF(ISBLANK(E17),\"\",IF(OR($O$2=$O$5,$O$2=$O$6,$O$2=$O$12,$O$2=$O$13),Best1!$F$10,IF(OR($O$2=$O$7,$O$2=$O$8,$O$2=$O$18,$O$2=$O$19),Best1!$F$11,IF(OR($O$2=$O$9,$O$2=$O$10,$O$2=$O$24,$O$2=$O$25),Best1!$F$12,IF(OR($O$2=$O$14,$O$2=$O$15,$O$2=$O$20,$O$2=$O$21),Best1!$F$13,IF(OR($O$2=$O$16,$O$2=$O$17,$O$2=$O$26,$O$2=$O$27),Best1!$F$14,IF(OR($O$2=$O$22,$O$2=$O$23,$O$2=$O$28,$O$2=$O$29),Best1!$F$15,\"\")))))))","v":""},"","",{"$f":"IF(ISBLANK(H17),\"\",IF(OR($O$2=$O$5,$O$2=$O$7,$O$2=$O$27,$O$2=$O$29),Best1!$F$13,IF(OR($O$2=$O$18,$O$2=$O$20,$O$2=$O$24,$O$2=$O$26),Best1!$F$10,IF(OR($O$2=$O$12,$O$2=$O$14,$O$2=$O$25,$O$2=$O$28),Best1!$F$11,IF(OR($O$2=$O$13,$O$2=$O$16,$O$2=$O$19,$O$2=$O$22),Best1!$F$12,IF(OR($O$2=$O$6,$O$2=$O$9,$O$2=$O$21,$O$2=$O$23),Best1!$F$14,IF(OR($O$2=$O$8,$O$2=$O$10,$O$2=$O$15,$O$2=$O$17),Best1!$F$15,\"\")))))))","v":""},"","",{"$f":"IF(ISBLANK(I17),\"\",IF(OR($O$2=$O$9,$O$2=$O$10,$O$2=$O$24,$O$2=$O$25),Best1!$F$13,IF(OR($O$2=$O$22,$O$2=$O$23,$O$2=$O$28,$O$2=$O$29),Best1!$F$10,IF(OR($O$2=$O$16,$O$2=$O$17,$O$2=$O$26,$O$2=$O$27),Best1!$F$11,IF(OR($O$2=$O$14,$O$2=$O$15,$O$2=$O$20,$O$2=$O$21),Best1!$F$12,IF(OR($O$2=$O$7,$O$2=$O$8,$O$2=$O$18,$O$2=$O$19),Best1!$F$14,IF(OR($O$2=$O$5,$O$2=$O$6,$O$2=$O$12,$O$2=$O$13),Best1!$F$15,\"\")))))))","v":""},"","",{"$f":"IF(ISBLANK(K17),\"\",IF(Best1!$C$3=\"\",\"\",ROUND(SUM(Best1!$C$3:$C$6),1)))","v":""},"","",{"$f":"IF(ISBLANK(K17),\"\",IF(Best1!$B$3=\"\",\"\",ROUND(AVERAGE(Best1!$D$3:$D$6),1)))","v":""},"","",null,"",null,null,null,null,null,null,null,"","","","","","","","","","","","","","","","","","","","","","","",""]
[14,null,null,null,null,null,null,null,null,null,null,null,null,null,"CABD","","","","","","",0,0,"","","","","","","","",0,0,"","",0,0,"","",{"$f":"IF(ISBLANK(E18),\"\",IF(OR($O$2=$O$5,$O$2=$O$6,$O$2=$O$12,$O$2=$O$13),Best1!$F$10,IF(OR($O$2=$O$7,$O$2=$O$8,$O$2=$O$18,$O$2=$O$19),Best1!$F$11,IF(OR($O$2=$O$9,$O$2=$O$10,$O$2=$O$24,$O$2=$O$25),Best1!$F$12,IF(OR($O$2=$O$14,$O$2=$O$15,$O$2=$O$20,$O$2=$O$21),Best1!$F$13,IF(OR($O$2=$O$16,$O$2=$O$17,$O$2=$O$26,$O$2=$O$27),Best1!$F$14,IF(OR($O$2=$O$22,$O$2=$O$23,$O$2=$O$28,$O$2=$O$29),Best1!$F$15,\"\")))))))","v":""},"","",{"$f":"IF(ISBLANK(H18),\"\",IF(OR($O$2=$O$5,$O$2=$O$7,$O$2=$O$27,$O$2=$O$29),Best1!$F$13,IF(OR($O$2=$O$18,$O$2=$O$20,$O$2=$O$24,$O$2=$O$26),Best1!$F$10,IF(OR($O$2=$O$12,$O$2=$O$14,$O$2=$O$25,$O$2=$O$28),Best1!$F$11,IF(OR($O$2=$O$13,$O$2=$O$16,$O$2=$O$19,$O$2=$O$22),Best1!$F$12,IF(OR($O$2=$O$6,$O$2=$O$9,$O$2=$O$21,$O$2=$O$23),Best1!$F$14,IF(OR($O$2=$O$8,$O$2=$O$10,$O$2=$O$15,$O$2=$O$17),Best1!$F$15,\"\")))))))","v":""},"","",{"$f":"IF(ISBLANK(I18),\"\",IF(OR($O$2=$O$9,$O$2=$O$10,$O$2=$O$24,$O$2=$O$25),Best1!$F$13,IF(OR($O$2=$O$22,$O$2=$O$23,$O$2=$O$28,$O$2=$O$29),Best1!$F$10,IF(OR($O$2=$O$16,$O$2=$O$17,$O$2=$O$26,$O$2=$O$27),Best1!$F$11,IF(OR($O$2=$O$14,$O$2=$O$15,$O$2=$O$20,$O$2=$O$21),Best1!$F$12,IF(OR($O$2=$O$7,$O$2=$O$8,$O$2=$O$18,$O$2=$O$19),Best1!$F$14,IF(OR($O$2=$O$5,$O$2=$O$6,$O$2=$O$12,$O$2=$O$13),Best1!$F$15,\"\")))))))","v":""},"","",{"$f":"IF(ISBLANK(K18),\"\",IF(Best1!$C$3=\"\",\"\",ROUND(SUM(Best1!$C$3:$C$6),1)))","v":""},"","",{"$f":"IF(ISBLANK(K18),\"\",IF(Best1!$B$3=\"\",\"\",ROUND(AVERAGE(Best1!$D$3:$D$6),1)))","v":""},"","",null,"",null,null,null,null,null,null,null,"","","","","","","","","","","","","","","","","","","","","","","",""]
[15,null,null,null,null,null,null,null,null,null,null,null,null,null,"CADB","","","","","","",0,0,"","","","","","","","",0,0,"","",0,0,"","",{"$f":"IF(ISBLANK(E19),\"\",IF(OR($O$2=$O$5,$O$2=$O$6,$O$2=$O$12,$O$2=$O$13),Best1!$F$10,IF(OR($O$2=$O$7,$O$2=$O$8,$O$2=$O$18,$O$2=$O$19),Best1!$F$11,IF(OR($O$2=$O$9,$O$2=$O$10,$O$2=$O$24,$O$2=$O$25),Best1!$F$12,IF(OR($O$2=$O$14,$O$2=$O$15,$O$2=$O$20,$O$2=$O$21),Best1!$F$13,IF(OR($O$2=$O$16,$O$2=$O$17,$O$2=$O$26,$O$2=$O$27),Best1!$F$14,IF(OR($O$2=$O$22,$O$2=$O$23,$O$2=$O$28,$O$2=$O$29),Best1!$F$15,\"\")))))))","v":""},"","",{"$f":"IF(ISBLANK(H19),\"\",IF(OR($O$2=$O$5,$O$2=$O$7,$O$2=$O$27,$O$2=$O$29),Best1!$F$13,IF(OR($O$2=$O$18,$O$2=$O$20,$O$2=$O$24,$O$2=$O$26),Best1!$F$10,IF(OR($O$2=$O$12,$O$2=$O$14,$O$2=$O$25,$O$2=$O$28),Best1!$F$11,IF(OR($O$2=$O$13,$O$2=$O$16,$O$2=$O$19,$O$2=$O$22),Best1!$F$12,IF(OR($O$2=$O$6,$O$2=$O$9,$O$2=$O$21,$O$2=$O$23),Best1!$F$14,IF(OR($O$2=$O$8,$O$2=$O$10,$O$2=$O$15,$O$2=$O$17),Best1!$F$15,\"\")))))))","v":""},"","",{"$f":"IF(ISBLANK(I19),\"\",IF(OR($O$2=$O$9,$O$2=$O$10,$O$2=$O$24,$O$2=$O$25),Best1!$F$13,IF(OR($O$2=$O$22,$O$2=$O$23,$O$2=$O$28,$O$2=$O$29),Best1!$F$10,IF(OR($O$2=$O$16,$O$2=$O$17,$O$2=$O$26,$O$2=$O$27),Best1!$F$11,IF(OR($O$2=$O$14,$O$2=$O$15,$O$2=$O$20,$O$2=$O$21),Best1!$F$12,IF(OR($O$2=$O$7,$O$2=$O$8,$O$2=$O$18,$O$2=$O$19),Best1!$F$14,IF(OR($O$2=$O$5,$O$2=$O$6,$O$2=$O$12,$O$2=$O$13),Best1!$F$15,\"\")))))))","v":""},"","",{"$f":"IF(ISBLANK(K19),\"\",IF(Best1!$C$3=\"\",\"\",ROUND(SUM(Best1!$C$3:$C$6),1)))","v":""},"","",{"$f":"IF(ISBLANK(K19),\"\",IF(Best1!$B$3=\"\",\"\",ROUND(AVERAGE(Best1!$D$3:$D$6),1)))","v":""},"","",null,"",null,null,null,null,null,null,null,"","","","","","","","","","","","","","","","","","","","","","","",""]
[16,null,null,null,null,null,null,null,null,null,null,null,null,null,"CBAD","","","","","","",0,0,"","","","","","","","",0,0,"","",0,0,"","",{"$f":"IF(ISBLANK(E20),\"\",IF(OR($O$2=$O$5,$O$2=$O$6,$O$2=$O$12,$O$2=$O$13),Best1!$F$10,IF(OR($O$2=$O$7,$O$2=$O$8,$O$2=$O$18,$O$2=$O$19),Best1!$F$11,IF(OR($O$2=$O$9,$O$2=$O$10,$O$2=$O$24,$O$2=$O$25),Best1!$F$12,IF(OR($O$2=$O$14,$O$2=$O$15,$O$2=$O$20,$O$2=$O$21),Best1!$F$13,IF(OR($O$2=$O$16,$O$2=$O$17,$O$2=$O$26,$O$2=$O$27),Best1!$F$14,IF(OR($O$2=$O$22,$O$2=$O$23,$O$2=$O$28,$O$2=$O$29),Best1!$F$15,\"\")))))))","v":""},"","",{"$f":"IF(ISBLANK(H20),\"\",IF(OR($O$2=$O$5,$O$2=$O$7,$O$2=$O$27,$O$2=$O$29),Best1!$F$13,IF(OR($O$2=$O$18,$O$2=$O$20,$O$2=$O$24,$O$2=$O$26),Best1!$F$10,IF(OR($O$2=$O$12,$O$2=$O$14,$O$2=$O$25,$O$2=$O$28),Best1!$F$11,IF(OR($O$2=$O$13,$O$2=$O$16,$O$2=$O$19,$O$2=$O$22),Best1!$F$12,IF(OR($O$2=$O$6,$O$2=$O$9,$O$2=$O$21,$O$2=$O$23),Best1!$F$14,IF(OR($O$2=$O$8,$O$2=$O$10,$O$2=$O$15,$O$2=$O$17),Best1!$F$15,\"\")))))))","v":""},"","",{"$f":"IF(ISBLANK(I20),\"\",IF(OR($O$2=$O$9,$O$2=$O$10,$O$2=$O$24,$O$2=$O$25),Best1!$F$13,IF(OR($O$2=$O$22,$O$2=$O$23,$O$2=$O$28,$O$2=$O$29),Best1!$F$10,IF(OR($O$2=$O$16,$O$2=$O$17,$O$2=$O$26,$O$2=$O$27),Best1!$F$11,IF(OR($O$2=$O$14,$O$2=$O$15,$O$2=$O$20,$O$2=$O$21),Best1!$F$12,IF(OR($O$2=$O$7,$O$2=$O$8,$O$2=$O$18,$O$2=$O$19),Best1!$F$14,IF(OR($O$2=$O$5,$O$2=$O$6,$O$2=$O$12,$O$2=$O$13),Best1!$F$15,\"\")))))))","v":""},"","",{"$f":"IF(ISBLANK(K20),\"\",IF(Best1!$C$3=\"\",\"\",ROUND(SUM(Best1!$C$3:$C$6),1)))","v":""},"","",{"$f":"IF(ISBLANK(K20),\"\",IF(Best1!$B$3=\"\",\"\",ROUND(AVERAGE(Best1!$D$3:$D$6),1)))","v":""},"","",null,"",null,null,null,null,null,null,null,"","","","","","","","","","","","","","","","","","","","","","","",""]
[17,null,null,null,null,null,null,null,null,null,null,null,null,null,"CBDA","","","","","","",0,0,"","","","","","","","",0,0,"","",0,0,"","",{"$f":"IF(ISBLANK(E21),\"\",IF(OR($O$2=$O$5,$O$2=$O$6,$O$2=$O$12,$O$2=$O$13),Best1!$F$10,IF(OR($O$2=$O$7,$O$2=$O$8,$O$2=$O$18,$O$2=$O$19),Best1!$F$11,IF(OR($O$2=$O$9,$O$2=$O$10,$O$2=$O$24,$O$2=$O$25),Best1!$F$12,IF(OR($O$2=$O$14,$O$2=$O$15,$O$2=$O$20,$O$2=$O$21),Best1!$F$13,IF(OR($O$2=$O$16,$O$2=$O$17,$O$2=$O$26,$O$2=$O$27),Best1!$F$14,IF(OR($O$2=$O$22,$O$2=$O$23,$O$2=$O$28,$O$2=$O$29),Best1!$F$15,\"\")))))))","v":""},"","",{"$f":"IF(ISBLANK(H21),\"\",IF(OR($O$2=$O$5,$O$2=$O$7,$O$2=$O$27,$O$2=$O$29),Best1!$F$13,IF(OR($O$2=$O$18,$O$2=$O$20,$O$2=$O$24,$O$2=$O$26),Best1!$F$10,IF(OR($O$2=$O$12,$O$2=$O$14,$O$2=$O$25,$O$2=$O$28),Best1!$F$11,IF(OR($O$2=$O$13,$O$2=$O$16,$O$2=$O$19,$O$2=$O$22),Best1!$F$12,IF(OR($O$2=$O$6,$O$2=$O$9,$O$2=$O$21,$O$2=$O$23),Best1!$F$14,IF(OR($O$2=$O$8,$O$2=$O$10,$O$2=$O$15,$O$2=$O$17),Best1!$F$15,\"\")))))))","v":""},"","",{"$f":"IF(ISBLANK(I21),\"\",IF(OR($O$2=$O$9,$O$2=$O$10,$O$2=$O$24,$O$2=$O$25),Best1!$F$13,IF(OR($O$2=$O$22,$O$2=$O$23,$O$2=$O$28,$O$2=$O$29),Best1!$F$10,IF(OR($O$2=$O$16,$O$2=$O$17,$O$2=$O$26,$O$2=$O$27),Best1!$F$11,IF(OR($O$2=$O$14,$O$2=$O$15,$O$2=$O$20,$O$2=$O$21),Best1!$F$12,IF(OR($O$2=$O$7,$O$2=$O$8,$O$2=$O$18,$O$2=$O$19),Best1!$F$14,IF(OR($O$2=$O$5,$O$2=$O$6,$O$2=$O$12,$O$2=$O$13),Best1!$F$15,\"\")))))))","v":""},"","",{"$f":"IF(ISBLANK(K21),\"\",IF(Best1!$C$3=\"\",\"\",ROUND(SUM(Best1!$C$3:$C$6),1)))","v":""},"","",{"$f":"IF(ISBLANK(K21),\"\",IF(Best1!$B$3=\"\",\"\",ROUND(AVERAGE(Best1!$D$3:$D$6),1)))","v":""},"","",null,"",null,null,null,null,null,null,null,"","","","","","","","","","","","","","","","","","","","","","","",""]
[18,null,null,null,null,null,null,null,null,null,null,null,null,null,"CDAB","","","","","","",0,0,"","","","","","","","",0,0,"","",0,0,"","",{"$f":"IF(ISBLANK(E22),\"\",IF(OR($O$2=$O$5,$O$2=$O$6,$O$2=$O$12,$O$2=$O$13),Best1!$F$10,IF(OR($O$2=$O$7,$O$2=$O$8,$O$2=$O$18,$O$2=$O$19),Best1!$F$11,IF(OR($O$2=$O$9,$O$2=$O$10,$O$2=$O$24,$O$2=$O$25),Best1!$F$12,IF(OR($O$2=$O$14,$O$2=$O$15,$O$2=$O$20,$O$2=$O$21),Best1!$F$13,IF(OR($O$2=$O$16,$O$2=$O$17,$O$2=$O$26,$O$2=$O$27),Best1!$F$14,IF(OR($O$2=$O$22,$O$2=$O$23,$O$2=$O$28,$O$2=$O$29),Best1!$F$15,\"\")))))))","v":""},"","",{"$f":"IF(ISBLANK(H22),\"\",IF(OR($O$2=$O$5,$O$2=$O$7,$O$2=$O$27,$O$2=$O$29),Best1!$F$13,IF(OR($O$2=$O$18,$O$2=$O$20,$O$2=$O$24,$O$2=$O$26),Best1!$F$10,IF(OR($O$2=$O$12,$O$2=$O$14,$O$2=$O$25,$O$2=$O$28),Best1!$F$11,IF(OR($O$2=$O$13,$O$2=$O$16,$O$2=$O$19,$O$2=$O$22),Best1!$F$12,IF(OR($O$2=$O$6,$O$2=$O$9,$O$2=$O$21,$O$2=$O$23),Best1!$F$14,IF(OR($O$2=$O$8,$O$2=$O$10,$O$2=$O$15,$O$2=$O$17),Best1!$F$15,\"\")))))))","v":""},"","",{"$f":"IF(ISBLANK(I22),\"\",IF(OR($O$2=$O$9,$O$2=$O$10,$O$2=$O$24,$O$2=$O$25),Best1!$F$13,IF(OR($O$2=$O$22,$O$2=$O$23,$O$2=$O$28,$O$2=$O$29),Best1!$F$10,IF(OR($O$2=$O$16,$O$2=$O$17,$O$2=$O$26,$O$2=$O$27),Best1!$F$11,IF(OR($O$2=$O$14,$O$2=$O$15,$O$2=$O$20,$O$2=$O$21),Best1!$F$12,IF(OR($O$2=$O$7,$O$2=$O$8,$O$2=$O$18,$O$2=$O$19),Best1!$F$14,IF(OR($O$2=$O$5,$O$2=$O$6,$O$2=$O$12,$O$2=$O$13),Best1!$F$15,\"\")))))))","v":""},"","",{"$f":"IF(ISBLANK(K22),\"\",IF(Best1!$C$3=\"\",\"\",ROUND(SUM(Best1!$C$3:$C$6),1)))","v":""},"","",{"$f":"IF(ISBLANK(K22),\"\",IF(Best1!$B$3=\"\",\"\",ROUND(AVERAGE(Best1!$D$3:$D$6),1)))","v":""},"","",null,"",null,null,null,null,null,null,null,"","","","","","","","","","","","","","","","","","","","","","","",""]
[19,null,null,null,null,null,null,null,null,null,null,null,null,null,"CDBA","","","","","","",0,0,"","","","","","","","",0,0,"","",0,0,"","",{"$f":"IF(ISBLANK(E23),\"\",IF(OR($O$2=$O$5,$O$2=$O$6,$O$2=$O$12,$O$2=$O$13),Best1!$F$10,IF(OR($O$2=$O$7,$O$2=$O$8,$O$2=$O$18,$O$2=$O$19),Best1!$F$11,IF(OR($O$2=$O$9,$O$2=$O$10,$O$2=$O$24,$O$2=$O$25),Best1!$F$12,IF(OR($O$2=$O$14,$O$2=$O$15,$O$2=$O$20,$O$2=$O$21),Best1!$F$13,IF(OR($O$2=$O$16,$O$2=$O$17,$O$2=$O$26,$O$2=$O$27),Best1!$F$14,IF(OR($O$2=$O$22,$O$2=$O$23,$O$2=$O$28,$O$2=$O$29),Best1!$F$15,\"\")))))))","v":""},"","",{"$f":"IF(ISBLANK(H23),\"\",IF(OR($O$2=$O$5,$O$2=$O$7,$O$2=$O$27,$O$2=$O$29),Best1!$F$13,IF(OR($O$2=$O$18,$O$2=$O$20,$O$2=$O$24,$O$2=$O$26),Best1!$F$10,IF(OR($O$2=$O$12,$O$2=$O$14,$O$2=$O$25,$O$2=$O$28),Best1!$F$11,IF(OR($O$2=$O$13,$O$2=$O$16,$O$2=$O$19,$O$2=$O$22),Best1!$F$12,IF(OR($O$2=$O$6,$O$2=$O$9,$O$2=$O$21,$O$2=$O$23),Best1!$F$14,IF(OR($O$2=$O$8,$O$2=$O$10,$O$2=$O$15,$O$2=$O$17),Best1!$F$15,\"\")))))))","v":""},"","",{"$f":"IF(ISBLANK(I23),\"\",IF(OR($O$2=$O$9,$O$2=$O$10,$O$2=$O$24,$O$2=$O$25),Best1!$F$13,IF(OR($O$2=$O$22,$O$2=$O$23,$O$2=$O$28,$O$2=$O$29),Best1!$F$10,IF(OR($O$2=$O$16,$O$2=$O$17,$O$2=$O$26,$O$2=$O$27),Best1!$F$11,IF(OR($O$2=$O$14,$O$2=$O$15,$O$2=$O$20,$O$2=$O$21),Best1!$F$12,IF(OR($O$2=$O$7,$O$2=$O$8,$O$2=$O$18,$O$2=$O$19),Best1!$F$14,IF(OR($O$2=$O$5,$O$2=$O$6,$O$2=$O$12,$O$2=$O$13),Best1!$F$15,\"\")))))))","v":""},"","",{"$f":"IF(ISBLANK(K23),\"\",IF(Best1!$C$3=\"\",\"\",ROUND(SUM(Best1!$C$3:$C$6),1)))","v":""},"","",{"$f":"IF(ISBLANK(K23),\"\",IF(Best1!$B$3=\"\",\"\",ROUND(AVERAGE(Best1!$D$3:$D$6),1)))","v":""},"","",null,"",null,null,null,null,null,null,null,"","","","","","","","","","","","","","","","","","","","","","","",""]
[20,null,null,null,null,null,null,null,null,null,null,null,null,null,"DABC","","","","","","",0,0,"","","","","","","","",0,0,"","",0,0,"","",{"$f":"IF(ISBLANK(E24),\"\",IF(OR($O$2=$O$5,$O$2=$O$6,$O$2=$O$12,$O$2=$O$13),Best1!$F$10,IF(OR($O$2=$O$7,$O$2=$O$8,$O$2=$O$18,$O$2=$O$19),Best1!$F$11,IF(OR($O$2=$O$9,$O$2=$O$10,$O$2=$O$24,$O$2=$O$25),Best1!$F$12,IF(OR($O$2=$O$14,$O$2=$O$15,$O$2=$O$20,$O$2=$O$21),Best1!$F$13,IF(OR($O$2=$O$16,$O$2=$O$17,$O$2=$O$26,$O$2=$O$27),Best1!$F$14,IF(OR($O$2=$O$22,$O$2=$O$23,$O$2=$O$28,$O$2=$O$29),Best1!$F$15,\"\")))))))","v":""},"","",{"$f":"IF(ISBLANK(H24),\"\",IF(OR($O$2=$O$5,$O$2=$O$7,$O$2=$O$27,$O$2=$O$29),Best1!$F$13,IF(OR($O$2=$O$18,$O$2=$O$20,$O$2=$O$24,$O$2=$O$26),Best1!$F$10,IF(OR($O$2=$O$12,$O$2=$O$14,$O$2=$O$25,$O$2=$O$28),Best1!$F$11,IF(OR($O$2=$O$13,$O$2=$O$16,$O$2=$O$19,$O$2=$O$22),Best1!$F$12,IF(OR($O$2=$O$6,$O$2=$O$9,$O$2=$O$21,$O$2=$O$23),Best1!$F$14,IF(OR($O$2=$O$8,$O$2=$O$10,$O$2=$O$15,$O$2=$O$17),Best1!$F$15,\"\")))))))","v":""},"","",{"$f":"IF(ISBLANK(I24),\"\",IF(OR($O$2=$O$9,$O$2=$O$10,$O$2=$O$24,$O$2=$O$25),Best1!$F$13,IF(OR($O$2=$O$22,$O$2=$O$23,$O$2=$O$28,$O$2=$O$29),Best1!$F$10,IF(OR($O$2=$O$16,$O$2=$O$17,$O$2=$O$26,$O$2=$O$27),Best1!$F$11,IF(OR($O$2=$O$14,$O$2=$O$15,$O$2=$O$20,$O$2=$O$21),Best1!$F$12,IF(OR($O$2=$O$7,$O$2=$O$8,$O$2=$O$18,$O$2=$O$19),Best1!$F$14,IF(OR($O$2=$O$5,$O$2=$O$6,$O$2=$O$12,$O$2=$O$13),Best1!$F$15,\"\")))))))","v":""},"","",{"$f":"IF(ISBLANK(K24),\"\",IF(Best1!$C$3=\"\",\"\",ROUND(SUM(Best1!$C$3:$C$6),1)))","v":""},"","",{"$f":"IF(ISBLANK(K24),\"\",IF(Best1!$B$3=\"\",\"\",ROUND(AVERAGE(Best1!$D$3:$D$6),1)))","v":""},"","",null,"",null,null,null,null,null,null,null,"","","","","","","","","","","","","","","","","","","","","","","",""]
[21,null,null,null,null,null,null,null,null,null,null,null,null,null,"DACB","","","","","","",0,0,"","","","","","","","",0,0,"","",0,0,"","",{"$f":"IF(ISBLANK(E25),\"\",IF(OR($O$2=$O$5,$O$2=$O$6,$O$2=$O$12,$O$2=$O$13),Best1!$F$10,IF(OR($O$2=$O$7,$O$2=$O$8,$O$2=$O$18,$O$2=$O$19),Best1!$F$11,IF(OR($O$2=$O$9,$O$2=$O$10,$O$2=$O$24,$O$2=$O$25),Best1!$F$12,IF(OR($O$2=$O$14,$O$2=$O$15,$O$2=$O$20,$O$2=$O$21),Best1!$F$13,IF(OR($O$2=$O$16,$O$2=$O$17,$O$2=$O$26,$O$2=$O$27),Best1!$F$14,IF(OR($O$2=$O$22,$O$2=$O$23,$O$2=$O$28,$O$2=$O$29),Best1!$F$15,\"\")))))))","v":""},"","",{"$f":"IF(ISBLANK(H25),\"\",IF(OR($O$2=$O$5,$O$2=$O$7,$O$2=$O$27,$O$2=$O$29),Best1!$F$13,IF(OR($O$2=$O$18,$O$2=$O$20,$O$2=$O$24,$O$2=$O$26),Best1!$F$10,IF(OR($O$2=$O$12,$O$2=$O$14,$O$2=$O$25,$O$2=$O$28),Best1!$F$11,IF(OR($O$2=$O$13,$O$2=$O$16,$O$2=$O$19,$O$2=$O$22),Best1!$F$12,IF(OR($O$2=$O$6,$O$2=$O$9,$O$2=$O$21,$O$2=$O$23),Best1!$F$14,IF(OR($O$2=$O$8,$O$2=$O$10,$O$2=$O$15,$O$2=$O$17),Best1!$F$15,\"\")))))))","v":""},"","",{"$f":"IF(ISBLANK(I25),\"\",IF(OR($O$2=$O$9,$O$2=$O$10,$O$2=$O$24,$O$2=$O$25),Best1!$F$13,IF(OR($O$2=$O$22,$O$2=$O$23,$O$2=$O$28,$O$2=$O$29),Best1!$F$10,IF(OR($O$2=$O$16,$O$2=$O$17,$O$2=$O$26,$O$2=$O$27),Best1!$F$11,IF(OR($O$2=$O$14,$O$2=$O$15,$O$2=$O$20,$O$2=$O$21),Best1!$F$12,IF(OR($O$2=$O$7,$O$2=$O$8,$O$2=$O$18,$O$2=$O$19),Best1!$F$14,IF(OR($O$2=$O$5,$O$2=$O$6,$O$2=$O$12,$O$2=$O$13),Best1!$F$15,\"\")))))))","v":""},"","",{"$f":"IF(ISBLANK(K25),\"\",IF(Best1!$C$3=\"\",\"\",ROUND(SUM(Best1!$C$3:$C$6),1)))","v":""},"","",{"$f":"IF(ISBLANK(K25),\"\",IF(Best1!$B$3=\"\",\"\",ROUND(AVERAGE(Best1!$D$3:$D$6),1)))","v":""},"","",null,"",null,null,null,null,null,null,null,"","","","","","","","","","","","","","","","","","","","","","","",""]
[22,null,null,null,null,null,null,null,null,null,null,null,null,null,"DBAC","","","","","","",0,0,"","","","","","","","",0,0,"","",0,0,"","",{"$f":"IF(ISBLANK(E26),\"\",IF(OR($O$2=$O$5,$O$2=$O$6,$O$2=$O$12,$O$2=$O$13),Best1!$F$10,IF(OR($O$2=$O$7,$O$2=$O$8,$O$2=$O$18,$O$2=$O$19),Best1!$F$11,IF(OR($O$2=$O$9,$O$2=$O$10,$O$2=$O$24,$O$2=$O$25),Best1!$F$12,IF(OR($O$2=$O$14,$O$2=$O$15,$O$2=$O$20,$O$2=$O$21),Best1!$F$13,IF(OR($O$2=$O$16,$O$2=$O$17,$O$2=$O$26,$O$2=$O$27),Best1!$F$14,IF(OR($O$2=$O$22,$O$2=$O$23,$O$2=$O$28,$O$2=$O$29),Best1!$F$15,\"\")))))))","v":""},"","",{"$f":"IF(ISBLANK(H26),\"\",IF(OR($O$2=$O$5,$O$2=$O$7,$O$2=$O$27,$O$2=$O$29),Best1!$F$13,IF(OR($O$2=$O$18,$O$2=$O$20,$O$2=$O$24,$O$2=$O$26),Best1!$F$10,IF(OR($O$2=$O$12,$O$2=$O$14,$O$2=$O$25,$O$2=$O$28),Best1!$F$11,IF(OR($O$2=$O$13,$O$2=$O$16,$O$2=$O$19,$O$2=$O$22),Best1!$F$12,IF(OR($O$2=$O$6,$O$2=$O$9,$O$2=$O$21,$O$2=$O$23),Best1!$F$14,IF(OR($O$2=$O$8,$O$2=$O$10,$O$2=$O$15,$O$2=$O$17),Best1!$F$15,\"\")))))))","v":""},"","",{"$f":"IF(ISBLANK(I26),\"\",IF(OR($O$2=$O$9,$O$2=$O$10,$O$2=$O$24,$O$2=$O$25),Best1!$F$13,IF(OR($O$2=$O$22,$O$2=$O$23,$O$2=$O$28,$O$2=$O$29),Best1!$F$10,IF(OR($O$2=$O$16,$O$2=$O$17,$O$2=$O$26,$O$2=$O$27),Best1!$F$11,IF(OR($O$2=$O$14,$O$2=$O$15,$O$2=$O$20,$O$2=$O$21),Best1!$F$12,IF(OR($O$2=$O$7,$O$2=$O$8,$O$2=$O$18,$O$2=$O$19),Best1!$F$14,IF(OR($O$2=$O$5,$O$2=$O$6,$O$2=$O$12,$O$2=$O$13),Best1!$F$15,\"\")))))))","v":""},"","",{"$f":"IF(ISBLANK(K26),\"\",IF(Best1!$C$3=\"\",\"\",ROUND(SUM(Best1!$C$3:$C$6),1)))","v":""},"","",{"$f":"IF(ISBLANK(K26),\"\",IF(Best1!$B$3=\"\",\"\",ROUND(AVERAGE(Best1!$D$3:$D$6),1)))","v":""},"","",null,"",null,null,null,null,null,null,null,"","","","","","","","","","","","","","","","","","","","","","","",""]
[23,null,null,null,null,null,null,null,null,null,null,null,null,null,"DBCA","","","","","","",0,0,"","","","","","","","",0,0,"","",0,0,"","",{"$f":"IF(ISBLANK(E27),\"\",IF(OR($O$2=$O$5,$O$2=$O$6,$O$2=$O$12,$O$2=$O$13),Best1!$F$10,IF(OR($O$2=$O$7,$O$2=$O$8,$O$2=$O$18,$O$2=$O$19),Best1!$F$11,IF(OR($O$2=$O$9,$O$2=$O$10,$O$2=$O$24,$O$2=$O$25),Best1!$F$12,IF(OR($O$2=$O$14,$O$2=$O$15,$O$2=$O$20,$O$2=$O$21),Best1!$F$13,IF(OR($O$2=$O$16,$O$2=$O$17,$O$2=$O$26,$O$2=$O$27),Best1!$F$14,IF(OR($O$2=$O$22,$O$2=$O$23,$O$2=$O$28,$O$2=$O$29),Best1!$F$15,\"\")))))))","v":""},"","",{"$f":"IF(ISBLANK(H27),\"\",IF(OR($O$2=$O$5,$O$2=$O$7,$O$2=$O$27,$O$2=$O$29),Best1!$F$13,IF(OR($O$2=$O$18,$O$2=$O$20,$O$2=$O$24,$O$2=$O$26),Best1!$F$10,IF(OR($O$2=$O$12,$O$2=$O$14,$O$2=$O$25,$O$2=$O$28),Best1!$F$11,IF(OR($O$2=$O$13,$O$2=$O$16,$O$2=$O$19,$O$2=$O$22),Best1!$F$12,IF(OR($O$2=$O$6,$O$2=$O$9,$O$2=$O$21,$O$2=$O$23),Best1!$F$14,IF(OR($O$2=$O$8,$O$2=$O$10,$O$2=$O$15,$O$2=$O$17),Best1!$F$15,\"\")))))))","v":""},"","",{"$f":"IF(ISBLANK(I27),\"\",IF(OR($O$2=$O$9,$O$2=$O$10,$O$2=$O$24,$O$2=$O$25),Best1!$F$13,IF(OR($O$2=$O$22,$O$2=$O$23,$O$2=$O$28,$O$2=$O$29),Best1!$F$10,IF(OR($O$2=$O$16,$O$2=$O$17,$O$2=$O$26,$O$2=$O$27),Best1!$F$11,IF(OR($O$2=$O$14,$O$2=$O$15,$O$2=$O$20,$O$2=$O$21),Best1!$F$12,IF(OR($O$2=$O$7,$O$2=$O$8,$O$2=$O$18,$O$2=$O$19),Best1!$F$14,IF(OR($O$2=$O$5,$O$2=$O$6,$O$2=$O$12,$O$2=$O$13),Best1!$F$15,\"\")))))))","v":""},"","",{"$f":"IF(ISBLANK(K27),\"\",IF(Best1!$C$3=\"\",\"\",ROUND(SUM(Best1!$C$3:$C$6),1)))","v":""},"","",{"$f":"IF(ISBLANK(K27),\"\",IF(Best1!$B$3=\"\",\"\",ROUND(AVERAGE(Best1!$D$3:$D$6),1)))","v":""},"","",null,"",null,null,null,null,null,null,null,"","","","","","","","","","","","","","","","","","","","","","","",""]
[24,null,null,null,null,null,null,null,null,null,null,null,null,null,"DCAB","","","","","","",0,0,"","","","","","","","",0,0,"","",0,0,"","",{"$f":"IF(ISBLANK(E28),\"\",IF(OR($O$2=$O$5,$O$2=$O$6,$O$2=$O$12,$O$2=$O$13),Best1!$F$10,IF(OR($O$2=$O$7,$O$2=$O$8,$O$2=$O$18,$O$2=$O$19),Best1!$F$11,IF(OR($O$2=$O$9,$O$2=$O$10,$O$2=$O$24,$O$2=$O$25),Best1!$F$12,IF(OR($O$2=$O$14,$O$2=$O$15,$O$2=$O$20,$O$2=$O$21),Best1!$F$13,IF(OR($O$2=$O$16,$O$2=$O$17,$O$2=$O$26,$O$2=$O$27),Best1!$F$14,IF(OR($O$2=$O$22,$O$2=$O$23,$O$2=$O$28,$O$2=$O$29),Best1!$F$15,\"\")))))))","v":""},"","",{"$f":"IF(ISBLANK(H28),\"\",IF(OR($O$2=$O$5,$O$2=$O$7,$O$2=$O$27,$O$2=$O$29),Best1!$F$13,IF(OR($O$2=$O$18,$O$2=$O$20,$O$2=$O$24,$O$2=$O$26),Best1!$F$10,IF(OR($O$2=$O$12,$O$2=$O$14,$O$2=$O$25,$O$2=$O$28),Best1!$F$11,IF(OR($O$2=$O$13,$O$2=$O$16,$O$2=$O$19,$O$2=$O$22),Best1!$F$12,IF(OR($O$2=$O$6,$O$2=$O$9,$O$2=$O$21,$O$2=$O$23),Best1!$F$14,IF(OR($O$2=$O$8,$O$2=$O$10,$O$2=$O$15,$O$2=$O$17),Best1!$F$15,\"\")))))))","v":""},"","",{"$f":"IF(ISBLANK(I28),\"\",IF(OR($O$2=$O$9,$O$2=$O$10,$O$2=$O$24,$O$2=$O$25),Best1!$F$13,IF(OR($O$2=$O$22,$O$2=$O$23,$O$2=$O$28,$O$2=$O$29),Best1!$F$10,IF(OR($O$2=$O$16,$O$2=$O$17,$O$2=$O$26,$O$2=$O$27),Best1!$F$11,IF(OR($O$2=$O$14,$O$2=$O$15,$O$2=$O$20,$O$2=$O$21),Best1!$F$12,IF(OR($O$2=$O$7,$O$2=$O$8,$O$2=$O$18,$O$2=$O$19),Best1!$F$14,IF(OR($O$2=$O$5,$O$2=$O$6,$O$2=$O$12,$O$2=$O$13),Best1!$F$15,\"\")))))))","v":""},"","",{"$f":"IF(ISBLANK(K28),\"\",IF(Best1!$C$3=\"\",\"\",ROUND(SUM(Best1!$C$3:$C$6),1)))","v":""},"","",{"$f":"IF(ISBLANK(K28),\"\",IF(Best1!$B$3=\"\",\"\",ROUND(AVERAGE(Best1!$D$3:$D$6),1)))","v":""},"","",null,"",null,null,null,null,null,null,null,"","","","","","","","","","","","","","","","","","","","","","","",""]
[25,null,null,null,null,null,null,null,null,null,null,null,null,null,"DCBA","","","","","","",0,0,"","","","","","","","",0,0,"","",0,0,"","",{"$f":"IF(ISBLANK(E29),\"\",IF(OR($O$2=$O$5,$O$2=$O$6,$O$2=$O$12,$O$2=$O$13),Best1!$F$10,IF(OR($O$2=$O$7,$O$2=$O$8,$O$2=$O$18,$O$2=$O$19),Best1!$F$11,IF(OR($O$2=$O$9,$O$2=$O$10,$O$2=$O$24,$O$2=$O$25),Best1!$F$12,IF(OR($O$2=$O$14,$O$2=$O$15,$O$2=$O$20,$O$2=$O$21),Best1!$F$13,IF(OR($O$2=$O$16,$O$2=$O$17,$O$2=$O$26,$O$2=$O$27),Best1!$F$14,IF(OR($O$2=$O$22,$O$2=$O$23,$O$2=$O$28,$O$2=$O$29),Best1!$F$15,\"\")))))))","v":""},"","",{"$f":"IF(ISBLANK(H29),\"\",IF(OR($O$2=$O$5,$O$2=$O$7,$O$2=$O$27,$O$2=$O$29),Best1!$F$13,IF(OR($O$2=$O$18,$O$2=$O$20,$O$2=$O$24,$O$2=$O$26),Best1!$F$10,IF(OR($O$2=$O$12,$O$2=$O$14,$O$2=$O$25,$O$2=$O$28),Best1!$F$11,IF(OR($O$2=$O$13,$O$2=$O$16,$O$2=$O$19,$O$2=$O$22),Best1!$F$12,IF(OR($O$2=$O$6,$O$2=$O$9,$O$2=$O$21,$O$2=$O$23),Best1!$F$14,IF(OR($O$2=$O$8,$O$2=$O$10,$O$2=$O$15,$O$2=$O$17),Best1!$F$15,\"\")))))))","v":""},"","",{"$f":"IF(ISBLANK(I29),\"\",IF(OR($O$2=$O$9,$O$2=$O$10,$O$2=$O$24,$O$2=$O$25),Best1!$F$13,IF(OR($O$2=$O$22,$O$2=$O$23,$O$2=$O$28,$O$2=$O$29),Best1!$F$10,IF(OR($O$2=$O$16,$O$2=$O$17,$O$2=$O$26,$O$2=$O$27),Best1!$F$11,IF(OR($O$2=$O$14,$O$2=$O$15,$O$2=$O$20,$O$2=$O$21),Best1!$F$12,IF(OR($O$2=$O$7,$O$2=$O$8,$O$2=$O$18,$O$2=$O$19),Best1!$F$14,IF(OR($O$2=$O$5,$O$2=$O$6,$O$2=$O$12,$O$2=$O$13),Best1!$F$15,\"\")))))))","v":""},"","",{"$f":"IF(ISBLANK(K29),\"\",IF(Best1!$C$3=\"\",\"\",ROUND(SUM(Best1!$C$3:$C$6),1)))","v":""},"","",{"$f":"IF(ISBLANK(K29),\"\",IF(Best1!$B$3=\"\",\"\",ROUND(AVERAGE(Best1!$D$3:$D$6),1)))","v":""},"","",null,"",null,null,null,null,null,null,null,"","","","","","","","","","","","","","","","","","","","","","","",""]
[26,null,null,null,null,null,null,null,null,null,null,null,null,null,null,"","","","","","",0,0,"","","","","","","","",0,0,"","",0,0,"","",{"$f":"IF(ISBLANK(E30),\"\",IF(OR($O$2=$O$5,$O$2=$O$6,$O$2=$O$12,$O$2=$O$13),Best1!$F$10,IF(OR($O$2=$O$7,$O$2=$O$8,$O$2=$O$18,$O$2=$O$19),Best1!$F$11,IF(OR($O$2=$O$9,$O$2=$O$10,$O$2=$O$24,$O$2=$O$25),Best1!$F$12,IF(OR($O$2=$O$14,$O$2=$O$15,$O$2=$O$20,$O$2=$O$21),Best1!$F$13,IF(OR($O$2=$O$16,$O$2=$O$17,$O$2=$O$26,$O$2=$O$27),Best1!$F$14,IF(OR($O$2=$O$22,$O$2=$O$23,$O$2=$O$28,$O$2=$O$29),Best1!$F$15,\"\")))))))","v":""},"","",{"$f":"IF(ISBLANK(H30),\"\",IF(OR($O$2=$O$5,$O$2=$O$7,$O$2=$O$27,$O$2=$O$29),Best1!$F$13,IF(OR($O$2=$O$18,$O$2=$O$20,$O$2=$O$24,$O$2=$O$26),Best1!$F$10,IF(OR($O$2=$O$12,$O$2=$O$14,$O$2=$O$25,$O$2=$O$28),Best1!$F$11,IF(OR($O$2=$O$13,$O$2=$O$16,$O$2=$O$19,$O$2=$O$22),Best1!$F$12,IF(OR($O$2=$O$6,$O$2=$O$9,$O$2=$O$21,$O$2=$O$23),Best1!$F$14,IF(OR($O$2=$O$8,$O$2=$O$10,$O$2=$O$15,$O$2=$O$17),Best1!$F$15,\"\")))))))","v":""},"","",{"$f":"IF(ISBLANK(I30),\"\",IF(OR($O$2=$O$9,$O$2=$O$10,$O$2=$O$24,$O$2=$O$25),Best1!$F$13,IF(OR($O$2=$O$22,$O$2=$O$23,$O$2=$O$28,$O$2=$O$29),Best1!$F$10,IF(OR($O$2=$O$16,$O$2=$O$17,$O$2=$O$26,$O$2=$O$27),Best1!$F$11,IF(OR($O$2=$O$14,$O$2=$O$15,$O$2=$O$20,$O$2=$O$21),Best1!$F$12,IF(OR($O$2=$O$7,$O$2=$O$8,$O$2=$O$18,$O$2=$O$19),Best1!$F$14,IF(OR($O$2=$O$5,$O$2=$O$6,$O$2=$O$12,$O$2=$O$13),Best1!$F$15,\"\")))))))","v":""},"","",{"$f":"IF(ISBLANK(K30),\"\",IF(Best1!$C$3=\"\",\"\",ROUND(SUM(Best1!$C$3:$C$6),1)))","v":""},"","",{"$f":"IF(ISBLANK(K30),\"\",IF(Best1!$B$3=\"\",\"\",ROUND(AVERAGE(Best1!$D$3:$D$6),1)))","v":""},"","",null,"",null,null,null,null,null,null,null,"","","","","","","","","","","","","","","","","","","","","","","",""]
[27,null,null,null,null,null,null,null,null,null,null,null,null,null,null,"","","","","","",0,0,"","","","","","","","",0,0,"","",0,0,"","",{"$f":"IF(ISBLANK(E31),\"\",IF(OR($O$2=$O$5,$O$2=$O$6,$O$2=$O$12,$O$2=$O$13),Best1!$F$10,IF(OR($O$2=$O$7,$O$2=$O$8,$O$2=$O$18,$O$2=$O$19),Best1!$F$11,IF(OR($O$2=$O$9,$O$2=$O$10,$O$2=$O$24,$O$2=$O$25),Best1!$F$12,IF(OR($O$2=$O$14,$O$2=$O$15,$O$2=$O$20,$O$2=$O$21),Best1!$F$13,IF(OR($O$2=$O$16,$O$2=$O$17,$O$2=$O$26,$O$2=$O$27),Best1!$F$14,IF(OR($O$2=$O$22,$O$2=$O$23,$O$2=$O$28,$O$2=$O$29),Best1!$F$15,\"\")))))))","v":""},{"$f":"IF(F31=\"\",\"\",F31)","v":""},"",{"$f":"IF(ISBLANK(H31),\"\",IF(OR($O$2=$O$5,$O$2=$O$7,$O$2=$O$27,$O$2=$O$29),Best1!$F$13,IF(OR($O$2=$O$18,$O$2=$O$20,$O$2=$O$24,$O$2=$O$26),Best1!$F$10,IF(OR($O$2=$O$12,$O$2=$O$14,$O$2=$O$25,$O$2=$O$28),Best1!$F$11,IF(OR($O$2=$O$13,$O$2=$O$16,$O$2=$O$19,$O$2=$O$22),Best1!$F$12,IF(OR($O$2=$O$6,$O$2=$O$9,$O$2=$O$21,$O$2=$O$23),Best1!$F$14,IF(OR($O$2=$O$8,$O$2=$O$10,$O$2=$O$15,$O$2=$O$17),Best1!$F$15,\"\")))))))","v":""},{"$f":"IF(H31=\"\",\"\",H31)","v":""},"",{"$f":"IF(ISBLANK(I31),\"\",IF(OR($O$2=$O$9,$O$2=$O$10,$O$2=$O$24,$O$2=$O$25),Best1!$F$13,IF(OR($O$2=$O$22,$O$2=$O$23,$O$2=$O$28,$O$2=$O$29),Best1!$F$10,IF(OR($O$2=$O$16,$O$2=$O$17,$O$2=$O$26,$O$2=$O$27),Best1!$F$11,IF(OR($O$2=$O$14,$O$2=$O$15,$O$2=$O$20,$O$2=$O$21),Best1!$F$12,IF(OR($O$2=$O$7,$O$2=$O$8,$O$2=$O$18,$O$2=$O$19),Best1!$F$14,IF(OR($O$2=$O$5,$O$2=$O$6,$O$2=$O$12,$O$2=$O$13),Best1!$F$15,\"\")))))))","v":""},{"$f":"IF(J31=\"\",\"\",J31)","v":""},"",{"$f":"IF(ISBLANK(K31),\"\",IF(Best1!$C$3=\"\",\"\",ROUND(SUM(Best1!$C$3:$C$6),1)))","v":""},{"$f":"IF(K31=\"\",\"\",K31)","v":""},"",{"$f":"IF(ISBLANK(K31),\"\",IF(Best1!$B$3=\"\",\"\",ROUND(AVERAGE(Best1!$D$3:$D$6),1)))","v":""},{"$f":"IF(L31=\"\",\"\",L31)","v":""},"",null,"",null,null,null,null,null,null,null,"","","","","","","","","","","","","","","","","","",{"$f":"IF(OR(AH31=\"\",AH31=0),\"\",AH31*1)","v":""},"","","","",""]
[28,null,null,null,null,null,null,null,null,null,null,null,null,null,null,"","","","","","",0,0,"","","","","","","","",0,0,"","",0,0,"","",{"$f":"IF(ISBLANK(E32),\"\",IF(OR($O$2=$O$5,$O$2=$O$6,$O$2=$O$12,$O$2=$O$13),Best1!$F$10,IF(OR($O$2=$O$7,$O$2=$O$8,$O$2=$O$18,$O$2=$O$19),Best1!$F$11,IF(OR($O$2=$O$9,$O$2=$O$10,$O$2=$O$24,$O$2=$O$25),Best1!$F$12,IF(OR($O$2=$O$14,$O$2=$O$15,$O$2=$O$20,$O$2=$O$21),Best1!$F$13,IF(OR($O$2=$O$16,$O$2=$O$17,$O$2=$O$26,$O$2=$O$27),Best1!$F$14,IF(OR($O$2=$O$22,$O$2=$O$23,$O$2=$O$28,$O$2=$O$29),Best1!$F$15,\"\")))))))","v":""},"","",{"$f":"IF(ISBLANK(H32),\"\",IF(OR($O$2=$O$5,$O$2=$O$7,$O$2=$O$27,$O$2=$O$29),Best1!$F$13,IF(OR($O$2=$O$18,$O$2=$O$20,$O$2=$O$24,$O$2=$O$26),Best1!$F$10,IF(OR($O$2=$O$12,$O$2=$O$14,$O$2=$O$25,$O$2=$O$28),Best1!$F$11,IF(OR($O$2=$O$13,$O$2=$O$16,$O$2=$O$19,$O$2=$O$22),Best1!$F$12,IF(OR($O$2=$O$6,$O$2=$O$9,$O$2=$O$21,$O$2=$O$23),Best1!$F$14,IF(OR($O$2=$O$8,$O$2=$O$10,$O$2=$O$15,$O$2=$O$17),Best1!$F$15,\"\")))))))","v":""},"","",{"$f":"IF(ISBLANK(I32),\"\",IF(OR($O$2=$O$9,$O$2=$O$10,$O$2=$O$24,$O$2=$O$25),Best1!$F$13,IF(OR($O$2=$O$22,$O$2=$O$23,$O$2=$O$28,$O$2=$O$29),Best1!$F$10,IF(OR($O$2=$O$16,$O$2=$O$17,$O$2=$O$26,$O$2=$O$27),Best1!$F$11,IF(OR($O$2=$O$14,$O$2=$O$15,$O$2=$O$20,$O$2=$O$21),Best1!$F$12,IF(OR($O$2=$O$7,$O$2=$O$8,$O$2=$O$18,$O$2=$O$19),Best1!$F$14,IF(OR($O$2=$O$5,$O$2=$O$6,$O$2=$O$12,$O$2=$O$13),Best1!$F$15,\"\")))))))","v":""},"","",{"$f":"IF(ISBLANK(K32),\"\",IF(Best1!$C$3=\"\",\"\",ROUND(SUM(Best1!$C$3:$C$6),1)))","v":""},"","",{"$f":"IF(ISBLANK(K32),\"\",IF(Best1!$B$3=\"\",\"\",ROUND(AVERAGE(Best1!$D$3:$D$6),1)))","v":""},"","",null,"",null,null,null,null,null,null,null,"","","","","","","","","","","","","","","","",{"$f":"IF(OR(AF32=\"\",AF32=0),\"\",AF32*1)","v":""},"","","","","","",""]
[]
[null,null,null,null,null,null,null,null,null,null,null,null,null,null,null,{"$f":"MIN(BW5:BW32)","v":0},{"$f":"MIN(BX5:BX32)","v":0},{"$f":"MIN(BY5:BY32)","v":0},0,0,0,0,0,0,0,0,0,0,0,0,0,0,0,0,0,0,0,0,0,null,null,null,null,null,null,null,null,null,null,null,null,null,null,null,null,null,null,null,null,null,null,null,null,{"$f":"IF(MIN(BL5:BL32)=0,\"\",MIN(BL5:BL32))","v":""},{"$f":"IF(MIN(BM5:BM32)=0,\"\",MIN(BM5:BM32))","v":""},"","","","","","","","","","","","",{"$f":"IF(MIN(BZ5:BZ32)=0,\"\",MIN(BZ5:BZ32))","v":""},"","","","","","","","",""]
[]
[]
[]
[]
[]
[]
[]
[null,null,null,null,null,null,null,null,null,null,null,null,null,null,null,null,null,null,null,null,null,null,null,null,null,null,null,null,null,null,null,null,null,null,null,null,null,null,null,null,null,null,null,null,null,null,null,null,null,{"$f":"IF(AND(AX5=\"\",AX33=\"\"),\"\",MIN(AX5:AX41))","v":""},null,null,{"$f":"IF(AND(BA5=\"\",BA33=\"\"),\"\",MAX(BA5:BA41))","v":""}]
[]
[]
[]
[]
[]
[]
[]
[null,null,null,null,null,null,null,null,null,null,null,null,null,null,null,null,null,null,null,null,null,null,null,null,null,500,500,500,500,{"$f":"Z50*1","v":500},{"$f":"AA50*1","v":500},{"$f":"AB50*1","v":500},{"$f":"AC50*1","v":500}]
[null,null,null,null,null,null,null,null,null,null,null,null,null,null,null,null,null,null,null,null,null,null,null,null,null,500,500,500,500,{"$f":"Z51*1","v":500},{"$f":"AA51*1","v":500},{"$f":"AB51*1","v":500},{"$f":"AC51*1","v":500}]
[null,null,null,null,null,null,null,null,null,null,null,null,null,null,null,null,null,null,null,null,null,null,null,null,null,500,500,500,500,500,500,500,500]
[null,null,null,null,null,null,null,null,null,null,null,null,null,null,null,null,null,null,null,null,null,null,null,null,null,500,500,500,500,500,500,500,500]
[null,null,null,null,null,null,null,null,null,null,null,null,null,null,null,null,null,null,null,null,null,null,null,null,null,500,500,500,500,500,500,500,500]
[null,null,null,null,null,null,null,null,null,null,null,null,null,null,null,null,null,null,null,null,null,null,null,null,null,500,500,500,500,500,500,500,500]
[null,null,null,null,null,null,null,null,null,null,null,null,null,null,null,null,null,null,null,null,null,null,null,null,null,500,500,500,500,500,500,500,500]
[null,null,null,null,null,null,null,null,null,null,null,null,null,null,null,null,null,null,null,null,null,null,null,null,null,500,500,500,500,500,500,500,500]
[null,null,null,null,null,null,null,null,null,null,null,null,null,null,null,null,null,null,null,null,null,null,null,null,null,500,500,500,500,500,500,500,500]
[null,null,null,null,null,null,null,null,null,null,null,null,null,null,null,null,null,null,null,null,null,null,null,null,null,500,500,500,500,500,500,500,500]
[null,null,null,null,null,null,null,null,null,null,null,null,null,null,null,null,null,null,null,null,null,null,null,null,null,500,500,500,500,500,500,500,500]
[null,null,null,null,null,null,null,null,null,null,null,null,null,null,null,null,null,null,null,null,null,null,null,null,null,500,500,500,500,500,500,500,500]
[null,null,null,null,null,null,null,null,null,null,null,null,null,null,null,null,null,null,null,null,null,null,null,null,null,500,500,500,500,500,500,500,500]
[null,null,null,null,null,null,null,null,null,null,null,null,null,null,null,null,null,null,null,null,null,null,null,null,null,500,500,500,500,500,500,500,500]
[null,null,null,null,null,null,null,null,null,null,null,null,null,null,null,null,null,null,null,null,null,null,null,null,null,500,500,500,500,500,500,500,500]
[null,null,null,null,null,null,null,null,null,null,null,null,null,null,null,null,null,null,null,null,null,null,null,null,null,500,500,500,500,500,500,500,500]
[null,null,null,null,null,null,null,null,null,null,null,null,null,null,null,null,null,null,null,null,null,null,null,null,null,500,500,500,500,500,500,500,500]
[null,null,null,null,null,null,null,null,null,null,null,null,null,null,null,null,null,null,null,null,null,null,null,null,null,500,500,500,500,500,500,500,500]
[null,null,null,null,null,null,null,null,null,null,null,null,null,null,null,null,null,null,null,null,null,null,null,null,null,500,500,500,500,500,500,500,500]
[null,null,null,null,null,null,null,null,null,null,null,null,null,null,null,null,null,null,null,null,null,null,null,null,null,500,500,500,500,500,500,500,500]
[null,null,null,null,null,null,null,null,null,null,null,null,null,null,null,null,null,null,null,null,null,null,null,null,null,500,500,500,500,500,500,500,500]
[null,null,null,null,null,null,null,null,null,null,null,null,null,null,null,null,null,null,null,null,null,null,null,null,null,500,500,500,500,500,500,500,500]
[null,null,null,null,null,null,null,null,null,null,null,null,null,null,null,null,null,null,null,null,null,null,null,null,null,500,500,500,500,500,500,500,500]
[null,null,null,null,null,null,null,null,null,null,null,null,null,null,null,null,null,null,null,null,null,null,null,null,null,500,500,500,500,500,500,500,500]
[]
[]
[]
[]
[]
[]
[]
[]
[]
[]
[]
[]
[]
[]
[]
[null,null,null,null,null,null,null,null,null,null,null,null,null,null,null,null,null,null,null,null,null,null,null,null,null,{"$f":"IF(MIN(Z50:Z73)=0,\"\",MIN(Z50:Z73))","v":500},500,500,500,500,500,500,500]
[null,null,null,null,null,null,null,null,null,null,null,null,null,null,null,null,null,null,null,null,null,null,null,null,null,500,500,500,500,{"$f":"Z90*1","v":500},{"$f":"AA90*1","v":500},{"$f":"AB90*1","v":500},{"$f":"AC90*1","v":500}]
[null,null,null,null,null,null,null,null,null,null,null,null,null,null,null,null,null,null,null,null,null,null,null,null,null,500,500,500,500,{"$f":"Z91*1","v":500},{"$f":"AA91*1","v":500},{"$f":"AB91*1","v":500},{"$f":"AC91*1","v":500}]
[null,null,null,null,null,null,null,null,null,null,null,null,null,null,null,null,null,null,null,null,null,null,null,null,null,500,500,500,500,500,500,500,500]
[null,null,null,null,null,null,null,null,null,null,null,null,null,null,null,null,null,null,null,null,null,null,null,null,null,500,500,500,500,500,500,500,500]
[null,null,null,null,null,null,null,null,null,null,null,null,null,null,null,null,null,null,null,null,null,null,null,null,null,500,500,500,500,500,500,500,500]
[null,null,null,null,null,null,null,null,null,null,null,null,null,null,null,null,null,null,null,null,null,null,null,null,null,500,500,500,500,500,500,500,500]
[null,null,null,null,null,null,null,null,null,null,null,null,null,null,null,null,null,null,null,null,null,null,null,null,null,500,500,500,500,500,500,500,500]
[null,null,null,null,null,null,null,null,null,null,null,null,null,null,null,null,null,null,null,null,null,null,null,null,null,500,500,500,500,500,500,500,500]
[null,null,null,null,null,null,null,null,null,null,null,null,null,null,null,null,null,null,null,null,null,null,null,null,null,500,500,500,500,500,500,500,500]
[null,null,null,null,null,null,null,null,null,null,null,null,null,null,null,null,null,null,null,null,null,null,null,null,null,500,500,500,500,500,500,500,500]
[null,null,null,null,null,null,null,null,null,null,null,null,null,null,null,null,null,null,null,null,null,null,null,null,null,500,500,500,500,500,500,500,500]
[null,null,null,null,null,null,null,null,null,null,null,null,null,null,null,null,null,null,null,null,null,null,null,null,null,500,500,500,500,500,500,500,500]
[null,null,null,null,null,null,null,null,null,null,null,null,null,null,null,null,null,null,null,null,null,null,null,null,null,500,500,500,500,500,500,500,500]
[null,null,null,null,null,null,null,null,null,null,null,null,null,null,null,null,null,null,null,null,null,null,null,null,null,500,500,500,500,500,500,500,500]
[null,null,null,null,null,null,null,null,null,null,null,null,null,null,null,null,null,null,null,null,null,null,null,null,null,500,500,500,500,500,500,500,500]
[null,null,null,null,null,null,null,null,null,null,null,null,null,null,null,null,null,null,null,null,null,null,null,null,null,500,500,500,500,500,500,500,500]
[null,null,null,null,null,null,null,null,null,null,null,null,null,null,null,null,null,null,null,null,null,null,null,null,null,500,500,500,500,500,500,500,500]
[null,null,null,null,null,null,null,null,null,null,null,null,null,null,null,null,null,null,null,null,null,null,null,null,null,500,500,500,500,500,500,500,500]
[null,null,null,null,null,null,null,null,null,null,null,null,null,null,null,null,null,null,null,null,null,null,null,null,null,500,500,500,500,500,500,500,500]
[null,null,null,null,null,null,null,null,null,null,null,null,null,null,null,null,null,null,null,null,null,null,null,null,null,500,500,500,500,500,500,500,500]
[null,null,null,null,null,null,null,null,null,null,null,null,null,null,null,null,null,null,null,null,null,null,null,null,null,500,500,500,500,500,500,500,500]
[null,null,null,null,null,null,null,null,null,null,null,null,null,null,null,null,null,null,null,null,null,null,null,null,null,500,500,500,500,500,500,500,500]
[null,null,null,null,null,null,null,null,null,null,null,null,null,null,null,null,null,null,null,null,null,null,null,null,null,500,500,500,500,500,500,500,500]
[null,null,null,null,null,null,null,null,null,null,null,null,null,null,null,null,null,null,null,null,null,null,null,null,null,500,500,500,500,500,500,500,500]
[]
[]
[]
[]
[]
[]
[]
[]
[]
[]
[]
[]
[]
[]
[]
[null,null,null,null,null,null,null,null,null,null,null,null,null,null,null,null,null,null,null,null,null,null,null,null,null,{"$f":"IF(MIN(Z90:Z113)=0,\"\",MIN(Z90:Z113))","v":500},500,500,500,500,500,500,500]
[null,null,null,null,null,null,null,null,null,null,null,null,null,null,null,null,null,null,null,null,null,null,null,null,null,null,null,null,null,{"$f":"IF(MIN(AD89,AD129)=500,\"\",MIN(AD89,AD129))","v":""},{"$f":"IF(MIN(AE89,AE129)=500,\"\",MIN(AE89,AE129))","v":""},"",""]

{"sheet":"Archresultats8","index":11,"n_rows":130,"n_cols":87,"rows_kept":130,"cut":false,"hidden":false,"merged":[[0,0,2,11],[2,39,2,41],[2,42,2,44],[2,45,2,47],[2,48,2,53]]}
["Bilan équipe 8"]
[null,null,null,null,null,null,null,null,null,null,null,null,null,null,"ABCD"]
[null,null,null,null,null,null,null,null,null,null,null,null,null,null,null,null,null,null,null,null,null,null,null,null,null,null,null,null,null,null,null,null,null,null,null,null,null,null,null,"ZONE 1",null,null,"ZONE 2",null,null,"ZONE 3",null,null,"TOTAL course"]
[null,"Dates","Heure","Coureur ou\nOrdre relais","Tps\n zone 1","Vitesse\nzone 1","Tps\n zone 2","Vitesse\nzone 2","Tps\n zone 3","Vitesse\nzone 3","Tps course\ntotale","Vitesse totale\ntotale","Remarques",null,null,"AB (t)","AB (v)","AC (t)","AC (v)","AD (t)","AD (v)","BA (v)","BA (t)","BC (t)","BC (v)","BD (t)","BD (v)","CA (t)","CA (v)","CB (t)","CB (v)","CD (t)","CD (v)","DA (t)","DA (v)","DB (t)","DB (v)","DC (t)","DC (v)","Vitesse\n moy. théorique  du binôme","Vitesse réelle\n du binôme","% \nEvolution","Vitesse\n moy. théorique  du binôme","Vitesse réelle\n du binôme","% \nEvolution","Vitesse\n moy. théorique  du binôme","Vitesse réelle\n du binôme","% \nEvolution","TEMPS\ntotal théorique\ndu groupe","TEMPS\ntotal réel\ndu groupe\n ","% \nEvolution","VITESSE\n théorique  du groupe","VITESSE réelle\n du groupe","% \nEvolution"]
[1,null,null,null,null,null,null,null,null,null,null,null,null,null,"ABCD",{"$f":"IF(OR($O$2=$O$5,$O$2=$O$6),E5,IF(OR($O$2=$O$18,$O$2=$O$24),G5,IF(OR($O$2=$O$22,$O$2=$O$28),I5,\"\")))","v":0},{"$f":"IF(OR($O$2=$O$5,$O$2=$O$6),F5,IF(OR($O$2=$O$18,$O$2=$O$24),H5,IF(OR($O$2=$O$22,$O$2=$O$28),J5,\"\")))","v":0},{"$f":"IF(OR($O$2=$O$7,$O$2=$O$8),E5,IF(OR($O$2=$O$12,$O$2=$O$25),G5,IF(OR($O$2=$O$16,$O$2=$O$26),I5,\"\")))","v":""},{"$f":"IF(OR($O$2=$O$7,$O$2=$O$8),F5,IF(OR($O$2=$O$12,$O$2=$O$25),H5,IF(OR($O$2=$O$16,$O$2=$O$26),J5,\"\")))","v":""},{"$f":"IF(OR($O$2=$O$9,$O$2=$O$10),E5,IF(OR($O$2=$O$13,$O$2=$O$19),G5,IF(OR($O$2=$O$14,$O$2=$O$20),I5,\"\")))","v":""},{"$f":"IF(OR($O$2=$O$9,$O$2=$O$10),F5,IF(OR($O$2=$O$13,$O$2=$O$19),H5,IF(OR($O$2=$O$14,$O$2=$O$20),J5,\"\")))","v":""},{"$f":"IF(OR($O$2=$O$12,$O$2=$O$13),E5,IF(OR($O$2=$O$20,$O$2=$O$26),G5,IF(OR($O$2=$O$23,$O$2=$O$29),I5,\"\")))","v":""},{"$f":"IF(OR($O$2=$O$12,$O$2=$O$13),F5,IF(OR($O$2=$O$20,$O$2=$O$26),H5,IF(OR($O$2=$O$23,$O$2=$O$29),J5,\"\")))","v":""},{"$f":"IF(OR($O$2=$O$14,$O$2=$O$15),E5,IF(OR($O$2=$O$5,$O$2=$O$27),G5,IF(OR($O$2=$O$9,$O$2=$O$24),I5,\"\")))","v":0},{"$f":"IF(OR($O$2=$O$14,$O$2=$O$15),F5,IF(OR($O$2=$O$5,$O$2=$O$27),H5,IF(OR($O$2=$O$9,$O$2=$O$24),J5,\"\")))","v":0},{"$f":"IF(OR($O$2=$O$16,$O$2=$O$17),E5,IF(OR($O$2=$O$6,$O$2=$O$21),G5,IF(OR($O$2=$O$7,$O$2=$O$18),I5,\"\")))","v":""},{"$f":"IF(OR($O$2=$O$16,$O$2=$O$17),F5,IF(OR($O$2=$O$6,$O$2=$O$21),H5,IF(OR($O$2=$O$7,$O$2=$O$18),J5,\"\")))","v":""},{"$f":"IF(OR($O$2=$O$18,$O$2=$O$19),E5,IF(OR($O$2=$O$14,$O$2=$O$28),G5,IF(OR($O$2=$O$17,$O$2=$O$27),I5,\"\")))","v":""},{"$f":"IF(OR($O$2=$O$18,$O$2=$O$19),F5,IF(OR($O$2=$O$14,$O$2=$O$28),H5,IF(OR($O$2=$O$17,$O$2=$O$27),J5,\"\")))","v":""},{"$f":"IF(OR($O$2=$O$20,$O$2=$O$21),E5,IF(OR($O$2=$O$7,$O$2=$O$29),G5,IF(OR($O$2=$O$10,$O$2=$O$11),I5,\"\")))","v":""},{"$f":"IF(OR($O$2=$O$20,$O$2=$O$21),F5,IF(OR($O$2=$O$7,$O$2=$O$29),H5,IF(OR($O$2=$O$10,$O$2=$O$11),J5,\"\")))","v":""},{"$f":"IF(OR($O$2=$O$22,$O$2=$O$23),E5,IF(OR($O$2=$O$8,$O$2=$O$15),G5,IF(OR($O$2=$O$5,$O$2=$O$12),I5,\"\")))","v":0},{"$f":"IF(OR($O$2=$O$22,$O$2=$O$23),F5,IF(OR($O$2=$O$8,$O$2=$O$15),H5,IF(OR($O$2=$O$5,$O$2=$O$12),J5,\"\")))","v":0},{"$f":"IF(OR($O$2=$O$24,$O$2=$O$25),E5,IF(OR($O$2=$O$16,$O$2=$O$22),G5,IF(OR($O$2=$O$15,$O$2=$O$21),I5,\"\")))","v":""},{"$f":"IF(OR($O$2=$O$24,$O$2=$O$25),F5,IF(OR($O$2=$O$16,$O$2=$O$22),H5,IF(OR($O$2=$O$15,$O$2=$O$21),J5,\"\")))","v":""},{"$f":"IF(OR($O$2=$O$26,$O$2=$O$27),E5,IF(OR($O$2=$O$9,$O$2=$O$23),G5,IF(OR($O$2=$O$8,$O$2=$O$19),I5,\"\")))","v":""},{"$f":"IF(OR($O$2=$O$26,$O$2=$O$27),F5,IF(OR($O$2=$O$9,$O$2=$O$23),H5,IF(OR($O$2=$O$8,$O$2=$O$19),J5,\"\")))","v":""},{"$f":"IF(OR($O$2=$O$28,$O$2=$O$29),E5,IF(OR($O$2=$O$10,$O$2=$O$11),G5,IF(OR($O$2=$O$6,$O$2=$O$13),I5,\"\")))","v":""},{"$f":"IF(OR($O$2=$O$28,$O$2=$O$29),F5,IF(OR($O$2=$O$10,$O$2=$O$11),H5,IF(OR($O$2=$O$6,$O$2=$O$13),J5,\"\")))","v":""},{"$f":"IF(ISBLANK(E5),\"\",IF(OR($O$2=$O$5,$O$2=$O$6,$O$2=$O$12,$O$2=$O$13),Best1!$F$10,IF(OR($O$2=$O$7,$O$2=$O$8,$O$2=$O$18,$O$2=$O$19),Best1!$F$11,IF(OR($O$2=$O$9,$O$2=$O$10,$O$2=$O$24,$O$2=$O$25),Best1!$F$12,IF(OR($O$2=$O$14,$O$2=$O$15,$O$2=$O$20,$O$2=$O$21),Best1!$F$13,IF(OR($O$2=$O$16,$O$2=$O$17,$O$2=$O$26,$O$2=$O$27),Best1!$F$14,IF(OR($O$2=$O$22,$O$2=$O$23,$O$2=$O$28,$O$2=$O$29),Best1!$F$15,\"\")))))))","v":""},{"$f":"IF(F5=\"\",\"\",F5)","v":""},{"$f":"IF(AO5=\"\",\"\",ROUND(((AO5-AN5)/AN5*100),1))","v":""},{"$f":"IF(ISBLANK(G5),\"\",IF(OR($O$2=$O$5,$O$2=$O$7,$O$2=$O$27,$O$2=$O$29),Best1!$F$13,IF(OR($O$2=$O$18,$O$2=$O$20,$O$2=$O$24,$O$2=$O$26),Best1!$F$10,IF(OR($O$2=$O$12,$O$2=$O$14,$O$2=$O$25,$O$2=$O$28),Best1!$F$11,IF(OR($O$2=$O$13,$O$2=$O$16,$O$2=$O$19,$O$2=$O$22),Best1!$F$12,IF(OR($O$2=$O$6,$O$2=$O$9,$O$2=$O$21,$O$2=$O$23),Best1!$F$14,IF(OR($O$2=$O$8,$O$2=$O$10,$O$2=$O$15,$O$2=$O$17),Best1!$F$15,\"\")))))))","v":""},{"$f":"IF(H5=\"\",\"\",H5)","v":""},{"$f":"IF(AR5=\"\",\"\",ROUND(((AR5-AQ5)/AQ5*100),1))","v":""},{"$f":"IF(ISBLANK(I5),\"\",IF(OR($O$2=$O$9,$O$2=$O$10,$O$2=$O$24,$O$2=$O$25),Best1!$F$13,IF(OR($O$2=$O$22,$O$2=$O$23,$O$2=$O$28,$O$2=$O$29),Best1!$F$10,IF(OR($O$2=$O$16,$O$2=$O$17,$O$2=$O$26,$O$2=$O$27),Best1!$F$11,IF(OR($O$2=$O$14,$O$2=$O$15,$O$2=$O$20,$O$2=$O$21),Best1!$F$12,IF(OR($O$2=$O$7,$O$2=$O$8,$O$2=$O$18,$O$2=$O$19),Best1!$F$14,IF(OR($O$2=$O$5,$O$2=$O$6,$O$2=$O$12,$O$2=$O$13),Best1!$F$15,\"\")))))))","v":""},{"$f":"IF(J5=\"\",\"\",J5)","v":""},{"$f":"IF(AU5=\"\",\"\",ROUND(((AU5-AT5)/AT5*100),1))","v":""},{"$f":"IF(ISBLANK(K5),\"\",IF(Best1!$C$3=\"\",\"\",ROUND(SUM(Best1!$C$3:$C$6),1)))","v":""},{"$f":"IF(K5=\"\",\"\",K5)","v":""},{"$f":"IF(AX5=\"\",\"\",ROUND(((AX5-AW5)/AW5*100),1))","v":""},{"$f":"IF(ISBLANK(K5),\"\",IF(Best1!$B$3=\"\",\"\",ROUND(AVERAGE(Best1!$D$3:$D$6),1)))","v":""},{"$f":"IF(L5=\"\",\"\",L5)","v":""},{"$f":"IF(BA5=\"\",\"\",ROUND(((BA5-AZ5)/AZ5*100),1))","v":""},null,{"$f":"AX5","v":""},null,null,null,null,null,null,null,{"$f":"IF(OR(P5=\"\",P5=0),\"\",P5*1)","v":""},{"$f":"IF(OR(Q5=\"\",Q5=0),\"\",Q5*1)","v":""},"","","","","","","","","","","","","","","","","","","","","",""]
[2,null,null,null,null,null,null,null,null,null,null,null,null,null,"ABDC",{"$f":"IF(OR($O$2=$O$5,$O$2=$O$6),E6,IF(OR($O$2=$O$18,$O$2=$O$24),G6,IF(OR($O$2=$O$22,$O$2=$O$28),I6,\"\")))","v":0},0,{"$f":"IF(OR($O$2=$O$7,$O$2=$O$8),E6,IF(OR($O$2=$O$12,$O$2=$O$25),G6,IF(OR($O$2=$O$16,$O$2=$O$26),I6,\"\")))","v":""},"",{"$f":"IF(OR($O$2=$O$9,$O$2=$O$10),E6,IF(OR($O$2=$O$13,$O$2=$O$19),G6,IF(OR($O$2=$O$14,$O$2=$O$20),I6,\"\")))","v":""},"",{"$f":"IF(OR($O$2=$O$12,$O$2=$O$13),E6,IF(OR($O$2=$O$20,$O$2=$O$26),G6,IF(OR($O$2=$O$23,$O$2=$O$29),I6,\"\")))","v":""},"",{"$f":"IF(OR($O$2=$O$14,$O$2=$O$15),E6,IF(OR($O$2=$O$5,$O$2=$O$27),G6,IF(OR($O$2=$O$9,$O$2=$O$24),I6,\"\")))","v":0},0,{"$f":"IF(OR($O$2=$O$16,$O$2=$O$17),E6,IF(OR($O$2=$O$6,$O$2=$O$21),G6,IF(OR($O$2=$O$7,$O$2=$O$18),I6,\"\")))","v":""},"",{"$f":"IF(OR($O$2=$O$18,$O$2=$O$19),E6,IF(OR($O$2=$O$14,$O$2=$O$28),G6,IF(OR($O$2=$O$17,$O$2=$O$27),I6,\"\")))","v":""},"",{"$f":"IF(OR($O$2=$O$20,$O$2=$O$21),E6,IF(OR($O$2=$O$7,$O$2=$O$29),G6,IF(OR($O$2=$O$10,$O$2=$O$11),I6,\"\")))","v":""},"",{"$f":"IF(OR($O$2=$O$22,$O$2=$O$23),E6,IF(OR($O$2=$O$8,$O$2=$O$15),G6,IF(OR($O$2=$O$5,$O$2=$O$12),I6,\"\")))","v":0},0,{"$f":"IF(OR($O$2=$O$24,$O$2=$O$25),E6,IF(OR($O$2=$O$16,$O$2=$O$22),G6,IF(OR($O$2=$O$15,$O$2=$O$21),I6,\"\")))","v":""},"",{"$f":"IF(OR($O$2=$O$26,$O$2=$O$27),E6,IF(OR($O$2=$O$9,$O$2=$O$23),G6,IF(OR($O$2=$O$8,$O$2=$O$19),I6,\"\")))","v":""},"",{"$f":"IF(OR($O$2=$O$28,$O$2=$O$29),E6,IF(OR($O$2=$O$10,$O$2=$O$11),G6,IF(OR($O$2=$O$6,$O$2=$O$13),I6,\"\")))","v":""},"",{"$f":"IF(ISBLANK(E6),\"\",IF(OR($O$2=$O$5,$O$2=$O$6,$O$2=$O$12,$O$2=$O$13),Best1!$F$10,IF(OR($O$2=$O$7,$O$2=$O$8,$O$2=$O$18,$O$2=$O$19),Best1!$F$11,IF(OR($O$2=$O$9,$O$2=$O$10,$O$2=$O$24,$O$2=$O$25),Best1!$F$12,IF(OR($O$2=$O$14,$O$2=$O$15,$O$2=$O$20,$O$2=$O$21),Best1!$F$13,IF(OR($O$2=$O$16,$O$2=$O$17,$O$2=$O$26,$O$2=$O$27),Best1!$F$14,IF(OR($O$2=$O$22,$O$2=$O$23,$O$2=$O$28,$O$2=$O$29),Best1!$F$15,\"\")))))))","v":""},{"$f":"IF(F6=\"\",\"\",F6)","v":""},{"$f":"IF(AO6=\"\",\"\",ROUND(((AO6-AN6)/AN6*100),1))","v":""},{"$f":"IF(ISBLANK(H6),\"\",IF(OR($O$2=$O$5,$O$2=$O$7,$O$2=$O$27,$O$2=$O$29),Best1!$F$13,IF(OR($O$2=$O$18,$O$2=$O$20,$O$2=$O$24,$O$2=$O$26),Best1!$F$10,IF(OR($O$2=$O$12,$O$2=$O$14,$O$2=$O$25,$O$2=$O$28),Best1!$F$11,IF(OR($O$2=$O$13,$O$2=$O$16,$O$2=$O$19,$O$2=$O$22),Best1!$F$12,IF(OR($O$2=$O$6,$O$2=$O$9,$O$2=$O$21,$O$2=$O$23),Best1!$F$14,IF(OR($O$2=$O$8,$O$2=$O$10,$O$2=$O$15,$O$2=$O$17),Best1!$F$15,\"\")))))))","v":""},{"$f":"IF(H6=\"\",\"\",H6)","v":""},{"$f":"IF(AR6=\"\",\"\",ROUND(((AR6-AQ6)/AQ6*100),1))","v":""},{"$f":"IF(ISBLANK(I6),\"\",IF(OR($O$2=$O$9,$O$2=$O$10,$O$2=$O$24,$O$2=$O$25),Best1!$F$13,IF(OR($O$2=$O$22,$O$2=$O$23,$O$2=$O$28,$O$2=$O$29),Best1!$F$10,IF(OR($O$2=$O$16,$O$2=$O$17,$O$2=$O$26,$O$2=$O$27),Best1!$F$11,IF(OR($O$2=$O$14,$O$2=$O$15,$O$2=$O$20,$O$2=$O$21),Best1!$F$12,IF(OR($O$2=$O$7,$O$2=$O$8,$O$2=$O$18,$O$2=$O$19),Best1!$F$14,IF(OR($O$2=$O$5,$O$2=$O$6,$O$2=$O$12,$O$2=$O$13),Best1!$F$15,\"\")))))))","v":""},{"$f":"IF(J6=\"\",\"\",J6)","v":""},{"$f":"IF(AU6=\"\",\"\",ROUND(((AU6-AT6)/AT6*100),1))","v":""},{"$f":"IF(ISBLANK(K6),\"\",IF(Best1!$C$3=\"\",\"\",ROUND(SUM(Best1!$C$3:$C$6),1)))","v":""},{"$f":"IF(K6=\"\",\"\",K6)","v":""},{"$f":"IF(AX6=\"\",\"\",ROUND(((AX6-AW6)/AW6*100),1))","v":""},{"$f":"IF(ISBLANK(K6),\"\",IF(Best1!$B$3=\"\",\"\",ROUND(AVERAGE(Best1!$D$3:$D$6),1)))","v":""},{"$f":"IF(L6=\"\",\"\",L6)","v":""},{"$f":"IF(BA6=\"\",\"\",ROUND(((BA6-AZ6)/AZ6*100),1))","v":""},null,{"$f":"AX6","v":""},null,null,null,null,null,null,null,{"$f":"IF(OR(P6=\"\",P6=0),\"\",P6*1)","v":""},"","","","","","","","","","","","","","","","","","","","","","",""]
[3,null,null,null,null,null,null,null,null,null,null,null,null,null,"ACBD",0,0,"","","","","","",0,0,"","","","","","",0,0,"","","","","","",{"$f":"IF(ISBLANK(E7),\"\",IF(OR($O$2=$O$5,$O$2=$O$6,$O$2=$O$12,$O$2=$O$13),Best1!$F$10,IF(OR($O$2=$O$7,$O$2=$O$8,$O$2=$O$18,$O$2=$O$19),Best1!$F$11,IF(OR($O$2=$O$9,$O$2=$O$10,$O$2=$O$24,$O$2=$O$25),Best1!$F$12,IF(OR($O$2=$O$14,$O$2=$O$15,$O$2=$O$20,$O$2=$O$21),Best1!$F$13,IF(OR($O$2=$O$16,$O$2=$O$17,$O$2=$O$26,$O$2=$O$27),Best1!$F$14,IF(OR($O$2=$O$22,$O$2=$O$23,$O$2=$O$28,$O$2=$O$29),Best1!$F$15,\"\")))))))","v":""},"","",{"$f":"IF(ISBLANK(H7),\"\",IF(OR($O$2=$O$5,$O$2=$O$7,$O$2=$O$27,$O$2=$O$29),Best1!$F$13,IF(OR($O$2=$O$18,$O$2=$O$20,$O$2=$O$24,$O$2=$O$26),Best1!$F$10,IF(OR($O$2=$O$12,$O$2=$O$14,$O$2=$O$25,$O$2=$O$28),Best1!$F$11,IF(OR($O$2=$O$13,$O$2=$O$16,$O$2=$O$19,$O$2=$O$22),Best1!$F$12,IF(OR($O$2=$O$6,$O$2=$O$9,$O$2=$O$21,$O$2=$O$23),Best1!$F$14,IF(OR($O$2=$O$8,$O$2=$O$10,$O$2=$O$15,$O$2=$O$17),Best1!$F$15,\"\")))))))","v":""},"","",{"$f":"IF(ISBLANK(I7),\"\",IF(OR($O$2=$O$9,$O$2=$O$10,$O$2=$O$24,$O$2=$O$25),Best1!$F$13,IF(OR($O$2=$O$22,$O$2=$O$23,$O$2=$O$28,$O$2=$O$29),Best1!$F$10,IF(OR($O$2=$O$16,$O$2=$O$17,$O$2=$O$26,$O$2=$O$27),Best1!$F$11,IF(OR($O$2=$O$14,$O$2=$O$15,$O$2=$O$20,$O$2=$O$21),Best1!$F$12,IF(OR($O$2=$O$7,$O$2=$O$8,$O$2=$O$18,$O$2=$O$19),Best1!$F$14,IF(OR($O$2=$O$5,$O$2=$O$6,$O$2=$O$12,$O$2=$O$13),Best1!$F$15,\"\")))))))","v":""},"","",{"$f":"IF(ISBLANK(K7),\"\",IF(Best1!$C$3=\"\",\"\",ROUND(SUM(Best1!$C$3:$C$6),1)))","v":""},"","",{"$f":"IF(ISBLANK(K7),\"\",IF(Best1!$B$3=\"\",\"\",ROUND(AVERAGE(Best1!$D$3:$D$6),1)))","v":""},"","",null,"",null,null,null,null,null,null,null,"","","","","","","","","","","","","","","","","","","","","","","",""]
[4,null,null,null,null,null,null,null,null,null,null,null,null,null,"ACDB",0,0,"","","","","","",0,0,"","","","","","",0,0,"","","","","","",{"$f":"IF(ISBLANK(E8),\"\",IF(OR($O$2=$O$5,$O$2=$O$6,$O$2=$O$12,$O$2=$O$13),Best1!$F$10,IF(OR($O$2=$O$7,$O$2=$O$8,$O$2=$O$18,$O$2=$O$19),Best1!$F$11,IF(OR($O$2=$O$9,$O$2=$O$10,$O$2=$O$24,$O$2=$O$25),Best1!$F$12,IF(OR($O$2=$O$14,$O$2=$O$15,$O$2=$O$20,$O$2=$O$21),Best1!$F$13,IF(OR($O$2=$O$16,$O$2=$O$17,$O$2=$O$26,$O$2=$O$27),Best1!$F$14,IF(OR($O$2=$O$22,$O$2=$O$23,$O$2=$O$28,$O$2=$O$29),Best1!$F$15,\"\")))))))","v":""},"","",{"$f":"IF(ISBLANK(H8),\"\",IF(OR($O$2=$O$5,$O$2=$O$7,$O$2=$O$27,$O$2=$O$29),Best1!$F$13,IF(OR($O$2=$O$18,$O$2=$O$20,$O$2=$O$24,$O$2=$O$26),Best1!$F$10,IF(OR($O$2=$O$12,$O$2=$O$14,$O$2=$O$25,$O$2=$O$28),Best1!$F$11,IF(OR($O$2=$O$13,$O$2=$O$16,$O$2=$O$19,$O$2=$O$22),Best1!$F$12,IF(OR($O$2=$O$6,$O$2=$O$9,$O$2=$O$21,$O$2=$O$23),Best1!$F$14,IF(OR($O$2=$O$8,$O$2=$O$10,$O$2=$O$15,$O$2=$O$17),Best1!$F$15,\"\")))))))","v":""},"","",{"$f":"IF(ISBLANK(I8),\"\",IF(OR($O$2=$O$9,$O$2=$O$10,$O$2=$O$24,$O$2=$O$25),Best1!$F$13,IF(OR($O$2=$O$22,$O$2=$O$23,$O$2=$O$28,$O$2=$O$29),Best1!$F$10,IF(OR($O$2=$O$16,$O$2=$O$17,$O$2=$O$26,$O$2=$O$27),Best1!$F$11,IF(OR($O$2=$O$14,$O$2=$O$15,$O$2=$O$20,$O$2=$O$21),Best1!$F$12,IF(OR($O$2=$O$7,$O$2=$O$8,$O$2=$O$18,$O$2=$O$19),Best1!$F$14,IF(OR($O$2=$O$5,$O$2=$O$6,$O$2=$O$12,$O$2=$O$13),Best1!$F$15,\"\")))))))","v":""},"","",{"$f":"IF(ISBLANK(K8),\"\",IF(Best1!$C$3=\"\",\"\",ROUND(SUM(Best1!$C$3:$C$6),1)))","v":""},"","",{"$f":"IF(ISBLANK(K8),\"\",IF(Best1!$B$3=\"\",\"\",ROUND(AVERAGE(Best1!$D$3:$D$6),1)))","v":""},"","",null,"",null,null,null,null,null,null,null,"","","","","","","","","","","","","","","","","","","","","","","",""]
[5,null,null,null,null,null,null,null,null,null,null,null,null,null,"ADBC",0,0,"","","","","","",0,0,"","","","","","",0,0,"","","","","","",{"$f":"IF(ISBLANK(E9),\"\",IF(OR($O$2=$O$5,$O$2=$O$6,$O$2=$O$12,$O$2=$O$13),Best1!$F$10,IF(OR($O$2=$O$7,$O$2=$O$8,$O$2=$O$18,$O$2=$O$19),Best1!$F$11,IF(OR($O$2=$O$9,$O$2=$O$10,$O$2=$O$24,$O$2=$O$25),Best1!$F$12,IF(OR($O$2=$O$14,$O$2=$O$15,$O$2=$O$20,$O$2=$O$21),Best1!$F$13,IF(OR($O$2=$O$16,$O$2=$O$17,$O$2=$O$26,$O$2=$O$27),Best1!$F$14,IF(OR($O$2=$O$22,$O$2=$O$23,$O$2=$O$28,$O$2=$O$29),Best1!$F$15,\"\")))))))","v":""},"","",{"$f":"IF(ISBLANK(H9),\"\",IF(OR($O$2=$O$5,$O$2=$O$7,$O$2=$O$27,$O$2=$O$29),Best1!$F$13,IF(OR($O$2=$O$18,$O$2=$O$20,$O$2=$O$24,$O$2=$O$26),Best1!$F$10,IF(OR($O$2=$O$12,$O$2=$O$14,$O$2=$O$25,$O$2=$O$28),Best1!$F$11,IF(OR($O$2=$O$13,$O$2=$O$16,$O$2=$O$19,$O$2=$O$22),Best1!$F$12,IF(OR($O$2=$O$6,$O$2=$O$9,$O$2=$O$21,$O$2=$O$23),Best1!$F$14,IF(OR($O$2=$O$8,$O$2=$O$10,$O$2=$O$15,$O$2=$O$17),Best1!$F$15,\"\")))))))","v":""},"","",{"$f":"IF(ISBLANK(I9),\"\",IF(OR($O$2=$O$9,$O$2=$O$10,$O$2=$O$24,$O$2=$O$25),Best1!$F$13,IF(OR($O$2=$O$22,$O$2=$O$23,$O$2=$O$28,$O$2=$O$29),Best1!$F$10,IF(OR($O$2=$O$16,$O$2=$O$17,$O$2=$O$26,$O$2=$O$27),Best1!$F$11,IF(OR($O$2=$O$14,$O$2=$O$15,$O$2=$O$20,$O$2=$O$21),Best1!$F$12,IF(OR($O$2=$O$7,$O$2=$O$8,$O$2=$O$18,$O$2=$O$19),Best1!$F$14,IF(OR($O$2=$O$5,$O$2=$O$6,$O$2=$O$12,$O$2=$O$13),Best1!$F$15,\"\")))))))","v":""},"","",{"$f":"IF(ISBLANK(K9),\"\",IF(Best1!$C$3=\"\",\"\",ROUND(SUM(Best1!$C$3:$C$6),1)))","v":""},"","",{"$f":"IF(ISBLANK(K9),\"\",IF(Best1!$B$3=\"\",\"\",ROUND(AVERAGE(Best1!$D$3:$D$6),1)))","v":""},"","",null,"",null,null,null,null,null,null,null,"","","","","","","","","","","","","","","","","","","","","","","",""]
[6,null,null,null,null,null,null,null,null,null,null,null,null,null,"ADCB",0,0,"","","","","","",0,0,"","","","","","",0,0,"","","","","","",{"$f":"IF(ISBLANK(E10),\"\",IF(OR($O$2=$O$5,$O$2=$O$6,$O$2=$O$12,$O$2=$O$13),Best1!$F$10,IF(OR($O$2=$O$7,$O$2=$O$8,$O$2=$O$18,$O$2=$O$19),Best1!$F$11,IF(OR($O$2=$O$9,$O$2=$O$10,$O$2=$O$24,$O$2=$O$25),Best1!$F$12,IF(OR($O$2=$O$14,$O$2=$O$15,$O$2=$O$20,$O$2=$O$21),Best1!$F$13,IF(OR($O$2=$O$16,$O$2=$O$17,$O$2=$O$26,$O$2=$O$27),Best1!$F$14,IF(OR($O$2=$O$22,$O$2=$O$23,$O$2=$O$28,$O$2=$O$29),Best1!$F$15,\"\")))))))","v":""},"","",{"$f":"IF(ISBLANK(H10),\"\",IF(OR($O$2=$O$5,$O$2=$O$7,$O$2=$O$27,$O$2=$O$29),Best1!$F$13,IF(OR($O$2=$O$18,$O$2=$O$20,$O$2=$O$24,$O$2=$O$26),Best1!$F$10,IF(OR($O$2=$O$12,$O$2=$O$14,$O$2=$O$25,$O$2=$O$28),Best1!$F$11,IF(OR($O$2=$O$13,$O$2=$O$16,$O$2=$O$19,$O$2=$O$22),Best1!$F$12,IF(OR($O$2=$O$6,$O$2=$O$9,$O$2=$O$21,$O$2=$O$23),Best1!$F$14,IF(OR($O$2=$O$8,$O$2=$O$10,$O$2=$O$15,$O$2=$O$17),Best1!$F$15,\"\")))))))","v":""},"","",{"$f":"IF(ISBLANK(I10),\"\",IF(OR($O$2=$O$9,$O$2=$O$10,$O$2=$O$24,$O$2=$O$25),Best1!$F$13,IF(OR($O$2=$O$22,$O$2=$O$23,$O$2=$O$28,$O$2=$O$29),Best1!$F$10,IF(OR($O$2=$O$16,$O$2=$O$17,$O$2=$O$26,$O$2=$O$27),Best1!$F$11,IF(OR($O$2=$O$14,$O$2=$O$15,$O$2=$O$20,$O$2=$O$21),Best1!$F$12,IF(OR($O$2=$O$7,$O$2=$O$8,$O$2=$O$18,$O$2=$O$19),Best1!$F$14,IF(OR($O$2=$O$5,$O$2=$O$6,$O$2=$O$12,$O$2=$O$13),Best1!$F$15,\"\")))))))","v":""},"","",{"$f":"IF(ISBLANK(K10),\"\",IF(Best1!$C$3=\"\",\"\",ROUND(SUM(Best1!$C$3:$C$6),1)))","v":""},"","",{"$f":"IF(ISBLANK(K10),\"\",IF(Best1!$B$3=\"\",\"\",ROUND(AVERAGE(Best1!$D$3:$D$6),1)))","v":""},"","",null,"",null,null,null,null,null,null,null,"","","","","","","","","","","","","","","","","","","","","","","",""]
[7,null,null,null,null,null,null,null,null,null,null,null,null,null,"ADCB",0,0,"","","","","","",0,0,"","","","","","",0,0,"","","","","","",{"$f":"IF(ISBLANK(E11),\"\",IF(OR($O$2=$O$5,$O$2=$O$6,$O$2=$O$12,$O$2=$O$13),Best1!$F$10,IF(OR($O$2=$O$7,$O$2=$O$8,$O$2=$O$18,$O$2=$O$19),Best1!$F$11,IF(OR($O$2=$O$9,$O$2=$O$10,$O$2=$O$24,$O$2=$O$25),Best1!$F$12,IF(OR($O$2=$O$14,$O$2=$O$15,$O$2=$O$20,$O$2=$O$21),Best1!$F$13,IF(OR($O$2=$O$16,$O$2=$O$17,$O$2=$O$26,$O$2=$O$27),Best1!$F$14,IF(OR($O$2=$O$22,$O$2=$O$23,$O$2=$O$28,$O$2=$O$29),Best1!$F$15,\"\")))))))","v":""},"","",{"$f":"IF(ISBLANK(H11),\"\",IF(OR($O$2=$O$5,$O$2=$O$7,$O$2=$O$27,$O$2=$O$29),Best1!$F$13,IF(OR($O$2=$O$18,$O$2=$O$20,$O$2=$O$24,$O$2=$O$26),Best1!$F$10,IF(OR($O$2=$O$12,$O$2=$O$14,$O$2=$O$25,$O$2=$O$28),Best1!$F$11,IF(OR($O$2=$O$13,$O$2=$O$16,$O$2=$O$19,$O$2=$O$22),Best1!$F$12,IF(OR($O$2=$O$6,$O$2=$O$9,$O$2=$O$21,$O$2=$O$23),Best1!$F$14,IF(OR($O$2=$O$8,$O$2=$O$10,$O$2=$O$15,$O$2=$O$17),Best1!$F$15,\"\")))))))","v":""},"","",{"$f":"IF(ISBLANK(I11),\"\",IF(OR($O$2=$O$9,$O$2=$O$10,$O$2=$O$24,$O$2=$O$25),Best1!$F$13,IF(OR($O$2=$O$22,$O$2=$O$23,$O$2=$O$28,$O$2=$O$29),Best1!$F$10,IF(OR($O$2=$O$16,$O$2=$O$17,$O$2=$O$26,$O$2=$O$27),Best1!$F$11,IF(OR($O$2=$O$14,$O$2=$O$15,$O$2=$O$20,$O$2=$O$21),Best1!$F$12,IF(OR($O$2=$O$7,$O$2=$O$8,$O$2=$O$18,$O$2=$O$19),Best1!$F$14,IF(OR($O$2=$O$5,$O$2=$O$6,$O$2=$O$12,$O$2=$O$13),Best1!$F$15,\"\")))))))","v":""},"","",{"$f":"IF(ISBLANK(K11),\"\",IF(Best1!$C$3=\"\",\"\",ROUND(SUM(Best1!$C$3:$C$6),1)))","v":""},"","",{"$f":"IF(ISBLANK(K11),\"\",IF(Best1!$B$3=\"\",\"\",ROUND(AVERAGE(Best1!$D$3:$D$6),1)))","v":""},"","",null,"",null,null,null,null,null,null,null,"","","","","","","","","","","","","","","","","","","","","","","",""]
[8,null,null,null,null,null,null,null,null,null,null,null,null,null,"BACD",0,0,"","","","","","",0,0,"","","","","","",0,0,"","","","","","",{"$f":"IF(ISBLANK(E12),\"\",IF(OR($O$2=$O$5,$O$2=$O$6,$O$2=$O$12,$O$2=$O$13),Best1!$F$10,IF(OR($O$2=$O$7,$O$2=$O$8,$O$2=$O$18,$O$2=$O$19),Best1!$F$11,IF(OR($O$2=$O$9,$O$2=$O$10,$O$2=$O$24,$O$2=$O$25),Best1!$F$12,IF(OR($O$2=$O$14,$O$2=$O$15,$O$2=$O$20,$O$2=$O$21),Best1!$F$13,IF(OR($O$2=$O$16,$O$2=$O$17,$O$2=$O$26,$O$2=$O$27),Best1!$F$14,IF(OR($O$2=$O$22,$O$2=$O$23,$O$2=$O$28,$O$2=$O$29),Best1!$F$15,\"\")))))))","v":""},"","",{"$f":"IF(ISBLANK(H12),\"\",IF(OR($O$2=$O$5,$O$2=$O$7,$O$2=$O$27,$O$2=$O$29),Best1!$F$13,IF(OR($O$2=$O$18,$O$2=$O$20,$O$2=$O$24,$O$2=$O$26),Best1!$F$10,IF(OR($O$2=$O$12,$O$2=$O$14,$O$2=$O$25,$O$2=$O$28),Best1!$F$11,IF(OR($O$2=$O$13,$O$2=$O$16,$O$2=$O$19,$O$2=$O$22),Best1!$F$12,IF(OR($O$2=$O$6,$O$2=$O$9,$O$2=$O$21,$O$2=$O$23),Best1!$F$14,IF(OR($O$2=$O$8,$O$2=$O$10,$O$2=$O$15,$O$2=$O$17),Best1!$F$15,\"\")))))))","v":""},"","",{"$f":"IF(ISBLANK(I12),\"\",IF(OR($O$2=$O$9,$O$2=$O$10,$O$2=$O$24,$O$2=$O$25),Best1!$F$13,IF(OR($O$2=$O$22,$O$2=$O$23,$O$2=$O$28,$O$2=$O$29),Best1!$F$10,IF(OR($O$2=$O$16,$O$2=$O$17,$O$2=$O$26,$O$2=$O$27),Best1!$F$11,IF(OR($O$2=$O$14,$O$2=$O$15,$O$2=$O$20,$O$2=$O$21),Best1!$F$12,IF(OR($O$2=$O$7,$O$2=$O$8,$O$2=$O$18,$O$2=$O$19),Best1!$F$14,IF(OR($O$2=$O$5,$O$2=$O$6,$O$2=$O$12,$O$2=$O$13),Best1!$F$15,\"\")))))))","v":""},"","",{"$f":"IF(ISBLANK(K12),\"\",IF(Best1!$C$3=\"\",\"\",ROUND(SUM(Best1!$C$3:$C$6),1)))","v":""},"","",{"$f":"IF(ISBLANK(K12),\"\",IF(Best1!$B$3=\"\",\"\",ROUND(AVERAGE(Best1!$D$3:$D$6),1)))","v":""},"","",null,"",null,null,null,null,null,null,null,"","","","","","","","","","","","","","","","","","","","","","","",""]
[9,null,null,null,null,null,null,null,null,null,null,null,null,null,"BADC",0,0,"","","","","","",0,0,"","","","","","",0,0,"","","","","","",{"$f":"IF(ISBLANK(E13),\"\",IF(OR($O$2=$O$5,$O$2=$O$6,$O$2=$O$12,$O$2=$O$13),Best1!$F$10,IF(OR($O$2=$O$7,$O$2=$O$8,$O$2=$O$18,$O$2=$O$19),Best1!$F$11,IF(OR($O$2=$O$9,$O$2=$O$10,$O$2=$O$24,$O$2=$O$25),Best1!$F$12,IF(OR($O$2=$O$14,$O$2=$O$15,$O$2=$O$20,$O$2=$O$21),Best1!$F$13,IF(OR($O$2=$O$16,$O$2=$O$17,$O$2=$O$26,$O$2=$O$27),Best1!$F$14,IF(OR($O$2=$O$22,$O$2=$O$23,$O$2=$O$28,$O$2=$O$29),Best1!$F$15,\"\")))))))","v":""},"","",{"$f":"IF(ISBLANK(H13),\"\",IF(OR($O$2=$O$5,$O$2=$O$7,$O$2=$O$27,$O$2=$O$29),Best1!$F$13,IF(OR($O$2=$O$18,$O$2=$O$20,$O$2=$O$24,$O$2=$O$26),Best1!$F$10,IF(OR($O$2=$O$12,$O$2=$O$14,$O$2=$O$25,$O$2=$O$28),Best1!$F$11,IF(OR($O$2=$O$13,$O$2=$O$16,$O$2=$O$19,$O$2=$O$22),Best1!$F$12,IF(OR($O$2=$O$6,$O$2=$O$9,$O$2=$O$21,$O$2=$O$23),Best1!$F$14,IF(OR($O$2=$O$8,$O$2=$O$10,$O$2=$O$15,$O$2=$O$17),Best1!$F$15,\"\")))))))","v":""},"","",{"$f":"IF(ISBLANK(I13),\"\",IF(OR($O$2=$O$9,$O$2=$O$10,$O$2=$O$24,$O$2=$O$25),Best1!$F$13,IF(OR($O$2=$O$22,$O$2=$O$23,$O$2=$O$28,$O$2=$O$29),Best1!$F$10,IF(OR($O$2=$O$16,$O$2=$O$17,$O$2=$O$26,$O$2=$O$27),Best1!$F$11,IF(OR($O$2=$O$14,$O$2=$O$15,$O$2=$O$20,$O$2=$O$21),Best1!$F$12,IF(OR($O$2=$O$7,$O$2=$O$8,$O$2=$O$18,$O$2=$O$19),Best1!$F$14,IF(OR($O$2=$O$5,$O$2=$O$6,$O$2=$O$12,$O$2=$O$13),Best1!$F$15,\"\")))))))","v":""},"","",{"$f":"IF(ISBLANK(K13),\"\",IF(Best1!$C$3=\"\",\"\",ROUND(SUM(Best1!$C$3:$C$6),1)))","v":""},"","",{"$f":"IF(ISBLANK(K13),\"\",IF(Best1!$B$3=\"\",\"\",ROUND(AVERAGE(Best1!$D$3:$D$6),1)))","v":""},"","",null,"",null,null,null,null,null,null,null,"","","","","","","","","","","","","","","","","","","","","","","",""]
[10,null,null,null,null,null,null,null,null,null,null,null,null,null,"BCAD",0,0,"","","","","","",0,0,"","","","","","",0,0,"","","","","","",{"$f":"IF(ISBLANK(E14),\"\",IF(OR($O$2=$O$5,$O$2=$O$6,$O$2=$O$12,$O$2=$O$13),Best1!$F$10,IF(OR($O$2=$O$7,$O$2=$O$8,$O$2=$O$18,$O$2=$O$19),Best1!$F$11,IF(OR($O$2=$O$9,$O$2=$O$10,$O$2=$O$24,$O$2=$O$25),Best1!$F$12,IF(OR($O$2=$O$14,$O$2=$O$15,$O$2=$O$20,$O$2=$O$21),Best1!$F$13,IF(OR($O$2=$O$16,$O$2=$O$17,$O$2=$O$26,$O$2=$O$27),Best1!$F$14,IF(OR($O$2=$O$22,$O$2=$O$23,$O$2=$O$28,$O$2=$O$29),Best1!$F$15,\"\")))))))","v":""},"","",{"$f":"IF(ISBLANK(H14),\"\",IF(OR($O$2=$O$5,$O$2=$O$7,$O$2=$O$27,$O$2=$O$29),Best1!$F$13,IF(OR($O$2=$O$18,$O$2=$O$20,$O$2=$O$24,$O$2=$O$26),Best1!$F$10,IF(OR($O$2=$O$12,$O$2=$O$14,$O$2=$O$25,$O$2=$O$28),Best1!$F$11,IF(OR($O$2=$O$13,$O$2=$O$16,$O$2=$O$19,$O$2=$O$22),Best1!$F$12,IF(OR($O$2=$O$6,$O$2=$O$9,$O$2=$O$21,$O$2=$O$23),Best1!$F$14,IF(OR($O$2=$O$8,$O$2=$O$10,$O$2=$O$15,$O$2=$O$17),Best1!$F$15,\"\")))))))","v":""},"","",{"$f":"IF(ISBLANK(I14),\"\",IF(OR($O$2=$O$9,$O$2=$O$10,$O$2=$O$24,$O$2=$O$25),Best1!$F$13,IF(OR($O$2=$O$22,$O$2=$O$23,$O$2=$O$28,$O$2=$O$29),Best1!$F$10,IF(OR($O$2=$O$16,$O$2=$O$17,$O$2=$O$26,$O$2=$O$27),Best1!$F$11,IF(OR($O$2=$O$14,$O$2=$O$15,$O$2=$O$20,$O$2=$O$21),Best1!$F$12,IF(OR($O$2=$O$7,$O$2=$O$8,$O$2=$O$18,$O$2=$O$19),Best1!$F$14,IF(OR($O$2=$O$5,$O$2=$O$6,$O$2=$O$12,$O$2=$O$13),Best1!$F$15,\"\")))))))","v":""},"","",{"$f":"IF(ISBLANK(K14),\"\",IF(Best1!$C$3=\"\",\"\",ROUND(SUM(Best1!$C$3:$C$6),1)))","v":""},"","",{"$f":"IF(ISBLANK(K14),\"\",IF(Best1!$B$3=\"\",\"\",ROUND(AVERAGE(Best1!$D$3:$D$6),1)))","v":""},"","",null,"",null,null,null,null,null,null,null,"","","","","","","","","","","","","","","","","","","","","","","",""]
[11,null,null,null,null,null,null,null,null,null,null,null,null,null,"BCDA",0,0,"","","","","","",0,0,"","","","","","",0,0,"","","","","","",{"$f":"IF(ISBLANK(E15),\"\",IF(OR($O$2=$O$5,$O$2=$O$6,$O$2=$O$12,$O$2=$O$13),Best1!$F$10,IF(OR($O$2=$O$7,$O$2=$O$8,$O$2=$O$18,$O$2=$O$19),Best1!$F$11,IF(OR($O$2=$O$9,$O$2=$O$10,$O$2=$O$24,$O$2=$O$25),Best1!$F$12,IF(OR($O$2=$O$14,$O$2=$O$15,$O$2=$O$20,$O$2=$O$21),Best1!$F$13,IF(OR($O$2=$O$16,$O$2=$O$17,$O$2=$O$26,$O$2=$O$27),Best1!$F$14,IF(OR($O$2=$O$22,$O$2=$O$23,$O$2=$O$28,$O$2=$O$29),Best1!$F$15,\"\")))))))","v":""},"","",{"$f":"IF(ISBLANK(H15),\"\",IF(OR($O$2=$O$5,$O$2=$O$7,$O$2=$O$27,$O$2=$O$29),Best1!$F$13,IF(OR($O$2=$O$18,$O$2=$O$20,$O$2=$O$24,$O$2=$O$26),Best1!$F$10,IF(OR($O$2=$O$12,$O$2=$O$14,$O$2=$O$25,$O$2=$O$28),Best1!$F$11,IF(OR($O$2=$O$13,$O$2=$O$16,$O$2=$O$19,$O$2=$O$22),Best1!$F$12,IF(OR($O$2=$O$6,$O$2=$O$9,$O$2=$O$21,$O$2=$O$23),Best1!$F$14,IF(OR($O$2=$O$8,$O$2=$O$10,$O$2=$O$15,$O$2=$O$17),Best1!$F$15,\"\")))))))","v":""},"","",{"$f":"IF(ISBLANK(I15),\"\",IF(OR($O$2=$O$9,$O$2=$O$10,$O$2=$O$24,$O$2=$O$25),Best1!$F$13,IF(OR($O$2=$O$22,$O$2=$O$23,$O$2=$O$28,$O$2=$O$29),Best1!$F$10,IF(OR($O$2=$O$16,$O$2=$O$17,$O$2=$O$26,$O$2=$O$27),Best1!$F$11,IF(OR($O$2=$O$14,$O$2=$O$15,$O$2=$O$20,$O$2=$O$21),Best1!$F$12,IF(OR($O$2=$O$7,$O$2=$O$8,$O$2=$O$18,$O$2=$O$19),Best1!$F$14,IF(OR($O$2=$O$5,$O$2=$O$6,$O$2=$O$12,$O$2=$O$13),Best1!$F$15,\"\")))))))","v":""},"","",{"$f":"IF(ISBLANK(K15),\"\",IF(Best1!$C$3=\"\",\"\",ROUND(SUM(Best1!$C$3:$C$6),1)))","v":""},"","",{"$f":"IF(ISBLANK(K15),\"\",IF(Best1!$B$3=\"\",\"\",ROUND(AVERAGE(Best1!$D$3:$D$6),1)))","v":""},"","",null,"",null,null,null,null,null,null,null,"","","","","","","","","","","","","","","","","","","","","","","",""]
[12,null,null,null,null,null,null,null,null,null,null,null,null,null,"BDAC",0,0,"","","","","","",0,0,"","","","","","",0,0,"","","","","","",{"$f":"IF(ISBLANK(E16),\"\",IF(OR($O$2=$O$5,$O$2=$O$6,$O$2=$O$12,$O$2=$O$13),Best1!$F$10,IF(OR($O$2=$O$7,$O$2=$O$8,$O$2=$O$18,$O$2=$O$19),Best1!$F$11,IF(OR($O$2=$O$9,$O$2=$O$10,$O$2=$O$24,$O$2=$O$25),Best1!$F$12,IF(OR($O$2=$O$14,$O$2=$O$15,$O$2=$O$20,$O$2=$O$21),Best1!$F$13,IF(OR($O$2=$O$16,$O$2=$O$17,$O$2=$O$26,$O$2=$O$27),Best1!$F$14,IF(OR($O$2=$O$22,$O$2=$O$23,$O$2=$O$28,$O$2=$O$29),Best1!$F$15,\"\")))))))","v":""},"","",{"$f":"IF(ISBLANK(H16),\"\",IF(OR($O$2=$O$5,$O$2=$O$7,$O$2=$O$27,$O$2=$O$29),Best1!$F$13,IF(OR($O$2=$O$18,$O$2=$O$20,$O$2=$O$24,$O$2=$O$26),Best1!$F$10,IF(OR($O$2=$O$12,$O$2=$O$14,$O$2=$O$25,$O$2=$O$28),Best1!$F$11,IF(OR($O$2=$O$13,$O$2=$O$16,$O$2=$O$19,$O$2=$O$22),Best1!$F$12,IF(OR($O$2=$O$6,$O$2=$O$9,$O$2=$O$21,$O$2=$O$23),Best1!$F$14,IF(OR($O$2=$O$8,$O$2=$O$10,$O$2=$O$15,$O$2=$O$17),Best1!$F$15,\"\")))))))","v":""},"","",{"$f":"IF(ISBLANK(I16),\"\",IF(OR($O$2=$O$9,$O$2=$O$10,$O$2=$O$24,$O$2=$O$25),Best1!$F$13,IF(OR($O$2=$O$22,$O$2=$O$23,$O$2=$O$28,$O$2=$O$29),Best1!$F$10,IF(OR($O$2=$O$16,$O$2=$O$17,$O$2=$O$26,$O$2=$O$27),Best1!$F$11,IF(OR($O$2=$O$14,$O$2=$O$15,$O$2=$O$20,$O$2=$O$21),Best1!$F$12,IF(OR($O$2=$O$7,$O$2=$O$8,$O$2=$O$18,$O$2=$O$19),Best1!$F$14,IF(OR($O$2=$O$5,$O$2=$O$6,$O$2=$O$12,$O$2=$O$13),Best1!$F$15,\"\")))))))","v":""},"","",{"$f":"IF(ISBLANK(K16),\"\",IF(Best1!$C$3=\"\",\"\",ROUND(SUM(Best1!$C$3:$C$6),1)))","v":""},"","",{"$f":"IF(ISBLANK(K16),\"\",IF(Best1!$B$3=\"\",\"\",ROUND(AVERAGE(Best1!$D$3:$D$6),1)))","v":""},"","",null,"",null,null,null,null,null,null,null,"","","",{"$f":"IF(OR(S16=\"\",S16=0),\"\",S16*1)","v":""},"","","","","","","","","","","","","","","",{"$f":"IF(OR(AI16=\"\",AI16=0),\"\",AI16*1)","v":""},"","","",""]
[13,null,null,null,null,null,null,null,null,null,null,null,null,null,"BDCA",0,0,"","","","","","",0,0,"","","","","","",0,0,"","","","","","",{"$f":"IF(ISBLANK(E17),\"\",IF(OR($O$2=$O$5,$O$2=$O$6,$O$2=$O$12,$O$2=$O$13),Best1!$F$10,IF(OR($O$2=$O$7,$O$2=$O$8,$O$2=$O$18,$O$2=$O$19),Best1!$F$11,IF(OR($O$2=$O$9,$O$2=$O$10,$O$2=$O$24,$O$2=$O$25),Best1!$F$12,IF(OR($O$2=$O$14,$O$2=$O$15,$O$2=$O$20,$O$2=$O$21),Best1!$F$13,IF(OR($O$2=$O$16,$O$2=$O$17,$O$2=$O$26,$O$2=$O$27),Best1!$F$14,IF(OR($O$2=$O$22,$O$2=$O$23,$O$2=$O$28,$O$2=$O$29),Best1!$F$15,\"\")))))))","v":""},"","",{"$f":"IF(ISBLANK(H17),\"\",IF(OR($O$2=$O$5,$O$2=$O$7,$O$2=$O$27,$O$2=$O$29),Best1!$F$13,IF(OR($O$2=$O$18,$O$2=$O$20,$O$2=$O$24,$O$2=$O$26),Best1!$F$10,IF(OR($O$2=$O$12,$O$2=$O$14,$O$2=$O$25,$O$2=$O$28),Best1!$F$11,IF(OR($O$2=$O$13,$O$2=$O$16,$O$2=$O$19,$O$2=$O$22),Best1!$F$12,IF(OR($O$2=$O$6,$O$2=$O$9,$O$2=$O$21,$O$2=$O$23),Best1!$F$14,IF(OR($O$2=$O$8,$O$2=$O$10,$O$2=$O$15,$O$2=$O$17),Best1!$F$15,\"\")))))))","v":""},"","",{"$f":"IF(ISBLANK(I17),\"\",IF(OR($O$2=$O$9,$O$2=$O$10,$O$2=$O$24,$O$2=$O$25),Best1!$F$13,IF(OR($O$2=$O$22,$O$2=$O$23,$O$2=$O$28,$O$2=$O$29),Best1!$F$10,IF(OR($O$2=$O$16,$O$2=$O$17,$O$2=$O$26,$O$2=$O$27),Best1!$F$11,IF(OR($O$2=$O$14,$O$2=$O$15,$O$2=$O$20,$O$2=$O$21),Best1!$F$12,IF(OR($O$2=$O$7,$O$2=$O$8,$O$2=$O$18,$O$2=$O$19),Best1!$F$14,IF(OR($O$2=$O$5,$O$2=$O$6,$O$2=$O$12,$O$2=$O$13),Best1!$F$15,\"\")))))))","v":""},"","",{"$f":"IF(ISBLANK(K17),\"\",IF(Best1!$C$3=\"\",\"\",ROUND(SUM(Best1!$C$3:$C$6),1)))","v":""},"","",{"$f":"IF(ISBLANK(K17),\"\",IF(Best1!$B$3=\"\",\"\",ROUND(AVERAGE(Best1!$D$3:$D$6),1)))","v":""},"","",null,"",null,null,null,null,null,null,null,"","","","","","","","","","","","","","","","","","","","","","","",""]
[14,null,null,null,null,null,null,null,null,null,null,null,null,null,"CABD",0,0,"","","","","","",0,0,"","","","","","",0,0,"","","","","","",{"$f":"IF(ISBLANK(E18),\"\",IF(OR($O$2=$O$5,$O$2=$O$6,$O$2=$O$12,$O$2=$O$13),Best1!$F$10,IF(OR($O$2=$O$7,$O$2=$O$8,$O$2=$O$18,$O$2=$O$19),Best1!$F$11,IF(OR($O$2=$O$9,$O$2=$O$10,$O$2=$O$24,$O$2=$O$25),Best1!$F$12,IF(OR($O$2=$O$14,$O$2=$O$15,$O$2=$O$20,$O$2=$O$21),Best1!$F$13,IF(OR($O$2=$O$16,$O$2=$O$17,$O$2=$O$26,$O$2=$O$27),Best1!$F$14,IF(OR($O$2=$O$22,$O$2=$O$23,$O$2=$O$28,$O$2=$O$29),Best1!$F$15,\"\")))))))","v":""},"","",{"$f":"IF(ISBLANK(H18),\"\",IF(OR($O$2=$O$5,$O$2=$O$7,$O$2=$O$27,$O$2=$O$29),Best1!$F$13,IF(OR($O$2=$O$18,$O$2=$O$20,$O$2=$O$24,$O$2=$O$26),Best1!$F$10,IF(OR($O$2=$O$12,$O$2=$O$14,$O$2=$O$25,$O$2=$O$28),Best1!$F$11,IF(OR($O$2=$O$13,$O$2=$O$16,$O$2=$O$19,$O$2=$O$22),Best1!$F$12,IF(OR($O$2=$O$6,$O$2=$O$9,$O$2=$O$21,$O$2=$O$23),Best1!$F$14,IF(OR($O$2=$O$8,$O$2=$O$10,$O$2=$O$15,$O$2=$O$17),Best1!$F$15,\"\")))))))","v":""},"","",{"$f":"IF(ISBLANK(I18),\"\",IF(OR($O$2=$O$9,$O$2=$O$10,$O$2=$O$24,$O$2=$O$25),Best1!$F$13,IF(OR($O$2=$O$22,$O$2=$O$23,$O$2=$O$28,$O$2=$O$29),Best1!$F$10,IF(OR($O$2=$O$16,$O$2=$O$17,$O$2=$O$26,$O$2=$O$27),Best1!$F$11,IF(OR($O$2=$O$14,$O$2=$O$15,$O$2=$O$20,$O$2=$O$21),Best1!$F$12,IF(OR($O$2=$O$7,$O$2=$O$8,$O$2=$O$18,$O$2=$O$19),Best1!$F$14,IF(OR($O$2=$O$5,$O$2=$O$6,$O$2=$O$12,$O$2=$O$13),Best1!$F$15,\"\")))))))","v":""},"","",{"$f":"IF(ISBLANK(K18),\"\",IF(Best1!$C$3=\"\",\"\",ROUND(SUM(Best1!$C$3:$C$6),1)))","v":""},"","",{"$f":"IF(ISBLANK(K18),\"\",IF(Best1!$B$3=\"\",\"\",ROUND(AVERAGE(Best1!$D$3:$D$6),1)))","v":""},"","",null,"",null,null,null,null,null,null,null,"","","","","","","","","","","","","","","","","","","","","","","",""]
[15,null,null,null,null,null,null,null,null,null,null,null,null,null,"CADB",0,0,"","","","","","",0,0,"","","","","","",0,0,"","","","","","",{"$f":"IF(ISBLANK(E19),\"\",IF(OR($O$2=$O$5,$O$2=$O$6,$O$2=$O$12,$O$2=$O$13),Best1!$F$10,IF(OR($O$2=$O$7,$O$2=$O$8,$O$2=$O$18,$O$2=$O$19),Best1!$F$11,IF(OR($O$2=$O$9,$O$2=$O$10,$O$2=$O$24,$O$2=$O$25),Best1!$F$12,IF(OR($O$2=$O$14,$O$2=$O$15,$O$2=$O$20,$O$2=$O$21),Best1!$F$13,IF(OR($O$2=$O$16,$O$2=$O$17,$O$2=$O$26,$O$2=$O$27),Best1!$F$14,IF(OR($O$2=$O$22,$O$2=$O$23,$O$2=$O$28,$O$2=$O$29),Best1!$F$15,\"\")))))))","v":""},"","",{"$f":"IF(ISBLANK(H19),\"\",IF(OR($O$2=$O$5,$O$2=$O$7,$O$2=$O$27,$O$2=$O$29),Best1!$F$13,IF(OR($O$2=$O$18,$O$2=$O$20,$O$2=$O$24,$O$2=$O$26),Best1!$F$10,IF(OR($O$2=$O$12,$O$2=$O$14,$O$2=$O$25,$O$2=$O$28),Best1!$F$11,IF(OR($O$2=$O$13,$O$2=$O$16,$O$2=$O$19,$O$2=$O$22),Best1!$F$12,IF(OR($O$2=$O$6,$O$2=$O$9,$O$2=$O$21,$O$2=$O$23),Best1!$F$14,IF(OR($O$2=$O$8,$O$2=$O$10,$O$2=$O$15,$O$2=$O$17),Best1!$F$15,\"\")))))))","v":""},"","",{"$f":"IF(ISBLANK(I19),\"\",IF(OR($O$2=$O$9,$O$2=$O$10,$O$2=$O$24,$O$2=$O$25),Best1!$F$13,IF(OR($O$2=$O$22,$O$2=$O$23,$O$2=$O$28,$O$2=$O$29),Best1!$F$10,IF(OR($O$2=$O$16,$O$2=$O$17,$O$2=$O$26,$O$2=$O$27),Best1!$F$11,IF(OR($O$2=$O$14,$O$2=$O$15,$O$2=$O$20,$O$2=$O$21),Best1!$F$12,IF(OR($O$2=$O$7,$O$2=$O$8,$O$2=$O$18,$O$2=$O$19),Best1!$F$14,IF(OR($O$2=$O$5,$O$2=$O$6,$O$2=$O$12,$O$2=$O$13),Best1!$F$15,\"\")))))))","v":""},"","",{"$f":"IF(ISBLANK(K19),\"\",IF(Best1!$C$3=\"\",\"\",ROUND(SUM(Best1!$C$3:$C$6),1)))","v":""},"","",{"$f":"IF(ISBLANK(K19),\"\",IF(Best1!$B$3=\"\",\"\",ROUND(AVERAGE(Best1!$D$3:$D$6),1)))","v":""},"","",null,"",null,null,null,null,null,null,null,"","","","","","","","","","","","","","","","","","","","","","","",""]
[16,null,null,null,null,null,null,null,null,null,null,null,null,null,"CBAD",0,0,"","","","","","",0,0,"","","","","","",0,0,"","","","","","",{"$f":"IF(ISBLANK(E20),\"\",IF(OR($O$2=$O$5,$O$2=$O$6,$O$2=$O$12,$O$2=$O$13),Best1!$F$10,IF(OR($O$2=$O$7,$O$2=$O$8,$O$2=$O$18,$O$2=$O$19),Best1!$F$11,IF(OR($O$2=$O$9,$O$2=$O$10,$O$2=$O$24,$O$2=$O$25),Best1!$F$12,IF(OR($O$2=$O$14,$O$2=$O$15,$O$2=$O$20,$O$2=$O$21),Best1!$F$13,IF(OR($O$2=$O$16,$O$2=$O$17,$O$2=$O$26,$O$2=$O$27),Best1!$F$14,IF(OR($O$2=$O$22,$O$2=$O$23,$O$2=$O$28,$O$2=$O$29),Best1!$F$15,\"\")))))))","v":""},"","",{"$f":"IF(ISBLANK(H20),\"\",IF(OR($O$2=$O$5,$O$2=$O$7,$O$2=$O$27,$O$2=$O$29),Best1!$F$13,IF(OR($O$2=$O$18,$O$2=$O$20,$O$2=$O$24,$O$2=$O$26),Best1!$F$10,IF(OR($O$2=$O$12,$O$2=$O$14,$O$2=$O$25,$O$2=$O$28),Best1!$F$11,IF(OR($O$2=$O$13,$O$2=$O$16,$O$2=$O$19,$O$2=$O$22),Best1!$F$12,IF(OR($O$2=$O$6,$O$2=$O$9,$O$2=$O$21,$O$2=$O$23),Best1!$F$14,IF(OR($O$2=$O$8,$O$2=$O$10,$O$2=$O$15,$O$2=$O$17),Best1!$F$15,\"\")))))))","v":""},"","",{"$f":"IF(ISBLANK(I20),\"\",IF(OR($O$2=$O$9,$O$2=$O$10,$O$2=$O$24,$O$2=$O$25),Best1!$F$13,IF(OR($O$2=$O$22,$O$2=$O$23,$O$2=$O$28,$O$2=$O$29),Best1!$F$10,IF(OR($O$2=$O$16,$O$2=$O$17,$O$2=$O$26,$O$2=$O$27),Best1!$F$11,IF(OR($O$2=$O$14,$O$2=$O$15,$O$2=$O$20,$O$2=$O$21),Best1!$F$12,IF(OR($O$2=$O$7,$O$2=$O$8,$O$2=$O$18,$O$2=$O$19),Best1!$F$14,IF(OR($O$2=$O$5,$O$2=$O$6,$O$2=$O$12,$O$2=$O$13),Best1!$F$15,\"\")))))))","v":""},"","",{"$f":"IF(ISBLANK(K20),\"\",IF(Best1!$C$3=\"\",\"\",ROUND(SUM(Best1!$C$3:$C$6),1)))","v":""},"","",{"$f":"IF(ISBLANK(K20),\"\",IF(Best1!$B$3=\"\",\"\",ROUND(AVERAGE(Best1!$D$3:$D$6),1)))","v":""},"","",null,"",null,null,null,null,null,null,null,"","","","","","","","","","","","","","","","","","","","","","","",""]
[17,null,null,null,null,null,null,null,null,null,null,null,null,null,"CBDA",0,0,"","","","","","",0,0,"","","","","","",0,0,"","","","","","",{"$f":"IF(ISBLANK(E21),\"\",IF(OR($O$2=$O$5,$O$2=$O$6,$O$2=$O$12,$O$2=$O$13),Best1!$F$10,IF(OR($O$2=$O$7,$O$2=$O$8,$O$2=$O$18,$O$2=$O$19),Best1!$F$11,IF(OR($O$2=$O$9,$O$2=$O$10,$O$2=$O$24,$O$2=$O$25),Best1!$F$12,IF(OR($O$2=$O$14,$O$2=$O$15,$O$2=$O$20,$O$2=$O$21),Best1!$F$13,IF(OR($O$2=$O$16,$O$2=$O$17,$O$2=$O$26,$O$2=$O$27),Best1!$F$14,IF(OR($O$2=$O$22,$O$2=$O$23,$O$2=$O$28,$O$2=$O$29),Best1!$F$15,\"\")))))))","v":""},"","",{"$f":"IF(ISBLANK(H21),\"\",IF(OR($O$2=$O$5,$O$2=$O$7,$O$2=$O$27,$O$2=$O$29),Best1!$F$13,IF(OR($O$2=$O$18,$O$2=$O$20,$O$2=$O$24,$O$2=$O$26),Best1!$F$10,IF(OR($O$2=$O$12,$O$2=$O$14,$O$2=$O$25,$O$2=$O$28),Best1!$F$11,IF(OR($O$2=$O$13,$O$2=$O$16,$O$2=$O$19,$O$2=$O$22),Best1!$F$12,IF(OR($O$2=$O$6,$O$2=$O$9,$O$2=$O$21,$O$2=$O$23),Best1!$F$14,IF(OR($O$2=$O$8,$O$2=$O$10,$O$2=$O$15,$O$2=$O$17),Best1!$F$15,\"\")))))))","v":""},"","",{"$f":"IF(ISBLANK(I21),\"\",IF(OR($O$2=$O$9,$O$2=$O$10,$O$2=$O$24,$O$2=$O$25),Best1!$F$13,IF(OR($O$2=$O$22,$O$2=$O$23,$O$2=$O$28,$O$2=$O$29),Best1!$F$10,IF(OR($O$2=$O$16,$O$2=$O$17,$O$2=$O$26,$O$2=$O$27),Best1!$F$11,IF(OR($O$2=$O$14,$O$2=$O$15,$O$2=$O$20,$O$2=$O$21),Best1!$F$12,IF(OR($O$2=$O$7,$O$2=$O$8,$O$2=$O$18,$O$2=$O$19),Best1!$F$14,IF(OR($O$2=$O$5,$O$2=$O$6,$O$2=$O$12,$O$2=$O$13),Best1!$F$15,\"\")))))))","v":""},"","",{"$f":"IF(ISBLANK(K21),\"\",IF(Best1!$C$3=\"\",\"\",ROUND(SUM(Best1!$C$3:$C$6),1)))","v":""},"","",{"$f":"IF(ISBLANK(K21),\"\",IF(Best1!$B$3=\"\",\"\",ROUND(AVERAGE(Best1!$D$3:$D$6),1)))","v":""},"","",null,"",null,null,null,null,null,null,null,"","","","","","","","","","","","","","","","","","","","","","","",""]
[18,null,null,null,null,null,null,null,null,null,null,null,null,null,"CDAB",0,0,"","","","","","",0,0,"","","","","","",0,0,"","","","","","",{"$f":"IF(ISBLANK(E22),\"\",IF(OR($O$2=$O$5,$O$2=$O$6,$O$2=$O$12,$O$2=$O$13),Best1!$F$10,IF(OR($O$2=$O$7,$O$2=$O$8,$O$2=$O$18,$O$2=$O$19),Best1!$F$11,IF(OR($O$2=$O$9,$O$2=$O$10,$O$2=$O$24,$O$2=$O$25),Best1!$F$12,IF(OR($O$2=$O$14,$O$2=$O$15,$O$2=$O$20,$O$2=$O$21),Best1!$F$13,IF(OR($O$2=$O$16,$O$2=$O$17,$O$2=$O$26,$O$2=$O$27),Best1!$F$14,IF(OR($O$2=$O$22,$O$2=$O$23,$O$2=$O$28,$O$2=$O$29),Best1!$F$15,\"\")))))))","v":""},"","",{"$f":"IF(ISBLANK(H22),\"\",IF(OR($O$2=$O$5,$O$2=$O$7,$O$2=$O$27,$O$2=$O$29),Best1!$F$13,IF(OR($O$2=$O$18,$O$2=$O$20,$O$2=$O$24,$O$2=$O$26),Best1!$F$10,IF(OR($O$2=$O$12,$O$2=$O$14,$O$2=$O$25,$O$2=$O$28),Best1!$F$11,IF(OR($O$2=$O$13,$O$2=$O$16,$O$2=$O$19,$O$2=$O$22),Best1!$F$12,IF(OR($O$2=$O$6,$O$2=$O$9,$O$2=$O$21,$O$2=$O$23),Best1!$F$14,IF(OR($O$2=$O$8,$O$2=$O$10,$O$2=$O$15,$O$2=$O$17),Best1!$F$15,\"\")))))))","v":""},"","",{"$f":"IF(ISBLANK(I22),\"\",IF(OR($O$2=$O$9,$O$2=$O$10,$O$2=$O$24,$O$2=$O$25),Best1!$F$13,IF(OR($O$2=$O$22,$O$2=$O$23,$O$2=$O$28,$O$2=$O$29),Best1!$F$10,IF(OR($O$2=$O$16,$O$2=$O$17,$O$2=$O$26,$O$2=$O$27),Best1!$F$11,IF(OR($O$2=$O$14,$O$2=$O$15,$O$2=$O$20,$O$2=$O$21),Best1!$F$12,IF(OR($O$2=$O$7,$O$2=$O$8,$O$2=$O$18,$O$2=$O$19),Best1!$F$14,IF(OR($O$2=$O$5,$O$2=$O$6,$O$2=$O$12,$O$2=$O$13),Best1!$F$15,\"\")))))))","v":""},"","",{"$f":"IF(ISBLANK(K22),\"\",IF(Best1!$C$3=\"\",\"\",ROUND(SUM(Best1!$C$3:$C$6),1)))","v":""},"","",{"$f":"IF(ISBLANK(K22),\"\",IF(Best1!$B$3=\"\",\"\",ROUND(AVERAGE(Best1!$D$3:$D$6),1)))","v":""},"","",null,"",null,null,null,null,null,null,null,"","","","","","","","","","","","","","","","","","","","","","","",""]
[19,null,null,null,null,null,null,null,null,null,null,null,null,null,"CDBA",0,0,"","","","","","",0,0,"","","","","","",0,0,"","","","","","",{"$f":"IF(ISBLANK(E23),\"\",IF(OR($O$2=$O$5,$O$2=$O$6,$O$2=$O$12,$O$2=$O$13),Best1!$F$10,IF(OR($O$2=$O$7,$O$2=$O$8,$O$2=$O$18,$O$2=$O$19),Best1!$F$11,IF(OR($O$2=$O$9,$O$2=$O$10,$O$2=$O$24,$O$2=$O$25),Best1!$F$12,IF(OR($O$2=$O$14,$O$2=$O$15,$O$2=$O$20,$O$2=$O$21),Best1!$F$13,IF(OR($O$2=$O$16,$O$2=$O$17,$O$2=$O$26,$O$2=$O$27),Best1!$F$14,IF(OR($O$2=$O$22,$O$2=$O$23,$O$2=$O$28,$O$2=$O$29),Best1!$F$15,\"\")))))))","v":""},"","",{"$f":"IF(ISBLANK(H23),\"\",IF(OR($O$2=$O$5,$O$2=$O$7,$O$2=$O$27,$O$2=$O$29),Best1!$F$13,IF(OR($O$2=$O$18,$O$2=$O$20,$O$2=$O$24,$O$2=$O$26),Best1!$F$10,IF(OR($O$2=$O$12,$O$2=$O$14,$O$2=$O$25,$O$2=$O$28),Best1!$F$11,IF(OR($O$2=$O$13,$O$2=$O$16,$O$2=$O$19,$O$2=$O$22),Best1!$F$12,IF(OR($O$2=$O$6,$O$2=$O$9,$O$2=$O$21,$O$2=$O$23),Best1!$F$14,IF(OR($O$2=$O$8,$O$2=$O$10,$O$2=$O$15,$O$2=$O$17),Best1!$F$15,\"\")))))))","v":""},"","",{"$f":"IF(ISBLANK(I23),\"\",IF(OR($O$2=$O$9,$O$2=$O$10,$O$2=$O$24,$O$2=$O$25),Best1!$F$13,IF(OR($O$2=$O$22,$O$2=$O$23,$O$2=$O$28,$O$2=$O$29),Best1!$F$10,IF(OR($O$2=$O$16,$O$2=$O$17,$O$2=$O$26,$O$2=$O$27),Best1!$F$11,IF(OR($O$2=$O$14,$O$2=$O$15,$O$2=$O$20,$O$2=$O$21),Best1!$F$12,IF(OR($O$2=$O$7,$O$2=$O$8,$O$2=$O$18,$O$2=$O$19),Best1!$F$14,IF(OR($O$2=$O$5,$O$2=$O$6,$O$2=$O$12,$O$2=$O$13),Best1!$F$15,\"\")))))))","v":""},"","",{"$f":"IF(ISBLANK(K23),\"\",IF(Best1!$C$3=\"\",\"\",ROUND(SUM(Best1!$C$3:$C$6),1)))","v":""},"","",{"$f":"IF(ISBLANK(K23),\"\",IF(Best1!$B$3=\"\",\"\",ROUND(AVERAGE(Best1!$D$3:$D$6),1)))","v":""},"","",null,"",null,null,null,null,null,null,null,"","","","","","","","","","","","","","","","","","","","","","","",""]
[20,null,null,null,null,null,null,null,null,null,null,null,null,null,"DABC",0,0,"","","","","","",0,0,"","","","","","",0,0,"","","","","","",{"$f":"IF(ISBLANK(E24),\"\",IF(OR($O$2=$O$5,$O$2=$O$6,$O$2=$O$12,$O$2=$O$13),Best1!$F$10,IF(OR($O$2=$O$7,$O$2=$O$8,$O$2=$O$18,$O$2=$O$19),Best1!$F$11,IF(OR($O$2=$O$9,$O$2=$O$10,$O$2=$O$24,$O$2=$O$25),Best1!$F$12,IF(OR($O$2=$O$14,$O$2=$O$15,$O$2=$O$20,$O$2=$O$21),Best1!$F$13,IF(OR($O$2=$O$16,$O$2=$O$17,$O$2=$O$26,$O$2=$O$27),Best1!$F$14,IF(OR($O$2=$O$22,$O$2=$O$23,$O$2=$O$28,$O$2=$O$29),Best1!$F$15,\"\")))))))","v":""},"","",{"$f":"IF(ISBLANK(H24),\"\",IF(OR($O$2=$O$5,$O$2=$O$7,$O$2=$O$27,$O$2=$O$29),Best1!$F$13,IF(OR($O$2=$O$18,$O$2=$O$20,$O$2=$O$24,$O$2=$O$26),Best1!$F$10,IF(OR($O$2=$O$12,$O$2=$O$14,$O$2=$O$25,$O$2=$O$28),Best1!$F$11,IF(OR($O$2=$O$13,$O$2=$O$16,$O$2=$O$19,$O$2=$O$22),Best1!$F$12,IF(OR($O$2=$O$6,$O$2=$O$9,$O$2=$O$21,$O$2=$O$23),Best1!$F$14,IF(OR($O$2=$O$8,$O$2=$O$10,$O$2=$O$15,$O$2=$O$17),Best1!$F$15,\"\")))))))","v":""},"","",{"$f":"IF(ISBLANK(I24),\"\",IF(OR($O$2=$O$9,$O$2=$O$10,$O$2=$O$24,$O$2=$O$25),Best1!$F$13,IF(OR($O$2=$O$22,$O$2=$O$23,$O$2=$O$28,$O$2=$O$29),Best1!$F$10,IF(OR($O$2=$O$16,$O$2=$O$17,$O$2=$O$26,$O$2=$O$27),Best1!$F$11,IF(OR($O$2=$O$14,$O$2=$O$15,$O$2=$O$20,$O$2=$O$21),Best1!$F$12,IF(OR($O$2=$O$7,$O$2=$O$8,$O$2=$O$18,$O$2=$O$19),Best1!$F$14,IF(OR($O$2=$O$5,$O$2=$O$6,$O$2=$O$12,$O$2=$O$13),Best1!$F$15,\"\")))))))","v":""},"","",{"$f":"IF(ISBLANK(K24),\"\",IF(Best1!$C$3=\"\",\"\",ROUND(SUM(Best1!$C$3:$C$6),1)))","v":""},"","",{"$f":"IF(ISBLANK(K24),\"\",IF(Best1!$B$3=\"\",\"\",ROUND(AVERAGE(Best1!$D$3:$D$6),1)))","v":""},"","",null,"",null,null,null,null,null,null,null,"","","","","","","","","","","","","","","","","","","","","","","",""]
[21,null,null,null,null,null,null,null,null,null,null,null,null,null,"DACB",0,0,"","","","","","",0,0,"","","","","","",0,0,"","","","","","",{"$f":"IF(ISBLANK(E25),\"\",IF(OR($O$2=$O$5,$O$2=$O$6,$O$2=$O$12,$O$2=$O$13),Best1!$F$10,IF(OR($O$2=$O$7,$O$2=$O$8,$O$2=$O$18,$O$2=$O$19),Best1!$F$11,IF(OR($O$2=$O$9,$O$2=$O$10,$O$2=$O$24,$O$2=$O$25),Best1!$F$12,IF(OR($O$2=$O$14,$O$2=$O$15,$O$2=$O$20,$O$2=$O$21),Best1!$F$13,IF(OR($O$2=$O$16,$O$2=$O$17,$O$2=$O$26,$O$2=$O$27),Best1!$F$14,IF(OR($O$2=$O$22,$O$2=$O$23,$O$2=$O$28,$O$2=$O$29),Best1!$F$15,\"\")))))))","v":""},"","",{"$f":"IF(ISBLANK(H25),\"\",IF(OR($O$2=$O$5,$O$2=$O$7,$O$2=$O$27,$O$2=$O$29),Best1!$F$13,IF(OR($O$2=$O$18,$O$2=$O$20,$O$2=$O$24,$O$2=$O$26),Best1!$F$10,IF(OR($O$2=$O$12,$O$2=$O$14,$O$2=$O$25,$O$2=$O$28),Best1!$F$11,IF(OR($O$2=$O$13,$O$2=$O$16,$O$2=$O$19,$O$2=$O$22),Best1!$F$12,IF(OR($O$2=$O$6,$O$2=$O$9,$O$2=$O$21,$O$2=$O$23),Best1!$F$14,IF(OR($O$2=$O$8,$O$2=$O$10,$O$2=$O$15,$O$2=$O$17),Best1!$F$15,\"\")))))))","v":""},"","",{"$f":"IF(ISBLANK(I25),\"\",IF(OR($O$2=$O$9,$O$2=$O$10,$O$2=$O$24,$O$2=$O$25),Best1!$F$13,IF(OR($O$2=$O$22,$O$2=$O$23,$O$2=$O$28,$O$2=$O$29),Best1!$F$10,IF(OR($O$2=$O$16,$O$2=$O$17,$O$2=$O$26,$O$2=$O$27),Best1!$F$11,IF(OR($O$2=$O$14,$O$2=$O$15,$O$2=$O$20,$O$2=$O$21),Best1!$F$12,IF(OR($O$2=$O$7,$O$2=$O$8,$O$2=$O$18,$O$2=$O$19),Best1!$F$14,IF(OR($O$2=$O$5,$O$2=$O$6,$O$2=$O$12,$O$2=$O$13),Best1!$F$15,\"\")))))))","v":""},"","",{"$f":"IF(ISBLANK(K25),\"\",IF(Best1!$C$3=\"\",\"\",ROUND(SUM(Best1!$C$3:$C$6),1)))","v":""},"","",{"$f":"IF(ISBLANK(K25),\"\",IF(Best1!$B$3=\"\",\"\",ROUND(AVERAGE(Best1!$D$3:$D$6),1)))","v":""},"","",null,"",null,null,null,null,null,null,null,"","","","","","","","","","","","","","","","","","","","","","","",""]
[22,null,null,null,null,null,null,null,null,null,null,null,null,null,"DBAC",0,0,"","","","","","",0,0,"","","","","","",0,0,"","","","","","",{"$f":"IF(ISBLANK(E26),\"\",IF(OR($O$2=$O$5,$O$2=$O$6,$O$2=$O$12,$O$2=$O$13),Best1!$F$10,IF(OR($O$2=$O$7,$O$2=$O$8,$O$2=$O$18,$O$2=$O$19),Best1!$F$11,IF(OR($O$2=$O$9,$O$2=$O$10,$O$2=$O$24,$O$2=$O$25),Best1!$F$12,IF(OR($O$2=$O$14,$O$2=$O$15,$O$2=$O$20,$O$2=$O$21),Best1!$F$13,IF(OR($O$2=$O$16,$O$2=$O$17,$O$2=$O$26,$O$2=$O$27),Best1!$F$14,IF(OR($O$2=$O$22,$O$2=$O$23,$O$2=$O$28,$O$2=$O$29),Best1!$F$15,\"\")))))))","v":""},"","",{"$f":"IF(ISBLANK(H26),\"\",IF(OR($O$2=$O$5,$O$2=$O$7,$O$2=$O$27,$O$2=$O$29),Best1!$F$13,IF(OR($O$2=$O$18,$O$2=$O$20,$O$2=$O$24,$O$2=$O$26),Best1!$F$10,IF(OR($O$2=$O$12,$O$2=$O$14,$O$2=$O$25,$O$2=$O$28),Best1!$F$11,IF(OR($O$2=$O$13,$O$2=$O$16,$O$2=$O$19,$O$2=$O$22),Best1!$F$12,IF(OR($O$2=$O$6,$O$2=$O$9,$O$2=$O$21,$O$2=$O$23),Best1!$F$14,IF(OR($O$2=$O$8,$O$2=$O$10,$O$2=$O$15,$O$2=$O$17),Best1!$F$15,\"\")))))))","v":""},"","",{"$f":"IF(ISBLANK(I26),\"\",IF(OR($O$2=$O$9,$O$2=$O$10,$O$2=$O$24,$O$2=$O$25),Best1!$F$13,IF(OR($O$2=$O$22,$O$2=$O$23,$O$2=$O$28,$O$2=$O$29),Best1!$F$10,IF(OR($O$2=$O$16,$O$2=$O$17,$O$2=$O$26,$O$2=$O$27),Best1!$F$11,IF(OR($O$2=$O$14,$O$2=$O$15,$O$2=$O$20,$O$2=$O$21),Best1!$F$12,IF(OR($O$2=$O$7,$O$2=$O$8,$O$2=$O$18,$O$2=$O$19),Best1!$F$14,IF(OR($O$2=$O$5,$O$2=$O$6,$O$2=$O$12,$O$2=$O$13),Best1!$F$15,\"\")))))))","v":""},"","",{"$f":"IF(ISBLANK(K26),\"\",IF(Best1!$C$3=\"\",\"\",ROUND(SUM(Best1!$C$3:$C$6),1)))","v":""},"","",{"$f":"IF(ISBLANK(K26),\"\",IF(Best1!$B$3=\"\",\"\",ROUND(AVERAGE(Best1!$D$3:$D$6),1)))","v":""},"","",null,"",null,null,null,null,null,null,null,"","","","","","","","","","","","","","","","","","","","","","","",""]
[23,null,null,null,null,null,null,null,null,null,null,null,null,null,"DBCA",0,0,"","","","","","",0,0,"","","","","","",0,0,"","","","","","",{"$f":"IF(ISBLANK(E27),\"\",IF(OR($O$2=$O$5,$O$2=$O$6,$O$2=$O$12,$O$2=$O$13),Best1!$F$10,IF(OR($O$2=$O$7,$O$2=$O$8,$O$2=$O$18,$O$2=$O$19),Best1!$F$11,IF(OR($O$2=$O$9,$O$2=$O$10,$O$2=$O$24,$O$2=$O$25),Best1!$F$12,IF(OR($O$2=$O$14,$O$2=$O$15,$O$2=$O$20,$O$2=$O$21),Best1!$F$13,IF(OR($O$2=$O$16,$O$2=$O$17,$O$2=$O$26,$O$2=$O$27),Best1!$F$14,IF(OR($O$2=$O$22,$O$2=$O$23,$O$2=$O$28,$O$2=$O$29),Best1!$F$15,\"\")))))))","v":""},"","",{"$f":"IF(ISBLANK(H27),\"\",IF(OR($O$2=$O$5,$O$2=$O$7,$O$2=$O$27,$O$2=$O$29),Best1!$F$13,IF(OR($O$2=$O$18,$O$2=$O$20,$O$2=$O$24,$O$2=$O$26),Best1!$F$10,IF(OR($O$2=$O$12,$O$2=$O$14,$O$2=$O$25,$O$2=$O$28),Best1!$F$11,IF(OR($O$2=$O$13,$O$2=$O$16,$O$2=$O$19,$O$2=$O$22),Best1!$F$12,IF(OR($O$2=$O$6,$O$2=$O$9,$O$2=$O$21,$O$2=$O$23),Best1!$F$14,IF(OR($O$2=$O$8,$O$2=$O$10,$O$2=$O$15,$O$2=$O$17),Best1!$F$15,\"\")))))))","v":""},"","",{"$f":"IF(ISBLANK(I27),\"\",IF(OR($O$2=$O$9,$O$2=$O$10,$O$2=$O$24,$O$2=$O$25),Best1!$F$13,IF(OR($O$2=$O$22,$O$2=$O$23,$O$2=$O$28,$O$2=$O$29),Best1!$F$10,IF(OR($O$2=$O$16,$O$2=$O$17,$O$2=$O$26,$O$2=$O$27),Best1!$F$11,IF(OR($O$2=$O$14,$O$2=$O$15,$O$2=$O$20,$O$2=$O$21),Best1!$F$12,IF(OR($O$2=$O$7,$O$2=$O$8,$O$2=$O$18,$O$2=$O$19),Best1!$F$14,IF(OR($O$2=$O$5,$O$2=$O$6,$O$2=$O$12,$O$2=$O$13),Best1!$F$15,\"\")))))))","v":""},"","",{"$f":"IF(ISBLANK(K27),\"\",IF(Best1!$C$3=\"\",\"\",ROUND(SUM(Best1!$C$3:$C$6),1)))","v":""},"","",{"$f":"IF(ISBLANK(K27),\"\",IF(Best1!$B$3=\"\",\"\",ROUND(AVERAGE(Best1!$D$3:$D$6),1)))","v":""},"","",null,"",null,null,null,null,null,null,null,"","","","","","","","","","","","","","","","","","","","","","","",""]
[24,null,null,null,null,null,null,null,null,null,null,null,null,null,"DCAB",0,0,"","","","","","",0,0,"","","","","","",0,0,"","","","","","",{"$f":"IF(ISBLANK(E28),\"\",IF(OR($O$2=$O$5,$O$2=$O$6,$O$2=$O$12,$O$2=$O$13),Best1!$F$10,IF(OR($O$2=$O$7,$O$2=$O$8,$O$2=$O$18,$O$2=$O$19),Best1!$F$11,IF(OR($O$2=$O$9,$O$2=$O$10,$O$2=$O$24,$O$2=$O$25),Best1!$F$12,IF(OR($O$2=$O$14,$O$2=$O$15,$O$2=$O$20,$O$2=$O$21),Best1!$F$13,IF(OR($O$2=$O$16,$O$2=$O$17,$O$2=$O$26,$O$2=$O$27),Best1!$F$14,IF(OR($O$2=$O$22,$O$2=$O$23,$O$2=$O$28,$O$2=$O$29),Best1!$F$15,\"\")))))))","v":""},"","",{"$f":"IF(ISBLANK(H28),\"\",IF(OR($O$2=$O$5,$O$2=$O$7,$O$2=$O$27,$O$2=$O$29),Best1!$F$13,IF(OR($O$2=$O$18,$O$2=$O$20,$O$2=$O$24,$O$2=$O$26),Best1!$F$10,IF(OR($O$2=$O$12,$O$2=$O$14,$O$2=$O$25,$O$2=$O$28),Best1!$F$11,IF(OR($O$2=$O$13,$O$2=$O$16,$O$2=$O$19,$O$2=$O$22),Best1!$F$12,IF(OR($O$2=$O$6,$O$2=$O$9,$O$2=$O$21,$O$2=$O$23),Best1!$F$14,IF(OR($O$2=$O$8,$O$2=$O$10,$O$2=$O$15,$O$2=$O$17),Best1!$F$15,\"\")))))))","v":""},"","",{"$f":"IF(ISBLANK(I28),\"\",IF(OR($O$2=$O$9,$O$2=$O$10,$O$2=$O$24,$O$2=$O$25),Best1!$F$13,IF(OR($O$2=$O$22,$O$2=$O$23,$O$2=$O$28,$O$2=$O$29),Best1!$F$10,IF(OR($O$2=$O$16,$O$2=$O$17,$O$2=$O$26,$O$2=$O$27),Best1!$F$11,IF(OR($O$2=$O$14,$O$2=$O$15,$O$2=$O$20,$O$2=$O$21),Best1!$F$12,IF(OR($O$2=$O$7,$O$2=$O$8,$O$2=$O$18,$O$2=$O$19),Best1!$F$14,IF(OR($O$2=$O$5,$O$2=$O$6,$O$2=$O$12,$O$2=$O$13),Best1!$F$15,\"\")))))))","v":""},"","",{"$f":"IF(ISBLANK(K28),\"\",IF(Best1!$C$3=\"\",\"\",ROUND(SUM(Best1!$C$3:$C$6),1)))","v":""},"","",{"$f":"IF(ISBLANK(K28),\"\",IF(Best1!$B$3=\"\",\"\",ROUND(AVERAGE(Best1!$D$3:$D$6),1)))","v":""},"","",null,"",null,null,null,null,null,null,null,"","","","","","","","","","","","","","","","","","","","","","","",""]
[25,null,null,null,null,null,null,null,null,null,null,null,null,null,"DCBA",0,0,"","","","","","",0,0,"","","","","","",0,0,"","","","","","",{"$f":"IF(ISBLANK(E29),\"\",IF(OR($O$2=$O$5,$O$2=$O$6,$O$2=$O$12,$O$2=$O$13),Best1!$F$10,IF(OR($O$2=$O$7,$O$2=$O$8,$O$2=$O$18,$O$2=$O$19),Best1!$F$11,IF(OR($O$2=$O$9,$O$2=$O$10,$O$2=$O$24,$O$2=$O$25),Best1!$F$12,IF(OR($O$2=$O$14,$O$2=$O$15,$O$2=$O$20,$O$2=$O$21),Best1!$F$13,IF(OR($O$2=$O$16,$O$2=$O$17,$O$2=$O$26,$O$2=$O$27),Best1!$F$14,IF(OR($O$2=$O$22,$O$2=$O$23,$O$2=$O$28,$O$2=$O$29),Best1!$F$15,\"\")))))))","v":""},"","",{"$f":"IF(ISBLANK(H29),\"\",IF(OR($O$2=$O$5,$O$2=$O$7,$O$2=$O$27,$O$2=$O$29),Best1!$F$13,IF(OR($O$2=$O$18,$O$2=$O$20,$O$2=$O$24,$O$2=$O$26),Best1!$F$10,IF(OR($O$2=$O$12,$O$2=$O$14,$O$2=$O$25,$O$2=$O$28),Best1!$F$11,IF(OR($O$2=$O$13,$O$2=$O$16,$O$2=$O$19,$O$2=$O$22),Best1!$F$12,IF(OR($O$2=$O$6,$O$2=$O$9,$O$2=$O$21,$O$2=$O$23),Best1!$F$14,IF(OR($O$2=$O$8,$O$2=$O$10,$O$2=$O$15,$O$2=$O$17),Best1!$F$15,\"\")))))))","v":""},"","",{"$f":"IF(ISBLANK(I29),\"\",IF(OR($O$2=$O$9,$O$2=$O$10,$O$2=$O$24,$O$2=$O$25),Best1!$F$13,IF(OR($O$2=$O$22,$O$2=$O$23,$O$2=$O$28,$O$2=$O$29),Best1!$F$10,IF(OR($O$2=$O$16,$O$2=$O$17,$O$2=$O$26,$O$2=$O$27),Best1!$F$11,IF(OR($O$2=$O$14,$O$2=$O$15,$O$2=$O$20,$O$2=$O$21),Best1!$F$12,IF(OR($O$2=$O$7,$O$2=$O$8,$O$2=$O$18,$O$2=$O$19),Best1!$F$14,IF(OR($O$2=$O$5,$O$2=$O$6,$O$2=$O$12,$O$2=$O$13),Best1!$F$15,\"\")))))))","v":""},"","",{"$f":"IF(ISBLANK(K29),\"\",IF(Best1!$C$3=\"\",\"\",ROUND(SUM(Best1!$C$3:$C$6),1)))","v":""},"","",{"$f":"IF(ISBLANK(K29),\"\",IF(Best1!$B$3=\"\",\"\",ROUND(AVERAGE(Best1!$D$3:$D$6),1)))","v":""},"","",null,"",null,null,null,null,null,null,null,"","","","","","","","","","","","","","","","","","","","","","","",""]
[26,null,null,null,null,null,null,null,null,null,null,null,null,null,null,0,0,"","","","","","",0,0,"","","","","","",0,0,"","","","","","",{"$f":"IF(ISBLANK(E30),\"\",IF(OR($O$2=$O$5,$O$2=$O$6,$O$2=$O$12,$O$2=$O$13),Best1!$F$10,IF(OR($O$2=$O$7,$O$2=$O$8,$O$2=$O$18,$O$2=$O$19),Best1!$F$11,IF(OR($O$2=$O$9,$O$2=$O$10,$O$2=$O$24,$O$2=$O$25),Best1!$F$12,IF(OR($O$2=$O$14,$O$2=$O$15,$O$2=$O$20,$O$2=$O$21),Best1!$F$13,IF(OR($O$2=$O$16,$O$2=$O$17,$O$2=$O$26,$O$2=$O$27),Best1!$F$14,IF(OR($O$2=$O$22,$O$2=$O$23,$O$2=$O$28,$O$2=$O$29),Best1!$F$15,\"\")))))))","v":""},"","",{"$f":"IF(ISBLANK(H30),\"\",IF(OR($O$2=$O$5,$O$2=$O$7,$O$2=$O$27,$O$2=$O$29),Best1!$F$13,IF(OR($O$2=$O$18,$O$2=$O$20,$O$2=$O$24,$O$2=$O$26),Best1!$F$10,IF(OR($O$2=$O$12,$O$2=$O$14,$O$2=$O$25,$O$2=$O$28),Best1!$F$11,IF(OR($O$2=$O$13,$O$2=$O$16,$O$2=$O$19,$O$2=$O$22),Best1!$F$12,IF(OR($O$2=$O$6,$O$2=$O$9,$O$2=$O$21,$O$2=$O$23),Best1!$F$14,IF(OR($O$2=$O$8,$O$2=$O$10,$O$2=$O$15,$O$2=$O$17),Best1!$F$15,\"\")))))))","v":""},"","",{"$f":"IF(ISBLANK(I30),\"\",IF(OR($O$2=$O$9,$O$2=$O$10,$O$2=$O$24,$O$2=$O$25),Best1!$F$13,IF(OR($O$2=$O$22,$O$2=$O$23,$O$2=$O$28,$O$2=$O$29),Best1!$F$10,IF(OR($O$2=$O$16,$O$2=$O$17,$O$2=$O$26,$O$2=$O$27),Best1!$F$11,IF(OR($O$2=$O$14,$O$2=$O$15,$O$2=$O$20,$O$2=$O$21),Best1!$F$12,IF(OR($O$2=$O$7,$O$2=$O$8,$O$2=$O$18,$O$2=$O$19),Best1!$F$14,IF(OR($O$2=$O$5,$O$2=$O$6,$O$2=$O$12,$O$2=$O$13),Best1!$F$15,\"\")))))))","v":""},"","",{"$f":"IF(ISBLANK(K30),\"\",IF(Best1!$C$3=\"\",\"\",ROUND(SUM(Best1!$C$3:$C$6),1)))","v":""},"","",{"$f":"IF(ISBLANK(K30),\"\",IF(Best1!$B$3=\"\",\"\",ROUND(AVERAGE(Best1!$D$3:$D$6),1)))","v":""},"","",null,"",null,null,null,null,null,null,null,"","","","","","","","","","","","","","","","","","","","","","","",""]
[27,null,null,null,null,null,null,null,null,null,null,null,null,null,null,0,0,"","","","","","",0,0,"","","","","","",0,0,"","","","","","",{"$f":"IF(ISBLANK(E31),\"\",IF(OR($O$2=$O$5,$O$2=$O$6,$O$2=$O$12,$O$2=$O$13),Best1!$F$10,IF(OR($O$2=$O$7,$O$2=$O$8,$O$2=$O$18,$O$2=$O$19),Best1!$F$11,IF(OR($O$2=$O$9,$O$2=$O$10,$O$2=$O$24,$O$2=$O$25),Best1!$F$12,IF(OR($O$2=$O$14,$O$2=$O$15,$O$2=$O$20,$O$2=$O$21),Best1!$F$13,IF(OR($O$2=$O$16,$O$2=$O$17,$O$2=$O$26,$O$2=$O$27),Best1!$F$14,IF(OR($O$2=$O$22,$O$2=$O$23,$O$2=$O$28,$O$2=$O$29),Best1!$F$15,\"\")))))))","v":""},{"$f":"IF(F31=\"\",\"\",F31)","v":""},"",{"$f":"IF(ISBLANK(H31),\"\",IF(OR($O$2=$O$5,$O$2=$O$7,$O$2=$O$27,$O$2=$O$29),Best1!$F$13,IF(OR($O$2=$O$18,$O$2=$O$20,$O$2=$O$24,$O$2=$O$26),Best1!$F$10,IF(OR($O$2=$O$12,$O$2=$O$14,$O$2=$O$25,$O$2=$O$28),Best1!$F$11,IF(OR($O$2=$O$13,$O$2=$O$16,$O$2=$O$19,$O$2=$O$22),Best1!$F$12,IF(OR($O$2=$O$6,$O$2=$O$9,$O$2=$O$21,$O$2=$O$23),Best1!$F$14,IF(OR($O$2=$O$8,$O$2=$O$10,$O$2=$O$15,$O$2=$O$17),Best1!$F$15,\"\")))))))","v":""},{"$f":"IF(H31=\"\",\"\",H31)","v":""},"",{"$f":"IF(ISBLANK(I31),\"\",IF(OR($O$2=$O$9,$O$2=$O$10,$O$2=$O$24,$O$2=$O$25),Best1!$F$13,IF(OR($O$2=$O$22,$O$2=$O$23,$O$2=$O$28,$O$2=$O$29),Best1!$F$10,IF(OR($O$2=$O$16,$O$2=$O$17,$O$2=$O$26,$O$2=$O$27),Best1!$F$11,IF(OR($O$2=$O$14,$O$2=$O$15,$O$2=$O$20,$O$2=$O$21),Best1!$F$12,IF(OR($O$2=$O$7,$O$2=$O$8,$O$2=$O$18,$O$2=$O$19),Best1!$F$14,IF(OR($O$2=$O$5,$O$2=$O$6,$O$2=$O$12,$O$2=$O$13),Best1!$F$15,\"\")))))))","v":""},{"$f":"IF(J31=\"\",\"\",J31)","v":""},"",{"$f":"IF(ISBLANK(K31),\"\",IF(Best1!$C$3=\"\",\"\",ROUND(SUM(Best1!$C$3:$C$6),1)))","v":""},{"$f":"IF(K31=\"\",\"\",K31)","v":""},"",{"$f":"IF(ISBLANK(K31),\"\",IF(Best1!$B$3=\"\",\"\",ROUND(AVERAGE(Best1!$D$3:$D$6),1)))","v":""},{"$f":"IF(L31=\"\",\"\",L31)","v":""},"",null,"",null,null,null,null,null,null,null,"","","","","","","","","","","","","","","","","","",{"$f":"IF(OR(AH31=\"\",AH31=0),\"\",AH31*1)","v":""},"","","","",""]
[28,null,null,null,null,null,null,null,null,null,null,null,null,null,null,0,0,"","","","","","",0,0,"","","","","","",0,0,"","","","","","",{"$f":"IF(ISBLANK(E32),\"\",IF(OR($O$2=$O$5,$O$2=$O$6,$O$2=$O$12,$O$2=$O$13),Best1!$F$10,IF(OR($O$2=$O$7,$O$2=$O$8,$O$2=$O$18,$O$2=$O$19),Best1!$F$11,IF(OR($O$2=$O$9,$O$2=$O$10,$O$2=$O$24,$O$2=$O$25),Best1!$F$12,IF(OR($O$2=$O$14,$O$2=$O$15,$O$2=$O$20,$O$2=$O$21),Best1!$F$13,IF(OR($O$2=$O$16,$O$2=$O$17,$O$2=$O$26,$O$2=$O$27),Best1!$F$14,IF(OR($O$2=$O$22,$O$2=$O$23,$O$2=$O$28,$O$2=$O$29),Best1!$F$15,\"\")))))))","v":""},"","",{"$f":"IF(ISBLANK(H32),\"\",IF(OR($O$2=$O$5,$O$2=$O$7,$O$2=$O$27,$O$2=$O$29),Best1!$F$13,IF(OR($O$2=$O$18,$O$2=$O$20,$O$2=$O$24,$O$2=$O$26),Best1!$F$10,IF(OR($O$2=$O$12,$O$2=$O$14,$O$2=$O$25,$O$2=$O$28),Best1!$F$11,IF(OR($O$2=$O$13,$O$2=$O$16,$O$2=$O$19,$O$2=$O$22),Best1!$F$12,IF(OR($O$2=$O$6,$O$2=$O$9,$O$2=$O$21,$O$2=$O$23),Best1!$F$14,IF(OR($O$2=$O$8,$O$2=$O$10,$O$2=$O$15,$O$2=$O$17),Best1!$F$15,\"\")))))))","v":""},"","",{"$f":"IF(ISBLANK(I32),\"\",IF(OR($O$2=$O$9,$O$2=$O$10,$O$2=$O$24,$O$2=$O$25),Best1!$F$13,IF(OR($O$2=$O$22,$O$2=$O$23,$O$2=$O$28,$O$2=$O$29),Best1!$F$10,IF(OR($O$2=$O$16,$O$2=$O$17,$O$2=$O$26,$O$2=$O$27),Best1!$F$11,IF(OR($O$2=$O$14,$O$2=$O$15,$O$2=$O$20,$O$2=$O$21),Best1!$F$12,IF(OR($O$2=$O$7,$O$2=$O$8,$O$2=$O$18,$O$2=$O$19),Best1!$F$14,IF(OR($O$2=$O$5,$O$2=$O$6,$O$2=$O$12,$O$2=$O$13),Best1!$F$15,\"\")))))))","v":""},"","",{"$f":"IF(ISBLANK(K32),\"\",IF(Best1!$C$3=\"\",\"\",ROUND(SUM(Best1!$C$3:$C$6),1)))","v":""},"","",{"$f":"IF(ISBLANK(K32),\"\",IF(Best1!$B$3=\"\",\"\",ROUND(AVERAGE(Best1!$D$3:$D$6),1)))","v":""},"","",null,"",null,null,null,null,null,null,null,"","","","","","","","","","","","","","","","",{"$f":"IF(OR(AF32=\"\",AF32=0),\"\",AF32*1)","v":""},"","","","","","",""]
[]
[null,null,null,null,null,null,null,null,null,null,null,null,null,null,null,{"$f":"MIN(BW5:BW32)","v":0},{"$f":"MIN(BX5:BX32)","v":0},{"$f":"MIN(BY5:BY32)","v":0},0,0,0,0,0,0,0,0,0,0,0,0,0,0,0,0,0,0,0,0,0,null,null,null,null,null,null,null,null,null,null,null,null,null,null,null,null,null,null,null,null,null,null,null,null,{"$f":"IF(MIN(BL5:BL32)=0,\"\",MIN(BL5:BL32))","v":""},{"$f":"IF(MIN(BM5:BM32)=0,\"\",MIN(BM5:BM32))","v":""},"","","","","","","","","","","","",{"$f":"IF(MIN(BZ5:BZ32)=0,\"\",MIN(BZ5:BZ32))","v":""},"","","","","","","","",""]
[]
[]
[]
[]
[]
[]
[]
[null,null,null,null,null,null,null,null,null,null,null,null,null,null,null,null,null,null,null,null,null,null,null,null,null,null,null,null,null,null,null,null,null,null,null,null,null,null,null,null,null,null,null,null,null,null,null,null,null,{"$f":"IF(AND(AX5=\"\",AX33=\"\"),\"\",MIN(AX5:AX41))","v":""},null,null,{"$f":"IF(AND(BA5=\"\",BA33=\"\"),\"\",MAX(BA5:BA41))","v":""}]
[]
[]
[]
[]
[]
[]
[]
[null,null,null,null,null,null,null,null,null,null,null,null,null,null,null,null,null,null,null,null,null,null,null,null,null,null,null,null,null,500,500,500,500,{"$f":"AD50*1","v":500},{"$f":"AE50*1","v":500},{"$f":"AF50*1","v":500},500]
[null,null,null,null,null,null,null,null,null,null,null,null,null,null,null,null,null,null,null,null,null,null,null,null,null,null,null,null,null,500,500,500,500,{"$f":"AD51*1","v":500},{"$f":"AE51*1","v":500},{"$f":"AF51*1","v":500},{"$f":"AG51*1","v":500}]
[null,null,null,null,null,null,null,null,null,null,null,null,null,null,null,null,null,null,null,null,null,null,null,null,null,null,null,null,null,500,500,500,500,500,500,500,500]
[null,null,null,null,null,null,null,null,null,null,null,null,null,null,null,null,null,null,null,null,null,null,null,null,null,null,null,null,null,500,500,500,500,500,500,500,500]
[null,null,null,null,null,null,null,null,null,null,null,null,null,null,null,null,null,null,null,null,null,null,null,null,null,null,null,null,null,500,500,500,500,500,500,500,500]
[null,null,null,null,null,null,null,null,null,null,null,null,null,null,null,null,null,null,null,null,null,null,null,null,null,null,null,null,null,500,500,500,500,500,500,500,500]
[null,null,null,null,null,null,null,null,null,null,null,null,null,null,null,null,null,null,null,null,null,null,null,null,null,null,null,null,null,500,500,500,500,500,500,500,500]
[null,null,null,null,null,null,null,null,null,null,null,null,null,null,null,null,null,null,null,null,null,null,null,null,null,null,null,null,null,500,500,500,500,500,500,500,500]
[null,null,null,null,null,null,null,null,null,null,null,null,null,null,null,null,null,null,null,null,null,null,null,null,null,null,null,null,null,500,500,500,500,500,500,500,500]
[null,null,null,null,null,null,null,null,null,null,null,null,null,null,null,null,null,null,null,null,null,null,null,null,null,null,null,null,null,500,500,500,500,500,500,500,500]
[null,null,null,null,null,null,null,null,null,null,null,null,null,null,null,null,null,null,null,null,null,null,null,null,null,null,null,null,null,500,500,500,500,500,500,500,500]
[null,null,null,null,null,null,null,null,null,null,null,null,null,null,null,null,null,null,null,null,null,null,null,null,null,null,null,null,null,500,500,500,500,500,500,500,500]
[null,null,null,null,null,null,null,null,null,null,null,null,null,null,null,null,null,null,null,null,null,null,null,null,null,null,null,null,null,500,500,500,500,500,500,500,500]
[null,null,null,null,null,null,null,null,null,null,null,null,null,null,null,null,null,null,null,null,null,null,null,null,null,null,null,null,null,500,500,500,500,500,500,500,500]
[null,null,null,null,null,null,null,null,null,null,null,null,null,null,null,null,null,null,null,null,null,null,null,null,null,null,null,null,null,500,500,500,500,500,500,500,500]
[null,null,null,null,null,null,null,null,null,null,null,null,null,null,null,null,null,null,null,null,null,null,null,null,null,null,null,null,null,500,500,500,500,500,500,500,500]
[null,null,null,null,null,null,null,null,null,null,null,null,null,null,null,null,null,null,null,null,null,null,null,null,null,null,null,null,null,500,500,500,500,500,500,500,500]
[null,null,null,null,null,null,null,null,null,null,null,null,null,null,null,null,null,null,null,null,null,null,null,null,null,null,null,null,null,500,500,500,500,500,500,500,500]
[null,null,null,null,null,null,null,null,null,null,null,null,null,null,null,null,null,null,null,null,null,null,null,null,null,null,null,null,null,500,500,500,500,500,500,500,500]
[null,null,null,null,null,null,null,null,null,null,null,null,null,null,null,null,null,null,null,null,null,null,null,null,null,null,null,null,null,500,500,500,500,500,500,500,500]
[null,null,null,null,null,null,null,null,null,null,null,null,null,null,null,null,null,null,null,null,null,null,null,null,null,null,null,null,null,500,500,500,500,500,500,500,500]
[null,null,null,null,null,null,null,null,null,null,null,null,null,null,null,null,null,null,null,null,null,null,null,null,null,null,null,null,null,500,500,500,500,500,500,500,500]
[null,null,null,null,null,null,null,null,null,null,null,null,null,null,null,null,null,null,null,null,null,null,null,null,null,null,null,null,null,500,500,500,500,500,500,500,500]
[null,null,null,null,null,null,null,null,null,null,null,null,null,null,null,null,null,null,null,null,null,null,null,null,null,null,null,null,null,500,500,500,500,500,500,500,500]
[]
[]
[]
[]
[]
[]
[]
[]
[]
[]
[]
[]
[]
[]
[]
[null,null,null,null,null,null,null,null,null,null,null,null,null,null,null,null,null,null,null,null,null,null,null,null,null,null,null,null,null,{"$f":"IF(MIN(AD50:AD73)=0,\"\",MIN(AD50:AD73))","v":500},500,500,500,500,500,500,500]
["3,98",null,null,null,null,null,null,null,null,null,null,null,null,null,null,null,null,null,null,null,null,null,null,null,null,null,null,null,null,500,500,500,500,{"$f":"AD90*1","v":500},{"$f":"AE90*1","v":500},{"$f":"AF90*1","v":500},{"$f":"AG90*1","v":500}]
[null,null,null,null,null,null,null,null,null,null,null,null,null,null,null,null,null,null,null,null,null,null,null,null,null,null,null,null,null,500,500,500,500,{"$f":"AD91*1","v":500},{"$f":"AE91*1","v":500},{"$f":"AF91*1","v":500},{"$f":"AG91*1","v":500}]
[null,null,null,null,null,null,null,null,null,null,null,null,null,null,null,null,null,null,null,null,null,null,null,null,null,null,null,null,null,500,500,500,500,500,500,500,500]
[null,null,null,null,null,null,null,null,null,null,null,null,null,null,null,null,null,null,null,null,null,null,null,null,null,null,null,null,null,500,500,500,500,500,500,500,500]
[null,null,null,null,null,null,null,null,null,null,null,null,null,null,null,null,null,null,null,null,null,null,null,null,null,null,null,null,null,500,500,500,500,500,500,500,500]
[null,null,null,null,null,null,null,null,null,null,null,null,null,null,null,null,null,null,null,null,null,null,null,null,null,null,null,null,null,500,500,500,500,500,500,500,500]
[null,null,null,null,null,null,null,null,null,null,null,null,null,null,null,null,null,null,null,null,null,null,null,null,null,null,null,null,null,500,500,500,500,500,500,500,500]
[null,null,null,null,null,null,null,null,null,null,null,null,null,null,null,null,null,null,null,null,null,null,null,null,null,null,null,null,null,500,500,500,500,500,500,500,500]
[null,null,null,null,null,null,null,null,null,null,null,null,null,null,null,null,null,null,null,null,null,null,null,null,null,null,null,null,null,500,500,500,500,500,500,500,500]
[null,null,null,null,null,null,null,null,null,null,null,null,null,null,null,null,null,null,null,null,null,null,null,null,null,null,null,null,null,500,500,500,500,500,500,500,500]
[null,null,null,null,null,null,null,null,null,null,null,null,null,null,null,null,null,null,null,null,null,null,null,null,null,null,null,null,null,500,500,500,500,500,500,500,500]
[null,null,null,null,null,null,null,null,null,null,null,null,null,null,null,null,null,null,null,null,null,null,null,null,null,null,null,null,null,500,500,500,500,500,500,500,500]
[null,null,null,null,null,null,null,null,null,null,null,null,null,null,null,null,null,null,null,null,null,null,null,null,null,null,null,null,null,500,500,500,500,500,500,500,500]
[null,null,null,null,null,null,null,null,null,null,null,null,null,null,null,null,null,null,null,null,null,null,null,null,null,null,null,null,null,500,500,500,500,500,500,500,500]
[null,null,null,null,null,null,null,null,null,null,null,null,null,null,null,null,null,null,null,null,null,null,null,null,null,null,null,null,null,500,500,500,500,500,500,500,500]
[null,null,null,null,null,null,null,null,null,null,null,null,null,null,null,null,null,null,null,null,null,null,null,null,null,null,null,null,null,500,500,500,500,500,500,500,500]
[null,null,null,null,null,null,null,null,null,null,null,null,null,null,null,null,null,null,null,null,null,null,null,null,null,null,null,null,null,500,500,500,500,500,500,500,500]
[null,null,null,null,null,null,null,null,null,null,null,null,null,null,null,null,null,null,null,null,null,null,null,null,null,null,null,null,null,500,500,500,500,500,500,500,500]
[null,null,null,null,null,null,null,null,null,null,null,null,null,null,null,null,null,null,null,null,null,null,null,null,null,null,null,null,null,500,500,500,500,500,500,500,500]
[null,null,null,null,null,null,null,null,null,null,null,null,null,null,null,null,null,null,null,null,null,null,null,null,null,null,null,null,null,500,500,500,500,500,500,500,500]
[null,null,null,null,null,null,null,null,null,null,null,null,null,null,null,null,null,null,null,null,null,null,null,null,null,null,null,null,null,500,500,500,500,500,500,500,500]
[null,null,null,null,null,null,null,null,null,null,null,null,null,null,null,null,null,null,null,null,null,null,null,null,null,null,null,null,null,500,500,500,500,500,500,500,500]
[null,null,null,null,null,null,null,null,null,null,null,null,null,null,null,null,null,null,null,null,null,null,null,null,null,null,null,null,null,500,500,500,500,500,500,500,500]
[null,null,null,null,null,null,null,null,null,null,null,null,null,null,null,null,null,null,null,null,null,null,null,null,null,null,null,null,null,500,500,500,500,500,500,500,500]
[]
[]
[]
[]
[]
[]
[]
[]
[]
[]
[]
[]
[]
[]
[]
[null,null,null,null,null,null,null,null,null,null,null,null,null,null,null,null,null,null,null,null,null,null,null,null,null,null,null,null,null,{"$f":"IF(MIN(AD90:AD113)=0,\"\",MIN(AD90:AD113))","v":500},500,500,500,500,500,500,500]
[null,null,null,null,null,null,null,null,null,null,null,null,null,null,null,null,null,null,null,null,null,null,null,null,null,null,null,null,null,null,null,null,null,{"$f":"IF(MIN(AH89,AH129)=500,\"\",MIN(AH89,AH129))","v":""},{"$f":"IF(MIN(AI89,AI129)=500,\"\",MIN(AI89,AI129))","v":""},"",""]

{"sheet":"Best1","index":12,"n_rows":15,"n_cols":18,"rows_kept":15,"cut":false,"hidden":false,"merged":[[0,0,0,12]]}
["Records équipe 1"]
[null,"Relayeurs",{"$f":"CONCATENATE(\"Temps sur \",Resultats!$T$9,\" m en sec\")","v":"Temps sur 50 m en sec"},{"$f":"CONCATENATE(\"Vitesse sur \",Resultats!$T$9,\" m en km/h\")","v":"Vitesse sur 50 m en km/h"},"\nVitesse du\ncoureur lancé\nen km/h \n\n",{"$f":"CONCATENATE(\"Meilleure transmission\n avec  A donneur  \",\n\"(en secondes)\n  \",\n  IF(B3=\"\",A3,B3))","v":"Meilleure transmission\n avec  A donneur  (en secondes)\n  A"},{"$f":"CONCATENATE(\"Meilleure transmission\n avec  A\",\n \" donneur\n(en km/h)\n    \",  ,IF(B3=\"\",A3,B3))","v":"Meilleure transmission\n avec  A donneur\n(en km/h)\n    A"},{"$f":"CONCATENATE(\"Meilleure transmission\n avec  B  donneur\n(en secondes)\n\",IF(B4=\"\",A4,B4))","v":"Meilleure transmission\n avec  B  donneur\n(en secondes)\nB"},{"$f":"CONCATENATE(\"Meilleure transmission\n avec  B \",\n \" donneur\n(en km/h)\n   \",\nIF(B4=\"\",A4,B4),)","v":"Meilleure transmission\n avec  B  donneur\n(en km/h)\n   B"},{"$f":"CONCATENATE(\"Meilleure transmission\n avec  C donneur\n(en secondes)\n\", IF(B5=\"\",A5,B5),)","v":"Meilleure transmission\n avec  C donneur\n(en secondes)\nC"},{"$f":"CONCATENATE(\"Meilleure transmission\n avec  C  donneur\n(en km/h)  \n\",IF(B5=\"\",A5,B5))","v":"Meilleure transmission\n avec  C  donneur\n(en km/h)  \nC"},{"$f":"CONCATENATE(\"Meilleure transmission\n avec  D donneur\n(en secondes)\n\",\nIF(B6=\"\",A6,B6))","v":"Meilleure transmission\n avec  D donneur\n(en secondes)\nD"},{"$f":"CONCATENATE(\"Meilleure transmission\n avec  \",\n\" donneur\n(en km/h)\n\",IF(B6=\"\",A6,B6),\"\")","v":"Meilleure transmission\n avec   donneur\n(en km/h)\nD"}]
["A",{"$f":"IF(Saisiegroupes!C5=\"\",\"\",Saisiegroupes!C5)","v":""},{"$f":"IF(Archresultats1!F130=\"\",\"\",Archresultats1!F130)","v":""},{"$f":"IF(C3=\"\",\"\",ROUND(((Resultats!$T$9/Best1!C3)*3.6),1))","v":""},null,null,null,{"$f":"IF(Archresultats1!BR34=\"\",\"\",Archresultats1!BR34)","v":""},{"$f":"IF(Archresultats1!BS34=\"\",\"\",Archresultats1!BS34)","v":""},{"$f":"IF(Archresultats1!BX34=\"\",\"\",Archresultats1!BX34)","v":""},{"$f":"IF(Archresultats1!BY34=\"\",\"\",Archresultats1!BY34)","v":""},{"$f":"IF(Archresultats1!CD34=\"\",\"\",Archresultats1!CD34)","v":""},{"$f":"IF(Archresultats1!CE34=\"\",\"\",Archresultats1!CE34)","v":""},null,null,null,null,{"$f":"IF(E3=\"\",\"\",E3*1)","v":""}]
["B",{"$f":"IF(Saisiegroupes!C6=\"\",\"\",Saisiegroupes!C6)","v":""},{"$f":"IF(Archresultats1!G130=\"\",\"\",Archresultats1!G130)","v":""},{"$f":"IF(C4=\"\",\"\",ROUND(((Resultats!$T$9/Best1!C4)*3.6),1))","v":""},null,{"$f":"IF(Archresultats1!BL34=\"\",\"\",Archresultats1!BL34)","v":""},{"$f":"IF(Archresultats1!BM34=\"\",\"\",Archresultats1!BM34)","v":""},null,null,{"$f":"IF(Archresultats1!BZ34=\"\",\"\",Archresultats1!BZ34)","v":""},{"$f":"IF(Archresultats1!CA34=\"\",\"\",Archresultats1!CA34)","v":""},{"$f":"IF(Archresultats1!CF34=\"\",\"\",Archresultats1!CF34)","v":""},{"$f":"IF(Archresultats1!CG34=\"\",\"\",Archresultats1!CG34)","v":""},null,null,null,null,{"$f":"IF(E4=\"\",\"\",E4*1)","v":""}]
["C",{"$f":"IF(Saisiegroupes!C7=\"\",\"\",Saisiegroupes!C7)","v":""},{"$f":"IF(Archresultats1!H130=\"\",\"\",Archresultats1!H130)","v":""},{"$f":"IF(C5=\"\",\"\",ROUND(((Resultats!$T$9/Best1!C5)*3.6),1))","v":""},null,{"$f":"IF(Archresultats1!BN34=\"\",\"\",Archresultats1!BN34)","v":""},{"$f":"IF(Archresultats1!BO34=\"\",\"\",Archresultats1!BO34)","v":""},{"$f":"IF(Archresultats1!BT34=\"\",\"\",Archresultats1!BT34)","v":""},{"$f":"IF(Archresultats1!BU34=\"\",\"\",Archresultats1!BU34)","v":""},null,null,{"$f":"IF(Archresultats1!CH34=\"\",\"\",Archresultats1!CH34)","v":""},{"$f":"IF(Archresultats1!CI34=\"\",\"\",Archresultats1!CI34)","v":""},null,null,null,null,""]
["D",{"$f":"IF(Saisiegroupes!C8=\"\",\"\",Saisiegroupes!C8)","v":""},{"$f":"IF(Archresultats1!I130=\"\",\"\",Archresultats1!I130)","v":""},{"$f":"IF(C6=\"\",\"\",ROUND(((Resultats!$T$9/Best1!C6)*3.6),1))","v":""},null,{"$f":"IF(Archresultats1!BP34=\"\",\"\",Archresultats1!BP34)","v":""},{"$f":"IF(Archresultats1!BQ34=\"\",\"\",Archresultats1!BQ34)","v":""},{"$f":"IF(Archresultats1!BV34=\"\",\"\",Archresultats1!BV34)","v":""},{"$f":"IF(Archresultats1!BW34=\"\",\"\",Archresultats1!BW34)","v":""},{"$f":"IF(Archresultats1!CB34=\"\",\"\",Archresultats1!CB34)","v":""},{"$f":"IF(Archresultats1!CC34=\"\",\"\",Archresultats1!CC34)","v":""},null,null,null,null,null,null,""]
[]
[]
[null,null,null,null,"Vitesse moy théorique des binômes lancés sur ",null,null,{"$f":"CONCATENATE(Resultats!T8,\"m\")","v":"30m"},null,"Meilleur temps\n relais","Vitesse meilleur\n relais"]
[null,null,null,null,"AB/BA",{"$f":"IF(R3=\"\",\"\",ROUND(AVERAGE(R3,R4),1))","v":""},"km/h",null,null,{"$f":"Archresultats1!AX42","v":""},{"$f":"Archresultats1!BA42","v":""}]
[null,null,null,null,"AC/CA",{"$f":"IF(R3=\"\",\"\",ROUND(AVERAGE(R3,R5),1))","v":""},"km/h"]
[null,null,null,null,"AD/DA",{"$f":"IF(R3=\"\",\"\",ROUND(AVERAGE(R3,R6),1))","v":""},"km/h"]
[null,null,null,null,"BC/CB",{"$f":"IF(R4=\"\",\"\",ROUND(AVERAGE(R4,R5),1))","v":""},"km/h"]
[null,null,null,null,"BD/DB",{"$f":"IF(AND(R4=\"\",R6=\"\"),\"\",(AVERAGE(R4,R6)))","v":""},"km/h"]
[null,null,null,null,"CD/DC",{"$f":"IF(R6=\"\",\"\",ROUND(AVERAGE(R5,R6),1))","v":""},"km/h"]

{"sheet":"Best2","index":13,"n_rows":15,"n_cols":18,"rows_kept":15,"cut":false,"hidden":false,"merged":[[0,0,0,12]]}
["Records équipe 2"]
[null,"Relayeurs",{"$f":"CONCATENATE(\"Temps sur \",Resultats!$T$9,\" m en sec\")","v":"Temps sur 50 m en sec"},{"$f":"CONCATENATE(\"Vitesse sur \",Resultats!$T$9,\" m en km/h\")","v":"Vitesse sur 50 m en km/h"},"\nVitesse du\ncoureur lancé\nen km/h \n\n",{"$f":"CONCATENATE(\"Meilleure transmission\n avec  A donneur  \",\n\"(en secondes)\n  \",\n  IF(B3=\"\",A3,B3))","v":"Meilleure transmission\n avec  A donneur  (en secondes)\n  A"},{"$f":"CONCATENATE(\"Meilleure transmission\n avec  A\",\n \" donneur\n(en km/h)\n    \",  ,IF(B3=\"\",A3,B3))","v":"Meilleure transmission\n avec  A donneur\n(en km/h)\n    A"},{"$f":"CONCATENATE(\"Meilleure transmission\n avec  B  donneur\n(en secondes)\n\",IF(B4=\"\",A4,B4))","v":"Meilleure transmission\n avec  B  donneur\n(en secondes)\nB"},{"$f":"CONCATENATE(\"Meilleure transmission\n avec  B \",\n \" donneur\n(en km/h)\n   \",\nIF(B4=\"\",A4,B4),)","v":"Meilleure transmission\n avec  B  donneur\n(en km/h)\n   B"},{"$f":"CONCATENATE(\"Meilleure transmission\n avec  C donneur\n(en secondes)\n\", IF(B5=\"\",A5,B5),)","v":"Meilleure transmission\n avec  C donneur\n(en secondes)\nC"},{"$f":"CONCATENATE(\"Meilleure transmission\n avec  C  donneur\n(en km/h)  \n\",IF(B5=\"\",A5,B5))","v":"Meilleure transmission\n avec  C  donneur\n(en km/h)  \nC"},{"$f":"CONCATENATE(\"Meilleure transmission\n avec  D donneur\n(en secondes)\n\",\nIF(B6=\"\",A6,B6))","v":"Meilleure transmission\n avec  D donneur\n(en secondes)\nD"},{"$f":"CONCATENATE(\"Meilleure transmission\n avec  \",\n\" donneur\n(en km/h)\n\",IF(B6=\"\",A6,B6),\"\")","v":"Meilleure transmission\n avec   donneur\n(en km/h)\nD"}]
["A",{"$f":"IF(Saisiegroupes!C11=\"\",\"\",Saisiegroupes!C11)","v":""},{"$f":"IF(Archresultats2!J130=\"\",\"\",Archresultats2!J130)","v":""},{"$f":"IF(C3=\"\",\"\",ROUND(((Resultats!$T$9/Best2!C3)*3.6),1))","v":""},null,null,null,{"$f":"IF(Archresultats2!BR34=\"\",\"\",Archresultats2!BR34)","v":""},{"$f":"IF(Archresultats2!BS34=\"\",\"\",Archresultats2!BS34)","v":""},{"$f":"IF(Archresultats2!BX34=\"\",\"\",Archresultats2!BX34)","v":""},{"$f":"IF(Archresultats2!BY34=\"\",\"\",Archresultats2!BY34)","v":""},{"$f":"IF(Archresultats2!CD34=\"\",\"\",Archresultats2!CD34)","v":""},{"$f":"IF(Archresultats2!CE34=\"\",\"\",Archresultats2!CE34)","v":""},null,null,null,null,{"$f":"IF(E3=\"\",\"\",E3*1)","v":""}]
["B",{"$f":"IF(Saisiegroupes!C12=\"\",\"\",Saisiegroupes!C12)","v":""},{"$f":"IF(Archresultats2!K130=\"\",\"\",Archresultats2!K130)","v":""},{"$f":"IF(C4=\"\",\"\",ROUND(((Resultats!$T$9/Best2!C4)*3.6),1))","v":""},null,{"$f":"IF(Archresultats2!BL34=\"\",\"\",Archresultats2!BL34)","v":""},{"$f":"IF(Archresultats2!BM34=\"\",\"\",Archresultats2!BM34)","v":""},null,null,{"$f":"IF(Archresultats2!BZ34=\"\",\"\",Archresultats2!BZ34)","v":""},{"$f":"IF(Archresultats2!CA34=\"\",\"\",Archresultats2!CA34)","v":""},{"$f":"IF(Archresultats2!CF34=\"\",\"\",Archresultats2!CF34)","v":""},{"$f":"IF(Archresultats2!CG34=\"\",\"\",Archresultats2!CG34)","v":""},null,null,null,null,{"$f":"IF(E4=\"\",\"\",E4*1)","v":""}]
["C",{"$f":"IF(Saisiegroupes!C13=\"\",\"\",Saisiegroupes!C13)","v":""},{"$f":"IF(Archresultats2!L130=\"\",\"\",Archresultats2!L130)","v":""},{"$f":"IF(C5=\"\",\"\",ROUND(((Resultats!$T$9/Best2!C5)*3.6),1))","v":""},null,{"$f":"IF(Archresultats2!BN34=\"\",\"\",Archresultats2!BN34)","v":""},{"$f":"IF(Archresultats2!BO34=\"\",\"\",Archresultats2!BO34)","v":""},{"$f":"IF(Archresultats2!BT34=\"\",\"\",Archresultats2!BT34)","v":""},{"$f":"IF(Archresultats2!BU34=\"\",\"\",Archresultats2!BU34)","v":""},null,null,{"$f":"IF(Archresultats2!CH34=\"\",\"\",Archresultats2!CH34)","v":""},{"$f":"IF(Archresultats2!CI34=\"\",\"\",Archresultats2!CI34)","v":""},null,null,null,null,""]
["D",{"$f":"IF(Saisiegroupes!C14=\"\",\"\",Saisiegroupes!C14)","v":""},{"$f":"IF(Archresultats2!M130=\"\",\"\",Archresultats2!M130)","v":""},{"$f":"IF(C6=\"\",\"\",ROUND(((Resultats!$T$9/Best2!C6)*3.6),1))","v":""},null,{"$f":"IF(Archresultats2!BP34=\"\",\"\",Archresultats2!BP34)","v":""},{"$f":"IF(Archresultats2!BQ34=\"\",\"\",Archresultats2!BQ34)","v":""},{"$f":"IF(Archresultats2!BV34=\"\",\"\",Archresultats2!BV34)","v":""},{"$f":"IF(Archresultats2!BW34=\"\",\"\",Archresultats2!BW34)","v":""},{"$f":"IF(Archresultats2!CB34=\"\",\"\",Archresultats2!CB34)","v":""},{"$f":"IF(Archresultats2!CC34=\"\",\"\",Archresultats2!CC34)","v":""},null,null,null,null,null,null,""]
[]
[]
[null,null,null,null,"Vitesse moyenne théorique des binômes lancés sur ",null,null,{"$f":"CONCATENATE(Resultats!T8,\"m\")","v":"30m"},null,"Meilleur temps\n relais","Vitesse meilleur\n relais"]
[null,null,null,null,"AB/BA",{"$f":"IF(R3=\"\",\"\",ROUND(AVERAGE(R3,R4),1))","v":""},"km/h",null,null,{"$f":"INDEX(Archresultats2!BA5:BD32,MATCH(K10,Archresultats2!BA5:BA32,0),4)","v":""},{"$f":"Archresultats2!BA42","v":""}]
[null,null,null,null,"AC/CA",{"$f":"IF(R3=\"\",\"\",ROUND(AVERAGE(R3,R5),1))","v":""},"km/h"]
[null,null,null,null,"AD/DA",{"$f":"IF(R3=\"\",\"\",ROUND(AVERAGE(R3,R6),1))","v":""},"km/h"]
[null,null,null,null,"BC/CB",{"$f":"IF(R4=\"\",\"\",ROUND(AVERAGE(R4,R5),1))","v":""},"km/h"]
[null,null,null,null,"BD/DB",{"$f":"IF(R4=\"\",\"\",ROUND(AVERAGE(R4,R6),1))","v":""},"km/h"]
[null,null,null,null,"CD/DC",{"$f":"IF(R6=\"\",\"\",ROUND(AVERAGE(R5,R6),1))","v":""},"km/h"]

{"sheet":"Best3","index":14,"n_rows":15,"n_cols":18,"rows_kept":15,"cut":false,"hidden":false,"merged":[[0,0,0,12]]}
["Records équipe 3"]
[null,"Relayeurs",{"$f":"CONCATENATE(\"Temps sur \",Resultats!$T$9,\" m en sec\")","v":"Temps sur 50 m en sec"},{"$f":"CONCATENATE(\"Vitesse sur \",Resultats!$T$9,\" m en km/h\")","v":"Vitesse sur 50 m en km/h"},"\nVitesse du\ncoureur lancé\nen km/h \n\n",{"$f":"CONCATENATE(\"Meilleure transmission\n avec  A donneur  \",\n\"(en secondes)\n  \",\n  IF(B3=\"\",A3,B3))","v":"Meilleure transmission\n avec  A donneur  (en secondes)\n  A"},{"$f":"CONCATENATE(\"Meilleure transmission\n avec  A\",\n \" donneur\n(en km/h)\n    \",  ,IF(B3=\"\",A3,B3))","v":"Meilleure transmission\n avec  A donneur\n(en km/h)\n    A"},{"$f":"CONCATENATE(\"Meilleure transmission\n avec  B  donneur\n(en secondes)\n\",IF(B4=\"\",A4,B4))","v":"Meilleure transmission\n avec  B  donneur\n(en secondes)\nB"},{"$f":"CONCATENATE(\"Meilleure transmission\n avec  B \",\n \" donneur\n(en km/h)\n   \",\nIF(B4=\"\",A4,B4),)","v":"Meilleure transmission\n avec  B  donneur\n(en km/h)\n   B"},{"$f":"CONCATENATE(\"Meilleure transmission\n avec  C donneur\n(en secondes)\n\", IF(B5=\"\",A5,B5),)","v":"Meilleure transmission\n avec  C donneur\n(en secondes)\nC"},{"$f":"CONCATENATE(\"Meilleure transmission\n avec  C  donneur\n(en km/h)  \n\",IF(B5=\"\",A5,B5))","v":"Meilleure transmission\n avec  C  donneur\n(en km/h)  \nC"},{"$f":"CONCATENATE(\"Meilleure transmission\n avec  D donneur\n(en secondes)\n\",\nIF(B6=\"\",A6,B6))","v":"Meilleure transmission\n avec  D donneur\n(en secondes)\nD"},{"$f":"CONCATENATE(\"Meilleure transmission\n avec  \",\n\" donneur\n(en km/h)\n\",IF(B6=\"\",A6,B6),\"\")","v":"Meilleure transmission\n avec   donneur\n(en km/h)\nD"}]
["A",{"$f":"IF(Saisiegroupes!C17=\"\",\"\",Saisiegroupes!C17)","v":""},{"$f":"IF(Archresultats3!N130=\"\",\"\",Archresultats3!N130)","v":""},{"$f":"IF(C3=\"\",\"\",ROUND(((Resultats!$T$9/Best3!C3)*3.6),1))","v":""},null,null,null,{"$f":"IF(Archresultats3!BR34=\"\",\"\",Archresultats3!BR34)","v":""},{"$f":"IF(Archresultats3!BS34=\"\",\"\",Archresultats3!BS34)","v":""},{"$f":"IF(Archresultats3!BX34=\"\",\"\",Archresultats3!BX34)","v":""},{"$f":"IF(Archresultats3!BY34=\"\",\"\",Archresultats3!BY34)","v":""},{"$f":"IF(Archresultats3!CD34=\"\",\"\",Archresultats3!CD34)","v":""},{"$f":"IF(Archresultats3!CE34=\"\",\"\",Archresultats3!CE34)","v":""},null,null,null,null,{"$f":"IF(E3=\"\",\"\",E3*1)","v":""}]
["B",{"$f":"IF(Saisiegroupes!C18=\"\",\"\",Saisiegroupes!C18)","v":""},{"$f":"IF(Archresultats3!O130=\"\",\"\",Archresultats3!O130)","v":""},{"$f":"IF(C4=\"\",\"\",ROUND(((Resultats!$T$9/Best3!C4)*3.6),1))","v":""},null,{"$f":"IF(Archresultats3!BL34=\"\",\"\",Archresultats3!BL34)","v":""},{"$f":"IF(Archresultats3!BM34=\"\",\"\",Archresultats3!BM34)","v":""},null,null,{"$f":"IF(Archresultats3!BZ34=\"\",\"\",Archresultats3!BZ34)","v":""},{"$f":"IF(Archresultats3!CA34=\"\",\"\",Archresultats3!CA34)","v":""},{"$f":"IF(Archresultats3!CF34=\"\",\"\",Archresultats3!CF34)","v":""},{"$f":"IF(Archresultats3!CG34=\"\",\"\",Archresultats3!CG34)","v":""},null,null,null,null,{"$f":"IF(E4=\"\",\"\",E4*1)","v":""}]
["C",{"$f":"IF(Saisiegroupes!C19=\"\",\"\",Saisiegroupes!C19)","v":""},{"$f":"IF(Archresultats3!P130=\"\",\"\",Archresultats3!P130)","v":""},{"$f":"IF(C5=\"\",\"\",ROUND(((Resultats!$T$9/Best3!C5)*3.6),1))","v":""},null,{"$f":"IF(Archresultats3!BN34=\"\",\"\",Archresultats3!BN34)","v":""},{"$f":"IF(Archresultats3!BO34=\"\",\"\",Archresultats3!BO34)","v":""},{"$f":"IF(Archresultats3!BT34=\"\",\"\",Archresultats3!BT34)","v":""},{"$f":"IF(Archresultats3!BU34=\"\",\"\",Archresultats3!BU34)","v":""},null,null,{"$f":"IF(Archresultats3!CH34=\"\",\"\",Archresultats3!CH34)","v":""},{"$f":"IF(Archresultats3!CI34=\"\",\"\",Archresultats3!CI34)","v":""},null,null,null,null,""]
["D",{"$f":"IF(Saisiegroupes!C20=\"\",\"\",Saisiegroupes!C20)","v":""},{"$f":"IF(Archresultats3!Q130=\"\",\"\",Archresultats3!Q130)","v":""},{"$f":"IF(C6=\"\",\"\",ROUND(((Resultats!$T$9/Best3!C6)*3.6),1))","v":""},null,{"$f":"IF(Archresultats3!BP34=\"\",\"\",Archresultats3!BP34)","v":""},{"$f":"IF(Archresultats3!BQ34=\"\",\"\",Archresultats3!BQ34)","v":""},{"$f":"IF(Archresultats3!BV34=\"\",\"\",Archresultats3!BV34)","v":""},{"$f":"IF(Archresultats3!BW34=\"\",\"\",Archresultats3!BW34)","v":""},{"$f":"IF(Archresultats3!CB34=\"\",\"\",Archresultats3!CB34)","v":""},{"$f":"IF(Archresultats3!CC34=\"\",\"\",Archresultats3!CC34)","v":""},null,null,null,null,null,null,""]
[]
[]
[null,null,null,null,"Vitesse moyenne théorique des binômes lancés sur ",null,null,{"$f":"CONCATENATE(Resultats!T8,\"m\")","v":"30m"},null,"Meilleur temps\n relais","Vitesse meilleur\n relais"]
[null,null,null,null,"AB/BA",{"$f":"IF(R3=\"\",\"\",ROUND(AVERAGE(R3,R4),1))","v":""},"km/h",null,null,{"$f":"Archresultats3!AX42","v":""},{"$f":"Archresultats3!BA42","v":""}]
[null,null,null,null,"AC/CA",{"$f":"IF(R3=\"\",\"\",ROUND(AVERAGE(R3,R5),1))","v":""},"km/h"]
[null,null,null,null,"AD/DA",{"$f":"IF(R3=\"\",\"\",ROUND(AVERAGE(R3,R6),1))","v":""},"km/h"]
[null,null,null,null,"BC/CB",{"$f":"IF(R4=\"\",\"\",ROUND(AVERAGE(R4,R5),1))","v":""},"km/h"]
[null,null,null,null,"BD/DB",{"$f":"IF(R4=\"\",\"\",ROUND(AVERAGE(R4,R6),1))","v":""},"km/h"]
[null,null,null,null,"CD/DC",{"$f":"IF(R6=\"\",\"\",ROUND(AVERAGE(R5,R6),1))","v":""},"km/h"]

{"sheet":"Best4","index":15,"n_rows":15,"n_cols":18,"rows_kept":15,"cut":false,"hidden":false,"merged":[[0,0,0,12]]}
["Records équipe 4"]
[null,"Relayeurs",{"$f":"CONCATENATE(\"Temps sur \",Resultats!$T$9,\" m en sec\")","v":"Temps sur 50 m en sec"},{"$f":"CONCATENATE(\"Vitesse sur \",Resultats!$T$9,\" m en km/h\")","v":"Vitesse sur 50 m en km/h"},"\nVitesse du\ncoureur lancé\nen km/h \n\n",{"$f":"CONCATENATE(\"Meilleure transmission\n avec  A donneur  \",\n\"(en secondes)\n  \",\n  IF(B3=\"\",A3,B3))","v":"Meilleure transmission\n avec  A donneur  (en secondes)\n  A"},{"$f":"CONCATENATE(\"Meilleure transmission\n avec  A\",\n \" donneur\n(en km/h)\n    \",  ,IF(B3=\"\",A3,B3))","v":"Meilleure transmission\n avec  A donneur\n(en km/h)\n    A"},{"$f":"CONCATENATE(\"Meilleure transmission\n avec  B  donneur\n(en secondes)\n\",IF(B4=\"\",A4,B4))","v":"Meilleure transmission\n avec  B  donneur\n(en secondes)\nB"},{"$f":"CONCATENATE(\"Meilleure transmission\n avec  B \",\n \" donneur\n(en km/h)\n   \",\nIF(B4=\"\",A4,B4),)","v":"Meilleure transmission\n avec  B  donneur\n(en km/h)\n   B"},{"$f":"CONCATENATE(\"Meilleure transmission\n avec  C donneur\n(en secondes)\n\", IF(B5=\"\",A5,B5),)","v":"Meilleure transmission\n avec  C donneur\n(en secondes)\nC"},{"$f":"CONCATENATE(\"Meilleure transmission\n avec  C  donneur\n(en km/h)  \n\",IF(B5=\"\",A5,B5))","v":"Meilleure transmission\n avec  C  donneur\n(en km/h)  \nC"},{"$f":"CONCATENATE(\"Meilleure transmission\n avec  D donneur\n(en secondes)\n\",\nIF(B6=\"\",A6,B6))","v":"Meilleure transmission\n avec  D donneur\n(en secondes)\nD"},{"$f":"CONCATENATE(\"Meilleure transmission\n avec  \",\n\" donneur\n(en km/h)\n\",IF(B6=\"\",A6,B6),\"\")","v":"Meilleure transmission\n avec   donneur\n(en km/h)\nD"}]
["A",{"$f":"IF(Saisiegroupes!F5=\"\",\"\",Saisiegroupes!F5)","v":""},{"$f":"IF(Archresultats4!R130=\"\",\"\",Archresultats4!R130)","v":""},{"$f":"IF(C3=\"\",\"\",ROUND(((Resultats!$T$9/Best4!C3)*3.6),1))","v":""},null,null,null,{"$f":"IF(Archresultats4!BR34=\"\",\"\",Archresultats4!BR34)","v":""},{"$f":"IF(Archresultats4!BS34=\"\",\"\",Archresultats4!BS34)","v":""},{"$f":"IF(Archresultats4!BX34=\"\",\"\",Archresultats4!BX34)","v":""},{"$f":"IF(Archresultats4!BY34=\"\",\"\",Archresultats4!BY34)","v":""},{"$f":"IF(Archresultats4!CD34=\"\",\"\",Archresultats4!CD34)","v":""},{"$f":"IF(Archresultats4!CE34=\"\",\"\",Archresultats4!CE34)","v":""},null,null,null,null,{"$f":"IF(E3=\"\",\"\",E3*1)","v":""}]
["B",{"$f":"IF(Saisiegroupes!F6=\"\",\"\",Saisiegroupes!F6)","v":""},{"$f":"IF(Archresultats4!S130=\"\",\"\",Archresultats4!S130)","v":""},{"$f":"IF(C4=\"\",\"\",ROUND(((Resultats!$T$9/Best4!C4)*3.6),1))","v":""},null,{"$f":"IF(Archresultats4!BL34=\"\",\"\",Archresultats4!BL34)","v":""},{"$f":"IF(Archresultats4!BM34=\"\",\"\",Archresultats4!BM34)","v":""},null,null,{"$f":"IF(Archresultats4!BZ34=\"\",\"\",Archresultats4!BZ34)","v":""},{"$f":"IF(Archresultats4!CA34=\"\",\"\",Archresultats4!CA34)","v":""},{"$f":"IF(Archresultats4!CF34=\"\",\"\",Archresultats4!CF34)","v":""},{"$f":"IF(Archresultats4!CG34=\"\",\"\",Archresultats4!CG34)","v":""},null,null,null,null,{"$f":"IF(E4=\"\",\"\",E4*1)","v":""}]
["C",{"$f":"IF(Saisiegroupes!F7=\"\",\"\",Saisiegroupes!F7)","v":""},{"$f":"IF(Archresultats4!T130=\"\",\"\",Archresultats4!T130)","v":""},{"$f":"IF(C5=\"\",\"\",ROUND(((Resultats!$T$9/Best4!C5)*3.6),1))","v":""},null,{"$f":"IF(Archresultats4!BN34=\"\",\"\",Archresultats4!BN34)","v":""},{"$f":"IF(Archresultats4!BO34=\"\",\"\",Archresultats4!BO34)","v":""},{"$f":"IF(Archresultats4!BT34=\"\",\"\",Archresultats4!BT34)","v":""},{"$f":"IF(Archresultats4!BU34=\"\",\"\",Archresultats4!BU34)","v":""},null,null,{"$f":"IF(Archresultats4!CH34=\"\",\"\",Archresultats4!CH34)","v":""},{"$f":"IF(Archresultats4!CI34=\"\",\"\",Archresultats4!CI34)","v":""},null,null,null,null,""]
["D",{"$f":"IF(Saisiegroupes!F8=\"\",\"\",Saisiegroupes!F8)","v":""},{"$f":"IF(Archresultats4!U130=\"\",\"\",Archresultats4!U130)","v":""},{"$f":"IF(C6=\"\",\"\",ROUND(((Resultats!$T$9/Best4!C6)*3.6),1))","v":""},null,{"$f":"IF(Archresultats4!BP34=\"\",\"\",Archresultats4!BP34)","v":""},{"$f":"IF(Archresultats4!BQ34=\"\",\"\",Archresultats4!BQ34)","v":""},{"$f":"IF(Archresultats4!BV34=\"\",\"\",Archresultats4!BV34)","v":""},{"$f":"IF(Archresultats4!BW34=\"\",\"\",Archresultats4!BW34)","v":""},{"$f":"IF(Archresultats4!CB34=\"\",\"\",Archresultats4!CB34)","v":""},{"$f":"IF(Archresultats4!CC34=\"\",\"\",Archresultats4!CC34)","v":""},null,null,null,null,null,null,""]
[]
[]
[null,null,null,null,"Vitesse moyenne théorique des binômes lancés sur ",null,null,{"$f":"CONCATENATE(Resultats!T8,\"m\")","v":"30m"},null,"Meilleur temps\n relais","Vitesse meilleur\n relais"]
[null,null,null,null,"AB/BA",{"$f":"IF(R3=\"\",\"\",ROUND(AVERAGE(R3,R4),1))","v":""},"km/h",null,null,{"$f":"Archresultats4!AX42","v":""},{"$f":"Archresultats4!BA42","v":""}]
[null,null,null,null,"AC/CA",{"$f":"IF(R3=\"\",\"\",ROUND(AVERAGE(R3,R5),1))","v":""},"km/h"]
[null,null,null,null,"AD/DA",{"$f":"IF(R3=\"\",\"\",ROUND(AVERAGE(R3,R6),1))","v":""},"km/h"]
[null,null,null,null,"BC/CB",{"$f":"IF(R4=\"\",\"\",ROUND(AVERAGE(R4,R5),1))","v":""},"km/h"]
[null,null,null,null,"BD/DB",{"$f":"IF(R4=\"\",\"\",ROUND(AVERAGE(R4,R6),1))","v":""},"km/h"]
[null,null,null,null,"CD/DC",{"$f":"IF(R6=\"\",\"\",ROUND(AVERAGE(R5,R6),1))","v":""},"km/h"]

{"sheet":"Best5","index":16,"n_rows":15,"n_cols":18,"rows_kept":15,"cut":false,"hidden":false,"merged":[[0,0,0,12]]}
["Records équipe 5"]
[null,"Relayeurs",{"$f":"CONCATENATE(\"Temps sur \",Resultats!$T$9,\" m en sec\")","v":"Temps sur 50 m en sec"},{"$f":"CONCATENATE(\"Vitesse sur \",Resultats!$T$9,\" m en km/h\")","v":"Vitesse sur 50 m en km/h"},"\nVitesse du\ncoureur lancé\nen km/h \n\n",{"$f":"CONCATENATE(\"Meilleure transmission\n avec  A donneur  \",\n\"(en secondes)\n  \",\n  IF(B3=\"\",A3,B3))","v":"Meilleure transmission\n avec  A donneur  (en secondes)\n  A"},{"$f":"CONCATENATE(\"Meilleure transmission\n avec  A\",\n \" donneur\n(en km/h)\n    \",  ,IF(B3=\"\",A3,B3))","v":"Meilleure transmission\n avec  A donneur\n(en km/h)\n    A"},{"$f":"CONCATENATE(\"Meilleure transmission\n avec  B  donneur\n(en secondes)\n\",IF(B4=\"\",A4,B4))","v":"Meilleure transmission\n avec  B  donneur\n(en secondes)\nB"},{"$f":"CONCATENATE(\"Meilleure transmission\n avec  B \",\n \" donneur\n(en km/h)\n   \",\nIF(B4=\"\",A4,B4),)","v":"Meilleure transmission\n avec  B  donneur\n(en km/h)\n   B"},{"$f":"CONCATENATE(\"Meilleure transmission\n avec  C donneur\n(en secondes)\n\", IF(B5=\"\",A5,B5),)","v":"Meilleure transmission\n avec  C donneur\n(en secondes)\nC"},{"$f":"CONCATENATE(\"Meilleure transmission\n avec  C  donneur\n(en km/h)  \n\",IF(B5=\"\",A5,B5))","v":"Meilleure transmission\n avec  C  donneur\n(en km/h)  \nC"},{"$f":"CONCATENATE(\"Meilleure transmission\n avec  D donneur\n(en secondes)\n\",\nIF(B6=\"\",A6,B6))","v":"Meilleure transmission\n avec  D donneur\n(en secondes)\nD"},{"$f":"CONCATENATE(\"Meilleure transmission\n avec  \",\n\" donneur\n(en km/h)\n\",IF(B6=\"\",A6,B6),\"\")","v":"Meilleure transmission\n avec   donneur\n(en km/h)\nD"}]
["A",{"$f":"IF(Saisiegroupes!F11=\"\",\"\",Saisiegroupes!F11)","v":""},{"$f":"IF(Archresultats5!V130=\"\",\"\",Archresultats5!V130)","v":""},{"$f":"IF(C3=\"\",\"\",ROUND(((Resultats!$T$9/Best5!C3)*3.6),1))","v":""},null,null,null,{"$f":"IF(Archresultats5!BR34=\"\",\"\",Archresultats5!BR34)","v":""},{"$f":"IF(Archresultats5!BS34=\"\",\"\",Archresultats5!BS34)","v":""},{"$f":"IF(Archresultats5!BX34=\"\",\"\",Archresultats5!BX34)","v":""},{"$f":"IF(Archresultats5!BY34=\"\",\"\",Archresultats5!BY34)","v":""},{"$f":"IF(Archresultats5!CD34=\"\",\"\",Archresultats5!CD34)","v":""},{"$f":"IF(Archresultats5!CE34=\"\",\"\",Archresultats5!CE34)","v":""},null,null,null,null,{"$f":"IF(E3=\"\",\"\",E3*1)","v":""}]
["B",{"$f":"IF(Saisiegroupes!F12=\"\",\"\",Saisiegroupes!F12)","v":""},{"$f":"IF(Archresultats5!W130=\"\",\"\",Archresultats5!W130)","v":""},{"$f":"IF(C4=\"\",\"\",ROUND(((Resultats!$T$9/Best5!C4)*3.6),1))","v":""},null,{"$f":"IF(Archresultats5!BL34=\"\",\"\",Archresultats5!BL34)","v":""},{"$f":"IF(Archresultats5!BM34=\"\",\"\",Archresultats5!BM34)","v":""},null,null,{"$f":"IF(Archresultats5!BZ34=\"\",\"\",Archresultats5!BZ34)","v":""},{"$f":"IF(Archresultats5!CA34=\"\",\"\",Archresultats5!CA34)","v":""},{"$f":"IF(Archresultats5!CF34=\"\",\"\",Archresultats5!CF34)","v":""},{"$f":"IF(Archresultats5!CG34=\"\",\"\",Archresultats5!CG34)","v":""},null,null,null,null,{"$f":"IF(E4=\"\",\"\",E4*1)","v":""}]
["C",{"$f":"IF(Saisiegroupes!F13=\"\",\"\",Saisiegroupes!F13)","v":""},{"$f":"IF(Archresultats5!X130=\"\",\"\",Archresultats5!X130)","v":""},{"$f":"IF(C5=\"\",\"\",ROUND(((Resultats!$T$9/Best5!C5)*3.6),1))","v":""},null,{"$f":"IF(Archresultats5!BN34=\"\",\"\",Archresultats5!BN34)","v":""},{"$f":"IF(Archresultats5!BO34=\"\",\"\",Archresultats5!BO34)","v":""},{"$f":"IF(Archresultats5!BT34=\"\",\"\",Archresultats5!BT34)","v":""},{"$f":"IF(Archresultats5!BU34=\"\",\"\",Archresultats5!BU34)","v":""},null,null,{"$f":"IF(Archresultats5!CH34=\"\",\"\",Archresultats5!CH34)","v":""},{"$f":"IF(Archresultats5!CI34=\"\",\"\",Archresultats5!CI34)","v":""},null,null,null,null,""]
["D",{"$f":"IF(Saisiegroupes!F14=\"\",\"\",Saisiegroupes!F14)","v":""},{"$f":"IF(Archresultats5!Y130=\"\",\"\",Archresultats5!Y130)","v":""},{"$f":"IF(C6=\"\",\"\",ROUND(((Resultats!$T$9/Best5!C6)*3.6),1))","v":""},null,{"$f":"IF(Archresultats5!BP34=\"\",\"\",Archresultats5!BP34)","v":""},{"$f":"IF(Archresultats5!BQ34=\"\",\"\",Archresultats5!BQ34)","v":""},{"$f":"IF(Archresultats5!BV34=\"\",\"\",Archresultats5!BV34)","v":""},{"$f":"IF(Archresultats5!BW34=\"\",\"\",Archresultats5!BW34)","v":""},{"$f":"IF(Archresultats5!CB34=\"\",\"\",Archresultats5!CB34)","v":""},{"$f":"IF(Archresultats5!CC34=\"\",\"\",Archresultats5!CC34)","v":""},null,null,null,null,null,null,""]
[]
[]
[null,null,null,null,"Vitesse moyenne théorique des binômes lancés sur ",null,null,{"$f":"CONCATENATE(Resultats!T8,\"m\")","v":"30m"},null,"Meilleur temps\n relais","Vitesse meilleur\n relais"]
[null,null,null,null,"AB/BA",{"$f":"IF(R3=\"\",\"\",ROUND(AVERAGE(R3,R4),1))","v":""},"km/h",null,null,{"$f":"Archresultats5!AX42","v":""},{"$f":"Archresultats5!BA42","v":""}]
[null,null,null,null,"AC/CA",{"$f":"IF(R3=\"\",\"\",ROUND(AVERAGE(R3,R5),1))","v":""},"km/h"]
[null,null,null,null,"AD/DA",{"$f":"IF(R3=\"\",\"\",ROUND(AVERAGE(R3,R6),1))","v":""},"km/h"]
[null,null,null,null,"BC/CB",{"$f":"IF(R4=\"\",\"\",ROUND(AVERAGE(R4,R5),1))","v":""},"km/h"]
[null,null,null,null,"BD/DB",{"$f":"IF(R4=\"\",\"\",ROUND(AVERAGE(R4,R6),1))","v":""},"km/h"]
[null,null,null,null,"CD/DC",{"$f":"IF(R6=\"\",\"\",ROUND(AVERAGE(R5,R6),1))","v":""},"km/h"]

{"sheet":"Best6","index":17,"n_rows":15,"n_cols":18,"rows_kept":15,"cut":false,"hidden":false,"merged":[[0,0,0,12]]}
["Records équipe 6"]
[null,"Relayeurs",{"$f":"CONCATENATE(\"Temps sur \",Resultats!$T$9,\" m en sec\")","v":"Temps sur 50 m en sec"},{"$f":"CONCATENATE(\"Vitesse sur \",Resultats!$T$9,\" m en km/h\")","v":"Vitesse sur 50 m en km/h"},"\nVitesse du\ncoureur lancé\nen km/h \n\n",{"$f":"CONCATENATE(\"Meilleure transmission\n avec  A donneur  \",\n\"(en secondes)\n  \",\n  IF(B3=\"\",A3,B3))","v":"Meilleure transmission\n avec  A donneur  (en secondes)\n  A"},{"$f":"CONCATENATE(\"Meilleure transmission\n avec  A\",\n \" donneur\n(en km/h)\n    \",  ,IF(B3=\"\",A3,B3))","v":"Meilleure transmission\n avec  A donneur\n(en km/h)\n    A"},{"$f":"CONCATENATE(\"Meilleure transmission\n avec  B  donneur\n(en secondes)\n\",IF(B4=\"\",A4,B4))","v":"Meilleure transmission\n avec  B  donneur\n(en secondes)\nB"},{"$f":"CONCATENATE(\"Meilleure transmission\n avec  B \",\n \" donneur\n(en km/h)\n   \",\nIF(B4=\"\",A4,B4),)","v":"Meilleure transmission\n avec  B  donneur\n(en km/h)\n   B"},{"$f":"CONCATENATE(\"Meilleure transmission\n avec  C donneur\n(en secondes)\n\", IF(B5=\"\",A5,B5),)","v":"Meilleure transmission\n avec  C donneur\n(en secondes)\nC"},{"$f":"CONCATENATE(\"Meilleure transmission\n avec  C  donneur\n(en km/h)  \n\",IF(B5=\"\",A5,B5))","v":"Meilleure transmission\n avec  C  donneur\n(en km/h)  \nC"},{"$f":"CONCATENATE(\"Meilleure transmission\n avec  D donneur\n(en secondes)\n\",\nIF(B6=\"\",A6,B6))","v":"Meilleure transmission\n avec  D donneur\n(en secondes)\nD"},{"$f":"CONCATENATE(\"Meilleure transmission\n avec  \",\n\" donneur\n(en km/h)\n\",IF(B6=\"\",A6,B6),\"\")","v":"Meilleure transmission\n avec   donneur\n(en km/h)\nD"}]
["A",{"$f":"IF(Saisiegroupes!F17=\"\",\"\",Saisiegroupes!F17)","v":""},{"$f":"IF(Archresultats6!Z130=\"\",\"\",Archresultats6!Z130)","v":""},{"$f":"IF(C3=\"\",\"\",ROUND(((Resultats!$T$9/Best6!C3)*3.6),1))","v":""},null,null,null,{"$f":"IF(Archresultats6!BR34=\"\",\"\",Archresultats6!BR34)","v":""},{"$f":"IF(Archresultats6!BS34=\"\",\"\",Archresultats6!BS34)","v":""},{"$f":"IF(Archresultats6!BX34=\"\",\"\",Archresultats6!BX34)","v":""},{"$f":"IF(Archresultats6!BY34=\"\",\"\",Archresultats6!BY34)","v":""},{"$f":"IF(Archresultats6!CD34=\"\",\"\",Archresultats6!CD34)","v":""},{"$f":"IF(Archresultats6!CE34=\"\",\"\",Archresultats6!CE34)","v":""},null,null,null,null,{"$f":"IF(E3=\"\",\"\",E3*1)","v":""}]
["B",{"$f":"IF(Saisiegroupes!F18=\"\",\"\",Saisiegroupes!F18)","v":""},{"$f":"IF(Archresultats6!AA130=\"\",\"\",Archresultats6!AA130)","v":""},{"$f":"IF(C4=\"\",\"\",ROUND(((Resultats!$T$9/Best6!C4)*3.6),1))","v":""},null,{"$f":"IF(Archresultats6!BL34=\"\",\"\",Archresultats6!BL34)","v":""},{"$f":"IF(Archresultats6!BM34=\"\",\"\",Archresultats6!BM34)","v":""},null,null,{"$f":"IF(Archresultats6!BZ34=\"\",\"\",Archresultats6!BZ34)","v":""},{"$f":"IF(Archresultats6!CA34=\"\",\"\",Archresultats6!CA34)","v":""},{"$f":"IF(Archresultats6!CF34=\"\",\"\",Archresultats6!CF34)","v":""},{"$f":"IF(Archresultats6!CG34=\"\",\"\",Archresultats6!CG34)","v":""},null,null,null,null,{"$f":"IF(E4=\"\",\"\",E4*1)","v":""}]
["C",{"$f":"IF(Saisiegroupes!F19=\"\",\"\",Saisiegroupes!F19)","v":""},{"$f":"IF(Archresultats6!AB130=\"\",\"\",Archresultats6!AB130)","v":""},{"$f":"IF(C5=\"\",\"\",ROUND(((Resultats!$T$9/Best6!C5)*3.6),1))","v":""},null,{"$f":"IF(Archresultats6!BN34=\"\",\"\",Archresultats6!BN34)","v":""},{"$f":"IF(Archresultats6!BO34=\"\",\"\",Archresultats6!BO34)","v":""},{"$f":"IF(Archresultats6!BT34=\"\",\"\",Archresultats6!BT34)","v":""},{"$f":"IF(Archresultats6!BU34=\"\",\"\",Archresultats6!BU34)","v":""},null,null,{"$f":"IF(Archresultats6!CH34=\"\",\"\",Archresultats6!CH34)","v":""},{"$f":"IF(Archresultats6!CI34=\"\",\"\",Archresultats6!CI34)","v":""},null,null,null,null,""]
["D",{"$f":"IF(Saisiegroupes!F20=\"\",\"\",Saisiegroupes!F20)","v":""},{"$f":"IF(Archresultats6!AC130=\"\",\"\",Archresultats6!AC130)","v":""},{"$f":"IF(C6=\"\",\"\",ROUND(((Resultats!$T$9/Best6!C6)*3.6),1))","v":""},null,{"$f":"IF(Archresultats6!BP34=\"\",\"\",Archresultats6!BP34)","v":""},{"$f":"IF(Archresultats6!BQ34=\"\",\"\",Archresultats6!BQ34)","v":""},{"$f":"IF(Archresultats6!BV34=\"\",\"\",Archresultats6!BV34)","v":""},{"$f":"IF(Archresultats6!BW34=\"\",\"\",Archresultats6!BW34)","v":""},{"$f":"IF(Archresultats6!CB34=\"\",\"\",Archresultats6!CB34)","v":""},{"$f":"IF(Archresultats6!CC34=\"\",\"\",Archresultats6!CC34)","v":""},null,null,null,null,null,null,""]
[]
[]
[null,null,null,null,"Vitesse moyenne théorique des binômes lancés sur ",null,null,{"$f":"CONCATENATE(Resultats!T8,\"m\")","v":"30m"},null,"Meilleur temps\n relais","Vitesse meilleur\n relais"]
[null,null,null,null,"AB/BA",{"$f":"IF(R3=\"\",\"\",ROUND(AVERAGE(R3,R4),1))","v":""},"km/h",null,null,{"$f":"Archresultats6!AX42","v":""},{"$f":"Archresultats6!BA42","v":""}]
[null,null,null,null,"AC/CA",{"$f":"IF(R3=\"\",\"\",ROUND(AVERAGE(R3,R5),1))","v":""},"km/h"]
[null,null,null,null,"AD/DA",{"$f":"IF(R3=\"\",\"\",ROUND(AVERAGE(R3,R6),1))","v":""},"km/h"]
[null,null,null,null,"BC/CB",{"$f":"IF(R4=\"\",\"\",ROUND(AVERAGE(R4,R5),1))","v":""},"km/h"]
[null,null,null,null,"BD/DB",{"$f":"IF(R4=\"\",\"\",ROUND(AVERAGE(R4,R6),1))","v":""},"km/h"]
[null,null,null,null,"CD/DC",{"$f":"IF(R6=\"\",\"\",ROUND(AVERAGE(R5,R6),1))","v":""},"km/h"]

{"sheet":"Best7","index":18,"n_rows":15,"n_cols":18,"rows_kept":15,"cut":false,"hidden":false,"merged":[[0,0,0,12]]}
["Records équipe 7"]
[null,"Relayeurs",{"$f":"CONCATENATE(\"Temps sur \",Resultats!$T$9,\" m en sec\")","v":"Temps sur 50 m en sec"},{"$f":"CONCATENATE(\"Vitesse sur \",Resultats!$T$9,\" m en km/h\")","v":"Vitesse sur 50 m en km/h"},"\nVitesse du\ncoureur lancé\nen km/h \n\n",{"$f":"CONCATENATE(\"Meilleure transmission\n avec  A donneur  \",\n\"(en secondes)\n  \",\n  IF(B3=\"\",A3,B3))","v":"Meilleure transmission\n avec  A donneur  (en secondes)\n  A"},{"$f":"CONCATENATE(\"Meilleure transmission\n avec  A\",\n \" donneur\n(en km/h)\n    \",  ,IF(B3=\"\",A3,B3))","v":"Meilleure transmission\n avec  A donneur\n(en km/h)\n    A"},{"$f":"CONCATENATE(\"Meilleure transmission\n avec  B  donneur\n(en secondes)\n\",IF(B4=\"\",A4,B4))","v":"Meilleure transmission\n avec  B  donneur\n(en secondes)\nB"},{"$f":"CONCATENATE(\"Meilleure transmission\n avec  B \",\n \" donneur\n(en km/h)\n   \",\nIF(B4=\"\",A4,B4),)","v":"Meilleure transmission\n avec  B  donneur\n(en km/h)\n   B"},{"$f":"CONCATENATE(\"Meilleure transmission\n avec  C donneur\n(en secondes)\n\", IF(B5=\"\",A5,B5),)","v":"Meilleure transmission\n avec  C donneur\n(en secondes)\nC"},{"$f":"CONCATENATE(\"Meilleure transmission\n avec  C  donneur\n(en km/h)  \n\",IF(B5=\"\",A5,B5))","v":"Meilleure transmission\n avec  C  donneur\n(en km/h)  \nC"},{"$f":"CONCATENATE(\"Meilleure transmission\n avec  D donneur\n(en secondes)\n\",\nIF(B6=\"\",A6,B6))","v":"Meilleure transmission\n avec  D donneur\n(en secondes)\nD"},{"$f":"CONCATENATE(\"Meilleure transmission\n avec  \",\n\" donneur\n(en km/h)\n\",IF(B6=\"\",A6,B6),\"\")","v":"Meilleure transmission\n avec   donneur\n(en km/h)\nD"}]
["A",{"$f":"IF(Saisiegroupes!I5=\"\",\"\",Saisiegroupes!I5)","v":""},{"$f":"IF(Archresultats7!AD130=\"\",\"\",Archresultats7!AD130)","v":""},{"$f":"IF(C3=\"\",\"\",ROUND(((Resultats!$T$9/Best7!C3)*3.6),1))","v":""},null,null,null,{"$f":"IF(Archresultats7!BR34=\"\",\"\",Archresultats7!BR34)","v":""},{"$f":"IF(Archresultats7!BS34=\"\",\"\",Archresultats7!BS34)","v":""},{"$f":"IF(Archresultats7!BX34=\"\",\"\",Archresultats7!BX34)","v":""},{"$f":"IF(Archresultats7!BY34=\"\",\"\",Archresultats7!BY34)","v":""},{"$f":"IF(Archresultats7!CD34=\"\",\"\",Archresultats7!CD34)","v":""},{"$f":"IF(Archresultats7!CE34=\"\",\"\",Archresultats7!CE34)","v":""},null,null,null,null,{"$f":"IF(E3=\"\",\"\",E3*1)","v":""}]
["B",{"$f":"IF(Saisiegroupes!I6=\"\",\"\",Saisiegroupes!I6)","v":""},{"$f":"IF(Archresultats7!AE130=\"\",\"\",Archresultats7!AE130)","v":""},{"$f":"IF(C4=\"\",\"\",ROUND(((Resultats!$T$9/Best7!C4)*3.6),1))","v":""},null,{"$f":"IF(Archresultats7!BL34=\"\",\"\",Archresultats7!BL34)","v":""},{"$f":"IF(Archresultats7!BM34=\"\",\"\",Archresultats7!BM34)","v":""},null,null,{"$f":"IF(Archresultats7!BZ34=\"\",\"\",Archresultats7!BZ34)","v":""},{"$f":"IF(Archresultats7!CA34=\"\",\"\",Archresultats7!CA34)","v":""},{"$f":"IF(Archresultats7!CF34=\"\",\"\",Archresultats7!CF34)","v":""},{"$f":"IF(Archresultats7!CG34=\"\",\"\",Archresultats7!CG34)","v":""},null,null,null,null,{"$f":"IF(E4=\"\",\"\",E4*1)","v":""}]
["C",{"$f":"IF(Saisiegroupes!I7=\"\",\"\",Saisiegroupes!I7)","v":""},{"$f":"IF(Archresultats7!AF130=\"\",\"\",Archresultats7!AF130)","v":""},{"$f":"IF(C5=\"\",\"\",ROUND(((Resultats!$T$9/Best7!C5)*3.6),1))","v":""},null,{"$f":"IF(Archresultats7!BN34=\"\",\"\",Archresultats7!BN34)","v":""},{"$f":"IF(Archresultats7!BO34=\"\",\"\",Archresultats7!BO34)","v":""},{"$f":"IF(Archresultats7!BT34=\"\",\"\",Archresultats7!BT34)","v":""},{"$f":"IF(Archresultats7!BU34=\"\",\"\",Archresultats7!BU34)","v":""},null,null,{"$f":"IF(Archresultats7!CH34=\"\",\"\",Archresultats7!CH34)","v":""},{"$f":"IF(Archresultats7!CI34=\"\",\"\",Archresultats7!CI34)","v":""},null,null,null,null,""]
["D",{"$f":"IF(Saisiegroupes!I8=\"\",\"\",Saisiegroupes!I8)","v":""},{"$f":"IF(Archresultats7!AG130=\"\",\"\",Archresultats7!AG130)","v":""},{"$f":"IF(C6=\"\",\"\",ROUND(((Resultats!$T$9/Best7!C6)*3.6),1))","v":""},null,{"$f":"IF(Archresultats7!BP34=\"\",\"\",Archresultats7!BP34)","v":""},{"$f":"IF(Archresultats7!BQ34=\"\",\"\",Archresultats7!BQ34)","v":""},{"$f":"IF(Archresultats7!BV34=\"\",\"\",Archresultats7!BV34)","v":""},{"$f":"IF(Archresultats7!BW34=\"\",\"\",Archresultats7!BW34)","v":""},{"$f":"IF(Archresultats7!CB34=\"\",\"\",Archresultats7!CB34)","v":""},{"$f":"IF(Archresultats7!CC34=\"\",\"\",Archresultats7!CC34)","v":""},null,null,null,null,null,null,""]
[]
[]
[null,null,null,null,"Vitesse moyenne théorique des binômes lancés sur ",null,null,{"$f":"CONCATENATE(Resultats!T8,\"m\")","v":"30m"},null,"Meilleur temps\n relais","Vitesse meilleur\n relais"]
[null,null,null,null,"AB/BA",{"$f":"IF(R3=\"\",\"\",ROUND(AVERAGE(R3,R4),1))","v":""},"km/h",null,null,{"$f":"Archresultats7!AX42","v":""},{"$f":"Archresultats7!BA42","v":""}]
[null,null,null,null,"AC/CA",{"$f":"IF(R3=\"\",\"\",ROUND(AVERAGE(R3,R5),1))","v":""},"km/h"]
[null,null,null,null,"AD/DA",{"$f":"IF(R3=\"\",\"\",ROUND(AVERAGE(R3,R6),1))","v":""},"km/h"]
[null,null,null,null,"BC/CB",{"$f":"IF(R4=\"\",\"\",ROUND(AVERAGE(R4,R5),1))","v":""},"km/h"]
[null,null,null,null,"BD/DB",{"$f":"IF(R4=\"\",\"\",ROUND(AVERAGE(R4,R6),1))","v":""},"km/h"]
[null,null,null,null,"CD/DC",{"$f":"IF(R6=\"\",\"\",ROUND(AVERAGE(R5,R6),1))","v":""},"km/h"]

{"sheet":"Best8","index":19,"n_rows":15,"n_cols":18,"rows_kept":15,"cut":false,"hidden":false,"merged":[[0,0,0,12]]}
["Records équipe 8"]
[null,"Relayeurs",{"$f":"CONCATENATE(\"Temps sur \",Resultats!$T$9,\" m en sec\")","v":"Temps sur 50 m en sec"},{"$f":"CONCATENATE(\"Vitesse sur \",Resultats!$T$9,\" m en km/h\")","v":"Vitesse sur 50 m en km/h"},"\nVitesse du\ncoureur lancé\nen km/h \n\n",{"$f":"CONCATENATE(\"Meilleure transmission\n avec  A donneur  \",\n\"(en secondes)\n  \",\n  IF(B3=\"\",A3,B3))","v":"Meilleure transmission\n avec  A donneur  (en secondes)\n  A"},{"$f":"CONCATENATE(\"Meilleure transmission\n avec  A\",\n \" donneur\n(en km/h)\n    \",  ,IF(B3=\"\",A3,B3))","v":"Meilleure transmission\n avec  A donneur\n(en km/h)\n    A"},{"$f":"CONCATENATE(\"Meilleure transmission\n avec  B  donneur\n(en secondes)\n\",IF(B4=\"\",A4,B4))","v":"Meilleure transmission\n avec  B  donneur\n(en secondes)\nB"},{"$f":"CONCATENATE(\"Meilleure transmission\n avec  B \",\n \" donneur\n(en km/h)\n   \",\nIF(B4=\"\",A4,B4),)","v":"Meilleure transmission\n avec  B  donneur\n(en km/h)\n   B"},{"$f":"CONCATENATE(\"Meilleure transmission\n avec  C donneur\n(en secondes)\n\", IF(B5=\"\",A5,B5),)","v":"Meilleure transmission\n avec  C donneur\n(en secondes)\nC"},{"$f":"CONCATENATE(\"Meilleure transmission\n avec  C  donneur\n(en km/h)  \n\",IF(B5=\"\",A5,B5))","v":"Meilleure transmission\n avec  C  donneur\n(en km/h)  \nC"},{"$f":"CONCATENATE(\"Meilleure transmission\n avec  D donneur\n(en secondes)\n\",\nIF(B6=\"\",A6,B6))","v":"Meilleure transmission\n avec  D donneur\n(en secondes)\nD"},{"$f":"CONCATENATE(\"Meilleure transmission\n avec  \",\n\" donneur\n(en km/h)\n\",IF(B6=\"\",A6,B6),\"\")","v":"Meilleure transmission\n avec   donneur\n(en km/h)\nD"}]
["A",{"$f":"IF(Saisiegroupes!I11=\"\",\"\",Saisiegroupes!I11)","v":""},{"$f":"IF(Archresultats8!AH130=\"\",\"\",Archresultats8!AH130)","v":""},{"$f":"IF(C3=\"\",\"\",ROUND(((Resultats!$T$9/Best8!C3)*3.6),1))","v":""},null,null,null,{"$f":"IF(Archresultats8!BR34=\"\",\"\",Archresultats8!BR34)","v":""},{"$f":"IF(Archresultats8!BS34=\"\",\"\",Archresultats8!BS34)","v":""},{"$f":"IF(Archresultats8!BX34=\"\",\"\",Archresultats8!BX34)","v":""},{"$f":"IF(Archresultats8!BY34=\"\",\"\",Archresultats8!BY34)","v":""},{"$f":"IF(Archresultats8!CD34=\"\",\"\",Archresultats8!CD34)","v":""},{"$f":"IF(Archresultats8!CE34=\"\",\"\",Archresultats8!CE34)","v":""},null,null,null,null,{"$f":"IF(E3=\"\",\"\",E3*1)","v":""}]
["B",{"$f":"IF(Saisiegroupes!I12=\"\",\"\",Saisiegroupes!I12)","v":""},{"$f":"IF(Archresultats8!AI130=\"\",\"\",Archresultats8!AI130)","v":""},{"$f":"IF(C4=\"\",\"\",ROUND(((Resultats!$T$9/Best8!C4)*3.6),1))","v":""},null,{"$f":"IF(Archresultats8!BL34=\"\",\"\",Archresultats8!BL34)","v":""},{"$f":"IF(Archresultats8!BM34=\"\",\"\",Archresultats8!BM34)","v":""},null,null,{"$f":"IF(Archresultats8!BZ34=\"\",\"\",Archresultats8!BZ34)","v":""},{"$f":"IF(Archresultats8!CA34=\"\",\"\",Archresultats8!CA34)","v":""},{"$f":"IF(Archresultats8!CF34=\"\",\"\",Archresultats8!CF34)","v":""},{"$f":"IF(Archresultats8!CG34=\"\",\"\",Archresultats8!CG34)","v":""},null,null,null,null,{"$f":"IF(E4=\"\",\"\",E4*1)","v":""}]
["C",{"$f":"IF(Saisiegroupes!I13=\"\",\"\",Saisiegroupes!I13)","v":""},{"$f":"IF(Archresultats8!AJ130=\"\",\"\",Archresultats8!AJ130)","v":""},{"$f":"IF(C5=\"\",\"\",ROUND(((Resultats!$T$9/Best8!C5)*3.6),1))","v":""},null,{"$f":"IF(Archresultats8!BN34=\"\",\"\",Archresultats8!BN34)","v":""},{"$f":"IF(Archresultats8!BO34=\"\",\"\",Archresultats8!BO34)","v":""},{"$f":"IF(Archresultats8!BT34=\"\",\"\",Archresultats8!BT34)","v":""},{"$f":"IF(Archresultats8!BU34=\"\",\"\",Archresultats8!BU34)","v":""},null,null,{"$f":"IF(Archresultats8!CH34=\"\",\"\",Archresultats8!CH34)","v":""},{"$f":"IF(Archresultats8!CI34=\"\",\"\",Archresultats8!CI34)","v":""},null,null,null,null,""]
["D",{"$f":"IF(Saisiegroupes!I14=\"\",\"\",Saisiegroupes!I14)","v":""},{"$f":"IF(Archresultats8!AK130=\"\",\"\",Archresultats8!AK130)","v":""},{"$f":"IF(C6=\"\",\"\",ROUND(((Resultats!$T$9/Best8!C6)*3.6),1))","v":""},null,{"$f":"IF(Archresultats8!BP34=\"\",\"\",Archresultats8!BP34)","v":""},{"$f":"IF(Archresultats8!BQ34=\"\",\"\",Archresultats8!BQ34)","v":""},{"$f":"IF(Archresultats8!BV34=\"\",\"\",Archresultats8!BV34)","v":""},{"$f":"IF(Archresultats8!BW34=\"\",\"\",Archresultats8!BW34)","v":""},{"$f":"IF(Archresultats8!CB34=\"\",\"\",Archresultats8!CB34)","v":""},{"$f":"IF(Archresultats8!CC34=\"\",\"\",Archresultats8!CC34)","v":""},null,null,null,null,null,null,""]
[]
[]
[null,null,null,null,"Vitesse moyenne théorique des binômes lancés sur ",null,null,{"$f":"CONCATENATE(Resultats!T8,\"m\")","v":"30m"},null,"Meilleur temps\n relais","Vitesse meilleur\n relais"]
[null,null,null,null,"AB/BA",{"$f":"IF(R3=\"\",\"\",ROUND(AVERAGE(R3,R4),1))","v":""},"km/h",null,null,{"$f":"Archresultats8!AX42","v":""},{"$f":"Archresultats8!BA42","v":""}]
[null,null,null,null,"AC/CA",{"$f":"IF(R3=\"\",\"\",ROUND(AVERAGE(R3,R5),1))","v":""},"km/h"]
[null,null,null,null,"AD/DA",{"$f":"IF(R3=\"\",\"\",ROUND(AVERAGE(R3,R6),1))","v":""},"km/h"]
[null,null,null,null,"BC/CB",{"$f":"IF(R4=\"\",\"\",ROUND(AVERAGE(R4,R5),1))","v":""},"km/h"]
[null,null,null,null,"BD/DB",{"$f":"IF(R4=\"\",\"\",ROUND(AVERAGE(R4,R6),1))","v":""},"km/h"]
[null,null,null,null,"CD/DC",{"$f":"IF(R6=\"\",\"\",ROUND(AVERAGE(R5,R6),1))","v":""},"km/h"]

{"sheet":"Interet aide générale","index":20,"n_rows":113,"n_cols":9,"rows_kept":113,"cut":false,"hidden":false,"merged":[[3,1,17,13],[19,1,51,13],[52,1,66,13],[73,1,76,13],[112,1,112,12]]}
[]
[]
[]
[null,"Intérêts de l'application :\n\n-La grande particularité de cette application est de pouvoir chronométrer des courses au centième de seconde à partir d'un déclenchement au clavier.\n-Il est possible de chronométrer deux personnes à la fois (touche A pour le chronomètre 1 et touche P pour le chronomètre 2).\n-On peut prendre soit des temps individuels, soit des temps collectifs (relais à 4).\n-Chaque temps chronométré est traduit en vitesse car il est possible de choisir la distance de course.\n-Lorsque l'on chronomètre une équipe (relais à 4), on peut relever les temps effectués (et les vitesses) pour franchir chacune des zones de transmissions tout en relevant le temps total de course.\n-Les vitesses de chaque binôme sur les zones de transmissions sont automatiquement comparés à la vitesse théorique de ce même binôme (moyenne des vitesses des 2 coureurs relevées sur un départ lancé). Cela est traduit en pourcentage et constitue donc un indicateur d'efficacité de la transmission.\n-Tous les chronos collectifs sont datés (avec heure de passage) et archivés dans la page \"Bilan de l'équipe\". L'enseignant a donc une trace du travail effectué par chacune des équipes. \n-Les meilleurs temps individuels, les meilleures vitesses \"lancé\" individuelles et les meilleures transmissions de chacun des binômes sont conservées dans la page \"Records de l'équipe\"\n-Bien entendu , ce fichier peut être manipulé par les élèves pendant le cours (un groupe gérant le chronométrage d'un autre groupe).\n-Enfin, il est possible lors de l'évaluation bac de rentrer automatiquement les temps effectués pour obtenir un calcul automatique de la note. Seule la partie \"maîtrise des transmissions\" reste à remplir pour avoir la note / 20 pts\n"]
[]
[]
[]
[]
[]
[]
[]
[]
[]
[]
[]
[]
[]
[]
[]
[null,"Utilisation du fichier :\n\n1- Avant toute chose, il faut créer vos équipes de 4 en cliquant depuis la page d'accueil sur le bouton\n\n\n\n\n\n\n\n \n\n\n  2- Ensuite, vous pouvez chronométrer les élèves en départ arrêté et en départ lancé. Pour ce faire, vous pouvez utiliser la fenêtre de chronométrage \"simple\" qui s'ouvre en cliquant sur le bouton suivant disponible sur la page d'accueil."]
[]
[]
[]
[]
[]
[]
[]
[]
[]
[]
[]
[]
[]
[]
[]
[]
[]
[]
[]
[]
[]
[]
[]
[]
[]
[]
[]
[]
[]
[]
[]
[]
[null,"3- Une fois les chronos individuels enregistrés, il est possible de fonctionner en relais à 4 en utilisant la fenêtre de chronométrage disponible en appuyant sur ce bouton de la page\n d'accueil →"]
[]
[]
[]
[]
[]
[]
[]
[]
[]
[]
[]
[]
[]
[]
[]
[]
[]
[]
[]
[]
[null,"4- Une fois les chronos validés, il est possible de consulter le bilan de l'équipe en cliquant sur le bouton approprié →   exemple :                                            pour l'équipe 1\n\n"]
[]
[]
[]
[]
[]
[]
[]
[]
[]
[]
[]
[]
[]
[]
[]
[]
[]
[null,"5- Les records individuels et collectifs de l'équipe sont visibles en cliquant sur",null,null,null,null,null,null,"pour l'équipe 1."]
[]
[]
[]
[]
[]
[]
[]
[]
[]
[]
[]
[]
[]
[]
[]
[]
[]
[]
[]
[]
[null,"6- Possibilité d'utiliser le fichier en chronomètre pour le bac, la validation \"bac\" se faisant en bas de la fenêtre chronométrage\"simple\" départ-arrivée.\nCela reporte automatiquement les temps dans la page \"Feuille resultats bac\""]

{"sheet":"Aide Arch","index":21,"n_rows":0,"n_cols":0,"rows_kept":0,"cut":false,"hidden":false,"merged":[]}

{"sheet":"Aide Best","index":22,"n_rows":0,"n_cols":0,"rows_kept":0,"cut":false,"hidden":false,"merged":[]}

{"sheet":"Aide chrono 1","index":23,"n_rows":0,"n_cols":0,"rows_kept":0,"cut":false,"hidden":false,"merged":[]}

{"sheet":"Aide chrono 2","index":24,"n_rows":0,"n_cols":0,"rows_kept":0,"cut":false,"hidden":false,"merged":[]}